{"text_format":"1","workbook":"xlsx","n_sheets":4,"sheets":["Startseite","Konfigurator","Datenbank","AFM-Artikel"],"not_rendered":{"charts":0,"images":91,"macros":1,"external_links":0,"defined_names":95,"comments":0,"pivot_tables":0},"unopened":[],"bounds":{"document_bytes":16777216,"sheet_cells":100000,"rows_first":2000,"rows_last":500,"rows_between":2000,"halvings":0,"cell_chars":16384,"cell_head_chars":4096},"cells_cut":0,"cells_raw":0,"read":"whole","date_system":"1900"}

{"sheet":"Startseite","index":0,"n_rows":61,"n_cols":21,"rows_kept":61,"cut":false,"hidden":false,"merged":[[40,2,40,5]]}
[]
[]
[null,null,null,null,null,null,"Tischeinbaufelder  28TE + 44TE",null,null,null,null,null,null,null,null,null,null,null,null,null,"Wandanschlussgehäuse"]
[]
[]
[]
[]
[]
[]
[]
[null,null,"Option Oberfläche Aluminium gebürstet"]
[]
[]
[]
[]
[]
[]
[]
[]
[]
[]
[null,null,"Option Oberfläche Aluminium angefast"]
[]
[null,null,null,null,null,null,"Bodentankmodulträger",null,null,null,null,null,null,null,null,null,null,null,null,null,"Wandkanalanschlussfelder"]
[]
[]
[]
[]
[]
[]
[]
[null,null,"Option integrierter LAN-Switch"]
[]
[]
[]
[]
[]
[null,null,null,null,null,null,null,null,null,null,null,"Anschlussfeld 19\" 2HE"]
[]
[]
[null,null,"Option Kabelausgang horizontal, hinten\nWenn Durchführungen eingebaut sind müssen die Kabel von hinten aufsteckbar sein."]
[]
[]
[]
[]
[]
[]
[]
[]
[null,null,"Option Kabelausgang vertikal, unten"]
[null,null,null,null,null,null,null,null,null,"In  - 5 -  Schritten zum Angebot / Bestellung"]
[]
[null,null,null,null,null,null,null,null,null,null,null,null,"1.  ","Modulträger auswählen"]
[]
[null,null,null,null,null,null,null,null,null,null,null,null,"2.  ","Module ins Anschlussfeld verschieben"]
[]
[null,null,null,null,null,null,null,null,null,null,null,null,"3.  ","Rückseite-Modul auswählen"]
[]
[null,null,null,null,null,null,null,null,null,null,null,null,"4.  ","Menge je Modul eintragen "]
[]
[null,null,null,null,null,null,null,null,null,null,null,null,"5.  ","evtl. Kabellänge in Metern eintragen"]

{"sheet":"Konfigurator","index":1,"n_rows":200,"n_cols":31,"rows_kept":200,"cut":false,"hidden":false,"merged":[[71,11,71,12],[80,1,80,2],[80,3,80,4],[90,3,90,4],[81,9,81,10],[80,7,80,8],[71,7,71,8],[90,7,90,8],[70,3,70,4],[70,1,70,2],[81,1,81,2],[81,3,81,4],[81,5,81,6],[80,5,80,6],[90,13,90,14],[90,1,90,2],[70,11,70,12],[68,13,68,15],[61,13,61,14],[61,15,61,16],[61,1,61,2],[61,3,61,4],[80,9,80,10],[61,9,61,10],[97,11,97,12],[90,11,90,12],[91,9,91,10],[91,1,91,2],[90,9,90,10],[97,5,97,6],[90,5,90,6],[91,7,91,8],[91,3,91,4],[91,5,91,6],[18,23,18,24],[19,23,19,24],[61,23,61,24],[81,7,81,8],[71,9,71,10],[71,1,71,2],[71,5,71,6],[71,3,71,4],[60,15,60,16],[60,13,60,14],[70,23,70,24],[60,21,60,22],[51,19,51,20],[50,19,50,20],[50,21,50,22],[51,21,51,22],[60,19,60,20],[2,23,2,24],[3,23,3,24],[5,23,5,24],[10,23,10,24],[4,23,4,24],[8,23,8,24],[7,23,7,24],[71,23,71,24],[81,19,81,20],[91,23,91,24],[80,23,80,24],[81,21,81,22],[81,23,81,24],[91,21,91,22],[90,19,90,20],[80,21,80,22],[88,21,88,24],[8,1,9,1],[8,2,9,2],[38,1,38,2],[38,3,38,4],[48,1,48,2],[48,3,48,4],[40,1,40,2],[41,3,41,4],[26,3,26,4],[11,0,12,2],[0,1,0,5],[1,1,1,5],[2,1,2,5],[4,1,4,5],[3,1,3,5],[6,1,6,5],[8,0,9,0],[5,1,5,5],[7,1,7,5],[26,21,26,22],[28,21,28,22],[38,9,38,10],[38,13,38,14],[27,19,27,21],[26,12,26,13],[26,15,26,16],[48,21,48,22],[50,11,50,12],[41,19,41,20],[26,7,26,8],[38,5,38,6],[40,9,40,10],[26,19,26,20],[38,11,38,12],[38,19,38,20],[28,19,28,20],[50,17,50,18],[41,17,41,18],[38,17,38,18],[51,17,51,18],[48,23,48,24],[40,3,40,4],[40,5,40,6],[40,7,40,8],[38,7,38,8],[48,17,48,18],[20,23,20,24],[22,23,22,24],[28,23,28,24],[60,23,60,24],[21,23,21,24],[50,23,50,24],[51,23,51,24],[41,23,41,24],[26,23,26,24],[27,23,27,24],[25,23,25,24],[23,15,23,16],[23,23,23,24],[24,23,24,24],[60,17,60,18],[41,21,41,22],[48,15,48,16],[41,15,41,16],[38,23,38,24],[25,15,25,16],[3,15,3,16],[4,15,4,16],[8,15,8,16],[7,15,7,16],[5,15,5,16],[17,15,17,16],[0,20,0,22],[18,15,18,16],[11,15,11,16],[12,15,12,16],[14,15,14,16],[15,15,15,16],[16,15,16,16],[8,18,8,22],[10,15,10,16],[2,15,2,16],[41,9,41,10],[48,11,48,12],[51,13,51,14],[41,11,41,12],[41,13,41,14],[51,11,51,12],[50,13,50,14],[48,13,48,14],[51,1,51,2],[50,1,50,2],[41,1,41,2],[60,1,60,2],[41,7,41,8],[50,9,50,10],[50,7,50,8],[48,9,48,10],[41,5,41,6],[48,7,48,8],[70,9,70,10],[70,5,70,6],[50,3,50,4],[48,5,48,6],[51,3,51,4],[50,5,50,6],[51,5,51,6],[51,7,51,8],[60,9,60,10],[51,9,51,10],[71,13,71,14],[60,3,60,4],[60,5,60,6],[60,7,60,8],[61,5,61,6],[61,7,61,8],[61,11,61,12],[70,13,70,14],[60,11,60,12],[70,7,70,8],[71,15,71,16],[22,15,22,16],[19,15,19,16],[21,15,21,16],[20,15,20,16],[50,15,50,16],[51,15,51,16],[70,15,70,16],[38,15,38,16],[24,15,24,16],[71,17,71,18],[71,19,71,20],[71,21,71,22],[61,21,61,22],[70,17,70,18],[61,19,61,20],[61,17,61,18],[70,19,70,20],[68,19,68,20],[70,21,70,22],[14,3,14,5],[13,3,13,5],[6,15,6,16],[16,23,16,24],[15,23,15,24],[11,23,11,24],[12,23,12,24],[13,23,13,24],[14,23,14,24],[91,11,91,12],[91,13,91,14],[6,23,6,24],[11,3,12,3],[11,4,12,4],[11,5,12,5],[13,15,13,16],[17,23,17,24],[80,11,80,12],[80,19,80,20],[80,13,80,14],[81,11,81,12],[81,13,81,14],[80,15,80,16],[80,17,80,18],[81,15,81,16],[81,17,81,18],[90,17,90,18],[91,15,91,16],[88,17,88,19],[90,21,90,22],[90,23,90,24],[91,17,91,18],[90,15,90,16],[88,15,88,16],[91,19,91,20],[98,19,98,21],[104,19,104,21],[98,3,98,4],[98,9,98,10],[99,0,101,0],[100,1,101,24],[98,1,98,2],[98,11,98,12],[98,5,98,6],[105,0,107,0],[106,1,107,24],[104,1,104,2],[104,3,104,4],[104,5,104,6],[104,9,104,10],[104,11,104,12]]}
["Firma: ",null,null,null,null,null,null,"Zusammenstellung",null,null,null,null,null,null,null,null,null,null,{"$f":"IF($E$12=5520,\"Netzkabel\",IF($E$12=5522,\"Netzkabel\",\"\"))","v":""},null,{"$f":"IF($E$12=5520,\"zusätzliches Netzkabel\",IF($E$12=5522,\"zusätzliches Netzkabel\",\"\"))","v":""},null,null,"Vers.:","2.04_01"]
["Ort: ",null,null,null,null,null,null,"ArtikelNr.","Artikel-Text  -  Anschlussfeld",null,null,null,null,"Kabelausgang",null,null,"Einzel-Preis","Menge",{"$f":"IF($E$12=5520,\"Länge(m)\",IF($E$12=5522,\"Länge(m)\",\"\"))","v":""},null,{"$f":"IF($E$12=5520,\"Meter\",IF($E$12=5522,\"Meter\",\"\"))","v":""},{"$f":"IF($E$12=5520,\"Kabel\",IF($E$12=5522,\"Kabel\",\"\"))","v":""},{"$f":"IF($E$12=5520,\"Preis/m\",IF($E$12=5522,\"Preis/m\",\"\"))","v":""},null,"Gesamt-Preis"]
["Ansprechpartner: ",null,null,null,null,null,null,{"$f":"IF(E12=0,\"\",E12)","v":""},{"$f":"IF(ISNA(VLOOKUP($H3,'AFM-Artikel'!$A$2:$D$4762,2)),\"\",VLOOKUP($H3,'AFM-Artikel'!$A$2:$D$4762,2))","v":""},null,null,null,null,{"$f":"IF(OR(H3=5520,H3=5522),B22,\"\")","v":""},null,{"$f":"IF(ISNA(VLOOKUP($H3,'AFM-Artikel'!$A$2:$D$5039,3)),\"\",VLOOKUP($H3,'AFM-Artikel'!$A$2:$D$5039,3))","v":""},null,{"$f":"IF(H3=\"\",\"\",1)","v":""},null,null,null,null,null,{"$f":"IF($P$3=\"\",\"\",IF($U$5=\"\",$P$3*$R$3,(($P$3*$R$3)+($U$5*$W$5))))","v":""}]
["Tel. Nummer: ",null,null,null,null,null,null,{"$f":"IF(AND(B14=\"JA\",F12=20),5553,IF(AND(B14=\"JA\",F12=24),5551,IF(AND(B14=\"JA\",F12=28),5552,IF(AND(B14=\"JA\",F12=36),5550,IF(AND(B14=\"JA\",F12=44),5555,IF(AND(B14=\"JA\",F12=84),5556,IF(AND(B14=\"JA\",F12=48),5554,\"\")))))))","v":""},{"$f":"IF(ISNA(VLOOKUP($H4,'AFM-Artikel'!$A$2:$D$4762,2)),\"\",VLOOKUP($H4,'AFM-Artikel'!$A$2:$D$4762,2))","v":""},null,null,null,null,null,null,{"$f":"IF(ISNA(VLOOKUP($H4,'AFM-Artikel'!$A$2:$D$5039,3)),\"\",VLOOKUP($H4,'AFM-Artikel'!$A$2:$D$5039,3))","v":""},null,"",null,null,null,null,null,{"$f":"IF(P4=\"\",\"\",P4*R4)","v":""}]
["Email-Adresse: ",null,null,null,null,null,null,{"$f":"IF($B$15=\"Nein\",\"\",IF(AND(B15=\"JA\",E12=5520,D15=\"Schuko-Stecker\"),5726,IF(AND(B15=\"JA\",E12=5522,D15=\"Schuko-Stecker\"),5726,IF(AND(B15=\"JA\",E12=5520,D15=\"Wieland-Stecker\"),5793,IF(AND(B15=\"JA\",E12=5522,D15=\"Wieland-Stecker\"),5793,\"\")))))","v":""},{"$f":"IF(ISNA(VLOOKUP($H5,'AFM-Artikel'!$A$2:$D$4762,2)),\"\",VLOOKUP($H5,'AFM-Artikel'!$A$2:$D$4762,2))","v":""},null,null,null,null,null,null,{"$f":"IF(ISNA(VLOOKUP($H5,'AFM-Artikel'!$A$2:$D$5039,3)),\"\",VLOOKUP($H5,'AFM-Artikel'!$A$2:$D$5039,3))","v":""},null,"",{"$f":"IF($B$15=\"Nein\",\"\",IF($E$12=5520,$C$15,IF($E$12=5522,$C$15,\"\")))","v":""},null,{"$f":"IF($S$5=\"\",\"\",IF($S$5<=3,\"\",$S$5-3))","v":""},{"$f":"IF($S$5=\"\",\"\",IF($S$5<=3,\"\",5311))","v":""},{"$f":"IF($S$5=\"\",\"\",IF($S$5<=3,\"\",IF(ISNA(VLOOKUP($V$5,'AFM-Artikel'!$A$2:$D$5036,3)),\"\",VLOOKUP($V$5,'AFM-Artikel'!$A$2:$D$5036,3))))","v":""},{"$f":"IF($P$5=\"\",\"\",IF($U$5=\"\",$P$5*$R$5,(($P$5*$R$5)+($U$5*$W$5))))","v":""}]
[null,null,null,null,null,null,null,{"$f":"IF(AND($B$16=\"Ja\",$B$17=\"Nein\",OR($E$12=5520,$E$12=5522)),\"\",IF(AND($B$16=\"Ja\",$B$17=\"Ja\",OR($E$12=5520,$E$12=5522)),5523,IF(AND($B$17=\"Ja\",$B$18=\"Ja\",OR($E$12=5520,$E$12=5522)),\"Fehler\",\"\")))","v":""},{"$f":"IF(ISNA(VLOOKUP($H6,'AFM-Artikel'!$A$2:$D$4762,2)),\"\",VLOOKUP($H6,'AFM-Artikel'!$A$2:$D$4762,2))","v":""},null,null,null,null,null,null,{"$f":"IF(ISNA(VLOOKUP($H6,'AFM-Artikel'!$A$2:$D$5039,3)),\"\",VLOOKUP($H6,'AFM-Artikel'!$A$2:$D$5039,3))","v":""},null,"","RAL: ",{"$f":"IF($C$17=\"\",\"Farbangabe fehlt!\",$C$17)","v":9007},null,null,null,{"$f":"IF(P6=\"\",\"\",P6*R6)","v":""}]
["Auftragsnummer: ",null,null,null,null,null,null,{"$f":"IF(ISNA(VLOOKUP(Datenbank!BT8,Datenbank!BV1:BW34,2,FALSE)),\" \",VLOOKUP(Datenbank!BT8,Datenbank!BV1:BW34,2,FALSE))","v":" "},{"$f":"IF(ISNA(VLOOKUP($H7,'AFM-Artikel'!$A$2:$D$4762,2)),\"\",VLOOKUP($H7,'AFM-Artikel'!$A$2:$D$4762,2))","v":""},null,null,null,null,null,null,{"$f":"IF(ISNA(VLOOKUP($H7,'AFM-Artikel'!$A$2:$D$5039,3)),\"\",VLOOKUP($H7,'AFM-Artikel'!$A$2:$D$5039,3))","v":""},null,{"$f":"IF(OR(H7=\" \",H7=\"Fehler\"),\"\",1)","v":""},null,null,null,null,null,{"$f":"IF(P7=\"\",\"\",P7*R7)","v":""}]
["Kommission: ",null,null,null,null,null,null,{"$f":"IF(AND(B21=\"Ja\",E$12=5520),5529,IF(AND($B$21=\"Ja\",E$12=5522),5536,\"\"))","v":""},{"$f":"IF(ISNA(VLOOKUP($H8,'AFM-Artikel'!$A$2:$D$4762,2)),\"\",VLOOKUP($H8,'AFM-Artikel'!$A$2:$D$4762,2))","v":""},null,null,null,null,null,null,{"$f":"IF(ISNA(VLOOKUP($H8,'AFM-Artikel'!$A$2:$D$5039,3)),\"\",VLOOKUP($H8,'AFM-Artikel'!$A$2:$D$5039,3))","v":""},null,"",null,null,null,null,null,{"$f":"IF(P8=\"\",\"\",P8*R8)","v":""}]
["Kundenrabatt: ",0,{"$f":"IF(OR($B$9=\"Liste\",$B$9=\"\"),\"\",\"%\")","v":"%"},null,null,null,null,{"$f":"IF(AND(B22=\"hinten\",OR(E$12=5520,E$12=5522)),\"5520-HOR\",\"\")","v":""},{"$f":"IF(N3=\"\",\"\",IF(H9=\"5520-HOR\",\"AFM Option horizontal, Kabelausgang hinten\",\"Kabelausgang Standard: vertikal unten \"))","v":""},null,null,null,null,null,null,null,null,null,"zusätzliche Kabellänge"]
[null,null,null,null,null,null,null,"ArtikelNr.","Artikel-Text  -  Module",null,null,null,null,null,"TE",null,"Einzel-Preis","Menge","Meter","Kabel","Preis","Zusatz","Preis",null,"Gesamt-Preis"]
[null,null,null,null,null,null,null,{"$f":"IF(Datenbank!$Y$1=0,\"\",IF(Datenbank!$Y$11>=Datenbank!$BG3,HLOOKUP(Datenbank!$BG3,Datenbank!$B$10:$Y$24,6),IF(Datenbank!$Y$31>=Datenbank!$BG3,HLOOKUP(Datenbank!$BG3,Datenbank!$B$30:$Y$44,6),IF(Datenbank!$Y$51>=Datenbank!$BG3,HLOOKUP(Datenbank!$BG3,Datenbank!$B$50:$Y$64,6),IF(Datenbank!$Y$71>=Datenbank!$BG3,HLOOKUP(Datenbank!$BG3,Datenbank!$B$70:$Y$84,6),IF(Datenbank!$Y$91>=Datenbank!$BG3,HLOOKUP(Datenbank!$BG3,Datenbank!$B$90:$Y$104,6),IF(Datenbank!$Y$111>=Datenbank!$BG3,HLOOKUP(Datenbank!$BG3,Datenbank!$B$110:$Y$124,6),\"\")))))))","v":""},{"$f":"IF($H11=\"\",\"\",VLOOKUP($H11,'AFM-Artikel'!$A$2:$D$1763,2))","v":""},null,null,null,null,null,{"$f":"IF(Datenbank!$Y$1=0,\"\",IF(Datenbank!$Y$11>=Datenbank!$BG3,HLOOKUP(Datenbank!$BG3,Datenbank!$B$10:$Y$24,15),IF(Datenbank!$Y$31>=Datenbank!$BG3,HLOOKUP(Datenbank!$BG3,Datenbank!$B$30:$Y$44,15),IF(Datenbank!$Y$51>=Datenbank!$BG3,HLOOKUP(Datenbank!$BG3,Datenbank!$B$50:$Y$64,15),IF(Datenbank!$Y$71>=Datenbank!$BG3,HLOOKUP(Datenbank!$BG3,Datenbank!$B$70:$Y$84,15),IF(Datenbank!$Y$91>=Datenbank!$BG3,HLOOKUP(Datenbank!$BG3,Datenbank!$B$90:$Y$104,15),IF(Datenbank!$Y$111>=Datenbank!$BG3,HLOOKUP(Datenbank!$BG3,Datenbank!$B$110:$Y$124,15),\"\")))))))","v":""},{"$f":"IF(Datenbank!$Y$1=0,\"\",IF(Datenbank!$Y$11>=Datenbank!$BG3,HLOOKUP(Datenbank!$BG3,Datenbank!$B$10:$Y$24,8),IF(Datenbank!$Y$31>=Datenbank!$BG3,HLOOKUP(Datenbank!$BG3,Datenbank!$B$30:$Y$44,8),IF(Datenbank!$Y$51>=Datenbank!$BG3,HLOOKUP(Datenbank!$BG3,Datenbank!$B$50:$Y$64,8),IF(Datenbank!$Y$71>=Datenbank!$BG3,HLOOKUP(Datenbank!$BG3,Datenbank!$B$70:$Y$84,8),IF(Datenbank!$Y$91>=Datenbank!$BG3,HLOOKUP(Datenbank!$BG3,Datenbank!$B$90:$Y$104,8),IF(Datenbank!$Y$111>=Datenbank!$BG3,HLOOKUP(Datenbank!$BG3,Datenbank!$B$110:$Y$124,8),\"\")))))))","v":""},null,{"$f":"IF(Datenbank!$Y$1=0,\"\",IF(Datenbank!$Y$11>=Datenbank!$BG3,HLOOKUP(Datenbank!$BG3,Datenbank!$B$10:$Y$24,4),IF(Datenbank!$Y$31>=Datenbank!$BG3,HLOOKUP(Datenbank!$BG3,Datenbank!$B$30:$Y$44,4),IF(Datenbank!$Y$51>=Datenbank!$BG3,HLOOKUP(Datenbank!$BG3,Datenbank!$B$50:$Y$64,4),IF(Datenbank!$Y$71>=Datenbank!$BG3,HLOOKUP(Datenbank!$BG3,Datenbank!$B$70:$Y$84,4),IF(Datenbank!$Y$91>=Datenbank!$BG3,HLOOKUP(Datenbank!$BG3,Datenbank!$B$90:$Y$104,4),IF(Datenbank!$Y$111>=Datenbank!$BG3,HLOOKUP(Datenbank!$BG3,Datenbank!$B$110:$Y$124,4),\"\")))))))","v":""},{"$f":"IF(Datenbank!$Y$1=0,\"\",IF(Datenbank!$Y$11>=Datenbank!$BG3,HLOOKUP(Datenbank!$BG3,Datenbank!$B$10:$Y$24,14),IF(Datenbank!$Y$31>=Datenbank!$BG3,HLOOKUP(Datenbank!$BG3,Datenbank!$B$30:$Y$44,14),IF(Datenbank!$Y$51>=Datenbank!$BG3,HLOOKUP(Datenbank!$BG3,Datenbank!$B$50:$Y$64,14),IF(Datenbank!$Y$71>=Datenbank!$BG3,HLOOKUP(Datenbank!$BG3,Datenbank!$B$70:$Y$84,14),IF(Datenbank!$Y$91>=Datenbank!$BG3,HLOOKUP(Datenbank!$BG3,Datenbank!$B$90:$Y$104,14),IF(Datenbank!$Y$111>=Datenbank!$BG3,HLOOKUP(Datenbank!$BG3,Datenbank!$B$110:$Y$124,14),\"\")))))))","v":""},{"$f":"IF(Datenbank!$Y$1=0,\"\",IF(Datenbank!$Y$11>=Datenbank!$BG3,HLOOKUP(Datenbank!$BG3,Datenbank!$B$10:$Y$24,9),IF(Datenbank!$Y$31>=Datenbank!$BG3,HLOOKUP(Datenbank!$BG3,Datenbank!$B$30:$Y$44,9),IF(Datenbank!$Y$51>=Datenbank!$BG3,HLOOKUP(Datenbank!$BG3,Datenbank!$B$50:$Y$64,9),IF(Datenbank!$Y$71>=Datenbank!$BG3,HLOOKUP(Datenbank!$BG3,Datenbank!$B$70:$Y$84,9),IF(Datenbank!$Y$91>=Datenbank!$BG3,HLOOKUP(Datenbank!$BG3,Datenbank!$B$90:$Y$104,9),IF(Datenbank!$Y$111>=Datenbank!$BG3,HLOOKUP(Datenbank!$BG3,Datenbank!$B$110:$Y$124,9),\"\")))))))","v":""},{"$f":"IF(Datenbank!$Y$1=0,\"\",IF(Datenbank!$Y$11>=Datenbank!$BG3,HLOOKUP(Datenbank!$BG3,Datenbank!$B$10:$Y$24,10),IF(Datenbank!$Y$31>=Datenbank!$BG3,HLOOKUP(Datenbank!$BG3,Datenbank!$B$30:$Y$44,10),IF(Datenbank!$Y$51>=Datenbank!$BG3,HLOOKUP(Datenbank!$BG3,Datenbank!$B$50:$Y$64,10),IF(Datenbank!$Y$71>=Datenbank!$BG3,HLOOKUP(Datenbank!$BG3,Datenbank!$B$70:$Y$84,10),IF(Datenbank!$Y$91>=Datenbank!$BG3,HLOOKUP(Datenbank!$BG3,Datenbank!$B$90:$Y$104,10),IF(Datenbank!$Y$111>=Datenbank!$BG3,HLOOKUP(Datenbank!$BG3,Datenbank!$B$110:$Y$124,10),\"\")))))))","v":""},{"$f":"IF(Datenbank!$Y$1=0,\"\",IF(Datenbank!$Y$11>=Datenbank!$BG3,HLOOKUP(Datenbank!$BG3,Datenbank!$B$10:$Y$24,11),IF(Datenbank!$Y$31>=Datenbank!$BG3,HLOOKUP(Datenbank!$BG3,Datenbank!$B$30:$Y$44,11),IF(Datenbank!$Y$51>=Datenbank!$BG3,HLOOKUP(Datenbank!$BG3,Datenbank!$B$50:$Y$64,11),IF(Datenbank!$Y$71>=Datenbank!$BG3,HLOOKUP(Datenbank!$BG3,Datenbank!$B$70:$Y$84,11),IF(Datenbank!$Y$91>=Datenbank!$BG3,HLOOKUP(Datenbank!$BG3,Datenbank!$B$90:$Y$104,11),IF(Datenbank!$Y$111>=Datenbank!$BG3,HLOOKUP(Datenbank!$BG3,Datenbank!$B$110:$Y$124,11),\"\")))))))","v":""},{"$f":"IF(Datenbank!$Y$1=0,\"\",IF(Datenbank!$Y$11>=Datenbank!$BG3,HLOOKUP(Datenbank!$BG3,Datenbank!$B$10:$Y$24,12),IF(Datenbank!$Y$31>=Datenbank!$BG3,HLOOKUP(Datenbank!$BG3,Datenbank!$B$30:$Y$44,12),IF(Datenbank!$Y$51>=Datenbank!$BG3,HLOOKUP(Datenbank!$BG3,Datenbank!$B$50:$Y$64,12),IF(Datenbank!$Y$71>=Datenbank!$BG3,HLOOKUP(Datenbank!$BG3,Datenbank!$B$70:$Y$84,12),IF(Datenbank!$Y$91>=Datenbank!$BG3,HLOOKUP(Datenbank!$BG3,Datenbank!$B$90:$Y$104,12),IF(Datenbank!$Y$111>=Datenbank!$BG3,HLOOKUP(Datenbank!$BG3,Datenbank!$B$110:$Y$124,12),\"\")))))))","v":""},{"$f":"IF(H11=\"\",\"\",IF(AND(V11=5557,S11=0),ROUND(P11*R11,2)+ROUND(R11*W11,2),IF(AND(V11=5557,S11<>0),ROUND(P11*R11,2)+ROUND(S11*U11,2)+ROUND(R11*W11,2),IF($S11=0,ROUND(P11*R11,2),IF(OR(T11=4585,T11=4451,T11=4612,T11=4452,T11=4453,T11=4454,T11=4553,T11=4455,T11=4456,T11=4457,T11=4458,T11=4459,T11=4641,T11=4696,T11=5774,T11=4593,T11=4642,T11=4643,T11=4544,T11=4567),ROUND(P11*R11,2)+ROUND(U11*R11,2),IF(V11=\"\",ROUND(P11*R11,2)+ROUND(S11*U11,2),ROUND(P11*R11,2)+ROUND(S11*U11,2)+ROUND(S11*W11,2)))))))","v":""}]
["1.  Modulträger  auswählen!",null,null,"ç",{"$f":"IF($A$12=Datenbank!$BL$3,Datenbank!$BK$3,IF(A12=Datenbank!BL4,Datenbank!BK4,IF(A12=Datenbank!BL5,Datenbank!BK5,IF(A12=Datenbank!BL6,Datenbank!BK6,IF(A12=Datenbank!BL7,Datenbank!BK7,IF(A12=Datenbank!BL8,Datenbank!BK8,IF(A12=Datenbank!BL9,Datenbank!BK9,IF(A12=Datenbank!BL10,Datenbank!BK10))))))))+IF(A12=Datenbank!BL11,Datenbank!BK11)+IF(A12=Datenbank!BL12,Datenbank!BK12)+IF(A12=Datenbank!BL13,Datenbank!BK13)+IF(A12=Datenbank!BL14,Datenbank!BK14)+IF(A12=Datenbank!BL15,Datenbank!BK15)+IF(A12=Datenbank!BL16,Datenbank!BK16)+IF(A12=Datenbank!BL17,Datenbank!BK17)+IF(A12=Datenbank!BL18,Datenbank!BK18)+IF(A12=Datenbank!BL19,Datenbank!BK19)+IF(A12=Datenbank!BL20,Datenbank!BK20)+IF(A12=Datenbank!BL21,Datenbank!BK21)+IF(A12=Datenbank!BL22,Datenbank!BK22)+IF(A12=Datenbank!BL23,Datenbank!BK23)","v":0},{"$f":"IF($E$12=5500,36,IF($E$12=5501,28,IF($E$12=5502,36,IF($E$12=5503,28,IF($E$12=5504,36,IF($E$12=5505,36,IF($E$12=5506,28,IF($E$12=5507,36))))))))+IF(OR($E$12=5510,$E$12=5513),24)+IF($E$12=5511,36)+IF($E$12=5512,48)+IF($E$12=5532,20)+IF($E$12=5531,24)+IF($E$12=5530,36)+IF($E$12=5535,20)+IF($E$12=5534,24)+IF($E$12=5533,36)+IF($E$12=5520,28)+IF($E$12=5522,44)+IF($E$12=5519,84)","v":0},null,{"$f":"IF(Datenbank!$Y$1=0,\"\",IF(Datenbank!$Y$11>=Datenbank!$BG4,HLOOKUP(Datenbank!$BG4,Datenbank!$B$10:$Y$24,6),IF(Datenbank!$Y$31>=Datenbank!$BG4,HLOOKUP(Datenbank!$BG4,Datenbank!$B$30:$Y$44,6),IF(Datenbank!$Y$51>=Datenbank!$BG4,HLOOKUP(Datenbank!$BG4,Datenbank!$B$50:$Y$64,6),IF(Datenbank!$Y$71>=Datenbank!$BG4,HLOOKUP(Datenbank!$BG4,Datenbank!$B$70:$Y$84,6),IF(Datenbank!$Y$91>=Datenbank!$BG4,HLOOKUP(Datenbank!$BG4,Datenbank!$B$90:$Y$104,6),IF(Datenbank!$Y$111>=Datenbank!$BG4,HLOOKUP(Datenbank!$BG4,Datenbank!$B$110:$Y$124,6),\"\")))))))","v":""},{"$f":"IF($H12=\"\",\"\",VLOOKUP($H12,'AFM-Artikel'!$A$2:$D$1763,2))","v":""},null,null,null,null,null,{"$f":"IF(Datenbank!$Y$1=0,\"\",IF(Datenbank!$Y$11>=Datenbank!$BG4,HLOOKUP(Datenbank!$BG4,Datenbank!$B$10:$Y$24,15),IF(Datenbank!$Y$31>=Datenbank!$BG4,HLOOKUP(Datenbank!$BG4,Datenbank!$B$30:$Y$44,15),IF(Datenbank!$Y$51>=Datenbank!$BG4,HLOOKUP(Datenbank!$BG4,Datenbank!$B$50:$Y$64,15),IF(Datenbank!$Y$71>=Datenbank!$BG4,HLOOKUP(Datenbank!$BG4,Datenbank!$B$70:$Y$84,15),IF(Datenbank!$Y$91>=Datenbank!$BG4,HLOOKUP(Datenbank!$BG4,Datenbank!$B$90:$Y$104,15),IF(Datenbank!$Y$111>=Datenbank!$BG4,HLOOKUP(Datenbank!$BG4,Datenbank!$B$110:$Y$124,15),\"\")))))))","v":""},{"$f":"IF(Datenbank!$Y$1=0,\"\",IF(Datenbank!$Y$11>=Datenbank!$BG4,HLOOKUP(Datenbank!$BG4,Datenbank!$B$10:$Y$24,8),IF(Datenbank!$Y$31>=Datenbank!$BG4,HLOOKUP(Datenbank!$BG4,Datenbank!$B$30:$Y$44,8),IF(Datenbank!$Y$51>=Datenbank!$BG4,HLOOKUP(Datenbank!$BG4,Datenbank!$B$50:$Y$64,8),IF(Datenbank!$Y$71>=Datenbank!$BG4,HLOOKUP(Datenbank!$BG4,Datenbank!$B$70:$Y$84,8),IF(Datenbank!$Y$91>=Datenbank!$BG4,HLOOKUP(Datenbank!$BG4,Datenbank!$B$90:$Y$104,8),IF(Datenbank!$Y$111>=Datenbank!$BG4,HLOOKUP(Datenbank!$BG4,Datenbank!$B$110:$Y$124,8),\"\")))))))","v":""},null,{"$f":"IF(Datenbank!$Y$1=0,\"\",IF(Datenbank!$Y$11>=Datenbank!$BG4,HLOOKUP(Datenbank!$BG4,Datenbank!$B$10:$Y$24,4),IF(Datenbank!$Y$31>=Datenbank!$BG4,HLOOKUP(Datenbank!$BG4,Datenbank!$B$30:$Y$44,4),IF(Datenbank!$Y$51>=Datenbank!$BG4,HLOOKUP(Datenbank!$BG4,Datenbank!$B$50:$Y$64,4),IF(Datenbank!$Y$71>=Datenbank!$BG4,HLOOKUP(Datenbank!$BG4,Datenbank!$B$70:$Y$84,4),IF(Datenbank!$Y$91>=Datenbank!$BG4,HLOOKUP(Datenbank!$BG4,Datenbank!$B$90:$Y$104,4),IF(Datenbank!$Y$111>=Datenbank!$BG4,HLOOKUP(Datenbank!$BG4,Datenbank!$B$110:$Y$124,4),\"\")))))))","v":""},{"$f":"IF(Datenbank!$Y$1=0,\"\",IF(Datenbank!$Y$11>=Datenbank!$BG4,HLOOKUP(Datenbank!$BG4,Datenbank!$B$10:$Y$24,14),IF(Datenbank!$Y$31>=Datenbank!$BG4,HLOOKUP(Datenbank!$BG4,Datenbank!$B$30:$Y$44,14),IF(Datenbank!$Y$51>=Datenbank!$BG4,HLOOKUP(Datenbank!$BG4,Datenbank!$B$50:$Y$64,14),IF(Datenbank!$Y$71>=Datenbank!$BG4,HLOOKUP(Datenbank!$BG4,Datenbank!$B$70:$Y$84,14),IF(Datenbank!$Y$91>=Datenbank!$BG4,HLOOKUP(Datenbank!$BG4,Datenbank!$B$90:$Y$104,14),IF(Datenbank!$Y$111>=Datenbank!$BG4,HLOOKUP(Datenbank!$BG4,Datenbank!$B$110:$Y$124,14),\"\")))))))","v":""},{"$f":"IF(Datenbank!$Y$1=0,\"\",IF(Datenbank!$Y$11>=Datenbank!$BG4,HLOOKUP(Datenbank!$BG4,Datenbank!$B$10:$Y$24,9),IF(Datenbank!$Y$31>=Datenbank!$BG4,HLOOKUP(Datenbank!$BG4,Datenbank!$B$30:$Y$44,9),IF(Datenbank!$Y$51>=Datenbank!$BG4,HLOOKUP(Datenbank!$BG4,Datenbank!$B$50:$Y$64,9),IF(Datenbank!$Y$71>=Datenbank!$BG4,HLOOKUP(Datenbank!$BG4,Datenbank!$B$70:$Y$84,9),IF(Datenbank!$Y$91>=Datenbank!$BG4,HLOOKUP(Datenbank!$BG4,Datenbank!$B$90:$Y$104,9),IF(Datenbank!$Y$111>=Datenbank!$BG4,HLOOKUP(Datenbank!$BG4,Datenbank!$B$110:$Y$124,9),\"\")))))))","v":""},{"$f":"IF(Datenbank!$Y$1=0,\"\",IF(Datenbank!$Y$11>=Datenbank!$BG4,HLOOKUP(Datenbank!$BG4,Datenbank!$B$10:$Y$24,10),IF(Datenbank!$Y$31>=Datenbank!$BG4,HLOOKUP(Datenbank!$BG4,Datenbank!$B$30:$Y$44,10),IF(Datenbank!$Y$51>=Datenbank!$BG4,HLOOKUP(Datenbank!$BG4,Datenbank!$B$50:$Y$64,10),IF(Datenbank!$Y$71>=Datenbank!$BG4,HLOOKUP(Datenbank!$BG4,Datenbank!$B$70:$Y$84,10),IF(Datenbank!$Y$91>=Datenbank!$BG4,HLOOKUP(Datenbank!$BG4,Datenbank!$B$90:$Y$104,10),IF(Datenbank!$Y$111>=Datenbank!$BG4,HLOOKUP(Datenbank!$BG4,Datenbank!$B$110:$Y$124,10),\"\")))))))","v":""},{"$f":"IF(Datenbank!$Y$1=0,\"\",IF(Datenbank!$Y$11>=Datenbank!$BG4,HLOOKUP(Datenbank!$BG4,Datenbank!$B$10:$Y$24,11),IF(Datenbank!$Y$31>=Datenbank!$BG4,HLOOKUP(Datenbank!$BG4,Datenbank!$B$30:$Y$44,11),IF(Datenbank!$Y$51>=Datenbank!$BG4,HLOOKUP(Datenbank!$BG4,Datenbank!$B$50:$Y$64,11),IF(Datenbank!$Y$71>=Datenbank!$BG4,HLOOKUP(Datenbank!$BG4,Datenbank!$B$70:$Y$84,11),IF(Datenbank!$Y$91>=Datenbank!$BG4,HLOOKUP(Datenbank!$BG4,Datenbank!$B$90:$Y$104,11),IF(Datenbank!$Y$111>=Datenbank!$BG4,HLOOKUP(Datenbank!$BG4,Datenbank!$B$110:$Y$124,11),\"\")))))))","v":""},{"$f":"IF(Datenbank!$Y$1=0,\"\",IF(Datenbank!$Y$11>=Datenbank!$BG4,HLOOKUP(Datenbank!$BG4,Datenbank!$B$10:$Y$24,12),IF(Datenbank!$Y$31>=Datenbank!$BG4,HLOOKUP(Datenbank!$BG4,Datenbank!$B$30:$Y$44,12),IF(Datenbank!$Y$51>=Datenbank!$BG4,HLOOKUP(Datenbank!$BG4,Datenbank!$B$50:$Y$64,12),IF(Datenbank!$Y$71>=Datenbank!$BG4,HLOOKUP(Datenbank!$BG4,Datenbank!$B$70:$Y$84,12),IF(Datenbank!$Y$91>=Datenbank!$BG4,HLOOKUP(Datenbank!$BG4,Datenbank!$B$90:$Y$104,12),IF(Datenbank!$Y$111>=Datenbank!$BG4,HLOOKUP(Datenbank!$BG4,Datenbank!$B$110:$Y$124,12),\"\")))))))","v":""},{"$f":"IF(H12=\"\",\"\",IF(AND(V12=5557,S12=0),ROUND(P12*R12,2)+ROUND(R12*W12,2),IF(AND(V12=5557,S12<>0),ROUND(P12*R12,2)+ROUND(S12*U12,2)+ROUND(R12*W12,2),IF($S12=0,ROUND(P12*R12,2),IF(OR(T12=4585,T12=4451,T12=4612,T12=4452,T12=4453,T12=4454,T12=4553,T12=4455,T12=4456,T12=4457,T12=4458,T12=4459,T12=4641,T12=4696,T12=5774,T12=4593,T12=4642,T12=4643,T12=4544,T12=4567),ROUND(P12*R12,2)+ROUND(U12*R12,2),IF(V12=\"\",ROUND(P12*R12,2)+ROUND(S12*U12,2),ROUND(P12*R12,2)+ROUND(S12*U12,2)+ROUND(S12*W12,2)))))))","v":""}]
[null,null,null,null,null,null,null,{"$f":"IF(Datenbank!$Y$1=0,\"\",IF(Datenbank!$Y$11>=Datenbank!$BG5,HLOOKUP(Datenbank!$BG5,Datenbank!$B$10:$Y$24,6),IF(Datenbank!$Y$31>=Datenbank!$BG5,HLOOKUP(Datenbank!$BG5,Datenbank!$B$30:$Y$44,6),IF(Datenbank!$Y$51>=Datenbank!$BG5,HLOOKUP(Datenbank!$BG5,Datenbank!$B$50:$Y$64,6),IF(Datenbank!$Y$71>=Datenbank!$BG5,HLOOKUP(Datenbank!$BG5,Datenbank!$B$70:$Y$84,6),IF(Datenbank!$Y$91>=Datenbank!$BG5,HLOOKUP(Datenbank!$BG5,Datenbank!$B$90:$Y$104,6),IF(Datenbank!$Y$111>=Datenbank!$BG5,HLOOKUP(Datenbank!$BG5,Datenbank!$B$110:$Y$124,6),\"\")))))))","v":""},{"$f":"IF($H13=\"\",\"\",VLOOKUP($H13,'AFM-Artikel'!$A$2:$D$1763,2))","v":""},null,null,null,null,null,{"$f":"IF(Datenbank!$Y$1=0,\"\",IF(Datenbank!$Y$11>=Datenbank!$BG5,HLOOKUP(Datenbank!$BG5,Datenbank!$B$10:$Y$24,15),IF(Datenbank!$Y$31>=Datenbank!$BG5,HLOOKUP(Datenbank!$BG5,Datenbank!$B$30:$Y$44,15),IF(Datenbank!$Y$51>=Datenbank!$BG5,HLOOKUP(Datenbank!$BG5,Datenbank!$B$50:$Y$64,15),IF(Datenbank!$Y$71>=Datenbank!$BG5,HLOOKUP(Datenbank!$BG5,Datenbank!$B$70:$Y$84,15),IF(Datenbank!$Y$91>=Datenbank!$BG5,HLOOKUP(Datenbank!$BG5,Datenbank!$B$90:$Y$104,15),IF(Datenbank!$Y$111>=Datenbank!$BG5,HLOOKUP(Datenbank!$BG5,Datenbank!$B$110:$Y$124,15),\"\")))))))","v":""},{"$f":"IF(Datenbank!$Y$1=0,\"\",IF(Datenbank!$Y$11>=Datenbank!$BG5,HLOOKUP(Datenbank!$BG5,Datenbank!$B$10:$Y$24,8),IF(Datenbank!$Y$31>=Datenbank!$BG5,HLOOKUP(Datenbank!$BG5,Datenbank!$B$30:$Y$44,8),IF(Datenbank!$Y$51>=Datenbank!$BG5,HLOOKUP(Datenbank!$BG5,Datenbank!$B$50:$Y$64,8),IF(Datenbank!$Y$71>=Datenbank!$BG5,HLOOKUP(Datenbank!$BG5,Datenbank!$B$70:$Y$84,8),IF(Datenbank!$Y$91>=Datenbank!$BG5,HLOOKUP(Datenbank!$BG5,Datenbank!$B$90:$Y$104,8),IF(Datenbank!$Y$111>=Datenbank!$BG5,HLOOKUP(Datenbank!$BG5,Datenbank!$B$110:$Y$124,8),\"\")))))))","v":""},null,{"$f":"IF(Datenbank!$Y$1=0,\"\",IF(Datenbank!$Y$11>=Datenbank!$BG5,HLOOKUP(Datenbank!$BG5,Datenbank!$B$10:$Y$24,4),IF(Datenbank!$Y$31>=Datenbank!$BG5,HLOOKUP(Datenbank!$BG5,Datenbank!$B$30:$Y$44,4),IF(Datenbank!$Y$51>=Datenbank!$BG5,HLOOKUP(Datenbank!$BG5,Datenbank!$B$50:$Y$64,4),IF(Datenbank!$Y$71>=Datenbank!$BG5,HLOOKUP(Datenbank!$BG5,Datenbank!$B$70:$Y$84,4),IF(Datenbank!$Y$91>=Datenbank!$BG5,HLOOKUP(Datenbank!$BG5,Datenbank!$B$90:$Y$104,4),IF(Datenbank!$Y$111>=Datenbank!$BG5,HLOOKUP(Datenbank!$BG5,Datenbank!$B$110:$Y$124,4),\"\")))))))","v":""},{"$f":"IF(Datenbank!$Y$1=0,\"\",IF(Datenbank!$Y$11>=Datenbank!$BG5,HLOOKUP(Datenbank!$BG5,Datenbank!$B$10:$Y$24,14),IF(Datenbank!$Y$31>=Datenbank!$BG5,HLOOKUP(Datenbank!$BG5,Datenbank!$B$30:$Y$44,14),IF(Datenbank!$Y$51>=Datenbank!$BG5,HLOOKUP(Datenbank!$BG5,Datenbank!$B$50:$Y$64,14),IF(Datenbank!$Y$71>=Datenbank!$BG5,HLOOKUP(Datenbank!$BG5,Datenbank!$B$70:$Y$84,14),IF(Datenbank!$Y$91>=Datenbank!$BG5,HLOOKUP(Datenbank!$BG5,Datenbank!$B$90:$Y$104,14),IF(Datenbank!$Y$111>=Datenbank!$BG5,HLOOKUP(Datenbank!$BG5,Datenbank!$B$110:$Y$124,14),\"\")))))))","v":""},{"$f":"IF(Datenbank!$Y$1=0,\"\",IF(Datenbank!$Y$11>=Datenbank!$BG5,HLOOKUP(Datenbank!$BG5,Datenbank!$B$10:$Y$24,9),IF(Datenbank!$Y$31>=Datenbank!$BG5,HLOOKUP(Datenbank!$BG5,Datenbank!$B$30:$Y$44,9),IF(Datenbank!$Y$51>=Datenbank!$BG5,HLOOKUP(Datenbank!$BG5,Datenbank!$B$50:$Y$64,9),IF(Datenbank!$Y$71>=Datenbank!$BG5,HLOOKUP(Datenbank!$BG5,Datenbank!$B$70:$Y$84,9),IF(Datenbank!$Y$91>=Datenbank!$BG5,HLOOKUP(Datenbank!$BG5,Datenbank!$B$90:$Y$104,9),IF(Datenbank!$Y$111>=Datenbank!$BG5,HLOOKUP(Datenbank!$BG5,Datenbank!$B$110:$Y$124,9),\"\")))))))","v":""},{"$f":"IF(Datenbank!$Y$1=0,\"\",IF(Datenbank!$Y$11>=Datenbank!$BG5,HLOOKUP(Datenbank!$BG5,Datenbank!$B$10:$Y$24,10),IF(Datenbank!$Y$31>=Datenbank!$BG5,HLOOKUP(Datenbank!$BG5,Datenbank!$B$30:$Y$44,10),IF(Datenbank!$Y$51>=Datenbank!$BG5,HLOOKUP(Datenbank!$BG5,Datenbank!$B$50:$Y$64,10),IF(Datenbank!$Y$71>=Datenbank!$BG5,HLOOKUP(Datenbank!$BG5,Datenbank!$B$70:$Y$84,10),IF(Datenbank!$Y$91>=Datenbank!$BG5,HLOOKUP(Datenbank!$BG5,Datenbank!$B$90:$Y$104,10),IF(Datenbank!$Y$111>=Datenbank!$BG5,HLOOKUP(Datenbank!$BG5,Datenbank!$B$110:$Y$124,10),\"\")))))))","v":""},{"$f":"IF(Datenbank!$Y$1=0,\"\",IF(Datenbank!$Y$11>=Datenbank!$BG5,HLOOKUP(Datenbank!$BG5,Datenbank!$B$10:$Y$24,11),IF(Datenbank!$Y$31>=Datenbank!$BG5,HLOOKUP(Datenbank!$BG5,Datenbank!$B$30:$Y$44,11),IF(Datenbank!$Y$51>=Datenbank!$BG5,HLOOKUP(Datenbank!$BG5,Datenbank!$B$50:$Y$64,11),IF(Datenbank!$Y$71>=Datenbank!$BG5,HLOOKUP(Datenbank!$BG5,Datenbank!$B$70:$Y$84,11),IF(Datenbank!$Y$91>=Datenbank!$BG5,HLOOKUP(Datenbank!$BG5,Datenbank!$B$90:$Y$104,11),IF(Datenbank!$Y$111>=Datenbank!$BG5,HLOOKUP(Datenbank!$BG5,Datenbank!$B$110:$Y$124,11),\"\")))))))","v":""},{"$f":"IF(Datenbank!$Y$1=0,\"\",IF(Datenbank!$Y$11>=Datenbank!$BG5,HLOOKUP(Datenbank!$BG5,Datenbank!$B$10:$Y$24,12),IF(Datenbank!$Y$31>=Datenbank!$BG5,HLOOKUP(Datenbank!$BG5,Datenbank!$B$30:$Y$44,12),IF(Datenbank!$Y$51>=Datenbank!$BG5,HLOOKUP(Datenbank!$BG5,Datenbank!$B$50:$Y$64,12),IF(Datenbank!$Y$71>=Datenbank!$BG5,HLOOKUP(Datenbank!$BG5,Datenbank!$B$70:$Y$84,12),IF(Datenbank!$Y$91>=Datenbank!$BG5,HLOOKUP(Datenbank!$BG5,Datenbank!$B$90:$Y$104,12),IF(Datenbank!$Y$111>=Datenbank!$BG5,HLOOKUP(Datenbank!$BG5,Datenbank!$B$110:$Y$124,12),\"\")))))))","v":""},""]
["Montage & Beschriftung ","Nein","Meter","Schuko oder Wieland",null,null,null,{"$f":"IF(Datenbank!$Y$1=0,\"\",IF(Datenbank!$Y$11>=Datenbank!$BG6,HLOOKUP(Datenbank!$BG6,Datenbank!$B$10:$Y$24,6),IF(Datenbank!$Y$31>=Datenbank!$BG6,HLOOKUP(Datenbank!$BG6,Datenbank!$B$30:$Y$44,6),IF(Datenbank!$Y$51>=Datenbank!$BG6,HLOOKUP(Datenbank!$BG6,Datenbank!$B$50:$Y$64,6),IF(Datenbank!$Y$71>=Datenbank!$BG6,HLOOKUP(Datenbank!$BG6,Datenbank!$B$70:$Y$84,6),IF(Datenbank!$Y$91>=Datenbank!$BG6,HLOOKUP(Datenbank!$BG6,Datenbank!$B$90:$Y$104,6),IF(Datenbank!$Y$111>=Datenbank!$BG6,HLOOKUP(Datenbank!$BG6,Datenbank!$B$110:$Y$124,6),\"\")))))))","v":""},{"$f":"IF($H14=\"\",\"\",VLOOKUP($H14,'AFM-Artikel'!$A$2:$D$1763,2))","v":""},null,null,null,null,null,{"$f":"IF(Datenbank!$Y$1=0,\"\",IF(Datenbank!$Y$11>=Datenbank!$BG6,HLOOKUP(Datenbank!$BG6,Datenbank!$B$10:$Y$24,15),IF(Datenbank!$Y$31>=Datenbank!$BG6,HLOOKUP(Datenbank!$BG6,Datenbank!$B$30:$Y$44,15),IF(Datenbank!$Y$51>=Datenbank!$BG6,HLOOKUP(Datenbank!$BG6,Datenbank!$B$50:$Y$64,15),IF(Datenbank!$Y$71>=Datenbank!$BG6,HLOOKUP(Datenbank!$BG6,Datenbank!$B$70:$Y$84,15),IF(Datenbank!$Y$91>=Datenbank!$BG6,HLOOKUP(Datenbank!$BG6,Datenbank!$B$90:$Y$104,15),IF(Datenbank!$Y$111>=Datenbank!$BG6,HLOOKUP(Datenbank!$BG6,Datenbank!$B$110:$Y$124,15),\"\")))))))","v":""},{"$f":"IF(Datenbank!$Y$1=0,\"\",IF(Datenbank!$Y$11>=Datenbank!$BG6,HLOOKUP(Datenbank!$BG6,Datenbank!$B$10:$Y$24,8),IF(Datenbank!$Y$31>=Datenbank!$BG6,HLOOKUP(Datenbank!$BG6,Datenbank!$B$30:$Y$44,8),IF(Datenbank!$Y$51>=Datenbank!$BG6,HLOOKUP(Datenbank!$BG6,Datenbank!$B$50:$Y$64,8),IF(Datenbank!$Y$71>=Datenbank!$BG6,HLOOKUP(Datenbank!$BG6,Datenbank!$B$70:$Y$84,8),IF(Datenbank!$Y$91>=Datenbank!$BG6,HLOOKUP(Datenbank!$BG6,Datenbank!$B$90:$Y$104,8),IF(Datenbank!$Y$111>=Datenbank!$BG6,HLOOKUP(Datenbank!$BG6,Datenbank!$B$110:$Y$124,8),\"\")))))))","v":""},null,{"$f":"IF(Datenbank!$Y$1=0,\"\",IF(Datenbank!$Y$11>=Datenbank!$BG6,HLOOKUP(Datenbank!$BG6,Datenbank!$B$10:$Y$24,4),IF(Datenbank!$Y$31>=Datenbank!$BG6,HLOOKUP(Datenbank!$BG6,Datenbank!$B$30:$Y$44,4),IF(Datenbank!$Y$51>=Datenbank!$BG6,HLOOKUP(Datenbank!$BG6,Datenbank!$B$50:$Y$64,4),IF(Datenbank!$Y$71>=Datenbank!$BG6,HLOOKUP(Datenbank!$BG6,Datenbank!$B$70:$Y$84,4),IF(Datenbank!$Y$91>=Datenbank!$BG6,HLOOKUP(Datenbank!$BG6,Datenbank!$B$90:$Y$104,4),IF(Datenbank!$Y$111>=Datenbank!$BG6,HLOOKUP(Datenbank!$BG6,Datenbank!$B$110:$Y$124,4),\"\")))))))","v":""},{"$f":"IF(Datenbank!$Y$1=0,\"\",IF(Datenbank!$Y$11>=Datenbank!$BG6,HLOOKUP(Datenbank!$BG6,Datenbank!$B$10:$Y$24,14),IF(Datenbank!$Y$31>=Datenbank!$BG6,HLOOKUP(Datenbank!$BG6,Datenbank!$B$30:$Y$44,14),IF(Datenbank!$Y$51>=Datenbank!$BG6,HLOOKUP(Datenbank!$BG6,Datenbank!$B$50:$Y$64,14),IF(Datenbank!$Y$71>=Datenbank!$BG6,HLOOKUP(Datenbank!$BG6,Datenbank!$B$70:$Y$84,14),IF(Datenbank!$Y$91>=Datenbank!$BG6,HLOOKUP(Datenbank!$BG6,Datenbank!$B$90:$Y$104,14),IF(Datenbank!$Y$111>=Datenbank!$BG6,HLOOKUP(Datenbank!$BG6,Datenbank!$B$110:$Y$124,14),\"\")))))))","v":""},{"$f":"IF(Datenbank!$Y$1=0,\"\",IF(Datenbank!$Y$11>=Datenbank!$BG6,HLOOKUP(Datenbank!$BG6,Datenbank!$B$10:$Y$24,9),IF(Datenbank!$Y$31>=Datenbank!$BG6,HLOOKUP(Datenbank!$BG6,Datenbank!$B$30:$Y$44,9),IF(Datenbank!$Y$51>=Datenbank!$BG6,HLOOKUP(Datenbank!$BG6,Datenbank!$B$50:$Y$64,9),IF(Datenbank!$Y$71>=Datenbank!$BG6,HLOOKUP(Datenbank!$BG6,Datenbank!$B$70:$Y$84,9),IF(Datenbank!$Y$91>=Datenbank!$BG6,HLOOKUP(Datenbank!$BG6,Datenbank!$B$90:$Y$104,9),IF(Datenbank!$Y$111>=Datenbank!$BG6,HLOOKUP(Datenbank!$BG6,Datenbank!$B$110:$Y$124,9),\"\")))))))","v":""},{"$f":"IF(Datenbank!$Y$1=0,\"\",IF(Datenbank!$Y$11>=Datenbank!$BG6,HLOOKUP(Datenbank!$BG6,Datenbank!$B$10:$Y$24,10),IF(Datenbank!$Y$31>=Datenbank!$BG6,HLOOKUP(Datenbank!$BG6,Datenbank!$B$30:$Y$44,10),IF(Datenbank!$Y$51>=Datenbank!$BG6,HLOOKUP(Datenbank!$BG6,Datenbank!$B$50:$Y$64,10),IF(Datenbank!$Y$71>=Datenbank!$BG6,HLOOKUP(Datenbank!$BG6,Datenbank!$B$70:$Y$84,10),IF(Datenbank!$Y$91>=Datenbank!$BG6,HLOOKUP(Datenbank!$BG6,Datenbank!$B$90:$Y$104,10),IF(Datenbank!$Y$111>=Datenbank!$BG6,HLOOKUP(Datenbank!$BG6,Datenbank!$B$110:$Y$124,10),\"\")))))))","v":""},{"$f":"IF(Datenbank!$Y$1=0,\"\",IF(Datenbank!$Y$11>=Datenbank!$BG6,HLOOKUP(Datenbank!$BG6,Datenbank!$B$10:$Y$24,11),IF(Datenbank!$Y$31>=Datenbank!$BG6,HLOOKUP(Datenbank!$BG6,Datenbank!$B$30:$Y$44,11),IF(Datenbank!$Y$51>=Datenbank!$BG6,HLOOKUP(Datenbank!$BG6,Datenbank!$B$50:$Y$64,11),IF(Datenbank!$Y$71>=Datenbank!$BG6,HLOOKUP(Datenbank!$BG6,Datenbank!$B$70:$Y$84,11),IF(Datenbank!$Y$91>=Datenbank!$BG6,HLOOKUP(Datenbank!$BG6,Datenbank!$B$90:$Y$104,11),IF(Datenbank!$Y$111>=Datenbank!$BG6,HLOOKUP(Datenbank!$BG6,Datenbank!$B$110:$Y$124,11),\"\")))))))","v":""},{"$f":"IF(Datenbank!$Y$1=0,\"\",IF(Datenbank!$Y$11>=Datenbank!$BG6,HLOOKUP(Datenbank!$BG6,Datenbank!$B$10:$Y$24,12),IF(Datenbank!$Y$31>=Datenbank!$BG6,HLOOKUP(Datenbank!$BG6,Datenbank!$B$30:$Y$44,12),IF(Datenbank!$Y$51>=Datenbank!$BG6,HLOOKUP(Datenbank!$BG6,Datenbank!$B$50:$Y$64,12),IF(Datenbank!$Y$71>=Datenbank!$BG6,HLOOKUP(Datenbank!$BG6,Datenbank!$B$70:$Y$84,12),IF(Datenbank!$Y$91>=Datenbank!$BG6,HLOOKUP(Datenbank!$BG6,Datenbank!$B$90:$Y$104,12),IF(Datenbank!$Y$111>=Datenbank!$BG6,HLOOKUP(Datenbank!$BG6,Datenbank!$B$110:$Y$124,12),\"\")))))))","v":""},""]
["Netzkabel angeschlossen (Standard: 3m)","Nein",3,"Schuko-Stecker",null,null,null,{"$f":"IF(Datenbank!$Y$1=0,\"\",IF(Datenbank!$Y$11>=Datenbank!$BG7,HLOOKUP(Datenbank!$BG7,Datenbank!$B$10:$Y$24,6),IF(Datenbank!$Y$31>=Datenbank!$BG7,HLOOKUP(Datenbank!$BG7,Datenbank!$B$30:$Y$44,6),IF(Datenbank!$Y$51>=Datenbank!$BG7,HLOOKUP(Datenbank!$BG7,Datenbank!$B$50:$Y$64,6),IF(Datenbank!$Y$71>=Datenbank!$BG7,HLOOKUP(Datenbank!$BG7,Datenbank!$B$70:$Y$84,6),IF(Datenbank!$Y$91>=Datenbank!$BG7,HLOOKUP(Datenbank!$BG7,Datenbank!$B$90:$Y$104,6),IF(Datenbank!$Y$111>=Datenbank!$BG7,HLOOKUP(Datenbank!$BG7,Datenbank!$B$110:$Y$124,6),\"\")))))))","v":""},{"$f":"IF($H15=\"\",\"\",VLOOKUP($H15,'AFM-Artikel'!$A$2:$D$1763,2))","v":""},null,null,null,null,null,{"$f":"IF(Datenbank!$Y$1=0,\"\",IF(Datenbank!$Y$11>=Datenbank!$BG7,HLOOKUP(Datenbank!$BG7,Datenbank!$B$10:$Y$24,15),IF(Datenbank!$Y$31>=Datenbank!$BG7,HLOOKUP(Datenbank!$BG7,Datenbank!$B$30:$Y$44,15),IF(Datenbank!$Y$51>=Datenbank!$BG7,HLOOKUP(Datenbank!$BG7,Datenbank!$B$50:$Y$64,15),IF(Datenbank!$Y$71>=Datenbank!$BG7,HLOOKUP(Datenbank!$BG7,Datenbank!$B$70:$Y$84,15),IF(Datenbank!$Y$91>=Datenbank!$BG7,HLOOKUP(Datenbank!$BG7,Datenbank!$B$90:$Y$104,15),IF(Datenbank!$Y$111>=Datenbank!$BG7,HLOOKUP(Datenbank!$BG7,Datenbank!$B$110:$Y$124,15),\"\")))))))","v":""},{"$f":"IF(Datenbank!$Y$1=0,\"\",IF(Datenbank!$Y$11>=Datenbank!$BG7,HLOOKUP(Datenbank!$BG7,Datenbank!$B$10:$Y$24,8),IF(Datenbank!$Y$31>=Datenbank!$BG7,HLOOKUP(Datenbank!$BG7,Datenbank!$B$30:$Y$44,8),IF(Datenbank!$Y$51>=Datenbank!$BG7,HLOOKUP(Datenbank!$BG7,Datenbank!$B$50:$Y$64,8),IF(Datenbank!$Y$71>=Datenbank!$BG7,HLOOKUP(Datenbank!$BG7,Datenbank!$B$70:$Y$84,8),IF(Datenbank!$Y$91>=Datenbank!$BG7,HLOOKUP(Datenbank!$BG7,Datenbank!$B$90:$Y$104,8),IF(Datenbank!$Y$111>=Datenbank!$BG7,HLOOKUP(Datenbank!$BG7,Datenbank!$B$110:$Y$124,8),\"\")))))))","v":""},null,{"$f":"IF(Datenbank!$Y$1=0,\"\",IF(Datenbank!$Y$11>=Datenbank!$BG7,HLOOKUP(Datenbank!$BG7,Datenbank!$B$10:$Y$24,4),IF(Datenbank!$Y$31>=Datenbank!$BG7,HLOOKUP(Datenbank!$BG7,Datenbank!$B$30:$Y$44,4),IF(Datenbank!$Y$51>=Datenbank!$BG7,HLOOKUP(Datenbank!$BG7,Datenbank!$B$50:$Y$64,4),IF(Datenbank!$Y$71>=Datenbank!$BG7,HLOOKUP(Datenbank!$BG7,Datenbank!$B$70:$Y$84,4),IF(Datenbank!$Y$91>=Datenbank!$BG7,HLOOKUP(Datenbank!$BG7,Datenbank!$B$90:$Y$104,4),IF(Datenbank!$Y$111>=Datenbank!$BG7,HLOOKUP(Datenbank!$BG7,Datenbank!$B$110:$Y$124,4),\"\")))))))","v":""},{"$f":"IF(Datenbank!$Y$1=0,\"\",IF(Datenbank!$Y$11>=Datenbank!$BG7,HLOOKUP(Datenbank!$BG7,Datenbank!$B$10:$Y$24,14),IF(Datenbank!$Y$31>=Datenbank!$BG7,HLOOKUP(Datenbank!$BG7,Datenbank!$B$30:$Y$44,14),IF(Datenbank!$Y$51>=Datenbank!$BG7,HLOOKUP(Datenbank!$BG7,Datenbank!$B$50:$Y$64,14),IF(Datenbank!$Y$71>=Datenbank!$BG7,HLOOKUP(Datenbank!$BG7,Datenbank!$B$70:$Y$84,14),IF(Datenbank!$Y$91>=Datenbank!$BG7,HLOOKUP(Datenbank!$BG7,Datenbank!$B$90:$Y$104,14),IF(Datenbank!$Y$111>=Datenbank!$BG7,HLOOKUP(Datenbank!$BG7,Datenbank!$B$110:$Y$124,14),\"\")))))))","v":""},{"$f":"IF(Datenbank!$Y$1=0,\"\",IF(Datenbank!$Y$11>=Datenbank!$BG7,HLOOKUP(Datenbank!$BG7,Datenbank!$B$10:$Y$24,9),IF(Datenbank!$Y$31>=Datenbank!$BG7,HLOOKUP(Datenbank!$BG7,Datenbank!$B$30:$Y$44,9),IF(Datenbank!$Y$51>=Datenbank!$BG7,HLOOKUP(Datenbank!$BG7,Datenbank!$B$50:$Y$64,9),IF(Datenbank!$Y$71>=Datenbank!$BG7,HLOOKUP(Datenbank!$BG7,Datenbank!$B$70:$Y$84,9),IF(Datenbank!$Y$91>=Datenbank!$BG7,HLOOKUP(Datenbank!$BG7,Datenbank!$B$90:$Y$104,9),IF(Datenbank!$Y$111>=Datenbank!$BG7,HLOOKUP(Datenbank!$BG7,Datenbank!$B$110:$Y$124,9),\"\")))))))","v":""},{"$f":"IF(Datenbank!$Y$1=0,\"\",IF(Datenbank!$Y$11>=Datenbank!$BG7,HLOOKUP(Datenbank!$BG7,Datenbank!$B$10:$Y$24,10),IF(Datenbank!$Y$31>=Datenbank!$BG7,HLOOKUP(Datenbank!$BG7,Datenbank!$B$30:$Y$44,10),IF(Datenbank!$Y$51>=Datenbank!$BG7,HLOOKUP(Datenbank!$BG7,Datenbank!$B$50:$Y$64,10),IF(Datenbank!$Y$71>=Datenbank!$BG7,HLOOKUP(Datenbank!$BG7,Datenbank!$B$70:$Y$84,10),IF(Datenbank!$Y$91>=Datenbank!$BG7,HLOOKUP(Datenbank!$BG7,Datenbank!$B$90:$Y$104,10),IF(Datenbank!$Y$111>=Datenbank!$BG7,HLOOKUP(Datenbank!$BG7,Datenbank!$B$110:$Y$124,10),\"\")))))))","v":""},{"$f":"IF(Datenbank!$Y$1=0,\"\",IF(Datenbank!$Y$11>=Datenbank!$BG7,HLOOKUP(Datenbank!$BG7,Datenbank!$B$10:$Y$24,11),IF(Datenbank!$Y$31>=Datenbank!$BG7,HLOOKUP(Datenbank!$BG7,Datenbank!$B$30:$Y$44,11),IF(Datenbank!$Y$51>=Datenbank!$BG7,HLOOKUP(Datenbank!$BG7,Datenbank!$B$50:$Y$64,11),IF(Datenbank!$Y$71>=Datenbank!$BG7,HLOOKUP(Datenbank!$BG7,Datenbank!$B$70:$Y$84,11),IF(Datenbank!$Y$91>=Datenbank!$BG7,HLOOKUP(Datenbank!$BG7,Datenbank!$B$90:$Y$104,11),IF(Datenbank!$Y$111>=Datenbank!$BG7,HLOOKUP(Datenbank!$BG7,Datenbank!$B$110:$Y$124,11),\"\")))))))","v":""},{"$f":"IF(Datenbank!$Y$1=0,\"\",IF(Datenbank!$Y$11>=Datenbank!$BG7,HLOOKUP(Datenbank!$BG7,Datenbank!$B$10:$Y$24,12),IF(Datenbank!$Y$31>=Datenbank!$BG7,HLOOKUP(Datenbank!$BG7,Datenbank!$B$30:$Y$44,12),IF(Datenbank!$Y$51>=Datenbank!$BG7,HLOOKUP(Datenbank!$BG7,Datenbank!$B$50:$Y$64,12),IF(Datenbank!$Y$71>=Datenbank!$BG7,HLOOKUP(Datenbank!$BG7,Datenbank!$B$70:$Y$84,12),IF(Datenbank!$Y$91>=Datenbank!$BG7,HLOOKUP(Datenbank!$BG7,Datenbank!$B$90:$Y$104,12),IF(Datenbank!$Y$111>=Datenbank!$BG7,HLOOKUP(Datenbank!$BG7,Datenbank!$B$110:$Y$124,12),\"\")))))))","v":""},""]
["Oberfläche Stahl 90° gepulvert RAL 9006","Ja","Standard",null,null,null,null,{"$f":"IF(Datenbank!$Y$1=0,\"\",IF(Datenbank!$Y$11>=Datenbank!$BG8,HLOOKUP(Datenbank!$BG8,Datenbank!$B$10:$Y$24,6),IF(Datenbank!$Y$31>=Datenbank!$BG8,HLOOKUP(Datenbank!$BG8,Datenbank!$B$30:$Y$44,6),IF(Datenbank!$Y$51>=Datenbank!$BG8,HLOOKUP(Datenbank!$BG8,Datenbank!$B$50:$Y$64,6),IF(Datenbank!$Y$71>=Datenbank!$BG8,HLOOKUP(Datenbank!$BG8,Datenbank!$B$70:$Y$84,6),IF(Datenbank!$Y$91>=Datenbank!$BG8,HLOOKUP(Datenbank!$BG8,Datenbank!$B$90:$Y$104,6),IF(Datenbank!$Y$111>=Datenbank!$BG8,HLOOKUP(Datenbank!$BG8,Datenbank!$B$110:$Y$124,6),\"\")))))))","v":""},{"$f":"IF($H16=\"\",\"\",VLOOKUP($H16,'AFM-Artikel'!$A$2:$D$1763,2))","v":""},null,null,null,null,null,{"$f":"IF(Datenbank!$Y$1=0,\"\",IF(Datenbank!$Y$11>=Datenbank!$BG8,HLOOKUP(Datenbank!$BG8,Datenbank!$B$10:$Y$24,15),IF(Datenbank!$Y$31>=Datenbank!$BG8,HLOOKUP(Datenbank!$BG8,Datenbank!$B$30:$Y$44,15),IF(Datenbank!$Y$51>=Datenbank!$BG8,HLOOKUP(Datenbank!$BG8,Datenbank!$B$50:$Y$64,15),IF(Datenbank!$Y$71>=Datenbank!$BG8,HLOOKUP(Datenbank!$BG8,Datenbank!$B$70:$Y$84,15),IF(Datenbank!$Y$91>=Datenbank!$BG8,HLOOKUP(Datenbank!$BG8,Datenbank!$B$90:$Y$104,15),IF(Datenbank!$Y$111>=Datenbank!$BG8,HLOOKUP(Datenbank!$BG8,Datenbank!$B$110:$Y$124,15),\"\")))))))","v":""},{"$f":"IF(Datenbank!$Y$1=0,\"\",IF(Datenbank!$Y$11>=Datenbank!$BG8,HLOOKUP(Datenbank!$BG8,Datenbank!$B$10:$Y$24,8),IF(Datenbank!$Y$31>=Datenbank!$BG8,HLOOKUP(Datenbank!$BG8,Datenbank!$B$30:$Y$44,8),IF(Datenbank!$Y$51>=Datenbank!$BG8,HLOOKUP(Datenbank!$BG8,Datenbank!$B$50:$Y$64,8),IF(Datenbank!$Y$71>=Datenbank!$BG8,HLOOKUP(Datenbank!$BG8,Datenbank!$B$70:$Y$84,8),IF(Datenbank!$Y$91>=Datenbank!$BG8,HLOOKUP(Datenbank!$BG8,Datenbank!$B$90:$Y$104,8),IF(Datenbank!$Y$111>=Datenbank!$BG8,HLOOKUP(Datenbank!$BG8,Datenbank!$B$110:$Y$124,8),\"\")))))))","v":""},null,{"$f":"IF(Datenbank!$Y$1=0,\"\",IF(Datenbank!$Y$11>=Datenbank!$BG8,HLOOKUP(Datenbank!$BG8,Datenbank!$B$10:$Y$24,4),IF(Datenbank!$Y$31>=Datenbank!$BG8,HLOOKUP(Datenbank!$BG8,Datenbank!$B$30:$Y$44,4),IF(Datenbank!$Y$51>=Datenbank!$BG8,HLOOKUP(Datenbank!$BG8,Datenbank!$B$50:$Y$64,4),IF(Datenbank!$Y$71>=Datenbank!$BG8,HLOOKUP(Datenbank!$BG8,Datenbank!$B$70:$Y$84,4),IF(Datenbank!$Y$91>=Datenbank!$BG8,HLOOKUP(Datenbank!$BG8,Datenbank!$B$90:$Y$104,4),IF(Datenbank!$Y$111>=Datenbank!$BG8,HLOOKUP(Datenbank!$BG8,Datenbank!$B$110:$Y$124,4),\"\")))))))","v":""},{"$f":"IF(Datenbank!$Y$1=0,\"\",IF(Datenbank!$Y$11>=Datenbank!$BG8,HLOOKUP(Datenbank!$BG8,Datenbank!$B$10:$Y$24,14),IF(Datenbank!$Y$31>=Datenbank!$BG8,HLOOKUP(Datenbank!$BG8,Datenbank!$B$30:$Y$44,14),IF(Datenbank!$Y$51>=Datenbank!$BG8,HLOOKUP(Datenbank!$BG8,Datenbank!$B$50:$Y$64,14),IF(Datenbank!$Y$71>=Datenbank!$BG8,HLOOKUP(Datenbank!$BG8,Datenbank!$B$70:$Y$84,14),IF(Datenbank!$Y$91>=Datenbank!$BG8,HLOOKUP(Datenbank!$BG8,Datenbank!$B$90:$Y$104,14),IF(Datenbank!$Y$111>=Datenbank!$BG8,HLOOKUP(Datenbank!$BG8,Datenbank!$B$110:$Y$124,14),\"\")))))))","v":""},{"$f":"IF(Datenbank!$Y$1=0,\"\",IF(Datenbank!$Y$11>=Datenbank!$BG8,HLOOKUP(Datenbank!$BG8,Datenbank!$B$10:$Y$24,9),IF(Datenbank!$Y$31>=Datenbank!$BG8,HLOOKUP(Datenbank!$BG8,Datenbank!$B$30:$Y$44,9),IF(Datenbank!$Y$51>=Datenbank!$BG8,HLOOKUP(Datenbank!$BG8,Datenbank!$B$50:$Y$64,9),IF(Datenbank!$Y$71>=Datenbank!$BG8,HLOOKUP(Datenbank!$BG8,Datenbank!$B$70:$Y$84,9),IF(Datenbank!$Y$91>=Datenbank!$BG8,HLOOKUP(Datenbank!$BG8,Datenbank!$B$90:$Y$104,9),IF(Datenbank!$Y$111>=Datenbank!$BG8,HLOOKUP(Datenbank!$BG8,Datenbank!$B$110:$Y$124,9),\"\")))))))","v":""},{"$f":"IF(Datenbank!$Y$1=0,\"\",IF(Datenbank!$Y$11>=Datenbank!$BG8,HLOOKUP(Datenbank!$BG8,Datenbank!$B$10:$Y$24,10),IF(Datenbank!$Y$31>=Datenbank!$BG8,HLOOKUP(Datenbank!$BG8,Datenbank!$B$30:$Y$44,10),IF(Datenbank!$Y$51>=Datenbank!$BG8,HLOOKUP(Datenbank!$BG8,Datenbank!$B$50:$Y$64,10),IF(Datenbank!$Y$71>=Datenbank!$BG8,HLOOKUP(Datenbank!$BG8,Datenbank!$B$70:$Y$84,10),IF(Datenbank!$Y$91>=Datenbank!$BG8,HLOOKUP(Datenbank!$BG8,Datenbank!$B$90:$Y$104,10),IF(Datenbank!$Y$111>=Datenbank!$BG8,HLOOKUP(Datenbank!$BG8,Datenbank!$B$110:$Y$124,10),\"\")))))))","v":""},{"$f":"IF(Datenbank!$Y$1=0,\"\",IF(Datenbank!$Y$11>=Datenbank!$BG8,HLOOKUP(Datenbank!$BG8,Datenbank!$B$10:$Y$24,11),IF(Datenbank!$Y$31>=Datenbank!$BG8,HLOOKUP(Datenbank!$BG8,Datenbank!$B$30:$Y$44,11),IF(Datenbank!$Y$51>=Datenbank!$BG8,HLOOKUP(Datenbank!$BG8,Datenbank!$B$50:$Y$64,11),IF(Datenbank!$Y$71>=Datenbank!$BG8,HLOOKUP(Datenbank!$BG8,Datenbank!$B$70:$Y$84,11),IF(Datenbank!$Y$91>=Datenbank!$BG8,HLOOKUP(Datenbank!$BG8,Datenbank!$B$90:$Y$104,11),IF(Datenbank!$Y$111>=Datenbank!$BG8,HLOOKUP(Datenbank!$BG8,Datenbank!$B$110:$Y$124,11),\"\")))))))","v":""},{"$f":"IF(Datenbank!$Y$1=0,\"\",IF(Datenbank!$Y$11>=Datenbank!$BG8,HLOOKUP(Datenbank!$BG8,Datenbank!$B$10:$Y$24,12),IF(Datenbank!$Y$31>=Datenbank!$BG8,HLOOKUP(Datenbank!$BG8,Datenbank!$B$30:$Y$44,12),IF(Datenbank!$Y$51>=Datenbank!$BG8,HLOOKUP(Datenbank!$BG8,Datenbank!$B$50:$Y$64,12),IF(Datenbank!$Y$71>=Datenbank!$BG8,HLOOKUP(Datenbank!$BG8,Datenbank!$B$70:$Y$84,12),IF(Datenbank!$Y$91>=Datenbank!$BG8,HLOOKUP(Datenbank!$BG8,Datenbank!$B$90:$Y$104,12),IF(Datenbank!$Y$111>=Datenbank!$BG8,HLOOKUP(Datenbank!$BG8,Datenbank!$B$110:$Y$124,12),\"\")))))))","v":""},""]
["Option Oberfläche Sonderlackierung","Nein",9007," << RAL-Farbe",null,"Link",null,{"$f":"IF(Datenbank!$Y$1=0,\"\",IF(Datenbank!$Y$11>=Datenbank!$BG9,HLOOKUP(Datenbank!$BG9,Datenbank!$B$10:$Y$24,6),IF(Datenbank!$Y$31>=Datenbank!$BG9,HLOOKUP(Datenbank!$BG9,Datenbank!$B$30:$Y$44,6),IF(Datenbank!$Y$51>=Datenbank!$BG9,HLOOKUP(Datenbank!$BG9,Datenbank!$B$50:$Y$64,6),IF(Datenbank!$Y$71>=Datenbank!$BG9,HLOOKUP(Datenbank!$BG9,Datenbank!$B$70:$Y$84,6),IF(Datenbank!$Y$91>=Datenbank!$BG9,HLOOKUP(Datenbank!$BG9,Datenbank!$B$90:$Y$104,6),IF(Datenbank!$Y$111>=Datenbank!$BG9,HLOOKUP(Datenbank!$BG9,Datenbank!$B$110:$Y$124,6),\"\")))))))","v":""},{"$f":"IF($H17=\"\",\"\",VLOOKUP($H17,'AFM-Artikel'!$A$2:$D$1763,2))","v":""},null,null,null,null,null,{"$f":"IF(Datenbank!$Y$1=0,\"\",IF(Datenbank!$Y$11>=Datenbank!$BG9,HLOOKUP(Datenbank!$BG9,Datenbank!$B$10:$Y$24,15),IF(Datenbank!$Y$31>=Datenbank!$BG9,HLOOKUP(Datenbank!$BG9,Datenbank!$B$30:$Y$44,15),IF(Datenbank!$Y$51>=Datenbank!$BG9,HLOOKUP(Datenbank!$BG9,Datenbank!$B$50:$Y$64,15),IF(Datenbank!$Y$71>=Datenbank!$BG9,HLOOKUP(Datenbank!$BG9,Datenbank!$B$70:$Y$84,15),IF(Datenbank!$Y$91>=Datenbank!$BG9,HLOOKUP(Datenbank!$BG9,Datenbank!$B$90:$Y$104,15),IF(Datenbank!$Y$111>=Datenbank!$BG9,HLOOKUP(Datenbank!$BG9,Datenbank!$B$110:$Y$124,15),\"\")))))))","v":""},{"$f":"IF(Datenbank!$Y$1=0,\"\",IF(Datenbank!$Y$11>=Datenbank!$BG9,HLOOKUP(Datenbank!$BG9,Datenbank!$B$10:$Y$24,8),IF(Datenbank!$Y$31>=Datenbank!$BG9,HLOOKUP(Datenbank!$BG9,Datenbank!$B$30:$Y$44,8),IF(Datenbank!$Y$51>=Datenbank!$BG9,HLOOKUP(Datenbank!$BG9,Datenbank!$B$50:$Y$64,8),IF(Datenbank!$Y$71>=Datenbank!$BG9,HLOOKUP(Datenbank!$BG9,Datenbank!$B$70:$Y$84,8),IF(Datenbank!$Y$91>=Datenbank!$BG9,HLOOKUP(Datenbank!$BG9,Datenbank!$B$90:$Y$104,8),IF(Datenbank!$Y$111>=Datenbank!$BG9,HLOOKUP(Datenbank!$BG9,Datenbank!$B$110:$Y$124,8),\"\")))))))","v":""},null,{"$f":"IF(Datenbank!$Y$1=0,\"\",IF(Datenbank!$Y$11>=Datenbank!$BG9,HLOOKUP(Datenbank!$BG9,Datenbank!$B$10:$Y$24,4),IF(Datenbank!$Y$31>=Datenbank!$BG9,HLOOKUP(Datenbank!$BG9,Datenbank!$B$30:$Y$44,4),IF(Datenbank!$Y$51>=Datenbank!$BG9,HLOOKUP(Datenbank!$BG9,Datenbank!$B$50:$Y$64,4),IF(Datenbank!$Y$71>=Datenbank!$BG9,HLOOKUP(Datenbank!$BG9,Datenbank!$B$70:$Y$84,4),IF(Datenbank!$Y$91>=Datenbank!$BG9,HLOOKUP(Datenbank!$BG9,Datenbank!$B$90:$Y$104,4),IF(Datenbank!$Y$111>=Datenbank!$BG9,HLOOKUP(Datenbank!$BG9,Datenbank!$B$110:$Y$124,4),\"\")))))))","v":""},{"$f":"IF(Datenbank!$Y$1=0,\"\",IF(Datenbank!$Y$11>=Datenbank!$BG9,HLOOKUP(Datenbank!$BG9,Datenbank!$B$10:$Y$24,14),IF(Datenbank!$Y$31>=Datenbank!$BG9,HLOOKUP(Datenbank!$BG9,Datenbank!$B$30:$Y$44,14),IF(Datenbank!$Y$51>=Datenbank!$BG9,HLOOKUP(Datenbank!$BG9,Datenbank!$B$50:$Y$64,14),IF(Datenbank!$Y$71>=Datenbank!$BG9,HLOOKUP(Datenbank!$BG9,Datenbank!$B$70:$Y$84,14),IF(Datenbank!$Y$91>=Datenbank!$BG9,HLOOKUP(Datenbank!$BG9,Datenbank!$B$90:$Y$104,14),IF(Datenbank!$Y$111>=Datenbank!$BG9,HLOOKUP(Datenbank!$BG9,Datenbank!$B$110:$Y$124,14),\"\")))))))","v":""},{"$f":"IF(Datenbank!$Y$1=0,\"\",IF(Datenbank!$Y$11>=Datenbank!$BG9,HLOOKUP(Datenbank!$BG9,Datenbank!$B$10:$Y$24,9),IF(Datenbank!$Y$31>=Datenbank!$BG9,HLOOKUP(Datenbank!$BG9,Datenbank!$B$30:$Y$44,9),IF(Datenbank!$Y$51>=Datenbank!$BG9,HLOOKUP(Datenbank!$BG9,Datenbank!$B$50:$Y$64,9),IF(Datenbank!$Y$71>=Datenbank!$BG9,HLOOKUP(Datenbank!$BG9,Datenbank!$B$70:$Y$84,9),IF(Datenbank!$Y$91>=Datenbank!$BG9,HLOOKUP(Datenbank!$BG9,Datenbank!$B$90:$Y$104,9),IF(Datenbank!$Y$111>=Datenbank!$BG9,HLOOKUP(Datenbank!$BG9,Datenbank!$B$110:$Y$124,9),\"\")))))))","v":""},{"$f":"IF(Datenbank!$Y$1=0,\"\",IF(Datenbank!$Y$11>=Datenbank!$BG9,HLOOKUP(Datenbank!$BG9,Datenbank!$B$10:$Y$24,10),IF(Datenbank!$Y$31>=Datenbank!$BG9,HLOOKUP(Datenbank!$BG9,Datenbank!$B$30:$Y$44,10),IF(Datenbank!$Y$51>=Datenbank!$BG9,HLOOKUP(Datenbank!$BG9,Datenbank!$B$50:$Y$64,10),IF(Datenbank!$Y$71>=Datenbank!$BG9,HLOOKUP(Datenbank!$BG9,Datenbank!$B$70:$Y$84,10),IF(Datenbank!$Y$91>=Datenbank!$BG9,HLOOKUP(Datenbank!$BG9,Datenbank!$B$90:$Y$104,10),IF(Datenbank!$Y$111>=Datenbank!$BG9,HLOOKUP(Datenbank!$BG9,Datenbank!$B$110:$Y$124,10),\"\")))))))","v":""},{"$f":"IF(Datenbank!$Y$1=0,\"\",IF(Datenbank!$Y$11>=Datenbank!$BG9,HLOOKUP(Datenbank!$BG9,Datenbank!$B$10:$Y$24,11),IF(Datenbank!$Y$31>=Datenbank!$BG9,HLOOKUP(Datenbank!$BG9,Datenbank!$B$30:$Y$44,11),IF(Datenbank!$Y$51>=Datenbank!$BG9,HLOOKUP(Datenbank!$BG9,Datenbank!$B$50:$Y$64,11),IF(Datenbank!$Y$71>=Datenbank!$BG9,HLOOKUP(Datenbank!$BG9,Datenbank!$B$70:$Y$84,11),IF(Datenbank!$Y$91>=Datenbank!$BG9,HLOOKUP(Datenbank!$BG9,Datenbank!$B$90:$Y$104,11),IF(Datenbank!$Y$111>=Datenbank!$BG9,HLOOKUP(Datenbank!$BG9,Datenbank!$B$110:$Y$124,11),\"\")))))))","v":""},{"$f":"IF(Datenbank!$Y$1=0,\"\",IF(Datenbank!$Y$11>=Datenbank!$BG9,HLOOKUP(Datenbank!$BG9,Datenbank!$B$10:$Y$24,12),IF(Datenbank!$Y$31>=Datenbank!$BG9,HLOOKUP(Datenbank!$BG9,Datenbank!$B$30:$Y$44,12),IF(Datenbank!$Y$51>=Datenbank!$BG9,HLOOKUP(Datenbank!$BG9,Datenbank!$B$50:$Y$64,12),IF(Datenbank!$Y$71>=Datenbank!$BG9,HLOOKUP(Datenbank!$BG9,Datenbank!$B$70:$Y$84,12),IF(Datenbank!$Y$91>=Datenbank!$BG9,HLOOKUP(Datenbank!$BG9,Datenbank!$B$90:$Y$104,12),IF(Datenbank!$Y$111>=Datenbank!$BG9,HLOOKUP(Datenbank!$BG9,Datenbank!$B$110:$Y$124,12),\"\")))))))","v":""},""]
["Option Oberfläche Alu 90° gebürstet ","Nein",null,null,null,null,null,{"$f":"IF(Datenbank!$Y$1=0,\"\",IF(Datenbank!$Y$11>=Datenbank!$BG10,HLOOKUP(Datenbank!$BG10,Datenbank!$B$10:$Y$24,6),IF(Datenbank!$Y$31>=Datenbank!$BG10,HLOOKUP(Datenbank!$BG10,Datenbank!$B$30:$Y$44,6),IF(Datenbank!$Y$51>=Datenbank!$BG10,HLOOKUP(Datenbank!$BG10,Datenbank!$B$50:$Y$64,6),IF(Datenbank!$Y$71>=Datenbank!$BG10,HLOOKUP(Datenbank!$BG10,Datenbank!$B$70:$Y$84,6),IF(Datenbank!$Y$91>=Datenbank!$BG10,HLOOKUP(Datenbank!$BG10,Datenbank!$B$90:$Y$104,6),IF(Datenbank!$Y$111>=Datenbank!$BG10,HLOOKUP(Datenbank!$BG10,Datenbank!$B$110:$Y$124,6),\"\")))))))","v":""},{"$f":"IF($H18=\"\",\"\",VLOOKUP($H18,'AFM-Artikel'!$A$2:$D$1763,2))","v":""},null,null,null,null,null,{"$f":"IF(Datenbank!$Y$1=0,\"\",IF(Datenbank!$Y$11>=Datenbank!$BG10,HLOOKUP(Datenbank!$BG10,Datenbank!$B$10:$Y$24,15),IF(Datenbank!$Y$31>=Datenbank!$BG10,HLOOKUP(Datenbank!$BG10,Datenbank!$B$30:$Y$44,15),IF(Datenbank!$Y$51>=Datenbank!$BG10,HLOOKUP(Datenbank!$BG10,Datenbank!$B$50:$Y$64,15),IF(Datenbank!$Y$71>=Datenbank!$BG10,HLOOKUP(Datenbank!$BG10,Datenbank!$B$70:$Y$84,15),IF(Datenbank!$Y$91>=Datenbank!$BG10,HLOOKUP(Datenbank!$BG10,Datenbank!$B$90:$Y$104,15),IF(Datenbank!$Y$111>=Datenbank!$BG10,HLOOKUP(Datenbank!$BG10,Datenbank!$B$110:$Y$124,15),\"\")))))))","v":""},{"$f":"IF(Datenbank!$Y$1=0,\"\",IF(Datenbank!$Y$11>=Datenbank!$BG10,HLOOKUP(Datenbank!$BG10,Datenbank!$B$10:$Y$24,8),IF(Datenbank!$Y$31>=Datenbank!$BG10,HLOOKUP(Datenbank!$BG10,Datenbank!$B$30:$Y$44,8),IF(Datenbank!$Y$51>=Datenbank!$BG10,HLOOKUP(Datenbank!$BG10,Datenbank!$B$50:$Y$64,8),IF(Datenbank!$Y$71>=Datenbank!$BG10,HLOOKUP(Datenbank!$BG10,Datenbank!$B$70:$Y$84,8),IF(Datenbank!$Y$91>=Datenbank!$BG10,HLOOKUP(Datenbank!$BG10,Datenbank!$B$90:$Y$104,8),IF(Datenbank!$Y$111>=Datenbank!$BG10,HLOOKUP(Datenbank!$BG10,Datenbank!$B$110:$Y$124,8),\"\")))))))","v":""},null,{"$f":"IF(Datenbank!$Y$1=0,\"\",IF(Datenbank!$Y$11>=Datenbank!$BG10,HLOOKUP(Datenbank!$BG10,Datenbank!$B$10:$Y$24,4),IF(Datenbank!$Y$31>=Datenbank!$BG10,HLOOKUP(Datenbank!$BG10,Datenbank!$B$30:$Y$44,4),IF(Datenbank!$Y$51>=Datenbank!$BG10,HLOOKUP(Datenbank!$BG10,Datenbank!$B$50:$Y$64,4),IF(Datenbank!$Y$71>=Datenbank!$BG10,HLOOKUP(Datenbank!$BG10,Datenbank!$B$70:$Y$84,4),IF(Datenbank!$Y$91>=Datenbank!$BG10,HLOOKUP(Datenbank!$BG10,Datenbank!$B$90:$Y$104,4),IF(Datenbank!$Y$111>=Datenbank!$BG10,HLOOKUP(Datenbank!$BG10,Datenbank!$B$110:$Y$124,4),\"\")))))))","v":""},{"$f":"IF(Datenbank!$Y$1=0,\"\",IF(Datenbank!$Y$11>=Datenbank!$BG10,HLOOKUP(Datenbank!$BG10,Datenbank!$B$10:$Y$24,14),IF(Datenbank!$Y$31>=Datenbank!$BG10,HLOOKUP(Datenbank!$BG10,Datenbank!$B$30:$Y$44,14),IF(Datenbank!$Y$51>=Datenbank!$BG10,HLOOKUP(Datenbank!$BG10,Datenbank!$B$50:$Y$64,14),IF(Datenbank!$Y$71>=Datenbank!$BG10,HLOOKUP(Datenbank!$BG10,Datenbank!$B$70:$Y$84,14),IF(Datenbank!$Y$91>=Datenbank!$BG10,HLOOKUP(Datenbank!$BG10,Datenbank!$B$90:$Y$104,14),IF(Datenbank!$Y$111>=Datenbank!$BG10,HLOOKUP(Datenbank!$BG10,Datenbank!$B$110:$Y$124,14),\"\")))))))","v":""},{"$f":"IF(Datenbank!$Y$1=0,\"\",IF(Datenbank!$Y$11>=Datenbank!$BG10,HLOOKUP(Datenbank!$BG10,Datenbank!$B$10:$Y$24,9),IF(Datenbank!$Y$31>=Datenbank!$BG10,HLOOKUP(Datenbank!$BG10,Datenbank!$B$30:$Y$44,9),IF(Datenbank!$Y$51>=Datenbank!$BG10,HLOOKUP(Datenbank!$BG10,Datenbank!$B$50:$Y$64,9),IF(Datenbank!$Y$71>=Datenbank!$BG10,HLOOKUP(Datenbank!$BG10,Datenbank!$B$70:$Y$84,9),IF(Datenbank!$Y$91>=Datenbank!$BG10,HLOOKUP(Datenbank!$BG10,Datenbank!$B$90:$Y$104,9),IF(Datenbank!$Y$111>=Datenbank!$BG10,HLOOKUP(Datenbank!$BG10,Datenbank!$B$110:$Y$124,9),\"\")))))))","v":""},{"$f":"IF(Datenbank!$Y$1=0,\"\",IF(Datenbank!$Y$11>=Datenbank!$BG10,HLOOKUP(Datenbank!$BG10,Datenbank!$B$10:$Y$24,10),IF(Datenbank!$Y$31>=Datenbank!$BG10,HLOOKUP(Datenbank!$BG10,Datenbank!$B$30:$Y$44,10),IF(Datenbank!$Y$51>=Datenbank!$BG10,HLOOKUP(Datenbank!$BG10,Datenbank!$B$50:$Y$64,10),IF(Datenbank!$Y$71>=Datenbank!$BG10,HLOOKUP(Datenbank!$BG10,Datenbank!$B$70:$Y$84,10),IF(Datenbank!$Y$91>=Datenbank!$BG10,HLOOKUP(Datenbank!$BG10,Datenbank!$B$90:$Y$104,10),IF(Datenbank!$Y$111>=Datenbank!$BG10,HLOOKUP(Datenbank!$BG10,Datenbank!$B$110:$Y$124,10),\"\")))))))","v":""},{"$f":"IF(Datenbank!$Y$1=0,\"\",IF(Datenbank!$Y$11>=Datenbank!$BG10,HLOOKUP(Datenbank!$BG10,Datenbank!$B$10:$Y$24,11),IF(Datenbank!$Y$31>=Datenbank!$BG10,HLOOKUP(Datenbank!$BG10,Datenbank!$B$30:$Y$44,11),IF(Datenbank!$Y$51>=Datenbank!$BG10,HLOOKUP(Datenbank!$BG10,Datenbank!$B$50:$Y$64,11),IF(Datenbank!$Y$71>=Datenbank!$BG10,HLOOKUP(Datenbank!$BG10,Datenbank!$B$70:$Y$84,11),IF(Datenbank!$Y$91>=Datenbank!$BG10,HLOOKUP(Datenbank!$BG10,Datenbank!$B$90:$Y$104,11),IF(Datenbank!$Y$111>=Datenbank!$BG10,HLOOKUP(Datenbank!$BG10,Datenbank!$B$110:$Y$124,11),\"\")))))))","v":""},{"$f":"IF(Datenbank!$Y$1=0,\"\",IF(Datenbank!$Y$11>=Datenbank!$BG10,HLOOKUP(Datenbank!$BG10,Datenbank!$B$10:$Y$24,12),IF(Datenbank!$Y$31>=Datenbank!$BG10,HLOOKUP(Datenbank!$BG10,Datenbank!$B$30:$Y$44,12),IF(Datenbank!$Y$51>=Datenbank!$BG10,HLOOKUP(Datenbank!$BG10,Datenbank!$B$50:$Y$64,12),IF(Datenbank!$Y$71>=Datenbank!$BG10,HLOOKUP(Datenbank!$BG10,Datenbank!$B$70:$Y$84,12),IF(Datenbank!$Y$91>=Datenbank!$BG10,HLOOKUP(Datenbank!$BG10,Datenbank!$B$90:$Y$104,12),IF(Datenbank!$Y$111>=Datenbank!$BG10,HLOOKUP(Datenbank!$BG10,Datenbank!$B$110:$Y$124,12),\"\")))))))","v":""},""]
["Option Oberfläche angefast 45°","Nein",null,null,null,null,null,{"$f":"IF(Datenbank!$Y$1=0,\"\",IF(Datenbank!$Y$11>=Datenbank!$BG11,HLOOKUP(Datenbank!$BG11,Datenbank!$B$10:$Y$24,6),IF(Datenbank!$Y$31>=Datenbank!$BG11,HLOOKUP(Datenbank!$BG11,Datenbank!$B$30:$Y$44,6),IF(Datenbank!$Y$51>=Datenbank!$BG11,HLOOKUP(Datenbank!$BG11,Datenbank!$B$50:$Y$64,6),IF(Datenbank!$Y$71>=Datenbank!$BG11,HLOOKUP(Datenbank!$BG11,Datenbank!$B$70:$Y$84,6),IF(Datenbank!$Y$91>=Datenbank!$BG11,HLOOKUP(Datenbank!$BG11,Datenbank!$B$90:$Y$104,6),IF(Datenbank!$Y$111>=Datenbank!$BG11,HLOOKUP(Datenbank!$BG11,Datenbank!$B$110:$Y$124,6),\"\")))))))","v":""},{"$f":"IF($H19=\"\",\"\",VLOOKUP($H19,'AFM-Artikel'!$A$2:$D$1763,2))","v":""},null,null,null,null,null,{"$f":"IF(Datenbank!$Y$1=0,\"\",IF(Datenbank!$Y$11>=Datenbank!$BG11,HLOOKUP(Datenbank!$BG11,Datenbank!$B$10:$Y$24,15),IF(Datenbank!$Y$31>=Datenbank!$BG11,HLOOKUP(Datenbank!$BG11,Datenbank!$B$30:$Y$44,15),IF(Datenbank!$Y$51>=Datenbank!$BG11,HLOOKUP(Datenbank!$BG11,Datenbank!$B$50:$Y$64,15),IF(Datenbank!$Y$71>=Datenbank!$BG11,HLOOKUP(Datenbank!$BG11,Datenbank!$B$70:$Y$84,15),IF(Datenbank!$Y$91>=Datenbank!$BG11,HLOOKUP(Datenbank!$BG11,Datenbank!$B$90:$Y$104,15),IF(Datenbank!$Y$111>=Datenbank!$BG11,HLOOKUP(Datenbank!$BG11,Datenbank!$B$110:$Y$124,15),\"\")))))))","v":""},{"$f":"IF(Datenbank!$Y$1=0,\"\",IF(Datenbank!$Y$11>=Datenbank!$BG11,HLOOKUP(Datenbank!$BG11,Datenbank!$B$10:$Y$24,8),IF(Datenbank!$Y$31>=Datenbank!$BG11,HLOOKUP(Datenbank!$BG11,Datenbank!$B$30:$Y$44,8),IF(Datenbank!$Y$51>=Datenbank!$BG11,HLOOKUP(Datenbank!$BG11,Datenbank!$B$50:$Y$64,8),IF(Datenbank!$Y$71>=Datenbank!$BG11,HLOOKUP(Datenbank!$BG11,Datenbank!$B$70:$Y$84,8),IF(Datenbank!$Y$91>=Datenbank!$BG11,HLOOKUP(Datenbank!$BG11,Datenbank!$B$90:$Y$104,8),IF(Datenbank!$Y$111>=Datenbank!$BG11,HLOOKUP(Datenbank!$BG11,Datenbank!$B$110:$Y$124,8),\"\")))))))","v":""},null,{"$f":"IF(Datenbank!$Y$1=0,\"\",IF(Datenbank!$Y$11>=Datenbank!$BG11,HLOOKUP(Datenbank!$BG11,Datenbank!$B$10:$Y$24,4),IF(Datenbank!$Y$31>=Datenbank!$BG11,HLOOKUP(Datenbank!$BG11,Datenbank!$B$30:$Y$44,4),IF(Datenbank!$Y$51>=Datenbank!$BG11,HLOOKUP(Datenbank!$BG11,Datenbank!$B$50:$Y$64,4),IF(Datenbank!$Y$71>=Datenbank!$BG11,HLOOKUP(Datenbank!$BG11,Datenbank!$B$70:$Y$84,4),IF(Datenbank!$Y$91>=Datenbank!$BG11,HLOOKUP(Datenbank!$BG11,Datenbank!$B$90:$Y$104,4),IF(Datenbank!$Y$111>=Datenbank!$BG11,HLOOKUP(Datenbank!$BG11,Datenbank!$B$110:$Y$124,4),\"\")))))))","v":""},{"$f":"IF(Datenbank!$Y$1=0,\"\",IF(Datenbank!$Y$11>=Datenbank!$BG11,HLOOKUP(Datenbank!$BG11,Datenbank!$B$10:$Y$24,14),IF(Datenbank!$Y$31>=Datenbank!$BG11,HLOOKUP(Datenbank!$BG11,Datenbank!$B$30:$Y$44,14),IF(Datenbank!$Y$51>=Datenbank!$BG11,HLOOKUP(Datenbank!$BG11,Datenbank!$B$50:$Y$64,14),IF(Datenbank!$Y$71>=Datenbank!$BG11,HLOOKUP(Datenbank!$BG11,Datenbank!$B$70:$Y$84,14),IF(Datenbank!$Y$91>=Datenbank!$BG11,HLOOKUP(Datenbank!$BG11,Datenbank!$B$90:$Y$104,14),IF(Datenbank!$Y$111>=Datenbank!$BG11,HLOOKUP(Datenbank!$BG11,Datenbank!$B$110:$Y$124,14),\"\")))))))","v":""},{"$f":"IF(Datenbank!$Y$1=0,\"\",IF(Datenbank!$Y$11>=Datenbank!$BG11,HLOOKUP(Datenbank!$BG11,Datenbank!$B$10:$Y$24,9),IF(Datenbank!$Y$31>=Datenbank!$BG11,HLOOKUP(Datenbank!$BG11,Datenbank!$B$30:$Y$44,9),IF(Datenbank!$Y$51>=Datenbank!$BG11,HLOOKUP(Datenbank!$BG11,Datenbank!$B$50:$Y$64,9),IF(Datenbank!$Y$71>=Datenbank!$BG11,HLOOKUP(Datenbank!$BG11,Datenbank!$B$70:$Y$84,9),IF(Datenbank!$Y$91>=Datenbank!$BG11,HLOOKUP(Datenbank!$BG11,Datenbank!$B$90:$Y$104,9),IF(Datenbank!$Y$111>=Datenbank!$BG11,HLOOKUP(Datenbank!$BG11,Datenbank!$B$110:$Y$124,9),\"\")))))))","v":""},{"$f":"IF(Datenbank!$Y$1=0,\"\",IF(Datenbank!$Y$11>=Datenbank!$BG11,HLOOKUP(Datenbank!$BG11,Datenbank!$B$10:$Y$24,10),IF(Datenbank!$Y$31>=Datenbank!$BG11,HLOOKUP(Datenbank!$BG11,Datenbank!$B$30:$Y$44,10),IF(Datenbank!$Y$51>=Datenbank!$BG11,HLOOKUP(Datenbank!$BG11,Datenbank!$B$50:$Y$64,10),IF(Datenbank!$Y$71>=Datenbank!$BG11,HLOOKUP(Datenbank!$BG11,Datenbank!$B$70:$Y$84,10),IF(Datenbank!$Y$91>=Datenbank!$BG11,HLOOKUP(Datenbank!$BG11,Datenbank!$B$90:$Y$104,10),IF(Datenbank!$Y$111>=Datenbank!$BG11,HLOOKUP(Datenbank!$BG11,Datenbank!$B$110:$Y$124,10),\"\")))))))","v":""},{"$f":"IF(Datenbank!$Y$1=0,\"\",IF(Datenbank!$Y$11>=Datenbank!$BG11,HLOOKUP(Datenbank!$BG11,Datenbank!$B$10:$Y$24,11),IF(Datenbank!$Y$31>=Datenbank!$BG11,HLOOKUP(Datenbank!$BG11,Datenbank!$B$30:$Y$44,11),IF(Datenbank!$Y$51>=Datenbank!$BG11,HLOOKUP(Datenbank!$BG11,Datenbank!$B$50:$Y$64,11),IF(Datenbank!$Y$71>=Datenbank!$BG11,HLOOKUP(Datenbank!$BG11,Datenbank!$B$70:$Y$84,11),IF(Datenbank!$Y$91>=Datenbank!$BG11,HLOOKUP(Datenbank!$BG11,Datenbank!$B$90:$Y$104,11),IF(Datenbank!$Y$111>=Datenbank!$BG11,HLOOKUP(Datenbank!$BG11,Datenbank!$B$110:$Y$124,11),\"\")))))))","v":""},{"$f":"IF(Datenbank!$Y$1=0,\"\",IF(Datenbank!$Y$11>=Datenbank!$BG11,HLOOKUP(Datenbank!$BG11,Datenbank!$B$10:$Y$24,12),IF(Datenbank!$Y$31>=Datenbank!$BG11,HLOOKUP(Datenbank!$BG11,Datenbank!$B$30:$Y$44,12),IF(Datenbank!$Y$51>=Datenbank!$BG11,HLOOKUP(Datenbank!$BG11,Datenbank!$B$50:$Y$64,12),IF(Datenbank!$Y$71>=Datenbank!$BG11,HLOOKUP(Datenbank!$BG11,Datenbank!$B$70:$Y$84,12),IF(Datenbank!$Y$91>=Datenbank!$BG11,HLOOKUP(Datenbank!$BG11,Datenbank!$B$90:$Y$104,12),IF(Datenbank!$Y$111>=Datenbank!$BG11,HLOOKUP(Datenbank!$BG11,Datenbank!$B$110:$Y$124,12),\"\")))))))","v":""},""]
["Option Oberfläche Edelstahl 90°","Nein",null,null,null,null,null,{"$f":"IF(Datenbank!$Y$1=0,\"\",IF(Datenbank!$Y$11>=Datenbank!$BG12,HLOOKUP(Datenbank!$BG12,Datenbank!$B$10:$Y$24,6),IF(Datenbank!$Y$31>=Datenbank!$BG12,HLOOKUP(Datenbank!$BG12,Datenbank!$B$30:$Y$44,6),IF(Datenbank!$Y$51>=Datenbank!$BG12,HLOOKUP(Datenbank!$BG12,Datenbank!$B$50:$Y$64,6),IF(Datenbank!$Y$71>=Datenbank!$BG12,HLOOKUP(Datenbank!$BG12,Datenbank!$B$70:$Y$84,6),IF(Datenbank!$Y$91>=Datenbank!$BG12,HLOOKUP(Datenbank!$BG12,Datenbank!$B$90:$Y$104,6),IF(Datenbank!$Y$111>=Datenbank!$BG12,HLOOKUP(Datenbank!$BG12,Datenbank!$B$110:$Y$124,6),\"\")))))))","v":""},{"$f":"IF($H20=\"\",\"\",VLOOKUP($H20,'AFM-Artikel'!$A$2:$D$1763,2))","v":""},null,null,null,null,null,{"$f":"IF(Datenbank!$Y$1=0,\"\",IF(Datenbank!$Y$11>=Datenbank!$BG12,HLOOKUP(Datenbank!$BG12,Datenbank!$B$10:$Y$24,15),IF(Datenbank!$Y$31>=Datenbank!$BG12,HLOOKUP(Datenbank!$BG12,Datenbank!$B$30:$Y$44,15),IF(Datenbank!$Y$51>=Datenbank!$BG12,HLOOKUP(Datenbank!$BG12,Datenbank!$B$50:$Y$64,15),IF(Datenbank!$Y$71>=Datenbank!$BG12,HLOOKUP(Datenbank!$BG12,Datenbank!$B$70:$Y$84,15),IF(Datenbank!$Y$91>=Datenbank!$BG12,HLOOKUP(Datenbank!$BG12,Datenbank!$B$90:$Y$104,15),IF(Datenbank!$Y$111>=Datenbank!$BG12,HLOOKUP(Datenbank!$BG12,Datenbank!$B$110:$Y$124,15),\"\")))))))","v":""},{"$f":"IF(Datenbank!$Y$1=0,\"\",IF(Datenbank!$Y$11>=Datenbank!$BG12,HLOOKUP(Datenbank!$BG12,Datenbank!$B$10:$Y$24,8),IF(Datenbank!$Y$31>=Datenbank!$BG12,HLOOKUP(Datenbank!$BG12,Datenbank!$B$30:$Y$44,8),IF(Datenbank!$Y$51>=Datenbank!$BG12,HLOOKUP(Datenbank!$BG12,Datenbank!$B$50:$Y$64,8),IF(Datenbank!$Y$71>=Datenbank!$BG12,HLOOKUP(Datenbank!$BG12,Datenbank!$B$70:$Y$84,8),IF(Datenbank!$Y$91>=Datenbank!$BG12,HLOOKUP(Datenbank!$BG12,Datenbank!$B$90:$Y$104,8),IF(Datenbank!$Y$111>=Datenbank!$BG12,HLOOKUP(Datenbank!$BG12,Datenbank!$B$110:$Y$124,8),\"\")))))))","v":""},null,{"$f":"IF(Datenbank!$Y$1=0,\"\",IF(Datenbank!$Y$11>=Datenbank!$BG12,HLOOKUP(Datenbank!$BG12,Datenbank!$B$10:$Y$24,4),IF(Datenbank!$Y$31>=Datenbank!$BG12,HLOOKUP(Datenbank!$BG12,Datenbank!$B$30:$Y$44,4),IF(Datenbank!$Y$51>=Datenbank!$BG12,HLOOKUP(Datenbank!$BG12,Datenbank!$B$50:$Y$64,4),IF(Datenbank!$Y$71>=Datenbank!$BG12,HLOOKUP(Datenbank!$BG12,Datenbank!$B$70:$Y$84,4),IF(Datenbank!$Y$91>=Datenbank!$BG12,HLOOKUP(Datenbank!$BG12,Datenbank!$B$90:$Y$104,4),IF(Datenbank!$Y$111>=Datenbank!$BG12,HLOOKUP(Datenbank!$BG12,Datenbank!$B$110:$Y$124,4),\"\")))))))","v":""},{"$f":"IF(Datenbank!$Y$1=0,\"\",IF(Datenbank!$Y$11>=Datenbank!$BG12,HLOOKUP(Datenbank!$BG12,Datenbank!$B$10:$Y$24,14),IF(Datenbank!$Y$31>=Datenbank!$BG12,HLOOKUP(Datenbank!$BG12,Datenbank!$B$30:$Y$44,14),IF(Datenbank!$Y$51>=Datenbank!$BG12,HLOOKUP(Datenbank!$BG12,Datenbank!$B$50:$Y$64,14),IF(Datenbank!$Y$71>=Datenbank!$BG12,HLOOKUP(Datenbank!$BG12,Datenbank!$B$70:$Y$84,14),IF(Datenbank!$Y$91>=Datenbank!$BG12,HLOOKUP(Datenbank!$BG12,Datenbank!$B$90:$Y$104,14),IF(Datenbank!$Y$111>=Datenbank!$BG12,HLOOKUP(Datenbank!$BG12,Datenbank!$B$110:$Y$124,14),\"\")))))))","v":""},{"$f":"IF(Datenbank!$Y$1=0,\"\",IF(Datenbank!$Y$11>=Datenbank!$BG12,HLOOKUP(Datenbank!$BG12,Datenbank!$B$10:$Y$24,9),IF(Datenbank!$Y$31>=Datenbank!$BG12,HLOOKUP(Datenbank!$BG12,Datenbank!$B$30:$Y$44,9),IF(Datenbank!$Y$51>=Datenbank!$BG12,HLOOKUP(Datenbank!$BG12,Datenbank!$B$50:$Y$64,9),IF(Datenbank!$Y$71>=Datenbank!$BG12,HLOOKUP(Datenbank!$BG12,Datenbank!$B$70:$Y$84,9),IF(Datenbank!$Y$91>=Datenbank!$BG12,HLOOKUP(Datenbank!$BG12,Datenbank!$B$90:$Y$104,9),IF(Datenbank!$Y$111>=Datenbank!$BG12,HLOOKUP(Datenbank!$BG12,Datenbank!$B$110:$Y$124,9),\"\")))))))","v":""},{"$f":"IF(Datenbank!$Y$1=0,\"\",IF(Datenbank!$Y$11>=Datenbank!$BG12,HLOOKUP(Datenbank!$BG12,Datenbank!$B$10:$Y$24,10),IF(Datenbank!$Y$31>=Datenbank!$BG12,HLOOKUP(Datenbank!$BG12,Datenbank!$B$30:$Y$44,10),IF(Datenbank!$Y$51>=Datenbank!$BG12,HLOOKUP(Datenbank!$BG12,Datenbank!$B$50:$Y$64,10),IF(Datenbank!$Y$71>=Datenbank!$BG12,HLOOKUP(Datenbank!$BG12,Datenbank!$B$70:$Y$84,10),IF(Datenbank!$Y$91>=Datenbank!$BG12,HLOOKUP(Datenbank!$BG12,Datenbank!$B$90:$Y$104,10),IF(Datenbank!$Y$111>=Datenbank!$BG12,HLOOKUP(Datenbank!$BG12,Datenbank!$B$110:$Y$124,10),\"\")))))))","v":""},{"$f":"IF(Datenbank!$Y$1=0,\"\",IF(Datenbank!$Y$11>=Datenbank!$BG12,HLOOKUP(Datenbank!$BG12,Datenbank!$B$10:$Y$24,11),IF(Datenbank!$Y$31>=Datenbank!$BG12,HLOOKUP(Datenbank!$BG12,Datenbank!$B$30:$Y$44,11),IF(Datenbank!$Y$51>=Datenbank!$BG12,HLOOKUP(Datenbank!$BG12,Datenbank!$B$50:$Y$64,11),IF(Datenbank!$Y$71>=Datenbank!$BG12,HLOOKUP(Datenbank!$BG12,Datenbank!$B$70:$Y$84,11),IF(Datenbank!$Y$91>=Datenbank!$BG12,HLOOKUP(Datenbank!$BG12,Datenbank!$B$90:$Y$104,11),IF(Datenbank!$Y$111>=Datenbank!$BG12,HLOOKUP(Datenbank!$BG12,Datenbank!$B$110:$Y$124,11),\"\")))))))","v":""},{"$f":"IF(Datenbank!$Y$1=0,\"\",IF(Datenbank!$Y$11>=Datenbank!$BG12,HLOOKUP(Datenbank!$BG12,Datenbank!$B$10:$Y$24,12),IF(Datenbank!$Y$31>=Datenbank!$BG12,HLOOKUP(Datenbank!$BG12,Datenbank!$B$30:$Y$44,12),IF(Datenbank!$Y$51>=Datenbank!$BG12,HLOOKUP(Datenbank!$BG12,Datenbank!$B$50:$Y$64,12),IF(Datenbank!$Y$71>=Datenbank!$BG12,HLOOKUP(Datenbank!$BG12,Datenbank!$B$70:$Y$84,12),IF(Datenbank!$Y$91>=Datenbank!$BG12,HLOOKUP(Datenbank!$BG12,Datenbank!$B$90:$Y$104,12),IF(Datenbank!$Y$111>=Datenbank!$BG12,HLOOKUP(Datenbank!$BG12,Datenbank!$B$110:$Y$124,12),\"\")))))))","v":""},""]
["Option LAN-Switch","Nein",null,null,null,null,null,{"$f":"IF(Datenbank!$Y$1=0,\"\",IF(Datenbank!$Y$11>=Datenbank!$BG13,HLOOKUP(Datenbank!$BG13,Datenbank!$B$10:$Y$24,6),IF(Datenbank!$Y$31>=Datenbank!$BG13,HLOOKUP(Datenbank!$BG13,Datenbank!$B$30:$Y$44,6),IF(Datenbank!$Y$51>=Datenbank!$BG13,HLOOKUP(Datenbank!$BG13,Datenbank!$B$50:$Y$64,6),IF(Datenbank!$Y$71>=Datenbank!$BG13,HLOOKUP(Datenbank!$BG13,Datenbank!$B$70:$Y$84,6),IF(Datenbank!$Y$91>=Datenbank!$BG13,HLOOKUP(Datenbank!$BG13,Datenbank!$B$90:$Y$104,6),IF(Datenbank!$Y$111>=Datenbank!$BG13,HLOOKUP(Datenbank!$BG13,Datenbank!$B$110:$Y$124,6),\"\")))))))","v":""},{"$f":"IF($H21=\"\",\"\",VLOOKUP($H21,'AFM-Artikel'!$A$2:$D$1763,2))","v":""},null,null,null,null,null,{"$f":"IF(Datenbank!$Y$1=0,\"\",IF(Datenbank!$Y$11>=Datenbank!$BG13,HLOOKUP(Datenbank!$BG13,Datenbank!$B$10:$Y$24,15),IF(Datenbank!$Y$31>=Datenbank!$BG13,HLOOKUP(Datenbank!$BG13,Datenbank!$B$30:$Y$44,15),IF(Datenbank!$Y$51>=Datenbank!$BG13,HLOOKUP(Datenbank!$BG13,Datenbank!$B$50:$Y$64,15),IF(Datenbank!$Y$71>=Datenbank!$BG13,HLOOKUP(Datenbank!$BG13,Datenbank!$B$70:$Y$84,15),IF(Datenbank!$Y$91>=Datenbank!$BG13,HLOOKUP(Datenbank!$BG13,Datenbank!$B$90:$Y$104,15),IF(Datenbank!$Y$111>=Datenbank!$BG13,HLOOKUP(Datenbank!$BG13,Datenbank!$B$110:$Y$124,15),\"\")))))))","v":""},{"$f":"IF(Datenbank!$Y$1=0,\"\",IF(Datenbank!$Y$11>=Datenbank!$BG13,HLOOKUP(Datenbank!$BG13,Datenbank!$B$10:$Y$24,8),IF(Datenbank!$Y$31>=Datenbank!$BG13,HLOOKUP(Datenbank!$BG13,Datenbank!$B$30:$Y$44,8),IF(Datenbank!$Y$51>=Datenbank!$BG13,HLOOKUP(Datenbank!$BG13,Datenbank!$B$50:$Y$64,8),IF(Datenbank!$Y$71>=Datenbank!$BG13,HLOOKUP(Datenbank!$BG13,Datenbank!$B$70:$Y$84,8),IF(Datenbank!$Y$91>=Datenbank!$BG13,HLOOKUP(Datenbank!$BG13,Datenbank!$B$90:$Y$104,8),IF(Datenbank!$Y$111>=Datenbank!$BG13,HLOOKUP(Datenbank!$BG13,Datenbank!$B$110:$Y$124,8),\"\")))))))","v":""},null,{"$f":"IF(Datenbank!$Y$1=0,\"\",IF(Datenbank!$Y$11>=Datenbank!$BG13,HLOOKUP(Datenbank!$BG13,Datenbank!$B$10:$Y$24,4),IF(Datenbank!$Y$31>=Datenbank!$BG13,HLOOKUP(Datenbank!$BG13,Datenbank!$B$30:$Y$44,4),IF(Datenbank!$Y$51>=Datenbank!$BG13,HLOOKUP(Datenbank!$BG13,Datenbank!$B$50:$Y$64,4),IF(Datenbank!$Y$71>=Datenbank!$BG13,HLOOKUP(Datenbank!$BG13,Datenbank!$B$70:$Y$84,4),IF(Datenbank!$Y$91>=Datenbank!$BG13,HLOOKUP(Datenbank!$BG13,Datenbank!$B$90:$Y$104,4),IF(Datenbank!$Y$111>=Datenbank!$BG13,HLOOKUP(Datenbank!$BG13,Datenbank!$B$110:$Y$124,4),\"\")))))))","v":""},{"$f":"IF(Datenbank!$Y$1=0,\"\",IF(Datenbank!$Y$11>=Datenbank!$BG13,HLOOKUP(Datenbank!$BG13,Datenbank!$B$10:$Y$24,14),IF(Datenbank!$Y$31>=Datenbank!$BG13,HLOOKUP(Datenbank!$BG13,Datenbank!$B$30:$Y$44,14),IF(Datenbank!$Y$51>=Datenbank!$BG13,HLOOKUP(Datenbank!$BG13,Datenbank!$B$50:$Y$64,14),IF(Datenbank!$Y$71>=Datenbank!$BG13,HLOOKUP(Datenbank!$BG13,Datenbank!$B$70:$Y$84,14),IF(Datenbank!$Y$91>=Datenbank!$BG13,HLOOKUP(Datenbank!$BG13,Datenbank!$B$90:$Y$104,14),IF(Datenbank!$Y$111>=Datenbank!$BG13,HLOOKUP(Datenbank!$BG13,Datenbank!$B$110:$Y$124,14),\"\")))))))","v":""},{"$f":"IF(Datenbank!$Y$1=0,\"\",IF(Datenbank!$Y$11>=Datenbank!$BG13,HLOOKUP(Datenbank!$BG13,Datenbank!$B$10:$Y$24,9),IF(Datenbank!$Y$31>=Datenbank!$BG13,HLOOKUP(Datenbank!$BG13,Datenbank!$B$30:$Y$44,9),IF(Datenbank!$Y$51>=Datenbank!$BG13,HLOOKUP(Datenbank!$BG13,Datenbank!$B$50:$Y$64,9),IF(Datenbank!$Y$71>=Datenbank!$BG13,HLOOKUP(Datenbank!$BG13,Datenbank!$B$70:$Y$84,9),IF(Datenbank!$Y$91>=Datenbank!$BG13,HLOOKUP(Datenbank!$BG13,Datenbank!$B$90:$Y$104,9),IF(Datenbank!$Y$111>=Datenbank!$BG13,HLOOKUP(Datenbank!$BG13,Datenbank!$B$110:$Y$124,9),\"\")))))))","v":""},{"$f":"IF(Datenbank!$Y$1=0,\"\",IF(Datenbank!$Y$11>=Datenbank!$BG13,HLOOKUP(Datenbank!$BG13,Datenbank!$B$10:$Y$24,10),IF(Datenbank!$Y$31>=Datenbank!$BG13,HLOOKUP(Datenbank!$BG13,Datenbank!$B$30:$Y$44,10),IF(Datenbank!$Y$51>=Datenbank!$BG13,HLOOKUP(Datenbank!$BG13,Datenbank!$B$50:$Y$64,10),IF(Datenbank!$Y$71>=Datenbank!$BG13,HLOOKUP(Datenbank!$BG13,Datenbank!$B$70:$Y$84,10),IF(Datenbank!$Y$91>=Datenbank!$BG13,HLOOKUP(Datenbank!$BG13,Datenbank!$B$90:$Y$104,10),IF(Datenbank!$Y$111>=Datenbank!$BG13,HLOOKUP(Datenbank!$BG13,Datenbank!$B$110:$Y$124,10),\"\")))))))","v":""},{"$f":"IF(Datenbank!$Y$1=0,\"\",IF(Datenbank!$Y$11>=Datenbank!$BG13,HLOOKUP(Datenbank!$BG13,Datenbank!$B$10:$Y$24,11),IF(Datenbank!$Y$31>=Datenbank!$BG13,HLOOKUP(Datenbank!$BG13,Datenbank!$B$30:$Y$44,11),IF(Datenbank!$Y$51>=Datenbank!$BG13,HLOOKUP(Datenbank!$BG13,Datenbank!$B$50:$Y$64,11),IF(Datenbank!$Y$71>=Datenbank!$BG13,HLOOKUP(Datenbank!$BG13,Datenbank!$B$70:$Y$84,11),IF(Datenbank!$Y$91>=Datenbank!$BG13,HLOOKUP(Datenbank!$BG13,Datenbank!$B$90:$Y$104,11),IF(Datenbank!$Y$111>=Datenbank!$BG13,HLOOKUP(Datenbank!$BG13,Datenbank!$B$110:$Y$124,11),\"\")))))))","v":""},{"$f":"IF(Datenbank!$Y$1=0,\"\",IF(Datenbank!$Y$11>=Datenbank!$BG13,HLOOKUP(Datenbank!$BG13,Datenbank!$B$10:$Y$24,12),IF(Datenbank!$Y$31>=Datenbank!$BG13,HLOOKUP(Datenbank!$BG13,Datenbank!$B$30:$Y$44,12),IF(Datenbank!$Y$51>=Datenbank!$BG13,HLOOKUP(Datenbank!$BG13,Datenbank!$B$50:$Y$64,12),IF(Datenbank!$Y$71>=Datenbank!$BG13,HLOOKUP(Datenbank!$BG13,Datenbank!$B$70:$Y$84,12),IF(Datenbank!$Y$91>=Datenbank!$BG13,HLOOKUP(Datenbank!$BG13,Datenbank!$B$90:$Y$104,12),IF(Datenbank!$Y$111>=Datenbank!$BG13,HLOOKUP(Datenbank!$BG13,Datenbank!$B$110:$Y$124,12),\"\")))))))","v":""},""]
["Option Kabelausgang","unten",null,null,null,null,null,{"$f":"IF(Datenbank!$Y$1=0,\"\",IF(Datenbank!$Y$11>=Datenbank!$BG14,HLOOKUP(Datenbank!$BG14,Datenbank!$B$10:$Y$24,6),IF(Datenbank!$Y$31>=Datenbank!$BG14,HLOOKUP(Datenbank!$BG14,Datenbank!$B$30:$Y$44,6),IF(Datenbank!$Y$51>=Datenbank!$BG14,HLOOKUP(Datenbank!$BG14,Datenbank!$B$50:$Y$64,6),IF(Datenbank!$Y$71>=Datenbank!$BG14,HLOOKUP(Datenbank!$BG14,Datenbank!$B$70:$Y$84,6),IF(Datenbank!$Y$91>=Datenbank!$BG14,HLOOKUP(Datenbank!$BG14,Datenbank!$B$90:$Y$104,6),IF(Datenbank!$Y$111>=Datenbank!$BG14,HLOOKUP(Datenbank!$BG14,Datenbank!$B$110:$Y$124,6),\"\")))))))","v":""},{"$f":"IF($H22=\"\",\"\",VLOOKUP($H22,'AFM-Artikel'!$A$2:$D$1763,2))","v":""},null,null,null,null,null,{"$f":"IF(Datenbank!$Y$1=0,\"\",IF(Datenbank!$Y$11>=Datenbank!$BG14,HLOOKUP(Datenbank!$BG14,Datenbank!$B$10:$Y$24,15),IF(Datenbank!$Y$31>=Datenbank!$BG14,HLOOKUP(Datenbank!$BG14,Datenbank!$B$30:$Y$44,15),IF(Datenbank!$Y$51>=Datenbank!$BG14,HLOOKUP(Datenbank!$BG14,Datenbank!$B$50:$Y$64,15),IF(Datenbank!$Y$71>=Datenbank!$BG14,HLOOKUP(Datenbank!$BG14,Datenbank!$B$70:$Y$84,15),IF(Datenbank!$Y$91>=Datenbank!$BG14,HLOOKUP(Datenbank!$BG14,Datenbank!$B$90:$Y$104,15),IF(Datenbank!$Y$111>=Datenbank!$BG14,HLOOKUP(Datenbank!$BG14,Datenbank!$B$110:$Y$124,15),\"\")))))))","v":""},{"$f":"IF(Datenbank!$Y$1=0,\"\",IF(Datenbank!$Y$11>=Datenbank!$BG14,HLOOKUP(Datenbank!$BG14,Datenbank!$B$10:$Y$24,8),IF(Datenbank!$Y$31>=Datenbank!$BG14,HLOOKUP(Datenbank!$BG14,Datenbank!$B$30:$Y$44,8),IF(Datenbank!$Y$51>=Datenbank!$BG14,HLOOKUP(Datenbank!$BG14,Datenbank!$B$50:$Y$64,8),IF(Datenbank!$Y$71>=Datenbank!$BG14,HLOOKUP(Datenbank!$BG14,Datenbank!$B$70:$Y$84,8),IF(Datenbank!$Y$91>=Datenbank!$BG14,HLOOKUP(Datenbank!$BG14,Datenbank!$B$90:$Y$104,8),IF(Datenbank!$Y$111>=Datenbank!$BG14,HLOOKUP(Datenbank!$BG14,Datenbank!$B$110:$Y$124,8),\"\")))))))","v":""},null,{"$f":"IF(Datenbank!$Y$1=0,\"\",IF(Datenbank!$Y$11>=Datenbank!$BG14,HLOOKUP(Datenbank!$BG14,Datenbank!$B$10:$Y$24,4),IF(Datenbank!$Y$31>=Datenbank!$BG14,HLOOKUP(Datenbank!$BG14,Datenbank!$B$30:$Y$44,4),IF(Datenbank!$Y$51>=Datenbank!$BG14,HLOOKUP(Datenbank!$BG14,Datenbank!$B$50:$Y$64,4),IF(Datenbank!$Y$71>=Datenbank!$BG14,HLOOKUP(Datenbank!$BG14,Datenbank!$B$70:$Y$84,4),IF(Datenbank!$Y$91>=Datenbank!$BG14,HLOOKUP(Datenbank!$BG14,Datenbank!$B$90:$Y$104,4),IF(Datenbank!$Y$111>=Datenbank!$BG14,HLOOKUP(Datenbank!$BG14,Datenbank!$B$110:$Y$124,4),\"\")))))))","v":""},{"$f":"IF(Datenbank!$Y$1=0,\"\",IF(Datenbank!$Y$11>=Datenbank!$BG14,HLOOKUP(Datenbank!$BG14,Datenbank!$B$10:$Y$24,14),IF(Datenbank!$Y$31>=Datenbank!$BG14,HLOOKUP(Datenbank!$BG14,Datenbank!$B$30:$Y$44,14),IF(Datenbank!$Y$51>=Datenbank!$BG14,HLOOKUP(Datenbank!$BG14,Datenbank!$B$50:$Y$64,14),IF(Datenbank!$Y$71>=Datenbank!$BG14,HLOOKUP(Datenbank!$BG14,Datenbank!$B$70:$Y$84,14),IF(Datenbank!$Y$91>=Datenbank!$BG14,HLOOKUP(Datenbank!$BG14,Datenbank!$B$90:$Y$104,14),IF(Datenbank!$Y$111>=Datenbank!$BG14,HLOOKUP(Datenbank!$BG14,Datenbank!$B$110:$Y$124,14),\"\")))))))","v":""},{"$f":"IF(Datenbank!$Y$1=0,\"\",IF(Datenbank!$Y$11>=Datenbank!$BG14,HLOOKUP(Datenbank!$BG14,Datenbank!$B$10:$Y$24,9),IF(Datenbank!$Y$31>=Datenbank!$BG14,HLOOKUP(Datenbank!$BG14,Datenbank!$B$30:$Y$44,9),IF(Datenbank!$Y$51>=Datenbank!$BG14,HLOOKUP(Datenbank!$BG14,Datenbank!$B$50:$Y$64,9),IF(Datenbank!$Y$71>=Datenbank!$BG14,HLOOKUP(Datenbank!$BG14,Datenbank!$B$70:$Y$84,9),IF(Datenbank!$Y$91>=Datenbank!$BG14,HLOOKUP(Datenbank!$BG14,Datenbank!$B$90:$Y$104,9),IF(Datenbank!$Y$111>=Datenbank!$BG14,HLOOKUP(Datenbank!$BG14,Datenbank!$B$110:$Y$124,9),\"\")))))))","v":""},{"$f":"IF(Datenbank!$Y$1=0,\"\",IF(Datenbank!$Y$11>=Datenbank!$BG14,HLOOKUP(Datenbank!$BG14,Datenbank!$B$10:$Y$24,10),IF(Datenbank!$Y$31>=Datenbank!$BG14,HLOOKUP(Datenbank!$BG14,Datenbank!$B$30:$Y$44,10),IF(Datenbank!$Y$51>=Datenbank!$BG14,HLOOKUP(Datenbank!$BG14,Datenbank!$B$50:$Y$64,10),IF(Datenbank!$Y$71>=Datenbank!$BG14,HLOOKUP(Datenbank!$BG14,Datenbank!$B$70:$Y$84,10),IF(Datenbank!$Y$91>=Datenbank!$BG14,HLOOKUP(Datenbank!$BG14,Datenbank!$B$90:$Y$104,10),IF(Datenbank!$Y$111>=Datenbank!$BG14,HLOOKUP(Datenbank!$BG14,Datenbank!$B$110:$Y$124,10),\"\")))))))","v":""},{"$f":"IF(Datenbank!$Y$1=0,\"\",IF(Datenbank!$Y$11>=Datenbank!$BG14,HLOOKUP(Datenbank!$BG14,Datenbank!$B$10:$Y$24,11),IF(Datenbank!$Y$31>=Datenbank!$BG14,HLOOKUP(Datenbank!$BG14,Datenbank!$B$30:$Y$44,11),IF(Datenbank!$Y$51>=Datenbank!$BG14,HLOOKUP(Datenbank!$BG14,Datenbank!$B$50:$Y$64,11),IF(Datenbank!$Y$71>=Datenbank!$BG14,HLOOKUP(Datenbank!$BG14,Datenbank!$B$70:$Y$84,11),IF(Datenbank!$Y$91>=Datenbank!$BG14,HLOOKUP(Datenbank!$BG14,Datenbank!$B$90:$Y$104,11),IF(Datenbank!$Y$111>=Datenbank!$BG14,HLOOKUP(Datenbank!$BG14,Datenbank!$B$110:$Y$124,11),\"\")))))))","v":""},{"$f":"IF(Datenbank!$Y$1=0,\"\",IF(Datenbank!$Y$11>=Datenbank!$BG14,HLOOKUP(Datenbank!$BG14,Datenbank!$B$10:$Y$24,12),IF(Datenbank!$Y$31>=Datenbank!$BG14,HLOOKUP(Datenbank!$BG14,Datenbank!$B$30:$Y$44,12),IF(Datenbank!$Y$51>=Datenbank!$BG14,HLOOKUP(Datenbank!$BG14,Datenbank!$B$50:$Y$64,12),IF(Datenbank!$Y$71>=Datenbank!$BG14,HLOOKUP(Datenbank!$BG14,Datenbank!$B$70:$Y$84,12),IF(Datenbank!$Y$91>=Datenbank!$BG14,HLOOKUP(Datenbank!$BG14,Datenbank!$B$90:$Y$104,12),IF(Datenbank!$Y$111>=Datenbank!$BG14,HLOOKUP(Datenbank!$BG14,Datenbank!$B$110:$Y$124,12),\"\")))))))","v":""},""]
[null,null,null,null,null,null,null,{"$f":"IF(Datenbank!$Y$1=0,\"\",IF(Datenbank!$Y$11>=Datenbank!$BG15,HLOOKUP(Datenbank!$BG15,Datenbank!$B$10:$Y$24,6),IF(Datenbank!$Y$31>=Datenbank!$BG15,HLOOKUP(Datenbank!$BG15,Datenbank!$B$30:$Y$44,6),IF(Datenbank!$Y$51>=Datenbank!$BG15,HLOOKUP(Datenbank!$BG15,Datenbank!$B$50:$Y$64,6),IF(Datenbank!$Y$71>=Datenbank!$BG15,HLOOKUP(Datenbank!$BG15,Datenbank!$B$70:$Y$84,6),IF(Datenbank!$Y$91>=Datenbank!$BG15,HLOOKUP(Datenbank!$BG15,Datenbank!$B$90:$Y$104,6),IF(Datenbank!$Y$111>=Datenbank!$BG15,HLOOKUP(Datenbank!$BG15,Datenbank!$B$110:$Y$124,6),\"\")))))))","v":""},{"$f":"IF($H23=\"\",\"\",VLOOKUP($H23,'AFM-Artikel'!$A$2:$D$1763,2))","v":""},null,null,null,null,null,{"$f":"IF(Datenbank!$Y$1=0,\"\",IF(Datenbank!$Y$11>=Datenbank!$BG15,HLOOKUP(Datenbank!$BG15,Datenbank!$B$10:$Y$24,15),IF(Datenbank!$Y$31>=Datenbank!$BG15,HLOOKUP(Datenbank!$BG15,Datenbank!$B$30:$Y$44,15),IF(Datenbank!$Y$51>=Datenbank!$BG15,HLOOKUP(Datenbank!$BG15,Datenbank!$B$50:$Y$64,15),IF(Datenbank!$Y$71>=Datenbank!$BG15,HLOOKUP(Datenbank!$BG15,Datenbank!$B$70:$Y$84,15),IF(Datenbank!$Y$91>=Datenbank!$BG15,HLOOKUP(Datenbank!$BG15,Datenbank!$B$90:$Y$104,15),IF(Datenbank!$Y$111>=Datenbank!$BG15,HLOOKUP(Datenbank!$BG15,Datenbank!$B$110:$Y$124,15),\"\")))))))","v":""},{"$f":"IF(Datenbank!$Y$1=0,\"\",IF(Datenbank!$Y$11>=Datenbank!$BG15,HLOOKUP(Datenbank!$BG15,Datenbank!$B$10:$Y$24,8),IF(Datenbank!$Y$31>=Datenbank!$BG15,HLOOKUP(Datenbank!$BG15,Datenbank!$B$30:$Y$44,8),IF(Datenbank!$Y$51>=Datenbank!$BG15,HLOOKUP(Datenbank!$BG15,Datenbank!$B$50:$Y$64,8),IF(Datenbank!$Y$71>=Datenbank!$BG15,HLOOKUP(Datenbank!$BG15,Datenbank!$B$70:$Y$84,8),IF(Datenbank!$Y$91>=Datenbank!$BG15,HLOOKUP(Datenbank!$BG15,Datenbank!$B$90:$Y$104,8),IF(Datenbank!$Y$111>=Datenbank!$BG15,HLOOKUP(Datenbank!$BG15,Datenbank!$B$110:$Y$124,8),\"\")))))))","v":""},null,{"$f":"IF(Datenbank!$Y$1=0,\"\",IF(Datenbank!$Y$11>=Datenbank!$BG15,HLOOKUP(Datenbank!$BG15,Datenbank!$B$10:$Y$24,4),IF(Datenbank!$Y$31>=Datenbank!$BG15,HLOOKUP(Datenbank!$BG15,Datenbank!$B$30:$Y$44,4),IF(Datenbank!$Y$51>=Datenbank!$BG15,HLOOKUP(Datenbank!$BG15,Datenbank!$B$50:$Y$64,4),IF(Datenbank!$Y$71>=Datenbank!$BG15,HLOOKUP(Datenbank!$BG15,Datenbank!$B$70:$Y$84,4),IF(Datenbank!$Y$91>=Datenbank!$BG15,HLOOKUP(Datenbank!$BG15,Datenbank!$B$90:$Y$104,4),IF(Datenbank!$Y$111>=Datenbank!$BG15,HLOOKUP(Datenbank!$BG15,Datenbank!$B$110:$Y$124,4),\"\")))))))","v":""},{"$f":"IF(Datenbank!$Y$1=0,\"\",IF(Datenbank!$Y$11>=Datenbank!$BG15,HLOOKUP(Datenbank!$BG15,Datenbank!$B$10:$Y$24,14),IF(Datenbank!$Y$31>=Datenbank!$BG15,HLOOKUP(Datenbank!$BG15,Datenbank!$B$30:$Y$44,14),IF(Datenbank!$Y$51>=Datenbank!$BG15,HLOOKUP(Datenbank!$BG15,Datenbank!$B$50:$Y$64,14),IF(Datenbank!$Y$71>=Datenbank!$BG15,HLOOKUP(Datenbank!$BG15,Datenbank!$B$70:$Y$84,14),IF(Datenbank!$Y$91>=Datenbank!$BG15,HLOOKUP(Datenbank!$BG15,Datenbank!$B$90:$Y$104,14),IF(Datenbank!$Y$111>=Datenbank!$BG15,HLOOKUP(Datenbank!$BG15,Datenbank!$B$110:$Y$124,14),\"\")))))))","v":""},{"$f":"IF(Datenbank!$Y$1=0,\"\",IF(Datenbank!$Y$11>=Datenbank!$BG15,HLOOKUP(Datenbank!$BG15,Datenbank!$B$10:$Y$24,9),IF(Datenbank!$Y$31>=Datenbank!$BG15,HLOOKUP(Datenbank!$BG15,Datenbank!$B$30:$Y$44,9),IF(Datenbank!$Y$51>=Datenbank!$BG15,HLOOKUP(Datenbank!$BG15,Datenbank!$B$50:$Y$64,9),IF(Datenbank!$Y$71>=Datenbank!$BG15,HLOOKUP(Datenbank!$BG15,Datenbank!$B$70:$Y$84,9),IF(Datenbank!$Y$91>=Datenbank!$BG15,HLOOKUP(Datenbank!$BG15,Datenbank!$B$90:$Y$104,9),IF(Datenbank!$Y$111>=Datenbank!$BG15,HLOOKUP(Datenbank!$BG15,Datenbank!$B$110:$Y$124,9),\"\")))))))","v":""},{"$f":"IF(Datenbank!$Y$1=0,\"\",IF(Datenbank!$Y$11>=Datenbank!$BG15,HLOOKUP(Datenbank!$BG15,Datenbank!$B$10:$Y$24,10),IF(Datenbank!$Y$31>=Datenbank!$BG15,HLOOKUP(Datenbank!$BG15,Datenbank!$B$30:$Y$44,10),IF(Datenbank!$Y$51>=Datenbank!$BG15,HLOOKUP(Datenbank!$BG15,Datenbank!$B$50:$Y$64,10),IF(Datenbank!$Y$71>=Datenbank!$BG15,HLOOKUP(Datenbank!$BG15,Datenbank!$B$70:$Y$84,10),IF(Datenbank!$Y$91>=Datenbank!$BG15,HLOOKUP(Datenbank!$BG15,Datenbank!$B$90:$Y$104,10),IF(Datenbank!$Y$111>=Datenbank!$BG15,HLOOKUP(Datenbank!$BG15,Datenbank!$B$110:$Y$124,10),\"\")))))))","v":""},{"$f":"IF(Datenbank!$Y$1=0,\"\",IF(Datenbank!$Y$11>=Datenbank!$BG15,HLOOKUP(Datenbank!$BG15,Datenbank!$B$10:$Y$24,11),IF(Datenbank!$Y$31>=Datenbank!$BG15,HLOOKUP(Datenbank!$BG15,Datenbank!$B$30:$Y$44,11),IF(Datenbank!$Y$51>=Datenbank!$BG15,HLOOKUP(Datenbank!$BG15,Datenbank!$B$50:$Y$64,11),IF(Datenbank!$Y$71>=Datenbank!$BG15,HLOOKUP(Datenbank!$BG15,Datenbank!$B$70:$Y$84,11),IF(Datenbank!$Y$91>=Datenbank!$BG15,HLOOKUP(Datenbank!$BG15,Datenbank!$B$90:$Y$104,11),IF(Datenbank!$Y$111>=Datenbank!$BG15,HLOOKUP(Datenbank!$BG15,Datenbank!$B$110:$Y$124,11),\"\")))))))","v":""},{"$f":"IF(Datenbank!$Y$1=0,\"\",IF(Datenbank!$Y$11>=Datenbank!$BG15,HLOOKUP(Datenbank!$BG15,Datenbank!$B$10:$Y$24,12),IF(Datenbank!$Y$31>=Datenbank!$BG15,HLOOKUP(Datenbank!$BG15,Datenbank!$B$30:$Y$44,12),IF(Datenbank!$Y$51>=Datenbank!$BG15,HLOOKUP(Datenbank!$BG15,Datenbank!$B$50:$Y$64,12),IF(Datenbank!$Y$71>=Datenbank!$BG15,HLOOKUP(Datenbank!$BG15,Datenbank!$B$70:$Y$84,12),IF(Datenbank!$Y$91>=Datenbank!$BG15,HLOOKUP(Datenbank!$BG15,Datenbank!$B$90:$Y$104,12),IF(Datenbank!$Y$111>=Datenbank!$BG15,HLOOKUP(Datenbank!$BG15,Datenbank!$B$110:$Y$124,12),\"\")))))))","v":""},""]
[null,null,null,null,null,null,null,{"$f":"IF(Datenbank!$Y$1=0,\"\",IF(Datenbank!$Y$11>=Datenbank!$BG16,HLOOKUP(Datenbank!$BG16,Datenbank!$B$10:$Y$24,6),IF(Datenbank!$Y$31>=Datenbank!$BG16,HLOOKUP(Datenbank!$BG16,Datenbank!$B$30:$Y$44,6),IF(Datenbank!$Y$51>=Datenbank!$BG16,HLOOKUP(Datenbank!$BG16,Datenbank!$B$50:$Y$64,6),IF(Datenbank!$Y$71>=Datenbank!$BG16,HLOOKUP(Datenbank!$BG16,Datenbank!$B$70:$Y$84,6),IF(Datenbank!$Y$91>=Datenbank!$BG16,HLOOKUP(Datenbank!$BG16,Datenbank!$B$90:$Y$104,6),IF(Datenbank!$Y$111>=Datenbank!$BG16,HLOOKUP(Datenbank!$BG16,Datenbank!$B$110:$Y$124,6),\"\")))))))","v":""},{"$f":"IF($H24=\"\",\"\",VLOOKUP($H24,'AFM-Artikel'!$A$2:$D$1763,2))","v":""},null,null,null,null,null,{"$f":"IF(Datenbank!$Y$1=0,\"\",IF(Datenbank!$Y$11>=Datenbank!$BG16,HLOOKUP(Datenbank!$BG16,Datenbank!$B$10:$Y$24,15),IF(Datenbank!$Y$31>=Datenbank!$BG16,HLOOKUP(Datenbank!$BG16,Datenbank!$B$30:$Y$44,15),IF(Datenbank!$Y$51>=Datenbank!$BG16,HLOOKUP(Datenbank!$BG16,Datenbank!$B$50:$Y$64,15),IF(Datenbank!$Y$71>=Datenbank!$BG16,HLOOKUP(Datenbank!$BG16,Datenbank!$B$70:$Y$84,15),IF(Datenbank!$Y$91>=Datenbank!$BG16,HLOOKUP(Datenbank!$BG16,Datenbank!$B$90:$Y$104,15),IF(Datenbank!$Y$111>=Datenbank!$BG16,HLOOKUP(Datenbank!$BG16,Datenbank!$B$110:$Y$124,15),\"\")))))))","v":""},{"$f":"IF(Datenbank!$Y$1=0,\"\",IF(Datenbank!$Y$11>=Datenbank!$BG16,HLOOKUP(Datenbank!$BG16,Datenbank!$B$10:$Y$24,8),IF(Datenbank!$Y$31>=Datenbank!$BG16,HLOOKUP(Datenbank!$BG16,Datenbank!$B$30:$Y$44,8),IF(Datenbank!$Y$51>=Datenbank!$BG16,HLOOKUP(Datenbank!$BG16,Datenbank!$B$50:$Y$64,8),IF(Datenbank!$Y$71>=Datenbank!$BG16,HLOOKUP(Datenbank!$BG16,Datenbank!$B$70:$Y$84,8),IF(Datenbank!$Y$91>=Datenbank!$BG16,HLOOKUP(Datenbank!$BG16,Datenbank!$B$90:$Y$104,8),IF(Datenbank!$Y$111>=Datenbank!$BG16,HLOOKUP(Datenbank!$BG16,Datenbank!$B$110:$Y$124,8),\"\")))))))","v":""},null,{"$f":"IF(Datenbank!$Y$1=0,\"\",IF(Datenbank!$Y$11>=Datenbank!$BG16,HLOOKUP(Datenbank!$BG16,Datenbank!$B$10:$Y$24,4),IF(Datenbank!$Y$31>=Datenbank!$BG16,HLOOKUP(Datenbank!$BG16,Datenbank!$B$30:$Y$44,4),IF(Datenbank!$Y$51>=Datenbank!$BG16,HLOOKUP(Datenbank!$BG16,Datenbank!$B$50:$Y$64,4),IF(Datenbank!$Y$71>=Datenbank!$BG16,HLOOKUP(Datenbank!$BG16,Datenbank!$B$70:$Y$84,4),IF(Datenbank!$Y$91>=Datenbank!$BG16,HLOOKUP(Datenbank!$BG16,Datenbank!$B$90:$Y$104,4),IF(Datenbank!$Y$111>=Datenbank!$BG16,HLOOKUP(Datenbank!$BG16,Datenbank!$B$110:$Y$124,4),\"\")))))))","v":""},{"$f":"IF(Datenbank!$Y$1=0,\"\",IF(Datenbank!$Y$11>=Datenbank!$BG16,HLOOKUP(Datenbank!$BG16,Datenbank!$B$10:$Y$24,14),IF(Datenbank!$Y$31>=Datenbank!$BG16,HLOOKUP(Datenbank!$BG16,Datenbank!$B$30:$Y$44,14),IF(Datenbank!$Y$51>=Datenbank!$BG16,HLOOKUP(Datenbank!$BG16,Datenbank!$B$50:$Y$64,14),IF(Datenbank!$Y$71>=Datenbank!$BG16,HLOOKUP(Datenbank!$BG16,Datenbank!$B$70:$Y$84,14),IF(Datenbank!$Y$91>=Datenbank!$BG16,HLOOKUP(Datenbank!$BG16,Datenbank!$B$90:$Y$104,14),IF(Datenbank!$Y$111>=Datenbank!$BG16,HLOOKUP(Datenbank!$BG16,Datenbank!$B$110:$Y$124,14),\"\")))))))","v":""},{"$f":"IF(Datenbank!$Y$1=0,\"\",IF(Datenbank!$Y$11>=Datenbank!$BG16,HLOOKUP(Datenbank!$BG16,Datenbank!$B$10:$Y$24,9),IF(Datenbank!$Y$31>=Datenbank!$BG16,HLOOKUP(Datenbank!$BG16,Datenbank!$B$30:$Y$44,9),IF(Datenbank!$Y$51>=Datenbank!$BG16,HLOOKUP(Datenbank!$BG16,Datenbank!$B$50:$Y$64,9),IF(Datenbank!$Y$71>=Datenbank!$BG16,HLOOKUP(Datenbank!$BG16,Datenbank!$B$70:$Y$84,9),IF(Datenbank!$Y$91>=Datenbank!$BG16,HLOOKUP(Datenbank!$BG16,Datenbank!$B$90:$Y$104,9),IF(Datenbank!$Y$111>=Datenbank!$BG16,HLOOKUP(Datenbank!$BG16,Datenbank!$B$110:$Y$124,9),\"\")))))))","v":""},{"$f":"IF(Datenbank!$Y$1=0,\"\",IF(Datenbank!$Y$11>=Datenbank!$BG16,HLOOKUP(Datenbank!$BG16,Datenbank!$B$10:$Y$24,10),IF(Datenbank!$Y$31>=Datenbank!$BG16,HLOOKUP(Datenbank!$BG16,Datenbank!$B$30:$Y$44,10),IF(Datenbank!$Y$51>=Datenbank!$BG16,HLOOKUP(Datenbank!$BG16,Datenbank!$B$50:$Y$64,10),IF(Datenbank!$Y$71>=Datenbank!$BG16,HLOOKUP(Datenbank!$BG16,Datenbank!$B$70:$Y$84,10),IF(Datenbank!$Y$91>=Datenbank!$BG16,HLOOKUP(Datenbank!$BG16,Datenbank!$B$90:$Y$104,10),IF(Datenbank!$Y$111>=Datenbank!$BG16,HLOOKUP(Datenbank!$BG16,Datenbank!$B$110:$Y$124,10),\"\")))))))","v":""},{"$f":"IF(Datenbank!$Y$1=0,\"\",IF(Datenbank!$Y$11>=Datenbank!$BG16,HLOOKUP(Datenbank!$BG16,Datenbank!$B$10:$Y$24,11),IF(Datenbank!$Y$31>=Datenbank!$BG16,HLOOKUP(Datenbank!$BG16,Datenbank!$B$30:$Y$44,11),IF(Datenbank!$Y$51>=Datenbank!$BG16,HLOOKUP(Datenbank!$BG16,Datenbank!$B$50:$Y$64,11),IF(Datenbank!$Y$71>=Datenbank!$BG16,HLOOKUP(Datenbank!$BG16,Datenbank!$B$70:$Y$84,11),IF(Datenbank!$Y$91>=Datenbank!$BG16,HLOOKUP(Datenbank!$BG16,Datenbank!$B$90:$Y$104,11),IF(Datenbank!$Y$111>=Datenbank!$BG16,HLOOKUP(Datenbank!$BG16,Datenbank!$B$110:$Y$124,11),\"\")))))))","v":""},{"$f":"IF(Datenbank!$Y$1=0,\"\",IF(Datenbank!$Y$11>=Datenbank!$BG16,HLOOKUP(Datenbank!$BG16,Datenbank!$B$10:$Y$24,12),IF(Datenbank!$Y$31>=Datenbank!$BG16,HLOOKUP(Datenbank!$BG16,Datenbank!$B$30:$Y$44,12),IF(Datenbank!$Y$51>=Datenbank!$BG16,HLOOKUP(Datenbank!$BG16,Datenbank!$B$50:$Y$64,12),IF(Datenbank!$Y$71>=Datenbank!$BG16,HLOOKUP(Datenbank!$BG16,Datenbank!$B$70:$Y$84,12),IF(Datenbank!$Y$91>=Datenbank!$BG16,HLOOKUP(Datenbank!$BG16,Datenbank!$B$90:$Y$104,12),IF(Datenbank!$Y$111>=Datenbank!$BG16,HLOOKUP(Datenbank!$BG16,Datenbank!$B$110:$Y$124,12),\"\")))))))","v":""},""]
[null,null,null,null,null,null,null,{"$f":"IF(Datenbank!$Y$1=0,\"\",IF(Datenbank!$Y$11>=Datenbank!$BG17,HLOOKUP(Datenbank!$BG17,Datenbank!$B$10:$Y$24,6),IF(Datenbank!$Y$31>=Datenbank!$BG17,HLOOKUP(Datenbank!$BG17,Datenbank!$B$30:$Y$44,6),IF(Datenbank!$Y$51>=Datenbank!$BG17,HLOOKUP(Datenbank!$BG17,Datenbank!$B$50:$Y$64,6),IF(Datenbank!$Y$71>=Datenbank!$BG17,HLOOKUP(Datenbank!$BG17,Datenbank!$B$70:$Y$84,6),IF(Datenbank!$Y$91>=Datenbank!$BG17,HLOOKUP(Datenbank!$BG17,Datenbank!$B$90:$Y$104,6),IF(Datenbank!$Y$111>=Datenbank!$BG17,HLOOKUP(Datenbank!$BG17,Datenbank!$B$110:$Y$124,6),\"\")))))))","v":""},{"$f":"IF($H25=\"\",\"\",VLOOKUP($H25,'AFM-Artikel'!$A$2:$D$1763,2))","v":""},null,null,null,null,null,{"$f":"IF(Datenbank!$Y$1=0,\"\",IF(Datenbank!$Y$11>=Datenbank!$BG17,HLOOKUP(Datenbank!$BG17,Datenbank!$B$10:$Y$24,15),IF(Datenbank!$Y$31>=Datenbank!$BG17,HLOOKUP(Datenbank!$BG17,Datenbank!$B$30:$Y$44,15),IF(Datenbank!$Y$51>=Datenbank!$BG17,HLOOKUP(Datenbank!$BG17,Datenbank!$B$50:$Y$64,15),IF(Datenbank!$Y$71>=Datenbank!$BG17,HLOOKUP(Datenbank!$BG17,Datenbank!$B$70:$Y$84,15),IF(Datenbank!$Y$91>=Datenbank!$BG17,HLOOKUP(Datenbank!$BG17,Datenbank!$B$90:$Y$104,15),IF(Datenbank!$Y$111>=Datenbank!$BG17,HLOOKUP(Datenbank!$BG17,Datenbank!$B$110:$Y$124,15),\"\")))))))","v":""},{"$f":"IF(Datenbank!$Y$1=0,\"\",IF(Datenbank!$Y$11>=Datenbank!$BG17,HLOOKUP(Datenbank!$BG17,Datenbank!$B$10:$Y$24,8),IF(Datenbank!$Y$31>=Datenbank!$BG17,HLOOKUP(Datenbank!$BG17,Datenbank!$B$30:$Y$44,8),IF(Datenbank!$Y$51>=Datenbank!$BG17,HLOOKUP(Datenbank!$BG17,Datenbank!$B$50:$Y$64,8),IF(Datenbank!$Y$71>=Datenbank!$BG17,HLOOKUP(Datenbank!$BG17,Datenbank!$B$70:$Y$84,8),IF(Datenbank!$Y$91>=Datenbank!$BG17,HLOOKUP(Datenbank!$BG17,Datenbank!$B$90:$Y$104,8),IF(Datenbank!$Y$111>=Datenbank!$BG17,HLOOKUP(Datenbank!$BG17,Datenbank!$B$110:$Y$124,8),\"\")))))))","v":""},null,{"$f":"IF(Datenbank!$Y$1=0,\"\",IF(Datenbank!$Y$11>=Datenbank!$BG17,HLOOKUP(Datenbank!$BG17,Datenbank!$B$10:$Y$24,4),IF(Datenbank!$Y$31>=Datenbank!$BG17,HLOOKUP(Datenbank!$BG17,Datenbank!$B$30:$Y$44,4),IF(Datenbank!$Y$51>=Datenbank!$BG17,HLOOKUP(Datenbank!$BG17,Datenbank!$B$50:$Y$64,4),IF(Datenbank!$Y$71>=Datenbank!$BG17,HLOOKUP(Datenbank!$BG17,Datenbank!$B$70:$Y$84,4),IF(Datenbank!$Y$91>=Datenbank!$BG17,HLOOKUP(Datenbank!$BG17,Datenbank!$B$90:$Y$104,4),IF(Datenbank!$Y$111>=Datenbank!$BG17,HLOOKUP(Datenbank!$BG17,Datenbank!$B$110:$Y$124,4),\"\")))))))","v":""},{"$f":"IF(Datenbank!$Y$1=0,\"\",IF(Datenbank!$Y$11>=Datenbank!$BG17,HLOOKUP(Datenbank!$BG17,Datenbank!$B$10:$Y$24,14),IF(Datenbank!$Y$31>=Datenbank!$BG17,HLOOKUP(Datenbank!$BG17,Datenbank!$B$30:$Y$44,14),IF(Datenbank!$Y$51>=Datenbank!$BG17,HLOOKUP(Datenbank!$BG17,Datenbank!$B$50:$Y$64,14),IF(Datenbank!$Y$71>=Datenbank!$BG17,HLOOKUP(Datenbank!$BG17,Datenbank!$B$70:$Y$84,14),IF(Datenbank!$Y$91>=Datenbank!$BG17,HLOOKUP(Datenbank!$BG17,Datenbank!$B$90:$Y$104,14),IF(Datenbank!$Y$111>=Datenbank!$BG17,HLOOKUP(Datenbank!$BG17,Datenbank!$B$110:$Y$124,14),\"\")))))))","v":""},{"$f":"IF(Datenbank!$Y$1=0,\"\",IF(Datenbank!$Y$11>=Datenbank!$BG17,HLOOKUP(Datenbank!$BG17,Datenbank!$B$10:$Y$24,9),IF(Datenbank!$Y$31>=Datenbank!$BG17,HLOOKUP(Datenbank!$BG17,Datenbank!$B$30:$Y$44,9),IF(Datenbank!$Y$51>=Datenbank!$BG17,HLOOKUP(Datenbank!$BG17,Datenbank!$B$50:$Y$64,9),IF(Datenbank!$Y$71>=Datenbank!$BG17,HLOOKUP(Datenbank!$BG17,Datenbank!$B$70:$Y$84,9),IF(Datenbank!$Y$91>=Datenbank!$BG17,HLOOKUP(Datenbank!$BG17,Datenbank!$B$90:$Y$104,9),IF(Datenbank!$Y$111>=Datenbank!$BG17,HLOOKUP(Datenbank!$BG17,Datenbank!$B$110:$Y$124,9),\"\")))))))","v":""},{"$f":"IF(Datenbank!$Y$1=0,\"\",IF(Datenbank!$Y$11>=Datenbank!$BG17,HLOOKUP(Datenbank!$BG17,Datenbank!$B$10:$Y$24,10),IF(Datenbank!$Y$31>=Datenbank!$BG17,HLOOKUP(Datenbank!$BG17,Datenbank!$B$30:$Y$44,10),IF(Datenbank!$Y$51>=Datenbank!$BG17,HLOOKUP(Datenbank!$BG17,Datenbank!$B$50:$Y$64,10),IF(Datenbank!$Y$71>=Datenbank!$BG17,HLOOKUP(Datenbank!$BG17,Datenbank!$B$70:$Y$84,10),IF(Datenbank!$Y$91>=Datenbank!$BG17,HLOOKUP(Datenbank!$BG17,Datenbank!$B$90:$Y$104,10),IF(Datenbank!$Y$111>=Datenbank!$BG17,HLOOKUP(Datenbank!$BG17,Datenbank!$B$110:$Y$124,10),\"\")))))))","v":""},{"$f":"IF(Datenbank!$Y$1=0,\"\",IF(Datenbank!$Y$11>=Datenbank!$BG17,HLOOKUP(Datenbank!$BG17,Datenbank!$B$10:$Y$24,11),IF(Datenbank!$Y$31>=Datenbank!$BG17,HLOOKUP(Datenbank!$BG17,Datenbank!$B$30:$Y$44,11),IF(Datenbank!$Y$51>=Datenbank!$BG17,HLOOKUP(Datenbank!$BG17,Datenbank!$B$50:$Y$64,11),IF(Datenbank!$Y$71>=Datenbank!$BG17,HLOOKUP(Datenbank!$BG17,Datenbank!$B$70:$Y$84,11),IF(Datenbank!$Y$91>=Datenbank!$BG17,HLOOKUP(Datenbank!$BG17,Datenbank!$B$90:$Y$104,11),IF(Datenbank!$Y$111>=Datenbank!$BG17,HLOOKUP(Datenbank!$BG17,Datenbank!$B$110:$Y$124,11),\"\")))))))","v":""},{"$f":"IF(Datenbank!$Y$1=0,\"\",IF(Datenbank!$Y$11>=Datenbank!$BG17,HLOOKUP(Datenbank!$BG17,Datenbank!$B$10:$Y$24,12),IF(Datenbank!$Y$31>=Datenbank!$BG17,HLOOKUP(Datenbank!$BG17,Datenbank!$B$30:$Y$44,12),IF(Datenbank!$Y$51>=Datenbank!$BG17,HLOOKUP(Datenbank!$BG17,Datenbank!$B$50:$Y$64,12),IF(Datenbank!$Y$71>=Datenbank!$BG17,HLOOKUP(Datenbank!$BG17,Datenbank!$B$70:$Y$84,12),IF(Datenbank!$Y$91>=Datenbank!$BG17,HLOOKUP(Datenbank!$BG17,Datenbank!$B$90:$Y$104,12),IF(Datenbank!$Y$111>=Datenbank!$BG17,HLOOKUP(Datenbank!$BG17,Datenbank!$B$110:$Y$124,12),\"\")))))))","v":""},""]
[null,null,null,null,null,null,null,{"$f":"IF(Datenbank!$Y$1=0,\"\",IF(Datenbank!$Y$11>=Datenbank!$BG18,HLOOKUP(Datenbank!$BG18,Datenbank!$B$10:$Y$24,6),IF(Datenbank!$Y$31>=Datenbank!$BG18,HLOOKUP(Datenbank!$BG18,Datenbank!$B$30:$Y$44,6),IF(Datenbank!$Y$51>=Datenbank!$BG18,HLOOKUP(Datenbank!$BG18,Datenbank!$B$50:$Y$64,6),IF(Datenbank!$Y$71>=Datenbank!$BG18,HLOOKUP(Datenbank!$BG18,Datenbank!$B$70:$Y$84,6),IF(Datenbank!$Y$91>=Datenbank!$BG18,HLOOKUP(Datenbank!$BG18,Datenbank!$B$90:$Y$104,6),IF(Datenbank!$Y$111>=Datenbank!$BG18,HLOOKUP(Datenbank!$BG18,Datenbank!$B$110:$Y$124,6),\"\")))))))","v":""},{"$f":"IF($H26=\"\",\"\",VLOOKUP($H26,'AFM-Artikel'!$A$2:$D$1763,2))","v":""},null,null,null,null,null,{"$f":"IF(Datenbank!$Y$1=0,\"\",IF(Datenbank!$Y$11>=Datenbank!$BG18,HLOOKUP(Datenbank!$BG18,Datenbank!$B$10:$Y$24,15),IF(Datenbank!$Y$31>=Datenbank!$BG18,HLOOKUP(Datenbank!$BG18,Datenbank!$B$30:$Y$44,15),IF(Datenbank!$Y$51>=Datenbank!$BG18,HLOOKUP(Datenbank!$BG18,Datenbank!$B$50:$Y$64,15),IF(Datenbank!$Y$71>=Datenbank!$BG18,HLOOKUP(Datenbank!$BG18,Datenbank!$B$70:$Y$84,15),IF(Datenbank!$Y$91>=Datenbank!$BG18,HLOOKUP(Datenbank!$BG18,Datenbank!$B$90:$Y$104,15),IF(Datenbank!$Y$111>=Datenbank!$BG18,HLOOKUP(Datenbank!$BG18,Datenbank!$B$110:$Y$124,15),\"\")))))))","v":""},{"$f":"IF(Datenbank!$Y$1=0,\"\",IF(Datenbank!$Y$11>=Datenbank!$BG18,HLOOKUP(Datenbank!$BG18,Datenbank!$B$10:$Y$24,8),IF(Datenbank!$Y$31>=Datenbank!$BG18,HLOOKUP(Datenbank!$BG18,Datenbank!$B$30:$Y$44,8),IF(Datenbank!$Y$51>=Datenbank!$BG18,HLOOKUP(Datenbank!$BG18,Datenbank!$B$50:$Y$64,8),IF(Datenbank!$Y$71>=Datenbank!$BG18,HLOOKUP(Datenbank!$BG18,Datenbank!$B$70:$Y$84,8),IF(Datenbank!$Y$91>=Datenbank!$BG18,HLOOKUP(Datenbank!$BG18,Datenbank!$B$90:$Y$104,8),IF(Datenbank!$Y$111>=Datenbank!$BG18,HLOOKUP(Datenbank!$BG18,Datenbank!$B$110:$Y$124,8),\"\")))))))","v":""},null,{"$f":"IF(Datenbank!$Y$1=0,\"\",IF(Datenbank!$Y$11>=Datenbank!$BG18,HLOOKUP(Datenbank!$BG18,Datenbank!$B$10:$Y$24,4),IF(Datenbank!$Y$31>=Datenbank!$BG18,HLOOKUP(Datenbank!$BG18,Datenbank!$B$30:$Y$44,4),IF(Datenbank!$Y$51>=Datenbank!$BG18,HLOOKUP(Datenbank!$BG18,Datenbank!$B$50:$Y$64,4),IF(Datenbank!$Y$71>=Datenbank!$BG18,HLOOKUP(Datenbank!$BG18,Datenbank!$B$70:$Y$84,4),IF(Datenbank!$Y$91>=Datenbank!$BG18,HLOOKUP(Datenbank!$BG18,Datenbank!$B$90:$Y$104,4),IF(Datenbank!$Y$111>=Datenbank!$BG18,HLOOKUP(Datenbank!$BG18,Datenbank!$B$110:$Y$124,4),\"\")))))))","v":""},{"$f":"IF(Datenbank!$Y$1=0,\"\",IF(Datenbank!$Y$11>=Datenbank!$BG18,HLOOKUP(Datenbank!$BG18,Datenbank!$B$10:$Y$24,14),IF(Datenbank!$Y$31>=Datenbank!$BG18,HLOOKUP(Datenbank!$BG18,Datenbank!$B$30:$Y$44,14),IF(Datenbank!$Y$51>=Datenbank!$BG18,HLOOKUP(Datenbank!$BG18,Datenbank!$B$50:$Y$64,14),IF(Datenbank!$Y$71>=Datenbank!$BG18,HLOOKUP(Datenbank!$BG18,Datenbank!$B$70:$Y$84,14),IF(Datenbank!$Y$91>=Datenbank!$BG18,HLOOKUP(Datenbank!$BG18,Datenbank!$B$90:$Y$104,14),IF(Datenbank!$Y$111>=Datenbank!$BG18,HLOOKUP(Datenbank!$BG18,Datenbank!$B$110:$Y$124,14),\"\")))))))","v":""},{"$f":"IF(Datenbank!$Y$1=0,\"\",IF(Datenbank!$Y$11>=Datenbank!$BG18,HLOOKUP(Datenbank!$BG18,Datenbank!$B$10:$Y$24,9),IF(Datenbank!$Y$31>=Datenbank!$BG18,HLOOKUP(Datenbank!$BG18,Datenbank!$B$30:$Y$44,9),IF(Datenbank!$Y$51>=Datenbank!$BG18,HLOOKUP(Datenbank!$BG18,Datenbank!$B$50:$Y$64,9),IF(Datenbank!$Y$71>=Datenbank!$BG18,HLOOKUP(Datenbank!$BG18,Datenbank!$B$70:$Y$84,9),IF(Datenbank!$Y$91>=Datenbank!$BG18,HLOOKUP(Datenbank!$BG18,Datenbank!$B$90:$Y$104,9),IF(Datenbank!$Y$111>=Datenbank!$BG18,HLOOKUP(Datenbank!$BG18,Datenbank!$B$110:$Y$124,9),\"\")))))))","v":""},{"$f":"IF(Datenbank!$Y$1=0,\"\",IF(Datenbank!$Y$11>=Datenbank!$BG18,HLOOKUP(Datenbank!$BG18,Datenbank!$B$10:$Y$24,10),IF(Datenbank!$Y$31>=Datenbank!$BG18,HLOOKUP(Datenbank!$BG18,Datenbank!$B$30:$Y$44,10),IF(Datenbank!$Y$51>=Datenbank!$BG18,HLOOKUP(Datenbank!$BG18,Datenbank!$B$50:$Y$64,10),IF(Datenbank!$Y$71>=Datenbank!$BG18,HLOOKUP(Datenbank!$BG18,Datenbank!$B$70:$Y$84,10),IF(Datenbank!$Y$91>=Datenbank!$BG18,HLOOKUP(Datenbank!$BG18,Datenbank!$B$90:$Y$104,10),IF(Datenbank!$Y$111>=Datenbank!$BG18,HLOOKUP(Datenbank!$BG18,Datenbank!$B$110:$Y$124,10),\"\")))))))","v":""},{"$f":"IF(Datenbank!$Y$1=0,\"\",IF(Datenbank!$Y$11>=Datenbank!$BG18,HLOOKUP(Datenbank!$BG18,Datenbank!$B$10:$Y$24,11),IF(Datenbank!$Y$31>=Datenbank!$BG18,HLOOKUP(Datenbank!$BG18,Datenbank!$B$30:$Y$44,11),IF(Datenbank!$Y$51>=Datenbank!$BG18,HLOOKUP(Datenbank!$BG18,Datenbank!$B$50:$Y$64,11),IF(Datenbank!$Y$71>=Datenbank!$BG18,HLOOKUP(Datenbank!$BG18,Datenbank!$B$70:$Y$84,11),IF(Datenbank!$Y$91>=Datenbank!$BG18,HLOOKUP(Datenbank!$BG18,Datenbank!$B$90:$Y$104,11),IF(Datenbank!$Y$111>=Datenbank!$BG18,HLOOKUP(Datenbank!$BG18,Datenbank!$B$110:$Y$124,11),\"\")))))))","v":""},{"$f":"IF(Datenbank!$Y$1=0,\"\",IF(Datenbank!$Y$11>=Datenbank!$BG18,HLOOKUP(Datenbank!$BG18,Datenbank!$B$10:$Y$24,12),IF(Datenbank!$Y$31>=Datenbank!$BG18,HLOOKUP(Datenbank!$BG18,Datenbank!$B$30:$Y$44,12),IF(Datenbank!$Y$51>=Datenbank!$BG18,HLOOKUP(Datenbank!$BG18,Datenbank!$B$50:$Y$64,12),IF(Datenbank!$Y$71>=Datenbank!$BG18,HLOOKUP(Datenbank!$BG18,Datenbank!$B$70:$Y$84,12),IF(Datenbank!$Y$91>=Datenbank!$BG18,HLOOKUP(Datenbank!$BG18,Datenbank!$B$90:$Y$104,12),IF(Datenbank!$Y$111>=Datenbank!$BG18,HLOOKUP(Datenbank!$BG18,Datenbank!$B$110:$Y$124,12),\"\")))))))","v":""},""]
[null,null,null," MAX  TE",null,{"$f":"F12","v":0},null,"Freie TE",null,{"$f":"IF(SUM($F$27-$O$27)<=0,0,SUM($F$27-$O$27))","v":0},{"$f":"(SUM($F$27-$O$27))","v":0},null," Summe TE  ",null,{"$f":"SUM(O11:O26)","v":0},"Fehler!",null,null,null,"zzgl. MwSt.",null,"Summe: ",null,{"$f":"SUM(X3:Y26)","v":0}]
[null,null,null,null,null,null,null,null,null,null,null,null,null,null,null,null,null,null,null,{"$f":"IF($B$9=\"Liste\",\"\",$A$9)","v":"Kundenrabatt: "},null,null,{"$f":"IF($B$9=0,\"\",$B$9/100)","v":""},{"$f":"IF($B$9=0,\"\",(X27*W28)*-1)","v":""}]
[null,"Mit CRTL-D Modul duplizieren!",null,null,null,null,"     Bei gedrückter \"ALT-Taste\" richten sich die Module am Raster aus!",null,null,null,null,null,null,null,null,null,null,null,null,{"$f":"IF($B$9=\"Liste\",\"\",\"zzgl. MwSt.\")","v":"zzgl. MwSt."},null,{"$f":"IF($B$9=\"Liste\",\"\",\"Netto: \")","v":"Netto: "},null,{"$f":"IF($B$9=0,\"\",X27+X28)","v":""}]
["Texte"]
[]
["Teileinheiten ",null,null,null,null,null,null,"20TE","24TE","28TE",null,"36TE",null,"44TE","48TE",null,null,null,null,null,null,null,null,"84TE"]
["Beschriftung ",null,"VGA",null,"DVI",null,"HDMI","LAN","XLR","TON","Contr."]
["Anschlussfeld \nModule\nVorderseite"]
[]
[]
[]
[null,"VGA",null,"3,5Klinke-Bu",null," VGA/Audio",null,"DVI",null,null,null,"HDMI",null,null,null,null,null,"HDMI-AWG24",null,"DisplayPort"]
["Anschlussfeldmodulreihe - 1 ",{"$f":"B41","v":"VGA-Buchse"},null,{"$f":"D41","v":"3,5Kl.-Bu./Ster."},null,{"$f":"F41","v":"VGA-Bu./3,5Kl."},null,{"$f":"H41","v":"DVI-Buchse"},null,{"$f":"J41","v":"DVI-Bu/3,5Kl."},null,{"$f":"L41","v":"HDMI-Bu."},null,null,null,{"$f":"P41","v":"HDMI-Bu.360°"},null,{"$f":"R41","v":"HDMI-Bu.Platine"},null,{"$f":"T41","v":"DP-Bu."},null,{"$f":"V41","v":"DP-Bu."}]
["      Module \n2.  ins Anschlussfeld\n     verschieben"]
["Vorderseite-Modul  ",{"$f":"Datenbank!$A$200","v":"VGA-Buchse"},null,{"$f":"Datenbank!$A$220","v":"3,5Kl.-Bu./Ster."},null,{"$f":"Datenbank!$A$240","v":"VGA-Bu./3,5Kl."},null,{"$f":"Datenbank!$A$260","v":"DVI-Buchse"},null,{"$f":"Datenbank!$A$280","v":"DVI-Bu/3,5Kl."},null,{"$f":"Datenbank!$A$300","v":"HDMI-Bu."},"á",null,null,{"$f":"Datenbank!$A$340","v":"HDMI-Bu.360°"},null,{"$f":"Datenbank!$A$360","v":"HDMI-Bu.Platine"},null,{"$f":"Datenbank!$A$380","v":"DP-Bu."},null,{"$f":"Datenbank!$A$400","v":"DP-Bu."},"á"]
["3.  Rückseite-Modul auswählen","Auswählen!",null,"Auswählen!",null,"Auswählen!",null,"Auswählen!",null,"Auswählen!",null,"Auswählen!",null,"Auswählen!",null,"Auswählen!",null,"Auswählen!",null,"Auswählen!",null,"Auswählen!",null,"Auswählen!"]
["4.  Menge je Modul eintragen",null,200,null,220,null,240,null,260,null,280,null,300,null,320,null,340,null,360,null,380,null,400,null,420]
["5.  evtl. Gesamt-Kabellänge (m)",null,{"$f":"Datenbank!B$22","v":""},null,{"$f":"Datenbank!D$22","v":""},null,{"$f":"Datenbank!F$22","v":""},null,{"$f":"Datenbank!H$22","v":""},null,{"$f":"Datenbank!J$22","v":""},null,{"$f":"Datenbank!L$22","v":""},null,{"$f":"Datenbank!N$22","v":""},null,{"$f":"Datenbank!P$22","v":""},null,{"$f":"Datenbank!R$22","v":""},null,{"$f":"Datenbank!T$22","v":""},null,{"$f":"Datenbank!V$22","v":""},null,{"$f":"Datenbank!X$22","v":""}]
[]
[]
[]
[null,"XLR"]
["Anschlussfeldmodulreihe - 2 ","XLR 3pol-Bu.",null,"XLR 3pol-St.",null,"XLR4 pol-Bu.",null,"XLR 5pol-Bu.",null,"XLR 6pol-Bu.",null,"XLR USB-A/B",null,"XLR EtherCon",null,"XLR Eth.Cat.6",null,"XLR Eth.Cat.6A",null,"XLR 4p.-Speak.",null,"PowerCon-A",null,"PowerCon-B"]
["Module\nins Anschlussfeld\nverschieben"]
["Vorderseite-Modul  ",{"$f":"Datenbank!$A$440","v":"3pol-Bu."},null,{"$f":"Datenbank!$A$460","v":"3pol-St."},null,{"$f":"Datenbank!$A$480","v":"4pol-Bu."},null,{"$f":"Datenbank!$A$500","v":"5pol-Bu."},null,{"$f":"Datenbank!$A$520","v":"6pol-Bu."},null,{"$f":"Datenbank!$A$540","v":"XLR USB-Bu/Bu."},null,{"$f":"Datenbank!$A$560","v":"XLR - RJ45"},null,{"$f":"Datenbank!$A$580","v":"XLR - Cat.6"},null,{"$f":"Datenbank!$A$600","v":"XLR - Cat.6A"},null,{"$f":"Datenbank!$A$620","v":"4pol-Speakon"},null,{"$f":"Datenbank!$A$640","v":"PowerCon-A"},null,{"$f":"Datenbank!$A$660","v":"PowerCon-B"}]
["Rückseite-Modul auswählen ","Auswählen!",null,"Auswählen!",null,"Auswählen!",null,"Auswählen!",null,"Auswählen!",null,"Auswählen!",null,"Auswählen!",null,"Auswählen!",null,"Auswählen!",null,"Auswählen!",null,"Auswählen!",null,"Auswählen!"]
["Menge je Modul eintragen ",null,440,null,460,null,480,null,500,null,520,null,540,null,560,null,580,null,600,null,620,null,640,null,660]
["evtl. Gesamt-Kabellänge (m) ",null,{"$f":"Datenbank!B$42","v":""},null,{"$f":"Datenbank!D$42","v":""},null,{"$f":"Datenbank!F$42","v":""},null,{"$f":"Datenbank!H$42","v":""},null,{"$f":"Datenbank!J$42","v":""},null,{"$f":"Datenbank!L$42","v":""},null,{"$f":"Datenbank!N$42","v":""},null,{"$f":"Datenbank!P$42","v":""},null,{"$f":"Datenbank!R$42","v":""},null,{"$f":"Datenbank!T$42","v":""},null,{"$f":"Datenbank!V$42","v":""},null,{"$f":"Datenbank!X$42","v":""}]
[]
[]
[]
[null,"Cinch",null,null,null,null,null,null,null,null,null,null,null,null,null,"3,5Kl.- 4pol",null,"RJ45",null,"USB"]
["Anschlussfeldmodulreihe - 3 ","ge",null,"sw",null,"rt",null,"gn",null,"bl",null,"3xCinch",null,null,null,"3,5Kl. 4pol",null,"CAT6",null,"USB-A",null,"USB-B",null,"USB-Ladeteil"]
["Module\nins Anschlussfeld\nverschieben"]
["Vorderseite-Modul  ",{"$f":"Datenbank!$A$680","v":"Cinch-Bu.-ge"},null,{"$f":"Datenbank!$A$700","v":"Cinch-Bu.-sw"},null,{"$f":"Datenbank!$A$720","v":"Cinch-Bu.-rt"},null,{"$f":"Datenbank!$A$740","v":"Cinch-Bu.-gn"},null,{"$f":"Datenbank!$A$760","v":"Cinch-Bu.-bl"},null,{"$f":"Datenbank!$A$780","v":"3xCinch-Bu."},null,{"$f":"Datenbank!$A$800","v":"Frei 800"},null,{"$f":"Datenbank!$A$820","v":"3,5Kl. 4p.-Bu."},null,{"$f":"Datenbank!$A$840","v":"RJ45-Bu."},null,{"$f":"Datenbank!$A$860","v":"USB-A-Bu."},null,{"$f":"Datenbank!$A$880","v":"USB-B-Bu."},null,{"$f":"Datenbank!$A$900","v":"USB-A-Bu."}]
["Rückseite-Modul auswählen ","Auswählen!",null,"Auswählen!",null,"Auswählen!",null,"Auswählen!",null,"Auswählen!",null,"Auswählen!",null,"Auswählen!",null,"Auswählen!",null,"Auswählen!",null,"Auswählen!",null,"Auswählen!",null,"Auswählen!"]
["Menge je Modul eintragen ",null,680,null,700,null,720,null,740,null,760,null,780,null,800,null,820,null,840,null,860,null,880,null,900]
["evtl. Gesamt-Kabellänge (m) ",null,{"$f":"Datenbank!B$62","v":""},null,{"$f":"Datenbank!D$62","v":""},null,{"$f":"Datenbank!F$62","v":""},null,{"$f":"Datenbank!H$62","v":""},null,{"$f":"Datenbank!J$62","v":""},null,{"$f":"Datenbank!L$62","v":""},null,{"$f":"Datenbank!N$62","v":""},null,{"$f":"Datenbank!P$62","v":""},null,{"$f":"Datenbank!R$62","v":""},null,{"$f":"Datenbank!T$62","v":""},null,{"$f":"Datenbank!V$62","v":""},null,{"$f":"Datenbank!X$62","v":""}]
[]
[]
[]
[null,"BNC",null,null,null,null,null,null,null,null,null,null,null,null,null,null,null,"Sub-D",null,null,null,null,null,"Mini-Con"]
["Anschlussfeldmodulreihe - 4 ","rt",null,"gn",null,"bl",null,"sw",null,"ws",null,"ge",null,"5x BNC, RGBHV",null,null,null,"9pin-Bu.",null,"9pin-St.",null,"15pin-Bu.",null,"12pin-Mini-Con"]
["Module\nins Anschlussfeld\nverschieben"]
["Vorderseite-Modul  ",{"$f":"Datenbank!$A$920","v":"BNC-Bu.-rt"},null,{"$f":"Datenbank!$A$940","v":"BNC-Bu.-gn"},null,{"$f":"Datenbank!$A$960","v":"BNC-Bu.-bl"},null,{"$f":"Datenbank!$A$980","v":"BNC-Bu.-sw"},null,{"$f":"Datenbank!$A$1000","v":"BNC-Bu.-ws"},null,{"$f":"Datenbank!$A$1020","v":"BNC-Bu.-ge"},null,{"$f":"Datenbank!$A$1040","v":"5xBNC-Bu."},null,{"$f":"Datenbank!$A$1060","v":"Frei 1060"},null,{"$f":"Datenbank!$A$1080","v":"Sub-D-9pin-Bu."},null,{"$f":"Datenbank!$A$1100","v":"Sub-D-9pin-St."},null,{"$f":"Datenbank!$A$1120","v":"Sub-D-15pin-Bu."},null,{"$f":"Datenbank!$A$1140","v":"12p-MiniCon"}]
["Rückseite-Modul auswählen ","Auswählen!",null,"Auswählen!",null,"Auswählen!",null,"Auswählen!",null,"Auswählen!",null,"Auswählen!",null,"Auswählen!",null,"Auswählen!",null,"Auswählen!",null,"Auswählen!",null,"Auswählen!",null,"Auswählen!"]
["Menge je Modul eintragen ",null,920,null,940,null,960,null,980,null,1000,null,1020,null,1040,null,1060,null,1080,null,1100,null,1120,null,1140]
["evtl. Gesamt-Kabellänge (m) ",null,{"$f":"Datenbank!B$82","v":""},null,{"$f":"Datenbank!D$82","v":""},null,{"$f":"Datenbank!F$82","v":""},null,{"$f":"Datenbank!H$82","v":""},null,{"$f":"Datenbank!J$82","v":""},null,{"$f":"Datenbank!L$82","v":""},null,{"$f":"Datenbank!N$82","v":""},null,{"$f":"Datenbank!P$82","v":""},null,{"$f":"Datenbank!R$82","v":""},null,{"$f":"Datenbank!T$82","v":""},null,{"$f":"Datenbank!V$82","v":""},null,{"$f":"Datenbank!X$82","v":""}]
[]
[]
[]
[null,"Taster mit LED",null,null,null,"Schalter mit LED",null,null,null,"Taster ohne LED / mit LED / Beschriftung"]
["Anschlussfeldmodulreihe - 5 ","rt",null,"gn",null,"rt",null,"gn",null,"Chrom",null,"Edelstahl/bel.",null,"beleuchtet / beschriftbar"]
["Module\nins Anschlussfeld\nverschieben"]
["Vorderseite-Modul  ",{"$f":"Datenbank!$A$1160","v":"Taster rot"},null,{"$f":"Datenbank!$A$1180","v":"Taster grün"},null,{"$f":"Datenbank!$A$1200","v":"Schalter rot"},null,{"$f":"Datenbank!$A$1220","v":"Schalter grün"},null,{"$f":"Datenbank!$A$1240","v":"Taster Chrom"},null,{"$f":"Datenbank!$A$1260","v":"Taster Chr. LED"},null,{"$f":"Datenbank!$A$1280","v":"Taster 18x18"},null,{"$f":"Datenbank!$A$1300","v":"Taster 24x18"},null,{"$f":"Datenbank!$A$1320","v":"Frei 1320"},null,{"$f":"Datenbank!$A$1340","v":"Frei 1340"},null,{"$f":"Datenbank!$A$1360","v":"Frei 1360"},null,{"$f":"Datenbank!$A$1380","v":"Frei 1380"}]
["Rückseite-Modul auswählen ","Auswählen!",null,"Auswählen!",null,"Auswählen!",null,"Auswählen!",null,"Auswählen!",null,"Auswählen!",null,"Auswählen!",null,"Auswählen!",null,"Auswählen!",null,"Auswählen!",null,"Auswählen!",null,"Auswählen!"]
["Menge je Modul eintragen ",null,1160,null,1180,null,1200,null,1220,null,1240,null,1260,null,"Beschr.",null,"Beschr.",null,1320,null,1340,null,1360,null,1380]
["evtl. Gesamt-Kabellänge (m) ",null,{"$f":"Datenbank!B$102","v":""},null,{"$f":"Datenbank!D$102","v":""},null,{"$f":"Datenbank!F$102","v":""},null,{"$f":"Datenbank!H$102","v":""},null,{"$f":"Datenbank!J$102","v":""},null,{"$f":"Datenbank!L$102","v":""},null,"Ja",null,"Ja",null,{"$f":"Datenbank!R$102","v":""},null,{"$f":"Datenbank!T$102","v":""},null,{"$f":"Datenbank!V$102","v":""},null,{"$f":"Datenbank!X$102","v":""}]
[]
[]
[]
[null,null,null,null,null,"Durchführungen incl. Gummitüllen",null,null,null,null,null,null,null,"Blindblenden"]
["Anschlussfeldmodulreihe -  6 ",null,null,null,null,null,null,null,null,null,null,null,null,"4TE",null,"8TE",null,"12TE",null,null,null,"16TE"]
["Module\nins Anschlussfeld\nverschieben"]
["Vorderseite-Modul  ",{"$f":"Datenbank!$A1400","v":"Frei 1400"},null,{"$f":"Datenbank!$A1420","v":"Frei 1420"},null,{"$f":"Datenbank!$A1440","v":"Durchf. RU"},null,{"$f":"Datenbank!$A1460","v":"Durchf. LU/RO"},null,{"$f":"Datenbank!$A1480","v":"Durchf. LO/RU"},null,{"$f":"Datenbank!$A1500","v":"Durchf. LU"},null,{"$f":"Datenbank!$A1520","v":"Blindpl. 4TE"},null,{"$f":"Datenbank!$A1540","v":"Blindpl. 8TE"},null,{"$f":"Datenbank!$A1560","v":"Blindpl. 12TE"},null,{"$f":"Datenbank!$A1580","v":"Frei 1580"},null,{"$f":"Datenbank!$A1600","v":"Blindpl. 16TE"},null,{"$f":"Datenbank!$A1620","v":"Frei 1620"}]
["Rückseite-Modul auswählen ","Auswählen!",null,"Auswählen!",null,"Durchf. Ende Ru",null,"Durchf. Mitte Lu/Ro",null,"Durchf. Mitte Lo/Ru",null,"Durchf. Ende Lu",null,"Blindplatte  4TE",null,"Blindplatte  8TE",null,"Blindplatte 12TE",null,null,null,"Blindplatte 16TE"]
["Menge je Modul eintragen ",null,1400,null,1420,null,1440,null,1460,null,1480,null,1500,null,1520,null,1540,null,1560,null,1580,null,1600,null,1620]
["evtl. Gesamt-Kabellänge (m) ",null,{"$f":"Datenbank!B$122","v":""},null,{"$f":"Datenbank!D$122","v":""},null,{"$f":"Datenbank!F$122","v":"N"},null,{"$f":"Datenbank!H$122","v":"N"},null,{"$f":"Datenbank!J$122","v":"N"},null,{"$f":"Datenbank!L$122","v":"N"},null,{"$f":"Datenbank!N$122","v":"N"},null,{"$f":"Datenbank!P$122","v":"N"},null,{"$f":"Datenbank!R$122","v":"N"},null,{"$f":"Datenbank!T$122","v":""},null,{"$f":"Datenbank!V$122","v":"N"},null,{"$f":"Datenbank!X$122","v":""}]
[]
[]
[]
["Sonderausführungen ","VGA","(4TE)",null,null,"(8TE)",null,"Sub-D"," (4TE)",null,null,"(8TE)",null,"XLR","(12TE)",null,null,"Taster",null,"Antenne",null,"(4TE)",null,"3,5Klinke"]
["Vorderseite-Modul ","VGA/Bu.   St.",null,"VGA/St.",null,"VGA/St./3,5Kl.",null,"9pin-Bu.",null,"9pin-St.",null,"15pin-St.",null,"z.B. 2x XLR 3pol-Bu.",null,null,null,"2x Taster",null,"Antennen-St./Bu.",null,null,null,"2x 3,5Klinke"]
["Sonderanfertigungen auf Anfrage.\n"]
[null,"Bitte rufen Sie uns an!     Tel.: 06036/980251    Email: info@heidekabel.de"]
[]
[]
["Sonderausführungen ","HDMI-LÖT",null,"4pin Mini-DIN"]
["Vorderseite-Modul ","HDMI-Bu. 4TE"]
["Sonderanfertigungen auf Anfrage.\n",null,"AWG24"]
[null,"Bitte rufen Sie uns an!     Tel.: 06036/980251    Email: info@heidekabel.de"]
[]
[]
[null,null,null,null,null,null,null,null,null,null,null,null,null,null,null,null,null,null,null,null,null,null,null,null,{"$f":"IF(OR(AND($B$16=\"Nein\",$B$18=\"Nein\",$B$20=\"Nein\"),AND($B$16=\"Ja\",$B$18=\"Nein\",$B$20=\"Nein\")),\"\",IF(AND($B$16=\"Nein\",$B$17=\"Nein\",$B$18=\"Ja\",$B$19=\"Nein\",$B$20=\"Nein\",$E$12=5520),5524,IF(AND($B$16=\"Nein\",$B$18=\"Ja\",$B$19=\"Nein\",$B$20=\"Nein\",$E$12=5522),5526,IF(AND($B$16=\"Nein\",$B$18=\"Ja\",$B$19=\"Ja\",$B$20=\"Nein\",$E$12=5520),5538,IF(AND($B$16=\"Nein\",$B$18=\"Ja\",$B$19=\"Ja\",$B$20=\"Nein\",$E$12=5522),5539,IF(AND($B$16=\"Nein\",$B$17=\"Nein\",$B$18=\"Nein\",$B$19=\"Nein\",$B$20=\"Ja\",$E$12=5520),5528,IF(AND($B$16=\"Nein\",$B$17=\"Nein\",$B$18=\"Nein\",$B$19=\"Nein\",$B$20=\"Ja\",$E$12=5522),5537,IF(V115=5522,22))))))))","v":""}]
[]
[]
[]
[]
[]
[]
[]
[]
[]
[]
[]
[]
[]
[]
[]
[]
[]
[]
[]
[]
[]
[]
[]
[]
[]
[]
[]
[]
[]
[]
[]
[]
[]
[]
[]
[]
[]
[]
[]
[]
[]
[]
[]
[]
[]
[]
[]
[]
[]
[]
[]
[]
[]
[]
[]
[]
[]
[]
[]
[]
[]
[]
[]
[]
[]
[]
[]
[]
[]
[]
[]
[null,null,null,null,null,null,null,null,null,null,null,null,null,null,null,null,null,null,null,null,null,null,null,null,null,null,null,null,null,null,36]
[null,null,null,null,null,null,null,null,null,null,null,null,null,null,null,null,null,null,null,null,null,null,null,null,null,null,null,null,null,null,28]
[null,null,null,null,null,null,null,null,null,null,null,null,null,null,null,null,null,null,null,null,null,null,null,null,null,null,null,null,null,null,36]
[null,null,null,null,null,null,null,null,null,null,null,null,null,null,null,null,null,null,null,null,null,null,null,null,null,null,null,null,null,null,28]
[null,null,null,null,null,null,null,null,null,null,null,null,null,null,null,null,null,null,null,null,null,null,null,null,null,null,null,null,null,null,36]
[null,null,null,null,null,null,null,null,null,null,null,null,null,null,null,null,null,null,null,null,null,null,null,null,null,null,null,null,null,null,36]
[null,null,null,null,null,null,null,null,null,null,null,null,null,null,null,null,null,null,null,null,null,null,null,null,null,null,null,null,null,null,36]
[null,null,null,null,null,null,null,null,null,null,null,null,null,null,null,null,null,null,null,null,null,null,null,null,null,null,null,null,null,null,36]
[null,null,null,null,null,null,null,null,null,null,null,null,null,null,null,null,null,null,null,null,null,null,null,null,null,null,null,null,null,null,24]
[null,null,null,null,null,null,null,null,null,null,null,null,null,null,null,null,null,null,null,null,null,null,null,null,null,null,null,null,null,null,36]
[null,null,null,null,null,null,null,null,null,null,null,null,null,null,null,null,null,null,null,null,null,null,null,null,null,null,null,null,null,null,48]
[null,null,null,null,null,null,null,null,null,null,null,null,null,null,null,null,null,null,null,null,null,null,null,null,null,null,null,null,null,null,20]
[null,null,null,null,null,null,null,null,null,null,null,null,null,null,null,null,null,null,null,null,null,null,null,null,null,null,null,null,null,null,24]
[null,null,null,null,null,null,null,null,null,null,null,null,null,null,null,null,null,null,null,null,null,null,null,null,null,null,null,null,null,null,36]
[null,null,null,null,null,null,null,null,null,null,null,null,null,null,null,null,null,null,null,null,null,null,null,null,null,null,null,null,null,null,20]
[null,null,null,null,null,null,null,null,null,null,null,null,null,null,null,null,null,null,null,null,null,null,null,null,null,null,null,null,null,null,24]
[null,null,null,null,null,null,null,null,null,null,null,null,null,null,null,null,null,null,null,null,null,null,null,null,null,null,null,null,null,null,36]
[null,null,null,null,null,null,null,null,null,null,null,null,null,null,null,null,null,null,null,null,null,null,null,null,null,null,null,null,null,null,28]
[null,null,null,null,null,null,null,null,null,null,null,null,{"$f":"IF(ISNA(VLOOKUP(1,$M$197:$O$198,2,FALSE)),\"\",IF(AND(#REF!=\"Ja\",J$14=5520),VLOOKUP(1,$M$197:$O$198,2),IF(AND(#REF!=\"Ja\",J$14=5522),VLOOKUP(1,$M$197:$O$198,3),\"\")))","v":""},null,null,null,null,null,null,null,null,null,null,null,null,null,null,null,null,null,44]

{"sheet":"Datenbank","index":2,"n_rows":1633,"n_cols":75,"rows_kept":1633,"cut":false,"hidden":false,"merged":[]}
[null,null,null,null,null,null,null,null,null,null,null,null,null,null,null,null,null,null,null,null,null,null,null,"Summe aller ausgewählten Module:",{"$f":"SUM($B$11:$X$11)+SUM($B$31:$X$31)+SUM($B$51:$X$51)+SUM($B$71:$X$71)+SUM($B$91:$X$91)+SUM($B$111:$X$111)","v":0},null,null,null,null,null,null,null,null,null,null,null,null,null,null,null,null,null,null,null,null,"Alu_Ja_Nein",null,null,"Schuko_Wieland",null,"unten_hinten",null,"Menge_Module",null,"Ja_Nein",null,"Rabatt",null,"Liste_Zusammenstellung",null,null,null,null,"Liste_Anschlussfelder",null,null,null,null,null,null,"Selektion Oberfläche",null,null,"SVWERWEIS"," Oberfläche"]
[null,null,null,null,null,null,null,null,null,null,null,null,null,null,null,null,null,null,null,null,null,null,null,null,null,null,null,null,null,null,null,null,null,null,null,null,null,null,null,null,null,null,null,null,null,"Nein",null,null,"Schuko-Stecker",null,"unten",null,null,null,"Ja",null,"Liste",null,null,null,null,null,null,"1.  Modulträger  auswählen!",null,null,null,null,null,"Tischanschlussfeld Ja oder nein",{"$f":"Konfigurator!E12","v":0},{"$f":"IF(OR(BS2=5520,BS2=5522),0,32)","v":32},null,0,"Fehler"]
[null,null,null,null,null,null,null,null,null,null,null,null,null,null,null,null,null,null,null,null,null,null,null,null,null,null,null,null,null,null,null,null,null,null,null,null,null,null,null,null,null,null,null,null,null,"Oberfläche Alu gebürstet",null,null,"Wieland-Stecker",null,"hinten",null,1,null,"Nein",null,1,null,1,null,null,1,5500,"AFM  Träger GB3 Ackermann 36TE",null,null,null,null,null,"Anschlussfeld 28TE/44TE",{"$f":"Konfigurator!E12","v":0},{"$f":"IF(BS3=5520,0,1)","v":1},null,1,"Fehler"]
[null,null,null,null,null,null,null,null,null,null,null,null,null,null,null,null,null,null,null,null,null,null,null,null,null,null,null,null,null,null,null,null,null,null,null,null,null,null,null,null,null,null,null,null,null,"Oberfläche Alu gebürstet angefast",null,null,null,null,null,null,2,null,null,null,2,null,2,null,null,2,5501,"AFM  Träger GB2 Ackermann 28TE",null,null,null,null,null,{"$f":"Konfigurator!A16","v":"Oberfläche Stahl 90° gepulvert RAL 9006"},{"$f":"Konfigurator!B16","v":"Ja"},{"$f":"IF(BS4=\"Ja\",2,0)","v":2},null,2," "]
[null,null,null,null,null,null,null,null,null,null,null,null,null,null,null,null,null,null,null,null,null,null,null,null,null,null,null,null,null,null,null,null,null,null,null,null,null,null,null,null,null,null,null,null,null,null,null,null,null,null,null,null,3,null,null,null,3,null,3,null,null,3,5502,"AFM  Träger GB3 Electraplan 36TE",null,null,null,null,null,{"$f":"Konfigurator!A18","v":"Option Oberfläche Alu 90° gebürstet "},{"$f":"Konfigurator!B18","v":"Nein"},{"$f":"IF(BS5=\"Ja\",4,0)","v":0},null,3," "]
[null,null,null,null,null,null,null,null,null,null,null,null,null,null,null,null,null,null,null,null,null,null,null,null,null,null,null,null,null,null,null,null,null,null,null,null,null,null,null,null,null,null,null,null,null,null,null,null,null,null,null,null,4,null,null,null,4,null,4,null,null,4,5503,"AFM  Träger GB2 Electraplan 28TE",null,null,null,null,null,{"$f":"Konfigurator!A19","v":"Option Oberfläche angefast 45°"},{"$f":"Konfigurator!B19","v":"Nein"},{"$f":"IF(BS6=\"Ja\",8,0)","v":0},null,4,5524]
[null,null,null,null,null,null,null,null,null,null,null,null,null,null,null,null,null,null,null,null,null,null,null,null,null,null,null,null,null,null,null,null,null,null,null,null,null,null,null,null,null,null,null,null,null,null,null,null,null,null,null,null,5,null,null,null,5,null,5,null,null,5,5506,"AFM  Träger GBV3 Electraplan 28TE",null,null,null,null,null,{"$f":"Konfigurator!A20","v":"Option Oberfläche Edelstahl 90°"},{"$f":"Konfigurator!B20","v":"Nein"},{"$f":"IF(BS7=\"Ja\",16,0)","v":0},null,5,5526]
[null,null,null,null,null,null,null,null,null,null,null,null,null,null,null,null,null,null,null,null,null,null,null,null,null,null,null,null,null,null,null,null,null,null,null,null,null,null,null,null,null,null,null,null,null,null,null,null,null,null,null,null,6,null,null,null,6,null,6,null,null,6,5507,"AFM  Träger GBR3 Electraplan 36TE",null,null,null,null,null,null,"Summe",{"$f":"SUM(BT2:BT7)","v":35},null,6,"Fehler"]
["Modulreihe - 1",{"$f":"$A200","v":"VGA-Buchse"},null,{"$f":"$A220","v":"3,5Kl.-Bu./Ster."},null,{"$f":"$A240","v":"VGA-Bu./3,5Kl."},null,{"$f":"$A260","v":"DVI-Buchse"},null,{"$f":"$A280","v":"DVI-Bu/3,5Kl."},null,{"$f":"$A300","v":"HDMI-Bu."},null,{"$f":"$A320","v":0},null,{"$f":"$A340","v":"HDMI-Bu.360°"},null,{"$f":"$A360","v":"HDMI-Bu.Platine"},null,{"$f":"$A380","v":"DP-Bu."},null,{"$f":"$A400","v":"DP-Bu."},null,{"$f":"$A420","v":0},null,null,null,null,null,null,null,null,null,null,null,null,null,null,null,null,null,null,null,null,null,null,null,null,null,null,null,null,7,null,null,null,7,null,7,null,null,7,5505,"AFM  Träger GBV4 Electraplan 36TE",null,null,null,null,null,null,null,null,null,7,"Fehler"]
["Laufende Nummer 1",{"$f":"IF(B$11<1,\"\",B$11)","v":""},null,{"$f":"IF(D$11<1,\"\",SUM($B$11:D$11))","v":""},null,{"$f":"IF(F$11<1,\"\",SUM($B$11:F$11))","v":""},null,{"$f":"IF(H$11<1,\"\",SUM($B$11:H$11))","v":""},null,{"$f":"IF(J$11<1,\"\",SUM($B$11:J$11))","v":""},null,{"$f":"IF(L$11<1,\"\",SUM($B$11:L$11))","v":""},null,{"$f":"IF(N$11<1,\"\",SUM($B$11:N$11))","v":""},null,{"$f":"IF(P$11<1,\"\",SUM($B$11:P$11))","v":""},null,{"$f":"IF(R$11<1,\"\",SUM($B$11:R$11))","v":""},null,{"$f":"IF(T$11<1,\"\",SUM($B$11:T$11))","v":""},null,{"$f":"IF(V$11<1,\"\",SUM($B$11:V$11))","v":""},null,{"$f":"IF(X$11<1,\"\",SUM($B$11:X$11))","v":""},null,null,null,null,null,null,null,null,null,null,null,null,null,null,null,null,null,null,null,null,null,null,null,null,null,null,null,null,8,null,null,null,8,null,8,null,null,8,5504,"AFM  Träger PUK/Vergokan",null,null,null,null,null,null,null,null,null,8,"Fehler"]
["Modul ausgewählt 2",{"$f":"IF($F$200=0,0,IF(B$13>0,1,0))","v":0},null,{"$f":"IF($F$220=0,0,IF(D$13>0,1,0))","v":0},null,{"$f":"IF($F$240=0,0,IF(F$13>0,1,0))","v":0},null,{"$f":"IF($F$260=0,0,IF(H$13>0,1,0))","v":0},null,{"$f":"IF($F$280=0,0,IF(J$13>0,1,0))","v":0},null,{"$f":"IF($F$300=0,0,IF(L$13>0,1,0))","v":0},null,{"$f":"IF($F$320=0,0,IF(N$13>0,1,0))","v":0},null,{"$f":"IF($F$340=0,0,IF(P$13>0,1,0))","v":0},null,{"$f":"IF($F$360=0,0,IF(R$13>0,1,0))","v":0},null,{"$f":"IF($F$380=0,0,IF(T$13>0,1,0))","v":0},null,{"$f":"IF($F$400=0,0,IF(V$13>0,1,0))","v":0},null,{"$f":"IF($F$420=0,0,IF(X$13>0,1,0))","v":0},{"$f":"SUM(B11:X11)","v":0},null,null,null,null,null,null,null,null,null,null,null,null,null,null,null,null,null,null,null,null,null,null,null,null,null,null,null,9,null,null,null,9,null,9,null,null,9,5510,"AFM  Wandkanal 24TE",null,null,null,null,null,null,null,null,null,9,"Fehler"]
[" Abzug Standard-Kabellänge 3",{"$f":"IF(B$14>0,(-0.3*B$13),0)","v":0},null,{"$f":"IF(D$14>0,(-0.3*D$13),0)","v":0},null,{"$f":"IF(F$14>0,(-0.3*F$13),0)","v":0},null,{"$f":"IF(H$14>0,(-0.3*H$13),0)","v":0},null,{"$f":"IF(J$14>0,(-0.3*J$13),0)","v":0},null,{"$f":"IF(L$14>0,(-0.3*L$13),0)","v":0},null,{"$f":"IF(N$14>0,(-0.3*N$13),0)","v":0},null,{"$f":"IF(P$14>0,(-0.3*P$13),0)","v":0},null,{"$f":"IF(R$14>0,(-0.3*R$13),0)","v":0},null,{"$f":"IF(T$14>0,(-0.3*T$13),0)","v":0},null,{"$f":"IF(V$14>0,(-0.3*V$13),0)","v":0},null,{"$f":"IF(X$14>0,(-0.3*X$13),0)","v":0},null,null,null,null,null,null,null,null,null,null,null,null,null,null,null,null,null,null,null,null,null,null,null,null,null,null,null,null,10,null,null,null,10,null,10,null,null,10,5511,"AFM  Wandkanal 36TE",null,null,null,null,null,null,null,null,null,10,5525]
["Menge Module 4",{"$f":"Konfigurator!B43","v":0},null,{"$f":"Konfigurator!D43","v":0},null,{"$f":"Konfigurator!F43","v":0},null,{"$f":"Konfigurator!H43","v":0},null,{"$f":"Konfigurator!J43","v":0},null,{"$f":"Konfigurator!L43","v":0},null,{"$f":"Konfigurator!N43","v":0},null,{"$f":"Konfigurator!P43","v":0},null,{"$f":"Konfigurator!R43","v":0},null,{"$f":"Konfigurator!T43","v":0},null,{"$f":"Konfigurator!V43","v":0},null,{"$f":"Konfigurator!X43","v":0},null,null,null,null,null,null,null,null,null,null,null,null,null,null,null,null,null,null,null,null,null,null,null,null,null,null,null,null,null,null,null,null,11,null,11,null,null,11,5512,"AFM  Wandkanal 48TE",null,null,null,null,null,null,null,null,null,11,5527]
["Kabellänge (Meter) 5",{"$f":"Konfigurator!B44","v":0},null,{"$f":"Konfigurator!D44","v":0},null,{"$f":"Konfigurator!F44","v":0},null,{"$f":"Konfigurator!H44","v":0},null,{"$f":"Konfigurator!J44","v":0},null,{"$f":"Konfigurator!L44","v":0},null,{"$f":"Konfigurator!N44","v":0},null,{"$f":"Konfigurator!P44","v":0},null,{"$f":"Konfigurator!R44","v":0},null,{"$f":"Konfigurator!T44","v":0},null,{"$f":"Konfigurator!V44","v":0},null,{"$f":"Konfigurator!X44","v":0},null,null,null,null,null,null,null,null,null,null,null,null,null,null,null,null,null,null,null,null,null,null,null,null,null,null,null,null,null,null,null,null,12,null,12,null,null,12,5513,"AFM  Wandkanal schräg 24TE",null,null,null,null,null,null,null,null,null,12,5538]
["Artikel-Nr. 6",{"$f":"IF($B$13=0,\"\",IF(ISNA(VLOOKUP($F$200,$F$201:$J$210,2,FALSE)),\"\",IF($F$200=FALSE,\"\",VLOOKUP($F$200,$F$201:$J$210,2))))","v":""},null,{"$f":"IF($D$13=0,\"\",IF(ISNA(VLOOKUP($F$220,$F$221:$J$230,2,FALSE)),\"\",IF($F$220=FALSE,\"\",VLOOKUP($F$220,$F$221:$J$230,2))))","v":""},null,{"$f":"IF($F$13=0,\"\",IF(ISNA(VLOOKUP($F$240,$F$241:$J$250,2,FALSE)),\"\",IF($F$240=FALSE,\"\",VLOOKUP($F$240,$F$241:$J$250,2))))","v":""},null,{"$f":"IF($H$13=0,\"\",IF(ISNA(VLOOKUP($F$260,$F$261:$J$270,2,FALSE)),\"\",IF($F$260=FALSE,\"\",VLOOKUP($F$260,$F$261:$J$270,2))))","v":""},null,{"$f":"IF($J$13=0,\"\",IF(ISNA(VLOOKUP($F$280,$F$281:$J$290,2,FALSE)),\"\",IF($F$280=FALSE,\"\",VLOOKUP($F$280,$F$281:$J$290,2))))","v":""},null,{"$f":"IF($L$13=0,\"\",IF(ISNA(VLOOKUP($F$300,$F$301:$J$314,2,FALSE)),\"\",IF($F$300=FALSE,\"\",VLOOKUP($F$300,$F$301:$J$314,2))))","v":""},null,{"$f":"IF($N$13=0,\"\",IF(ISNA(VLOOKUP($F$320,$F$321:$J$333,2,FALSE)),\"\",IF($F$320=FALSE,\"\",VLOOKUP($F$320,$F$321:$J$333,2))))","v":""},null,{"$f":"IF($P$13=0,\"\",IF(ISNA(VLOOKUP($F$340,$F$341:$J$353,2,FALSE)),\"\",IF($F$340=FALSE,\"\",VLOOKUP($F$340,$F$341:$J$353,2))))","v":""},null,{"$f":"IF($R$13=0,\"\",IF(ISNA(VLOOKUP($F$360,$F$361:$J$370,2,FALSE)),\"\",IF($F$360=FALSE,\"\",VLOOKUP($F$360,$F$361:$J$370,2))))","v":""},null,{"$f":"IF($T$13=0,\"\",IF(ISNA(VLOOKUP($F$380,$F$381:$J$390,2,FALSE)),\"\",IF($F$380=FALSE,\"\",VLOOKUP($F$380,$F$381:$J$390,2))))","v":""},null,{"$f":"IF($V$13=0,\"\",IF(ISNA(VLOOKUP($F$400,$F$401:$J$410,2,FALSE)),\"\",IF($F$400=FALSE,\"\",VLOOKUP($F$400,$F$401:$J$410,2))))","v":""},null,{"$f":"IF($X$13=0,\"\",IF(ISNA(VLOOKUP($F$420,$F$421:$J$430,2,FALSE)),\"\",IF($F$420=FALSE,\"\",VLOOKUP($F$420,$F$421:$J$430,2))))","v":""},null,null,null,null,null,null,null,null,null,null,null,null,null,null,null,null,null,null,null,null,null,null,null,null,null,null,null,null,null,null,null,null,13,null,13,null,null,13,5532,"AFM  Wandgehäuse 125mm 20TE sw",null,null,null,null,null,null,null,null,null,13,5539]
["TE 7",{"$f":"IF($B$13=0,\"\",IF(ISNA(VLOOKUP($F$200,$F$201:$J$210,3,FALSE)),\"\",IF($F$200=FALSE,\"\",VLOOKUP($F$200,$F$201:$J$210,3))))","v":""},null,{"$f":"IF($D$13=0,\"\",IF(ISNA(VLOOKUP($F$220,$F$221:$J$230,3,FALSE)),\"\",IF($F$220=FALSE,\"\",VLOOKUP($F$220,$F$221:$J$230,3))))","v":""},null,{"$f":"IF($F$13=0,\"\",IF(ISNA(VLOOKUP($F$240,$F$241:$J$250,3,FALSE)),\"\",IF($F$240=FALSE,\"\",VLOOKUP($F$240,$F$241:$J$250,3))))","v":""},null,{"$f":"IF($H$13=0,\"\",IF(ISNA(VLOOKUP($F$260,$F$261:$J$270,3,FALSE)),\"\",IF($F$260=FALSE,\"\",VLOOKUP($F$260,$F$261:$J$270,3))))","v":""},null,{"$f":"IF($J$13=0,\"\",IF(ISNA(VLOOKUP($F$280,$F$281:$J$290,3,FALSE)),\"\",IF($F$280=FALSE,\"\",VLOOKUP($F$280,$F$281:$J$290,3))))","v":""},null,{"$f":"IF($L$13=0,\"\",IF(ISNA(VLOOKUP($F$300,$F$301:$J$314,3,FALSE)),\"\",IF($F$300=FALSE,\"\",VLOOKUP($F$300,$F$301:$J$314,3))))","v":""},null,{"$f":"IF($N$13=0,\"\",IF(ISNA(VLOOKUP($F$320,$F$321:$J$333,3,FALSE)),\"\",IF($F$320=FALSE,\"\",VLOOKUP($F$320,$F$321:$J$333,3))))","v":""},null,{"$f":"IF($P$13=0,\"\",IF(ISNA(VLOOKUP($F$340,$F$341:$J$353,3,FALSE)),\"\",IF($F$340=FALSE,\"\",VLOOKUP($F$340,$F$341:$J$353,3))))","v":""},null,{"$f":"IF($R$13=0,\"\",IF(ISNA(VLOOKUP($F$360,$F$361:$J$370,3,FALSE)),\"\",IF($F$360=FALSE,\"\",VLOOKUP($F$360,$F$361:$J$370,3))))","v":""},null,{"$f":"IF($T$13=0,\"\",IF(ISNA(VLOOKUP($F$380,$F$381:$J$390,3,FALSE)),\"\",IF($F$380=FALSE,\"\",VLOOKUP($F$380,$F$381:$J$390,3))))","v":""},null,{"$f":"IF($V$13=0,\"\",IF(ISNA(VLOOKUP($F$400,$F$401:$J$410,3,FALSE)),\"\",IF($F$400=FALSE,\"\",VLOOKUP($F$400,$F$401:$J$410,3))))","v":""},null,{"$f":"IF($X$13=0,\"\",IF(ISNA(VLOOKUP($F$420,$F$421:$J$430,3,FALSE)),\"\",IF($F$420=FALSE,\"\",VLOOKUP($F$420,$F$421:$J$430,3))))","v":""},null,null,null,null,null,null,null,null,null,null,null,null,null,null,null,null,null,null,null,null,null,null,null,null,null,null,null,null,null,null,null,null,14,null,14,null,null,14,5531,"AFM  Wandgehäuse 160mm 24TE sw",null,null,null,null,null,null,null,null,null,14,"Fehler"]
["Einzel-Preis 8",{"$f":"IF(B13=0,\"\",IF(ISNA(VLOOKUP($F$200,$F$201:$J$210,4,FALSE)),\"\",IF($F$200=FALSE,\"\",VLOOKUP($F$200,$F$201:$J$210,4))))","v":""},null,{"$f":"IF($D$13=0,\"\",IF(ISNA(VLOOKUP($F$220,$F$221:$J$230,4,FALSE)),\"\",IF($F$220=FALSE,\"\",VLOOKUP($F$220,$F$221:$J$230,4))))","v":""},null,{"$f":"IF($F$13=0,\"\",IF(ISNA(VLOOKUP($F$240,$F$241:$J$250,4,FALSE)),\"\",IF($F$240=FALSE,\"\",VLOOKUP($F$240,$F$241:$J$250,4))))","v":""},null,{"$f":"IF($H$13=0,\"\",IF(ISNA(VLOOKUP($F$260,$F$261:$J$270,4,FALSE)),\"\",IF($F$260=FALSE,\"\",VLOOKUP($F$260,$F$261:$J$270,4))))","v":""},null,{"$f":"IF($J$13=0,\"\",IF(ISNA(VLOOKUP($F$280,$F$281:$J$290,4,FALSE)),\"\",IF($F$280=FALSE,\"\",VLOOKUP($F$280,$F$281:$J$290,4))))","v":""},null,{"$f":"IF($L$13=0,\"\",IF(ISNA(VLOOKUP($F$300,$F$301:$J$314,4,FALSE)),\"\",IF($F$300=FALSE,\"\",VLOOKUP($F$300,$F$301:$J$314,4))))","v":""},null,{"$f":"IF($N$13=0,\"\",IF(ISNA(VLOOKUP($F$320,$F$321:$J$333,4,FALSE)),\"\",IF($F$320=FALSE,\"\",VLOOKUP($F$320,$F$321:$J$333,4))))","v":""},null,{"$f":"IF($P$13=0,\"\",IF(ISNA(VLOOKUP($F$340,$F$341:$J$353,4,FALSE)),\"\",IF($F$340=FALSE,\"\",VLOOKUP($F$340,$F$341:$J$353,4))))","v":""},null,{"$f":"IF($R$13=0,\"\",IF(ISNA(VLOOKUP($F$360,$F$361:$J$370,4,FALSE)),\"\",IF($F$360=FALSE,\"\",VLOOKUP($F$360,$F$361:$J$370,4))))","v":""},null,{"$f":"IF($T$13=0,\"\",IF(ISNA(VLOOKUP($F$380,$F$381:$J$390,4,FALSE)),\"\",IF($F$380=FALSE,\"\",VLOOKUP($F$380,$F$381:$J$390,4))))","v":""},null,{"$f":"IF($V$13=0,\"\",IF(ISNA(VLOOKUP($F$400,$F$401:$J$410,4,FALSE)),\"\",IF($F$400=FALSE,\"\",VLOOKUP($F$400,$F$401:$J$410,4))))","v":""},null,{"$f":"IF($X$13=0,\"\",IF(ISNA(VLOOKUP($F$420,$F$421:$J$430,4,FALSE)),\"\",IF($F$420=FALSE,\"\",VLOOKUP($F$420,$F$421:$J$430,4))))","v":""},null,null,null,null,null,null,null,null,null,null,null,null,null,null,null,null,null,null,null,null,null,null,null,null,null,null,null,null,null,null,null,null,15,null,15,null,null,15,5530,"AFM  Wandgehäuse 215mm 36TE sw",null,null,null,null,null,null,null,null,null,15,"Fehler"]
["Artikel-Nr. Zusatzkabel - 1  9",{"$f":"IF(OR($B$22=\"N\",$B$14=0),\"\",IF($F$200=FALSE,\"\",IF($F$200=0,\"\",$G$211)))","v":""},null,{"$f":"IF(OR($D$22=\"N\",$D$14=0),\"\",IF($F$220=FALSE,\"\",IF(OR($F$220=0,$F$220=1,$F$220=2),\"\",IF(OR($F$220=3,$F$220=4,$F$220=7),$G$233,IF(OR($F$220=5,$F$220=6),$G$234)))))","v":""},null,{"$f":"IF(OR($F$22=\"N\",$F$14=0),\"\",IF($F$240=FALSE,\"\",IF($F$240=0,\"\",$G$251)))","v":""},null,{"$f":"IF(OR($H$22=\"N\",$H$14=0),\"\",IF($F$260=FALSE,\"\",IF($F$260=0,\"\",IF(OR($F$260=3,$F$260=4),$G$271,IF(OR($F$260=5,$F$260=6),$G$272,\"\")))))","v":""},null,{"$f":"IF(OR($J$22=\"N\",$J$14=0),\"\",IF($F$280=FALSE,\"\",IF($F$280=0,\"\",IF(OR($F$280=2,$F$280=3),$G$291,IF(OR($F$280=4,$F$280=5),$G$292,\"\")))))","v":""},null,{"$f":"IF(OR($L$22=\"N\",$L$14=0),\"\",IF($F$300=FALSE,\"\",IF($F$300=0,\"\",VLOOKUP(L$14,$B$303:$J$314,6))))","v":""},null,{"$f":"IF(OR($N$22=\"N\",$N$14=0),\"\",IF($F$320=FALSE,\"\",IF($F$320=0,\"\",VLOOKUP(N$14,$B$322:$J$333,6))))","v":""},null,{"$f":"IF(OR($P$22=\"N\",$P$14=0),\"\",IF($F$340=FALSE,\"\",IF($F$340=0,\"\",VLOOKUP(P$14,$B$342:$J$353,6))))","v":""},null,{"$f":"IF(OR($R$22=\"N\",$R$14=0),\"\",IF($F$360=FALSE,\"\",IF($F$360=0,\"\",$G$371)))","v":""},null,{"$f":"IF(OR($T$22=\"N\",$T$14=0),\"\",IF($F$380=FALSE,\"\",IF($F$380=0,\"\",$G$391)))","v":""},null,{"$f":"IF(OR($V$22=\"N\",$V$14=0),\"\",IF($F$400=FALSE,\"\",IF($F$400=0,\"\",$G$411)))","v":""},null,{"$f":"IF(OR($X$22=\"N\",$X$14=0),\"\",IF($F$420=FALSE,\"\",IF($F$420=0,\"\",$G$431)))","v":""},null,null,null,null,null,null,null,null,null,null,null,null,null,null,null,null,null,null,null,null,null,null,null,null,null,null,null,null,null,null,null,null,16,null,16,null,null,16,5535,"AFM  Wandgehäuse 125mm 20TE gr",null,null,null,null,null,null,null,null,null,16,5528]
["zusätzliche Kabellänge /m 10",{"$f":"IF(OR($B$22=\"N\",$B$14=0),\"\",IF($F$200=FALSE,\"\",IF($F$200=0,\"\",$I$211)))","v":""},null,{"$f":"IF(OR($D$22=\"N\",$D$14=0),\"\",IF($F$220=FALSE,\"\",IF(OR($F$220=0,$F$220=1,$F$220=2),\"\",IF(OR($F$220=3,$F$220=4,$F$220=7),$I$233,IF(OR($F$220=5,$F$220=6),$I$234,\"X\")))))","v":""},null,{"$f":"IF(OR($F$22=\"N\",$F$14=0),\"\",IF($F$240=FALSE,\"\",IF($F$240=0,\"\",$I$251)))","v":""},null,{"$f":"IF(OR($H$22=\"N\",$H$14=0),\"\",IF($F$260=FALSE,0,IF($F$260=0,0,IF(OR($F$260=3,$F$260=4),$I$271,IF(OR($F$260=5,$F$260=6),$I$272,0)))))","v":""},null,{"$f":"IF(OR($J$22=\"N\",$J$14=0),\"\",IF($F$280=FALSE,\"\",IF($F$280=0,\"\",IF(OR($F$280=2,$F$280=3),$I$291,IF(OR($F$280=4,$F$280=5),$I$292,\"\")))))","v":""},null,{"$f":"IF(OR($L$22=\"N\",$L$14=0),\"\",IF($F$300=FALSE,\"\",IF($F$300=0,\"\",VLOOKUP(L$14,$B$303:$J$314,8))))","v":""},null,{"$f":"IF(OR($N$22=\"N\",$N$14=0),\"\",IF($F$320=FALSE,\"\",IF($F$320=0,\"\",VLOOKUP(N$14,$B$322:$J$333,8))))","v":""},null,{"$f":"IF(OR($P$22=\"N\",$P$14=0),\"\",IF($F$340=FALSE,\"\",IF($F$340=0,\"\",VLOOKUP(P$14,$B$342:$J$353,8))))","v":""},null,{"$f":"IF(OR($R$22=\"N\",$R$14=0),\"\",IF($F$360=FALSE,\"\",IF($F$360=0,\"\",$I$371)))","v":""},null,{"$f":"IF(OR($T$22=\"N\",$T$14=0),\"\",IF($F$380=FALSE,\"\",IF($F$380=0,\"\",$I$391)))","v":""},null,{"$f":"IF(OR($V$22=\"N\",$V$14=0),\"\",IF($F$400=FALSE,\"\",IF($F$400=0,\"\",$I$411)))","v":""},null,{"$f":"IF(OR($X$22=\"N\",$X$14=0),\"\",IF($F$420=FALSE,\"\",IF($F$420=0,\"\",$I$431)))","v":""},null,null,null,null,null,null,null,null,null,null,null,null,null,null,null,null,null,null,null,null,null,null,null,null,null,null,null,null,null,null,null,null,17,null,17,null,null,17,5534,"AFM  Wandgehäuse 160mm 24TE gr",null,null,null,null,null,null,null,null,null,17,5537]
["Artikel-Nr. Zusatzkabel Audio  11",{"$f":"IF(OR($B$22=\"N\",$B$14=0,$G$213=\"\"),\"\",IF($F$200=FALSE,\"\",IF($F$200=0,\"\",$G$213)))","v":""},null,{"$f":"IF(OR($D$22=\"N\",$D$14=0,$G$233=\"\"),\"\",IF($F$220=FALSE,\"\",IF($F$220=0,\"\",\"\")))","v":""},null,{"$f":"IF(OR($F$22=\"N\",$F$14=0,$G$253=\"\"),\"\",IF($F$240=FALSE,\"\",IF($F$240=0,\"\",$G$253)))","v":""},null,{"$f":"IF(OR($H$22=\"N\",$H$14=0,$G$273=\"\"),\"\",IF($F$260=FALSE,\"\",IF($F$260=0,\"\",$G$273)))","v":""},null,{"$f":"IF(OR($J$22=\"N\",$J$14=0,$G$293=\"\"),\"\",IF($F$280=FALSE,\"\",IF($F$280=0,\"\",$G$293)))","v":""},null,{"$f":"IF(OR($L$22=\"N\",$L$14=0,$G$317=\"\"),\"\",IF($F$300=FALSE,\"\",IF($F$300=0,\"\",$G$317)))","v":""},null,{"$f":"IF(OR($N$22=\"N\",$N$14=0,$G$336=\"\"),\"\",IF($F$320=FALSE,\"\",IF($F$320=0,\"\",$G$336)))","v":""},null,{"$f":"IF(OR($P$22=\"N\",$P$14=0,$G$356=\"\"),\"\",IF($F$340=FALSE,\"\",IF($F$340=0,\"\",$G$356)))","v":""},null,{"$f":"IF(OR($R$22=\"N\",$R$14=0,$G$373=\"\"),\"\",IF($F$360=FALSE,\"\",IF($F$360=0,\"\",$G$373)))","v":""},null,{"$f":"IF(OR($T$22=\"N\",$T$14=0,$G$393=\"\"),\"\",IF($F$380=FALSE,\"\",IF($F$380=0,\"\",$G$393)))","v":""},null,{"$f":"IF(OR($V$22=\"N\",$V$14=0,$G$412=\"\"),\"\",IF($F$400=FALSE,\"\",IF($F$400=0,\"\",IF(OR($V$15=5619,$V$15=5620,$V$15=5739),$G$412,$G$413))))","v":""},null,{"$f":"IF(OR($X$22=\"N\",$X$14=0,$G$433=\"\"),\"\",IF($F$420=FALSE,\"\",IF($F$420=0,\"\",$G$433)))","v":""},null,null,null,null,null,null,null,null,null,null,null,null,null,null,null,null,null,null,null,null,null,null,null,null,null,null,null,null,null,null,null,null,18,null,18,null,null,18,5533,"AFM  Wandgehäuse 215mm 36TE gr",null,null,null,null,null,null,null,null,null,18,"Fehler"]
["zusätzliche Kabellänge Audio /m 12",{"$f":"IF(OR($B$22=\"N\",$B$14=0,$G$213=\"\"),\"\",IF($F$200=FALSE,\"\",IF($F$200=0,\"\",$I$213)))","v":""},null,{"$f":"IF(OR($D$22=\"N\",$D$14=0,$G$233=\"\"),\"\",IF($F$220=FALSE,\"\",IF($F$220=0,\"\",\"\")))","v":""},null,{"$f":"IF(OR($F$22=\"N\",$F$14=0,$G$253=\"\"),\"\",IF($F$240=FALSE,\"\",IF($F$240=0,\"\",$I$253)))","v":""},null,{"$f":"IF(OR($H$22=\"N\",$H$14=0,$G$273=\"\"),\"\",IF($F$260=FALSE,\"\",IF($F$260=0,\"\",$I$273)))","v":""},null,{"$f":"IF(OR($J$22=\"N\",$J$14=0,$G$293=\"\"),\"\",IF($F$280=FALSE,\"\",IF($F$280=0,\"\",$I$293)))","v":""},null,{"$f":"IF(OR($L$22=\"N\",$L$14=0,$G$317=\"\"),\"\",IF($F$300=FALSE,\"\",IF($F$300=0,\"\",$I$317)))","v":""},null,{"$f":"IF(OR($N$22=\"N\",$N$14=0,$G$336=\"\"),\"\",IF($F$320=FALSE,\"\",IF($F$320=0,\"\",$I$336)))","v":""},null,{"$f":"IF(OR($P$22=\"N\",$P$14=0,$G$356=\"\"),\"\",IF($F$340=FALSE,\"\",IF($F$340=0,\"\",$I$356)))","v":""},null,{"$f":"IF(OR($R$22=\"N\",$R$14=0,$G$373=\"\"),\"\",IF($F$360=FALSE,\"\",IF($F$360=0,\"\",$I$373)))","v":""},null,{"$f":"IF(OR($T$22=\"N\",$T$14=0,$G$393=\"\"),\"\",IF($F$380=FALSE,\"\",IF($F$380=0,\"\",$I$393)))","v":""},null,{"$f":"IF(OR($V$22=\"N\",$V$14=0,$G$412=\"\"),\"\",IF($F$400=FALSE,\"\",IF($F$400=0,\"\",IF(OR($V$15=5619,$V$15=5620,$V$15=5739),$I$412,$I$413))))","v":""},null,{"$f":"IF(OR($X$22=\"N\",$X$14=0,$G$433=\"\"),\"\",IF($F$420=FALSE,\"\",IF($F$420=0,\"\",$I$433)))","v":""},null,null,null,null,null,null,null,null,null,null,null,null,null,null,null,null,null,null,null,null,null,null,null,null,null,null,null,null,null,null,null,null,19,null,19,null,null,19,5520,"AFM  Tischeinbaufeld 28TE",null,null,null,null,null,null,null,null,null,19,"Fehler"]
["(je ausgewähltem Anschluss) Kabel J/N 13",{"$f":"IF(ISNA(VLOOKUP($F$200,$F$201:$J$210,5,FALSE)),\"\",IF($F$200=FALSE,\"\",VLOOKUP($F$200,$F$201:$J$210,5)))","v":""},null,{"$f":"IF(ISNA(VLOOKUP($F$220,$F$221:$J$230,5,FALSE)),\"\",IF($F$220=FALSE,\"\",VLOOKUP($F$220,$F$221:$J$230,5)))","v":""},null,{"$f":"IF(ISNA(VLOOKUP($F$240,$F$241:$J$250,5,FALSE)),\"\",IF($F$240=FALSE,\"\",VLOOKUP($F$240,$F$241:$J$250,5)))","v":""},null,{"$f":"IF(ISNA(VLOOKUP($F$260,$F$261:$J$270,5,FALSE)),\"\",IF($F$260=FALSE,\"\",VLOOKUP($F$260,$F$261:$J$270,5)))","v":""},null,{"$f":"IF(ISNA(VLOOKUP($F$280,$F$281:$J$290,5,FALSE)),\"\",IF($F$280=FALSE,\"\",VLOOKUP($F$280,$F$281:$J$290,5)))","v":""},null,{"$f":"IF(ISNA(VLOOKUP($F$300,$F$301:$J$314,5,FALSE)),\"\",IF($F$300=FALSE,\"\",VLOOKUP($F$300,$F$301:$J$314,5)))","v":""},null,{"$f":"IF(ISNA(VLOOKUP($F$320,$F$321:$J$333,5,FALSE)),\"\",IF($F$320=FALSE,\"\",VLOOKUP($F$320,$F$321:$J$333,5)))","v":""},null,{"$f":"IF(ISNA(VLOOKUP($F$340,$F$341:$J$353,5,FALSE)),\"\",IF($F$340=FALSE,\"\",VLOOKUP($F$340,$F$341:$J$353,5)))","v":""},null,{"$f":"IF(ISNA(VLOOKUP($F$360,$F$361:$J$370,5,FALSE)),\"\",IF($F$360=FALSE,\"\",VLOOKUP($F$360,$F$361:$J$370,5)))","v":""},null,{"$f":"IF(ISNA(VLOOKUP($F$380,$F$381:$J$390,5,FALSE)),\"\",IF($F$380=FALSE,\"\",VLOOKUP($F$380,$F$381:$J$390,5)))","v":""},null,{"$f":"IF(ISNA(VLOOKUP($F$400,$F$401:$J$410,5,FALSE)),\"\",IF($F$400=FALSE,\"\",VLOOKUP($F$400,$F$401:$J$410,5)))","v":""},null,{"$f":"IF(ISNA(VLOOKUP($F$420,$F$421:$J$430,5,FALSE)),\"\",IF($F$420=FALSE,\"\",VLOOKUP($F$420,$F$421:$J$430,5)))","v":""},null,null,null,null,null,null,null,null,null,null,null,null,null,null,null,null,null,null,null,null,null,null,null,null,null,null,null,null,null,null,null,null,20,null,20,null,null,20,5522,"AFM  Tischeinbaufeld 44TE",null,null,null,null,null,null,null,null,null,20,"Fehler"]
["Zusätzliche Kabellänge 14",{"$f":"IF(B22=\"N\",0,(B14*B13)+B12)","v":0},null,{"$f":"IF(D22=\"N\",0,(D14*D13)+D12)","v":0},null,{"$f":"IF(F22=\"N\",0,(F14*F13)+F12)","v":0},null,{"$f":"IF(H22=\"N\",0,(H14*H13)+H12)","v":0},null,{"$f":"IF(J22=\"N\",0,(J14*J13)+J12)","v":0},null,{"$f":"L14*L13","v":0},null,{"$f":"N14*N13","v":0},null,{"$f":"P14*P13","v":0},null,{"$f":"IF(R22=\"N\",0,(R14*R13)+R12)","v":0},null,{"$f":"IF(T22=\"N\",0,(T14*T13)+T12)","v":0},null,{"$f":"IF(V22=\"N\",0,(V14*V13)+V12)","v":0},null,{"$f":"IF(X22=\"N\",0,(X14*X13)+X12)","v":0},null,null,null,null,null,null,null,null,null,null,null,null,null,null,null,null,null,null,null,null,null,null,null,null,null,null,null,null,null,null,null,null,21,null,null,null,null,21,5519,"AFM 19\" 2HE Anschlussfeld 84TE",null,null,null,null,null,null,null,null,null,21,"Fehler"]
["Summe TE 15",{"$f":"IF(B$13=0,\"\",B$13*B$16)","v":""},null,{"$f":"IF(D$13=0,\"\",D$13*D$16)","v":""},null,{"$f":"IF(F$13=0,\"\",F$13*F$16)","v":""},null,{"$f":"IF(H$13=0,\"\",H$13*H$16)","v":""},null,{"$f":"IF(J$13=0,\"\",J$13*J$16)","v":""},null,{"$f":"IF(L$13=0,\"\",L$13*L$16)","v":""},null,{"$f":"IF(N$13=0,\"\",N$13*N$16)","v":""},null,{"$f":"IF(P$13=0,\"\",P$13*P$16)","v":""},null,{"$f":"IF(R$13=0,\"\",R$13*R$16)","v":""},null,{"$f":"IF(T$13=0,\"\",T$13*T$16)","v":""},null,{"$f":"IF(V$13=0,\"\",V$13*V$16)","v":""},null,{"$f":"IF(X$13=0,\"\",X$13*X$16)","v":""},null,null,null,null,null,null,null,null,null,null,null,null,null,null,null,null,null,null,null,null,null,null,null,null,null,null,null,null,null,null,null,null,22,null,null,null,null,null,null,null,null,null,null,null,null,null,null,null,null,22,"Fehler"]
["Datenaufbereitung",200,null,220,null,240,null,260,null,280,null,300,null,320,null,340,null,360,null,380,null,400,null,420,null,null,null,null,null,null,null,null,null,null,null,null,null,null,null,null,null,null,null,null,null,null,null,null,null,null,null,null,null,null,null,null,23,null,null,null,null,null,null,null,null,null,null,null,null,null,null,null,null,23,"Fehler"]
["Konfigurator","AFM",null,"AFM",null,"AFM",null,"AFM",null,"AFM",null,"AFM",null,"AFM",null,"AFM",null,"AFM",null,"AFM",null,"AFM",null,"AFM",null,null,null,null,null,null,null,null,null,null,null,null,null,null,null,null,null,null,null,null,null,null,null,null,null,null,null,null,null,null,null,null,24,null,null,null,null,null,null,null,null,null,null,null,null,null,null,null,null,24,"Fehler"]
[null,null,null,null,null,null,null,null,null,null,null,null,null,null,null,null,null,null,null,null,null,null,null,null,null,null,null,null,null,null,null,null,null,null,null,null,null,null,null,null,null,null,null,null,null,null,null,null,null,null,null,null,null,null,null,null,25,null,null,null,null,null,null,null,null,null,null,null,null,null,null,null,null,25,"Fehler"]
[null,null,null,null,null,null,null,null,null,null,null,null,null,null,null,null,null,null,null,null,null,null,null,null,null,null,null,null,null,null,null,null,null,null,null,null,null,null,null,null,null,null,null,null,null,null,null,null,null,null,null,null,null,null,null,null,26,null,null,null,null,null,null,null,null,null,null,null,null,null,null,null,null,26,"Fehler"]
["Modulreihe - 2",{"$f":"$A440","v":"3pol-Bu."},null,{"$f":"$A460","v":"3pol-St."},null,{"$f":"$A480","v":"4pol-Bu."},null,{"$f":"$A500","v":"5pol-Bu."},null,{"$f":"$A520","v":"6pol-Bu."},null,{"$f":"$A540","v":"XLR USB-Bu/Bu."},null,{"$f":"$A560","v":"XLR - RJ45"},null,{"$f":"$A580","v":"XLR - Cat.6"},null,{"$f":"$A600","v":"XLR - Cat.6A"},null,{"$f":"$A620","v":"4pol-Speakon"},null,{"$f":"$A640","v":"PowerCon-A"},null,{"$f":"$A660","v":"PowerCon-B"},null,null,null,null,null,null,null,null,null,null,null,null,null,null,null,null,null,null,null,null,null,null,null,null,null,null,null,null,null,null,null,null,27,null,null,null,null,null,null,null,null,null,null,null,null,null,null,null,null,27,"Fehler"]
["Laufende Nummer 1",{"$f":"IF(B$31<1,\"\",SUM($B$11:$X$11)+SUM($B$31))","v":""},null,{"$f":"IF(D$31<1,\"\",SUM($B$11:$X$11)+SUM($B$31:D$31))","v":""},null,{"$f":"IF(F$31<1,\"\",SUM($B$11:$X$11)+SUM($B$31:F$31))","v":""},null,{"$f":"IF(H$31<1,\"\",SUM($B$11:$X$11)+SUM($B$31:H$31))","v":""},null,{"$f":"IF(J$31<1,\"\",SUM($B$11:$X$11)+SUM($B$31:J$31))","v":""},null,{"$f":"IF(L$31<1,\"\",SUM($B$11:$X$11)+SUM($B$31:L$31))","v":""},null,{"$f":"IF(N$31<1,\"\",SUM($B$11:$X$11)+SUM($B$31:N$31))","v":""},null,{"$f":"IF(P$31<1,\"\",SUM($B$11:$X$11)+SUM($B$31:P$31))","v":""},null,{"$f":"IF(R$31<1,\"\",SUM($B$11:$X$11)+SUM($B$31:R$31))","v":""},null,{"$f":"IF(T$31<1,\"\",SUM($B$11:$X$11)+SUM($B$31:T$31))","v":""},null,{"$f":"IF(V$31<1,\"\",SUM($B$11:$X$11)+SUM($B$31:V$31))","v":""},null,{"$f":"IF(X$31<1,\"\",SUM($B$11:$X$11)+SUM($B$31:X$31))","v":""},null,null,null,null,null,null,null,null,null,null,null,null,null,null,null,null,null,null,null,null,null,null,null,null,null,null,null,null,null,null,null,null,28,null,null,null,null,null,null,null,null,null,null,null,null,null,null,null,null,28,"Fehler"]
["Modul ausgewählt 2",{"$f":"IF($F$440=0,0,IF(B$33>0,1,0))","v":0},null,{"$f":"IF($F$460=0,0,IF(D$33>0,1,0))","v":0},null,{"$f":"IF($F$480=0,0,IF(F$33>0,1,0))","v":0},null,{"$f":"IF($F$500=0,0,IF(H$33>0,1,0))","v":0},null,{"$f":"IF($F$520=0,0,IF(J$33>0,1,0))","v":0},null,{"$f":"IF($F$540=0,0,IF(L$33>0,1,0))","v":0},null,{"$f":"IF($F$560=0,0,IF(N$33>0,1,0))","v":0},null,{"$f":"IF($F$580=0,0,IF(P$33>0,1,0))","v":0},null,{"$f":"IF($F$600=0,0,IF(R$33>0,1,0))","v":0},null,{"$f":"IF($F$620=0,0,IF(T$33>0,1,0))","v":0},null,{"$f":"IF($F$640=0,0,IF(V$33>0,1,0))","v":0},null,{"$f":"IF($F$660=0,0,IF(X$33>0,1,0))","v":0},{"$f":"SUM(B11:X11)+SUM(B31:X31)","v":0},null,null,null,null,null,null,null,null,null,null,null,null,null,null,null,null,null,null,null,null,null,null,null,null,null,null,null,null,null,null,null,29,null,null,null,null,null,null,null,null,null,null,null,null,null,null,null,null,29,"Fehler"]
[" Abzug Standard-Kabellänge 3",{"$f":"IF(B$34>0,(-0.3*B$33),0)","v":0},null,{"$f":"IF(D$34>0,(-0.3*D$33),0)","v":0},null,{"$f":"IF(F$34>0,(-0.3*F$33),0)","v":0},null,{"$f":"IF(H$34>0,(-0.3*H$33),0)","v":0},null,{"$f":"IF(J$34>0,(-0.3*J$33),0)","v":0},null,{"$f":"IF(L$34>0,(-0.3*L$33),0)","v":0},null,{"$f":"IF(N$34>0,(-0.3*N$33),0)","v":0},null,{"$f":"IF(P$34>0,(-0.3*P$33),0)","v":0},null,{"$f":"IF(R$34>0,(-0.3*R$33),0)","v":0},null,{"$f":"IF(T$34>0,(-0.3*T$33),0)","v":0},null,{"$f":"IF(V$34>0,(-0.3*V$33),0)","v":0},null,{"$f":"IF(X$34>0,(-0.3*X$33),0)","v":0},null,null,null,null,null,null,null,null,null,null,null,null,null,null,null,null,null,null,null,null,null,null,null,null,null,null,null,null,null,null,null,null,30,null,null,null,null,null,null,null,null,null,null,null,null,null,null,null,null,30,"Fehler"]
["Menge Module 4",{"$f":"Konfigurator!B53","v":0},null,{"$f":"Konfigurator!D53","v":0},null,{"$f":"Konfigurator!F53","v":0},null,{"$f":"Konfigurator!H53","v":0},null,{"$f":"Konfigurator!J53","v":0},null,{"$f":"Konfigurator!L53","v":0},null,{"$f":"Konfigurator!N53","v":0},null,{"$f":"Konfigurator!P53","v":0},null,{"$f":"Konfigurator!R53","v":0},null,{"$f":"Konfigurator!T53","v":0},null,{"$f":"Konfigurator!V53","v":0},null,{"$f":"Konfigurator!X53","v":0},null,null,null,null,null,null,null,null,null,null,null,null,null,null,null,null,null,null,null,null,null,null,null,null,null,null,null,null,null,null,null,null,31,null,null,null,null,null,null,null,null,null,null,null,null,null,null,null,null,31,"Fehler"]
["Kabellänge (Meter) 5",{"$f":"Konfigurator!B54","v":0},null,{"$f":"Konfigurator!D54","v":0},null,{"$f":"Konfigurator!F54","v":0},null,{"$f":"Konfigurator!H54","v":0},null,{"$f":"Konfigurator!J54","v":0},null,{"$f":"Konfigurator!L54","v":0},null,{"$f":"Konfigurator!N54","v":0},null,{"$f":"Konfigurator!P54","v":0},null,{"$f":"Konfigurator!R54","v":0},null,{"$f":"Konfigurator!T54","v":0},null,{"$f":"Konfigurator!V54","v":0},null,{"$f":"Konfigurator!X54","v":0},null,null,null,null,null,null,null,null,null,null,null,null,null,null,null,null,null,null,null,null,null,null,null,null,null,null,null,null,null,null,null,null,32,null,null,null,null,null,null,null,null,null,null,null,null,null,null,null,null,32,"Fehler"]
["Artikel-Nr. 6",{"$f":"IF($B$33=0,\"\",IF(ISNA(VLOOKUP($F$440,$F$441:$J$450,2,FALSE)),\"\",IF($F$440=FALSE,\"\",VLOOKUP($F$440,$F$441:$J$450,2))))","v":""},null,{"$f":"IF($D$33=0,\"\",IF(ISNA(VLOOKUP($F$460,$F$461:$J$470,2,FALSE)),\"\",IF($F$460=FALSE,\"\",VLOOKUP($F$460,$F$461:$J$470,2))))","v":""},null,{"$f":"IF($F$33=0,\"\",IF(ISNA(VLOOKUP($F$480,$F$481:$J$490,2,FALSE)),\"\",IF($F$480=FALSE,\"\",VLOOKUP($F$480,$F$481:$J$490,2))))","v":""},null,{"$f":"IF($H$33=0,\"\",IF(ISNA(VLOOKUP($F$500,$F$501:$J$510,2,FALSE)),\"\",IF($F$500=FALSE,\"\",VLOOKUP($F$500,$F$501:$J$510,2))))","v":""},null,{"$f":"IF($J$33=0,\"\",IF(ISNA(VLOOKUP($F$520,$F$521:$J$530,2,FALSE)),\"\",IF($F$520=FALSE,\"\",VLOOKUP($F$520,$F$521:$J$530,2))))","v":""},null,{"$f":"IF($L$33=0,\"\",IF(ISNA(VLOOKUP($F$540,$F$541:$J$550,2,FALSE)),\"\",IF($F$540=FALSE,\"\",VLOOKUP($F$540,$F$541:$J$550,2))))","v":""},null,{"$f":"IF($N$33=0,\"\",IF(ISNA(VLOOKUP($F$560,$F$561:$J$570,2,FALSE)),\"\",IF($F$560=FALSE,\"\",VLOOKUP($F$560,$F$561:$J$570,2))))","v":""},null,{"$f":"IF($P$33=0,\"\",IF(ISNA(VLOOKUP($F$580,$F$581:$J$591,2,FALSE)),\"\",IF($F$580=FALSE,\"\",VLOOKUP($F$580,$F$581:$J$591,2))))","v":""},null,{"$f":"IF($R$33=0,\"\",IF(ISNA(VLOOKUP($F$600,$F$601:$J$610,2,FALSE)),\"\",IF($F$600=FALSE,\"\",VLOOKUP($F$600,$F$601:$J$610,2))))","v":""},null,{"$f":"IF($T$33=0,\"\",IF(ISNA(VLOOKUP($F$620,$F$621:$J$630,2,FALSE)),\"\",IF($F$620=FALSE,\"\",VLOOKUP($F$620,$F$621:$J$630,2))))","v":""},null,{"$f":"IF($V$33=0,\"\",IF(ISNA(VLOOKUP($F$640,$F$641:$J$650,2,FALSE)),\"\",IF($F$640=FALSE,\"\",VLOOKUP($F$640,$F$641:$J$650,2))))","v":""},null,{"$f":"IF($X$33=0,\"\",IF(ISNA(VLOOKUP($F$660,$F$661:$J$670,2,FALSE)),\"\",IF($F$660=FALSE,\"\",VLOOKUP($F$660,$F$661:$J$670,2))))","v":""},null,null,null,null,null,null,null,null,null,null,null,null,null,null,null,null,null,null,null,null,null,null,null,null,null,null,null,null,null,null,null,null,33]
["TE 7",{"$f":"IF($B$33=0,\"\",IF(ISNA(VLOOKUP($F$440,$F$441:$J$450,3,FALSE)),\"\",IF($F$440=FALSE,\"\",VLOOKUP($F$440,$F$441:$J$450,3))))","v":""},null,{"$f":"IF($D$33=0,\"\",IF(ISNA(VLOOKUP($F$460,$F$461:$J$470,3,FALSE)),\"\",IF($F$460=FALSE,\"\",VLOOKUP($F$460,$F$461:$J$470,3))))","v":""},null,{"$f":"IF($F$33=0,\"\",IF(ISNA(VLOOKUP($F$480,$F$481:$J$490,3,FALSE)),\"\",IF($F$480=FALSE,\"\",VLOOKUP($F$480,$F$481:$J$490,3))))","v":""},null,{"$f":"IF($H$33=0,\"\",IF(ISNA(VLOOKUP($F$500,$F$501:$J$510,3,FALSE)),\"\",IF($F$500=FALSE,\"\",VLOOKUP($F$500,$F$501:$J$510,3))))","v":""},null,{"$f":"IF($J$33=0,\"\",IF(ISNA(VLOOKUP($F$520,$F$521:$J$530,3,FALSE)),\"\",IF($F$520=FALSE,\"\",VLOOKUP($F$520,$F$521:$J$530,3))))","v":""},null,{"$f":"IF($L$33=0,\"\",IF(ISNA(VLOOKUP($F$540,$F$541:$J$550,3,FALSE)),\"\",IF($F$540=FALSE,\"\",VLOOKUP($F$540,$F$541:$J$550,3))))","v":""},null,{"$f":"IF($N$33=0,\"\",IF(ISNA(VLOOKUP($F$560,$F$561:$J$570,3,FALSE)),\"\",IF($F$560=FALSE,\"\",VLOOKUP($F$560,$F$561:$J$570,3))))","v":""},null,{"$f":"IF($P$33=0,\"\",IF(ISNA(VLOOKUP($F$580,$F$581:$J$591,3,FALSE)),\"\",IF($F$580=FALSE,\"\",VLOOKUP($F$580,$F$581:$J$591,3))))","v":""},null,{"$f":"IF($R$33=0,\"\",IF(ISNA(VLOOKUP($F$600,$F$601:$J$610,3,FALSE)),\"\",IF($F$600=FALSE,\"\",VLOOKUP($F$600,$F$601:$J$610,3))))","v":""},null,{"$f":"IF($T$33=0,\"\",IF(ISNA(VLOOKUP($F$620,$F$621:$J$630,3,FALSE)),\"\",IF($F$620=FALSE,\"\",VLOOKUP($F$620,$F$621:$J$630,3))))","v":""},null,{"$f":"IF($V$33=0,\"\",IF(ISNA(VLOOKUP($F$640,$F$641:$J$650,3,FALSE)),\"\",IF($F$640=FALSE,\"\",VLOOKUP($F$640,$F$641:$J$650,3))))","v":""},null,{"$f":"IF($X$33=0,\"\",IF(ISNA(VLOOKUP($F$660,$F$661:$J$670,3,FALSE)),\"\",IF($F$660=FALSE,\"\",VLOOKUP($F$660,$F$661:$J$670,3))))","v":""},null,null,null,null,null,null,null,null,null,null,null,null,null,null,null,null,null,null,null,null,null,null,null,null,null,null,null,null,null,null,null,null,34]
["Einzel-Preis 8",{"$f":"IF($B$33=0,\"\",IF(ISNA(VLOOKUP($F$440,$F$441:$J$450,4,FALSE)),\"\",IF($F$440=FALSE,\"\",VLOOKUP($F$440,$F$441:$J$450,4))))","v":""},null,{"$f":"IF($D$33=0,\"\",IF(ISNA(VLOOKUP($F$460,$F$461:$J$470,4,FALSE)),\"\",IF($F$460=FALSE,\"\",VLOOKUP($F$460,$F$461:$J$470,4))))","v":""},null,{"$f":"IF($F$33=0,\"\",IF(ISNA(VLOOKUP($F$480,$F$481:$J$490,4,FALSE)),\"\",IF($F$480=FALSE,\"\",VLOOKUP($F$480,$F$481:$J$490,4))))","v":""},null,{"$f":"IF($H$33=0,\"\",IF(ISNA(VLOOKUP($F$500,$F$501:$J$510,4,FALSE)),\"\",IF($F$500=FALSE,\"\",VLOOKUP($F$500,$F$501:$J$510,4))))","v":""},null,{"$f":"IF($J$33=0,\"\",IF(ISNA(VLOOKUP($F$520,$F$521:$J$530,4,FALSE)),\"\",IF($F$520=FALSE,\"\",VLOOKUP($F$520,$F$521:$J$530,4))))","v":""},null,{"$f":"IF($L$33=0,\"\",IF(ISNA(VLOOKUP($F$540,$F$541:$J$550,4,FALSE)),\"\",IF($F$540=FALSE,\"\",VLOOKUP($F$540,$F$541:$J$550,4))))","v":""},null,{"$f":"IF($N$33=0,\"\",IF(ISNA(VLOOKUP($F$560,$F$561:$J$570,4,FALSE)),\"\",IF($F$560=FALSE,\"\",VLOOKUP($F$560,$F$561:$J$570,4))))","v":""},null,{"$f":"IF($P$33=0,\"\",IF(ISNA(VLOOKUP($F$580,$F$581:$J$591,4,FALSE)),\"\",IF($F$580=FALSE,\"\",VLOOKUP($F$580,$F$581:$J$591,4))))","v":""},null,{"$f":"IF($R$33=0,\"\",IF(ISNA(VLOOKUP($F$600,$F$601:$J$610,4,FALSE)),\"\",IF($F$600=FALSE,\"\",VLOOKUP($F$600,$F$601:$J$610,4))))","v":""},null,{"$f":"IF($T$33=0,\"\",IF(ISNA(VLOOKUP($F$620,$F$621:$J$630,4,FALSE)),\"\",IF($F$620=FALSE,\"\",VLOOKUP($F$620,$F$621:$J$630,4))))","v":""},null,{"$f":"IF($V$33=0,\"\",IF(ISNA(VLOOKUP($F$640,$F$641:$J$650,4,FALSE)),\"\",IF($F$640=FALSE,\"\",VLOOKUP($F$640,$F$641:$J$650,4))))","v":""},null,{"$f":"IF($X$33=0,\"\",IF(ISNA(VLOOKUP($F$660,$F$661:$J$670,4,FALSE)),\"\",IF($F$660=FALSE,\"\",VLOOKUP($F$660,$F$661:$J$670,4))))","v":""},null,null,null,null,null,null,null,null,null,null,null,null,null,null,null,null,null,null,null,null,null,null,null,null,null,null,null,null,null,null,null,null,35]
["Artikel-Nr. Zusatzkabel - 1  9",{"$f":"IF(OR($B$42=\"N\",$B$34=0),\"\",IF($F$440=FALSE,\"\",IF($F$440=0,\"\",$G$451)))","v":""},null,{"$f":"IF(OR($D$42=\"N\",$D$34=0),\"\",IF($F$460=FALSE,\"\",IF($F$460=0,\"\",$G$471)))","v":""},null,{"$f":"IF(OR($F$42=\"N\",$F$34=0),\"\",IF($F$480=FALSE,\"\",IF($F$480=0,\"\",$G$491)))","v":""},null,{"$f":"IF(OR($H$42=\"N\",$H$34=0),\"\",IF($F$500=FALSE,\"\",IF($F$500=0,\"\",$G$511)))","v":""},null,{"$f":"IF(OR($J$42=\"N\",$J$34=0),\"\",IF($F$520=FALSE,\"\",IF($F$520=0,\"\",$G$531)))","v":""},null,{"$f":"IF(OR($L$42=\"N\",$L$34=0),\"\",IF($F$540=FALSE,\"\",IF($F$540=0,\"\",$G$551)))","v":""},null,{"$f":"IF(OR($N$42=\"N\",$N$34=0),\"\",IF($F$560=FALSE,\"\",IF($F$560=0,\"\",$G$571)))","v":""},null,{"$f":"IF(OR($P$42=\"N\",$P$34=0),\"\",IF($F$580=FALSE,\"\",IF($F$580=0,\"\",$G$591)))","v":""},null,{"$f":"IF(OR($R$42=\"N\",$R$34=0),\"\",IF($F$600=FALSE,\"\",IF($F$600=0,\"\",$G$611)))","v":""},null,{"$f":"IF(OR($T$42=\"N\",$T$34=0),\"\",IF($F$620=FALSE,\"\",IF($F$620=0,\"\",$G$631)))","v":""},null,{"$f":"IF(OR($V$42=\"N\",$V$34=0),\"\",IF($F$640=FALSE,\"\",IF($F$640=0,\"\",$G$651)))","v":""},null,{"$f":"IF(OR($X$42=\"N\",$X$34=0),\"\",IF($F$660=FALSE,\"\",IF($F$660=0,\"\",$G$671)))","v":""},null,null,null,null,null,null,null,null,null,null,null,null,null,null,null,null,null,null,null,null,null,null,null,null,null,null,null,null,null,null,null,null,36]
["zusätzliche Kabellänge /m 10",{"$f":"IF(OR($B$42=\"N\",$B$34=0),\"\",IF($F$440=FALSE,\"\",IF($F$440=0,\"\",$I$451)))","v":""},null,{"$f":"IF(OR($D$42=\"N\",$D$34=0),\"\",IF($F$460=FALSE,\"\",IF($F$460=0,\"\",$I$471)))","v":""},null,{"$f":"IF(OR($F$42=\"N\",$F$34=0),\"\",IF($F$480=FALSE,\"\",IF($F$480=0,\"\",$I$491)))","v":""},null,{"$f":"IF(OR($H$42=\"N\",$H$34=0),\"\",IF($F$500=FALSE,\"\",IF($F$500=0,\"\",$I$511)))","v":""},null,{"$f":"IF(OR($J$42=\"N\",$J$34=0),\"\",IF($F$520=FALSE,\"\",IF($F$520=0,\"\",$I$531)))","v":""},null,{"$f":"IF(OR($L$42=\"N\",$L$34=0),\"\",IF($F$540=FALSE,\"\",IF($F$540=0,\"\",$I$551)))","v":""},null,{"$f":"IF(OR($N$42=\"N\",$N$34=0),\"\",IF($F$560=FALSE,\"\",IF($F$560=0,\"\",$I$571)))","v":""},null,{"$f":"IF(OR($P$42=\"N\",$P$34=0),\"\",IF($F$580=FALSE,\"\",IF($F$580=0,\"\",$I$591)))","v":""},null,{"$f":"IF(OR($R$42=\"N\",$R$34=0),\"\",IF($F$600=FALSE,\"\",IF($F$600=0,\"\",$I$611)))","v":""},null,{"$f":"IF(OR($T$42=\"N\",$T$34=0),\"\",IF($F$620=FALSE,\"\",IF($F$620=0,\"\",$I$631)))","v":""},null,{"$f":"IF(OR($V$42=\"N\",$V$34=0),\"\",IF($F$640=FALSE,\"\",IF($F$640=0,\"\",$I$651)))","v":""},null,{"$f":"IF(OR($X$42=\"N\",$X$34=0),\"\",IF($F$660=FALSE,\"\",IF($F$660=0,\"\",$I$671)))","v":""},null,null,null,null,null,null,null,null,null,null,null,null,null,null,null,null,null,null,null,null,null,null,null,null,null,null,null,null,null,null,null,null,37]
["Artikel-Nr. Zusatzkabel Audio  11",{"$f":"IF(OR($B$42=\"N\",$B$34=0,$G$453=\"\"),\"\",IF($F$440=FALSE,\"\",IF($F$440=0,\"\",$G$453)))","v":""},null,{"$f":"IF(OR($D$42=\"N\",$D$34=0,$G$473=\"\"),\"\",IF($F$460=FALSE,\"\",IF($F$460=0,\"\",$G$473)))","v":""},null,{"$f":"IF(OR($F$42=\"N\",$F$34=0,$G$493=\"\"),\"\",IF($F$480=FALSE,\"\",IF($F$480=0,\"\",$G$493)))","v":""},null,{"$f":"IF(OR($H$42=\"N\",$H$34=0,$G$513=\"\"),\"\",IF($F$500=FALSE,\"\",IF($F$500=0,\"\",$G$513)))","v":""},null,{"$f":"IF(OR($J$42=\"N\",$J$34=0,$G$533=\"\"),\"\",IF($F$520=FALSE,\"\",IF($F$520=0,\"\",$G$533)))","v":""},null,{"$f":"IF(OR($L$42=\"N\",$L$34=0,$G$553=\"\"),\"\",IF($F$540=FALSE,\"\",IF($F$540=0,\"\",$G$553)))","v":""},null,{"$f":"IF(OR($N$42=\"N\",$N$34=0,$G$573=\"\"),\"\",IF($F$560=FALSE,\"\",IF($F$560=0,\"\",$G$573)))","v":""},null,{"$f":"IF(OR($P$42=\"N\",$P$34=0,$G$593=\"\"),\"\",IF($F$580=FALSE,\"\",IF($F$580=0,\"\",$G$593)))","v":""},null,{"$f":"IF(OR($R$42=\"N\",$R$34=0,$G$613=\"\"),\"\",IF($F$600=FALSE,\"\",IF($F$600=0,\"\",$G$613)))","v":""},null,{"$f":"IF(OR($T$42=\"N\",$T$34=0,$G$633=\"\"),\"\",IF($F$620=FALSE,\"\",IF($F$620=0,\"\",$G$633)))","v":""},null,{"$f":"IF(OR($V$42=\"N\",$V$34=0,$G$653=\"\"),\"\",IF($F$640=FALSE,\"\",IF($F$640=0,\"\",$G$653)))","v":""},null,{"$f":"IF(OR($X$42=\"N\",$X$34=0,$G$673=\"\"),\"\",IF($F$660=FALSE,\"\",IF($F$660=0,\"\",$G$673)))","v":""},null,null,null,null,null,null,null,null,null,null,null,null,null,null,null,null,null,null,null,null,null,null,null,null,null,null,null,null,null,null,null,null,38]
["zusätzliche Kabellänge Audio /m 12",{"$f":"IF(OR($B$42=\"N\",$B$34=0,$G$453=\"\"),\"\",IF($F$440=FALSE,\"\",IF($F$440=0,\"\",$I$453)))","v":""},null,{"$f":"IF(OR($D$42=\"N\",$D$34=0,$G$473=\"\"),\"\",IF($F$460=FALSE,\"\",IF($F$460=0,\"\",$I$473)))","v":""},null,{"$f":"IF(OR($F$42=\"N\",$F$34=0,$G$493=\"\"),\"\",IF($F$480=FALSE,\"\",IF($F$480=0,\"\",$I$493)))","v":""},null,{"$f":"IF(OR($H$42=\"N\",$H$34=0,$G$513=\"\"),\"\",IF($F$500=FALSE,\"\",IF($F$500=0,\"\",$I$513)))","v":""},null,{"$f":"IF(OR($J$42=\"N\",$J$34=0,$G$533=\"\"),\"\",IF($F$520=FALSE,\"\",IF($F$520=0,\"\",$I$533)))","v":""},null,{"$f":"IF(OR($L$42=\"N\",$L$34=0,$G$553=\"\"),\"\",IF($F$540=FALSE,\"\",IF($F$540=0,\"\",$I$553)))","v":""},null,{"$f":"IF(OR($N$42=\"N\",$N$34=0,$G$573=\"\"),\"\",IF($F$560=FALSE,\"\",IF($F$560=0,\"\",$I$573)))","v":""},null,{"$f":"IF(OR($P$42=\"N\",$P$34=0,$G$593=\"\"),\"\",IF($F$580=FALSE,\"\",IF($F$580=0,\"\",$I$592)))","v":""},null,{"$f":"IF(OR($R$42=\"N\",$R$34=0,$G$613=\"\"),\"\",IF($F$600=FALSE,\"\",IF($F$600=0,\"\",$I$613)))","v":""},null,{"$f":"IF(OR($T$42=\"N\",$T$34=0,$G$633=\"\"),\"\",IF($F$620=FALSE,\"\",IF($F$620=0,\"\",$I$633)))","v":""},null,{"$f":"IF(OR($V$42=\"N\",$V$34=0,$G$653=\"\"),\"\",IF($F$640=FALSE,\"\",IF($F$640=0,\"\",$I$653)))","v":""},null,{"$f":"IF(OR($X$42=\"N\",$X$34=0,$G$673=\"\"),\"\",IF($F$660=FALSE,\"\",IF($F$660=0,\"\",$I$673)))","v":""},null,null,null,null,null,null,null,null,null,null,null,null,null,null,null,null,null,null,null,null,null,null,null,null,null,null,null,null,null,null,null,null,39]
["(je ausgewähltem Anschluss) Kabel J/N 13",{"$f":"IF(ISNA(VLOOKUP($F$440,$F$441:$J$450,5,FALSE)),\"\",IF($F$440=FALSE,\"\",VLOOKUP($F$440,$F$441:$J$450,5)))","v":""},null,{"$f":"IF(ISNA(VLOOKUP($F$460,$F$461:$J$470,5,FALSE)),\"\",IF($F$460=FALSE,\"\",VLOOKUP($F$460,$F$461:$J$470,5)))","v":""},null,{"$f":"IF(ISNA(VLOOKUP($F$480,$F$481:$J$490,5,FALSE)),\"\",IF($F$480=FALSE,\"\",VLOOKUP($F$480,$F$481:$J$490,5)))","v":""},null,{"$f":"IF(ISNA(VLOOKUP($F$500,$F$501:$J$510,5,FALSE)),\"\",IF($F$500=FALSE,\"\",VLOOKUP($F$500,$F$501:$J$510,5)))","v":""},null,{"$f":"IF(ISNA(VLOOKUP($F$520,$F$521:$J$530,5,FALSE)),\"\",IF($F$520=FALSE,\"\",VLOOKUP($F$520,$F$521:$J$530,5)))","v":""},null,{"$f":"IF(ISNA(VLOOKUP($F$540,$F$541:$J$550,5,FALSE)),\"\",IF($F$540=FALSE,\"\",VLOOKUP($F$540,$F$541:$J$550,5)))","v":""},null,{"$f":"IF(ISNA(VLOOKUP($F$560,$F$561:$J$570,5,FALSE)),\"\",IF($F$560=FALSE,\"\",VLOOKUP($F$560,$F$561:$J$570,5)))","v":""},null,{"$f":"IF(ISNA(VLOOKUP($F$580,$F$581:$J$590,5,FALSE)),\"\",IF($F$580=FALSE,\"\",VLOOKUP($F$580,$F$581:$J$590,5)))","v":""},null,{"$f":"IF(ISNA(VLOOKUP($F$600,$F$601:$J$610,5,FALSE)),\"\",IF($F$600=FALSE,\"\",VLOOKUP($F$600,$F$601:$J$610,5)))","v":""},null,{"$f":"IF(ISNA(VLOOKUP($F$620,$F$621:$J$630,5,FALSE)),\"\",IF($F$620=FALSE,\"\",VLOOKUP($F$620,$F$621:$J$630,5)))","v":""},null,{"$f":"IF(ISNA(VLOOKUP($F$640,$F$641:$J$650,5,FALSE)),\"\",IF($F$640=FALSE,\"\",VLOOKUP($F$640,$F$641:$J$650,5)))","v":""},null,{"$f":"IF(ISNA(VLOOKUP($F$660,$F$661:$J$670,5,FALSE)),\"\",IF($F$660=FALSE,\"\",VLOOKUP($F$660,$F$661:$J$670,5)))","v":""},null,null,null,null,null,null,null,null,null,null,null,null,null,null,null,null,null,null,null,null,null,null,null,null,null,null,null,null,null,null,null,null,40]
["Zusätzliche Kabellänge 14",{"$f":"IF(B42=\"N\",0,(B34*B33)+B32)","v":0},null,{"$f":"IF(D42=\"N\",0,(D34*D33)+D32)","v":0},null,{"$f":"IF(F42=\"N\",0,(F34*F33)+F32)","v":0},null,{"$f":"IF(H42=\"N\",0,(H34*H33)+H32)","v":0},null,{"$f":"IF(J42=\"N\",0,(J34*J33)+J32)","v":0},null,{"$f":"IF(L42=\"N\",0,(L34*L33)+L32)","v":0},null,{"$f":"IF(N42=\"N\",0,(N34*N33)+N32)","v":0},null,{"$f":"IF(P42=\"N\",0,(P34*P33)+P32)","v":0},null,{"$f":"IF(R42=\"N\",0,(R34*R33)+R32)","v":0},null,{"$f":"IF(T42=\"N\",0,(T34*T33)+T32)","v":0},null,{"$f":"IF(V42=\"N\",0,(V34*V33)+V32)","v":0},null,{"$f":"IF(X42=\"N\",0,(X34*X33)+X32)","v":0},null,null,null,null,null,null,null,null,null,null,null,null,null,null,null,null,null,null,null,null,null,null,null,null,null,null,null,null,null,null,null,null,41]
["Summe TE 15",{"$f":"IF(B$33=0,\"\",B$33*B$36)","v":""},null,{"$f":"IF(D$33=0,\"\",D$33*D$36)","v":""},null,{"$f":"IF(F$33=0,\"\",F$33*F$36)","v":""},null,{"$f":"IF(H$33=0,\"\",H$33*H$36)","v":""},null,{"$f":"IF(J$33=0,\"\",J$33*J$36)","v":""},null,{"$f":"IF(L$33=0,\"\",L$33*L$36)","v":""},null,{"$f":"IF(N$33=0,\"\",N$33*N$36)","v":""},null,{"$f":"IF(P$33=0,\"\",P$33*P$36)","v":""},null,{"$f":"IF(R$33=0,\"\",R$33*R$36)","v":""},null,{"$f":"IF(T$33=0,\"\",T$33*T$36)","v":""},null,{"$f":"IF(V$33=0,\"\",V$33*V$36)","v":""},null,{"$f":"IF(X$33=0,\"\",X$33*X$36)","v":""},null,null,null,null,null,null,null,null,null,null,null,null,null,null,null,null,null,null,null,null,null,null,null,null,null,null,null,null,null,null,null,null,42]
["Datenaufbereitung",440,null,460,null,480,null,500,null,520,null,540,null,560,null,580,null,600,null,620,null,640,null,660,null,null,null,null,null,null,null,null,null,null,null,null,null,null,null,null,null,null,null,null,null,null,null,null,null,null,null,null,null,null,null,null,43]
["Konfigurator",440,null,460,null,480,null,500,null,520,null,540,null,560,null,580,null,600,null,620,null,640,null,660,null,null,null,null,null,null,null,null,null,null,null,null,null,null,null,null,null,null,null,null,null,null,null,null,null,null,null,null,null,null,null,null,44]
[null,null,null,null,null,null,null,null,null,null,null,null,null,null,null,null,null,null,null,null,null,null,null,null,null,null,null,null,null,null,null,null,null,null,null,null,null,null,null,null,null,null,null,null,null,null,null,null,null,null,null,null,null,null,null,null,45]
[null,null,null,null,null,null,null,null,null,null,null,null,null,null,null,null,null,null,null,null,null,null,null,null,null,null,null,null,null,null,null,null,null,null,null,null,null,null,null,null,null,null,null,null,null,null,null,null,null,null,null,null,null,null,null,null,46]
["Modulreihe - 3",{"$f":"$A680","v":"Cinch-Bu.-ge"},null,{"$f":"$A700","v":"Cinch-Bu.-sw"},null,{"$f":"$A720","v":"Cinch-Bu.-rt"},null,{"$f":"$A740","v":"Cinch-Bu.-gn"},null,{"$f":"$A760","v":"Cinch-Bu.-bl"},null,{"$f":"$A780","v":"3xCinch-Bu."},null,{"$f":"$A800","v":"Frei 800"},null,{"$f":"$A820","v":"3,5Kl. 4p.-Bu."},null,{"$f":"$A840","v":"RJ45-Bu."},null,{"$f":"$A860","v":"USB-A-Bu."},null,{"$f":"$A880","v":"USB-B-Bu."},null,{"$f":"$A900","v":"USB-A-Bu."},null,null,null,null,null,null,null,null,null,null,null,null,null,null,null,null,null,null,null,null,null,null,null,null,null,null,null,null,null,null,null,null,47]
["Laufende Nummer 1",{"$f":"IF(B$51<1,\"\",SUM($B$11:$X$11)+SUM($B$31:X$31)+SUM($B$51))","v":""},null,{"$f":"IF(D$51<1,\"\",SUM($B$11:$X$11)+SUM($B$31:$X$31)+SUM($B$51:D$51))","v":""},null,{"$f":"IF(F$51<1,\"\",SUM($B$11:$X$11)+SUM($B$31:$X$31)+SUM($B$51:F$51))","v":""},null,{"$f":"IF(H$51<1,\"\",SUM($B$11:$X$11)+SUM($B$31:$X$31)+SUM($B$51:H$51))","v":""},null,{"$f":"IF(J$51<1,\"\",SUM($B$11:$X$11)+SUM($B$31:$X$31)+SUM($B$51:J$51))","v":""},null,{"$f":"IF(L$51<1,\"\",SUM($B$11:$X$11)+SUM($B$31:$X$31)+SUM($B$51:L$51))","v":""},null,{"$f":"IF(N$51<1,\"\",SUM($B$11:$X$11)+SUM($B$31:$X$31)+SUM($B$51:N$51))","v":""},null,{"$f":"IF(P$51<1,\"\",SUM($B$11:$X$11)+SUM($B$31:$X$31)+SUM($B$51:P$51))","v":""},null,{"$f":"IF(R$51<1,\"\",SUM($B$11:$X$11)+SUM($B$31:$X$31)+SUM($B$51:R$51))","v":""},null,{"$f":"IF(T$51<1,\"\",SUM($B$11:$X$11)+SUM($B$31:$X$31)+SUM($B$51:T$51))","v":""},null,{"$f":"IF(V$51<1,\"\",SUM($B$11:$X$11)+SUM($B$31:$X$31)+SUM($B$51:V$51))","v":""},null,{"$f":"IF(X$51<1,\"\",SUM($B$11:$X$11)+SUM($B$31:$X$31)+SUM($B$51:X$51))","v":""},null,null,null,null,null,null,null,null,null,null,null,null,null,null,null,null,null,null,null,null,null,null,null,null,null,null,null,null,null,null,null,null,48]
["Modul ausgewählt 2",{"$f":"IF($F$680=0,0,IF(B$53>0,1,0))","v":0},null,{"$f":"IF($F$700=0,0,IF(D$53>0,1,0))","v":0},null,{"$f":"IF($F$720=0,0,IF(F$53>0,1,0))","v":0},null,{"$f":"IF($F$740=0,0,IF(H$53>0,1,0))","v":0},null,{"$f":"IF($F$760=0,0,IF(J$53>0,1,0))","v":0},null,{"$f":"IF($F$780=0,0,IF(L$53>0,1,0))","v":0},null,{"$f":"IF($F$800=0,0,IF(N$53>0,1,0))","v":0},null,{"$f":"IF($F$820=0,0,IF(P$53>0,1,0))","v":0},null,{"$f":"IF($F$840=0,0,IF(R$53>0,1,0))","v":0},null,{"$f":"IF($F$860=0,0,IF(T$53>0,1,0))","v":0},null,{"$f":"IF($F$880=0,0,IF(V$53>0,1,0))","v":0},null,{"$f":"IF($F$900=0,0,IF(X$53>0,1,0))","v":0},{"$f":"SUM(B11:X11)+SUM(B31:X31)+SUM(B51:X51)","v":0},null,null,null,null,null,null,null,null,null,null,null,null,null,null,null,null,null,null,null,null,null,null,null,null,null,null,null,null,null,null,null,49]
[" Abzug Standard-Kabellänge 3",{"$f":"IF(B$54>0,(-0.3*B$53),0)","v":0},null,{"$f":"IF(D$54>0,(-0.3*D$53),0)","v":0},null,{"$f":"IF(F$54>0,(-0.3*F$53),0)","v":0},null,{"$f":"IF(H$54>0,(-0.3*H$53),0)","v":0},null,{"$f":"IF(J$54>0,(-0.3*J$53),0)","v":0},null,{"$f":"IF(L$54>0,(-0.3*L$53),0)","v":0},null,{"$f":"IF(N$54>0,(-0.3*N$53),0)","v":0},null,{"$f":"IF(P$54>0,(-0.3*P$53),0)","v":0},null,{"$f":"IF(R$54>0,(-0.3*R$53),0)","v":0},null,{"$f":"IF(T$54>0,(-0.3*T$53),0)","v":0},null,{"$f":"IF(V$54>0,(-0.3*V$53),0)","v":0},null,{"$f":"IF(X$54>0,(-0.3*X$53),0)","v":0},null,null,null,null,null,null,null,null,null,null,null,null,null,null,null,null,null,null,null,null,null,null,null,null,null,null,null,null,null,null,null,null,50]
["Menge Module 4",{"$f":"Konfigurator!B63","v":0},null,{"$f":"Konfigurator!D63","v":0},null,{"$f":"Konfigurator!F63","v":0},null,{"$f":"Konfigurator!H63","v":0},null,{"$f":"Konfigurator!J63","v":0},null,{"$f":"Konfigurator!L63","v":0},null,{"$f":"Konfigurator!N63","v":0},null,{"$f":"Konfigurator!P63","v":0},null,{"$f":"Konfigurator!R63","v":0},null,{"$f":"Konfigurator!T63","v":0},null,{"$f":"Konfigurator!V63","v":0},null,{"$f":"Konfigurator!X63","v":0},null,null,null,null,null,null,null,null,null,null,null,null,null,null,null,null,null,null,null,null,null,null,null,null,null,null,null,null,null,null,null,null,51]
["Kabellänge (Meter) 5",{"$f":"Konfigurator!B64","v":0},null,{"$f":"Konfigurator!D64","v":0},null,{"$f":"Konfigurator!F64","v":0},null,{"$f":"Konfigurator!H64","v":0},null,{"$f":"Konfigurator!J64","v":0},null,{"$f":"Konfigurator!L64","v":0},null,{"$f":"Konfigurator!N64","v":0},null,{"$f":"Konfigurator!P64","v":0},null,{"$f":"Konfigurator!R64","v":0},null,{"$f":"Konfigurator!T64","v":0},null,{"$f":"Konfigurator!V64","v":0},null,{"$f":"Konfigurator!X64","v":0},null,null,null,null,null,null,null,null,null,null,null,null,null,null,null,null,null,null,null,null,null,null,null,null,null,null,null,null,null,null,null,null,52]
["Artikel-Nr. 6",{"$f":"IF($B$53=0,\"\",IF(ISNA(VLOOKUP($F$680,$F$681:$J$690,2,FALSE)),\"\",IF($F$680=FALSE,\"\",VLOOKUP($F$680,$F$681:$J$690,2))))","v":""},null,{"$f":"IF($D$53=0,\"\",IF(ISNA(VLOOKUP($F$700,$F$701:$J$710,2,FALSE)),\"\",IF($F$700=FALSE,\"\",VLOOKUP($F$700,$F$701:$J$710,2))))","v":""},null,{"$f":"IF($F$53=0,\"\",IF(ISNA(VLOOKUP($F$720,$F$721:$J$730,2,FALSE)),\"\",IF($F$720=FALSE,\"\",VLOOKUP($F$720,$F$721:$J$730,2))))","v":""},null,{"$f":"IF($H$53=0,\"\",IF(ISNA(VLOOKUP($F$740,$F$741:$J$750,2,FALSE)),\"\",IF($F$740=FALSE,\"\",VLOOKUP($F$740,$F$741:$J$750,2))))","v":""},null,{"$f":"IF($J$53=0,\"\",IF(ISNA(VLOOKUP($F$760,$F$761:$J$770,2,FALSE)),\"\",IF($F$760=FALSE,\"\",VLOOKUP($F$760,$F$761:$J$770,2))))","v":""},null,{"$f":"IF($L$53=0,\"\",IF(ISNA(VLOOKUP($F$780,$F$781:$J$790,2,FALSE)),\"\",IF($F$780=FALSE,\"\",VLOOKUP($F$780,$F$781:$J$790,2))))","v":""},null,{"$f":"IF($N$53=0,\"\",IF(ISNA(VLOOKUP($F$800,$F$801:$J$810,2,FALSE)),\"\",IF($F$800=FALSE,\"\",VLOOKUP($F$800,$F$801:$J$810,2))))","v":""},null,{"$f":"IF($P$53=0,\"\",IF(ISNA(VLOOKUP($F$820,$F$821:$J$831,2,FALSE)),\"\",IF($F$820=FALSE,\"\",VLOOKUP($F$820,$F$821:$J$831,2))))","v":""},null,{"$f":"IF($R$53=0,\"\",IF(ISNA(VLOOKUP($F$840,$F$841:$J$850,2,FALSE)),\"\",IF($F$840=FALSE,\"\",VLOOKUP($F$840,$F$841:$J$850,2))))","v":""},null,{"$f":"IF($T$53=0,\"\",IF(ISNA(VLOOKUP($F$860,$F$861:$J$870,2,FALSE)),\"\",IF($F$860=FALSE,\"\",VLOOKUP($F$860,$F$861:$J$870,2))))","v":""},null,{"$f":"IF($V$53=0,\"\",IF(ISNA(VLOOKUP($F$880,$F$881:$J$890,2,FALSE)),\"\",IF($F$880=FALSE,\"\",VLOOKUP($F$880,$F$881:$J$890,2))))","v":""},null,{"$f":"IF($X$53=0,\"\",IF(ISNA(VLOOKUP($F$900,$F$901:$J$910,2,FALSE)),\"\",IF($F$900=FALSE,\"\",VLOOKUP($F$900,$F$901:$J$910,2))))","v":""},null,null,null,null,null,null,null,null,null,null,null,null,null,null,null,null,null,null,null,null,null,null,null,null,null,null,null,null,null,null,null,null,53]
["TE 7",{"$f":"IF($B$53=0,\"\",IF(ISNA(VLOOKUP($F$680,$F$681:$J$690,3,FALSE)),\"\",IF($F$680=FALSE,\"\",VLOOKUP($F$680,$F$681:$J$690,3))))","v":""},null,{"$f":"IF($D$53=0,\"\",IF(ISNA(VLOOKUP($F$700,$F$701:$J$710,3,FALSE)),\"\",IF($F$700=FALSE,\"\",VLOOKUP($F$700,$F$701:$J$710,3))))","v":""},null,{"$f":"IF($F$53=0,\"\",IF(ISNA(VLOOKUP($F$720,$F$721:$J$730,3,FALSE)),\"\",IF($F$720=FALSE,\"\",VLOOKUP($F$720,$F$721:$J$730,3))))","v":""},null,{"$f":"IF($H$53=0,\"\",IF(ISNA(VLOOKUP($F$740,$F$741:$J$750,3,FALSE)),\"\",IF($F$740=FALSE,\"\",VLOOKUP($F$740,$F$741:$J$750,3))))","v":""},null,{"$f":"IF($J$53=0,\"\",IF(ISNA(VLOOKUP($F$760,$F$761:$J$770,3,FALSE)),\"\",IF($F$760=FALSE,\"\",VLOOKUP($F$760,$F$761:$J$770,3))))","v":""},null,{"$f":"IF($L$53=0,\"\",IF(ISNA(VLOOKUP($F$780,$F$781:$J$790,3,FALSE)),\"\",IF($F$780=FALSE,\"\",VLOOKUP($F$780,$F$781:$J$790,3))))","v":""},null,{"$f":"IF($N$53=0,\"\",IF(ISNA(VLOOKUP($F$800,$F$801:$J$810,3,FALSE)),\"\",IF($F$800=FALSE,\"\",VLOOKUP($F$800,$F$801:$J$810,3))))","v":""},null,{"$f":"IF($P$53=0,\"\",IF(ISNA(VLOOKUP($F$820,$F$821:$J$831,3,FALSE)),\"\",IF($F$820=FALSE,\"\",VLOOKUP($F$820,$F$821:$J$831,3))))","v":""},null,{"$f":"IF($R$53=0,\"\",IF(ISNA(VLOOKUP($F$840,$F$841:$J$850,3,FALSE)),\"\",IF($F$840=FALSE,\"\",VLOOKUP($F$840,$F$841:$J$850,3))))","v":""},null,{"$f":"IF($T$53=0,\"\",IF(ISNA(VLOOKUP($F$860,$F$861:$J$870,3,FALSE)),\"\",IF($F$860=FALSE,\"\",VLOOKUP($F$860,$F$861:$J$870,3))))","v":""},null,{"$f":"IF($V$53=0,\"\",IF(ISNA(VLOOKUP($F$880,$F$881:$J$890,3,FALSE)),\"\",IF($F$880=FALSE,\"\",VLOOKUP($F$880,$F$881:$J$890,3))))","v":""},null,{"$f":"IF($X$53=0,\"\",IF(ISNA(VLOOKUP($F$900,$F$901:$J$910,3,FALSE)),\"\",IF($F$900=FALSE,\"\",VLOOKUP($F$900,$F$901:$J$910,3))))","v":""},null,null,null,null,null,null,null,null,null,null,null,null,null,null,null,null,null,null,null,null,null,null,null,null,null,null,null,null,null,null,null,null,54]
["Einzel-Preis 8",{"$f":"IF($B$53=0,\"\",IF(ISNA(VLOOKUP($F$680,$F$681:$J$690,4,FALSE)),\"\",IF($F$680=FALSE,\"\",VLOOKUP($F$680,$F$681:$J$690,4))))","v":""},null,{"$f":"IF($D$53=0,\"\",IF(ISNA(VLOOKUP($F$700,$F$701:$J$710,4,FALSE)),\"\",IF($F$700=FALSE,\"\",VLOOKUP($F$700,$F$701:$J$710,4))))","v":""},null,{"$f":"IF($F$53=0,\"\",IF(ISNA(VLOOKUP($F$720,$F$721:$J$730,4,FALSE)),\"\",IF($F$720=FALSE,\"\",VLOOKUP($F$720,$F$721:$J$730,4))))","v":""},null,{"$f":"IF($H$53=0,\"\",IF(ISNA(VLOOKUP($F$740,$F$741:$J$750,4,FALSE)),\"\",IF($F$740=FALSE,\"\",VLOOKUP($F$740,$F$741:$J$750,4))))","v":""},null,{"$f":"IF($J$53=0,\"\",IF(ISNA(VLOOKUP($F$760,$F$761:$J$770,4,FALSE)),\"\",IF($F$760=FALSE,\"\",VLOOKUP($F$760,$F$761:$J$770,4))))","v":""},null,{"$f":"IF($L$53=0,\"\",IF(ISNA(VLOOKUP($F$780,$F$781:$J$790,4,FALSE)),\"\",IF($F$780=FALSE,\"\",VLOOKUP($F$780,$F$781:$J$790,4))))","v":""},null,{"$f":"IF($N$53=0,\"\",IF(ISNA(VLOOKUP($F$800,$F$801:$J$810,4,FALSE)),\"\",IF($F$800=FALSE,\"\",VLOOKUP($F$800,$F$801:$J$810,4))))","v":""},null,{"$f":"IF($P$53=0,\"\",IF(ISNA(VLOOKUP($F$820,$F$821:$J$831,4,FALSE)),\"\",IF($F$820=FALSE,\"\",VLOOKUP($F$820,$F$821:$J$831,4))))","v":""},null,{"$f":"IF($R$53=0,\"\",IF(ISNA(VLOOKUP($F$840,$F$841:$J$850,4,FALSE)),\"\",IF($F$840=FALSE,\"\",VLOOKUP($F$840,$F$841:$J$850,4))))","v":""},null,{"$f":"IF($T$53=0,\"\",IF(ISNA(VLOOKUP($F$860,$F$861:$J$870,4,FALSE)),\"\",IF($F$860=FALSE,\"\",VLOOKUP($F$860,$F$861:$J$870,4))))","v":""},null,{"$f":"IF($V$53=0,\"\",IF(ISNA(VLOOKUP($F$880,$F$881:$J$890,4,FALSE)),\"\",IF($F$880=FALSE,\"\",VLOOKUP($F$880,$F$881:$J$890,4))))","v":""},null,{"$f":"IF($X$53=0,\"\",IF(ISNA(VLOOKUP($F$900,$F$901:$J$910,4,FALSE)),\"\",IF($F$900=FALSE,\"\",VLOOKUP($F$900,$F$901:$J$910,4))))","v":""},null,null,null,null,null,null,null,null,null,null,null,null,null,null,null,null,null,null,null,null,null,null,null,null,null,null,null,null,null,null,null,null,55]
["Artikel-Nr. Zusatzkabel - 1  9",{"$f":"IF(OR($B$62=\"N\",$B$54=0),\"\",IF($F$680=FALSE,\"\",IF($F$680=0,\"\",$G$691)))","v":""},null,{"$f":"IF(OR($D$62=\"N\",$D$54=0),\"\",IF($F$700=FALSE,\"\",IF($F$700=0,\"\",$G$711)))","v":""},null,{"$f":"IF(OR($F$62=\"N\",$F$54=0),\"\",IF($F$720=FALSE,\"\",IF($F$720=0,\"\",$G$731)))","v":""},null,{"$f":"IF(OR($H$62=\"N\",$H$54=0),\"\",IF($F$740=FALSE,\"\",IF($F$740=0,\"\",$G$751)))","v":""},null,{"$f":"IF(OR($J$62=\"N\",$J$54=0),\"\",IF($F$760=FALSE,\"\",IF($F$760=0,\"\",$G$771)))","v":""},null,{"$f":"IF(OR($L$62=\"N\",$L$54=0),\"\",IF($F$780=FALSE,\"\",IF($F$780=0,\"\",$G$791)))","v":""},null,{"$f":"IF(OR($N$62=\"N\",$N$54=0),\"\",IF($F$800=FALSE,\"\",IF($F$800=0,\"\",$G$811)))","v":""},null,{"$f":"IF(OR($P$62=\"N\",$P$54=0),\"\",IF($F$820=FALSE,\"\",IF($F$820=0,\"\",$G$831)))","v":""},null,{"$f":"IF(OR($R$62=\"N\",$R$54=0),\"\",IF($F$840=FALSE,\"\",IF($F$840=0,\"\",$G$851)))","v":""},null,{"$f":"IF(OR($T$62=\"N\",$T$54=0),\"\",IF($F$860=FALSE,\"\",IF($F$860=0,\"\",$G$871)))","v":""},null,{"$f":"IF(OR($V$62=\"N\",$V$54=0),\"\",IF($F$880=FALSE,\"\",IF($F$880=0,\"\",$G$891)))","v":""},null,{"$f":"IF(OR($X$62=\"N\",$X$54=0),\"\",IF($F$900=FALSE,\"\",IF($F$900=0,\"\",$G$911)))","v":""},null,null,null,null,null,null,null,null,null,null,null,null,null,null,null,null,null,null,null,null,null,null,null,null,null,null,null,null,null,null,null,null,56]
["zusätzliche Kabellänge /m 10",{"$f":"IF(OR($B$62=\"N\",$B$54=0),\"\",IF($F$680=FALSE,\"\",IF($F$680=0,\"\",$I$691)))","v":""},null,{"$f":"IF(OR($D$62=\"N\",$D$54=0),\"\",IF($F$700=FALSE,\"\",IF($F$700=0,\"\",$I$711)))","v":""},null,{"$f":"IF(OR($F$62=\"N\",$F$54=0),\"\",IF($F$720=FALSE,\"\",IF($F$720=0,\"\",$I$731)))","v":""},null,{"$f":"IF(OR($H$62=\"N\",$H$54=0),\"\",IF($F$740=FALSE,\"\",IF($F$740=0,\"\",$I$751)))","v":""},null,{"$f":"IF(OR($J$62=\"N\",$J$54=0),\"\",IF($F$760=FALSE,\"\",IF($F$760=0,\"\",$I$771)))","v":""},null,{"$f":"IF(OR($L$62=\"N\",$L$54=0),\"\",IF($F$780=FALSE,\"\",IF($F$780=0,\"\",$I$791)))","v":""},null,{"$f":"IF(OR($N$62=\"N\",$N$54=0),\"\",IF($F$800=FALSE,\"\",IF($F$800=0,\"\",$I$811)))","v":""},null,{"$f":"IF(OR($P$62=\"N\",$P$54=0),\"\",IF($F$820=FALSE,\"\",IF($F$820=0,\"\",$I$831)))","v":""},null,{"$f":"IF(OR($R$62=\"N\",$R$54=0),\"\",IF($F$840=FALSE,\"\",IF($F$840=0,\"\",$I$851)))","v":""},null,{"$f":"IF(OR($T$62=\"N\",$T$54=0),\"\",IF($F$860=FALSE,\"\",IF($F$860=0,\"\",$I$871)))","v":""},null,{"$f":"IF(OR($V$62=\"N\",$V$54=0),\"\",IF($F$880=FALSE,\"\",IF($F$880=0,\"\",$I$891)))","v":""},null,{"$f":"IF(OR($X$62=\"N\",$X$54=0),\"\",IF($F$900=FALSE,\"\",IF($F$900=0,\"\",$I$911)))","v":""},null,null,null,null,null,null,null,null,null,null,null,null,null,null,null,null,null,null,null,null,null,null,null,null,null,null,null,null,null,null,null,null,57]
["Artikel-Nr. Zusatzkabel Audio  11",{"$f":"IF(OR($B$62=\"N\",$B$54=0,$G$693=\"\"),\"\",IF($F$680=FALSE,\"\",IF($F$680=0,\"\",$G$693)))","v":""},null,{"$f":"IF(OR($D$62=\"N\",$D$54=0,$G$713=\"\"),\"\",IF($F$700=FALSE,\"\",IF($F$700=0,\"\",$G$713)))","v":""},null,{"$f":"IF(OR($F$62=\"N\",$F$54=0,$G$733=\"\"),\"\",IF($F$720=FALSE,\"\",IF($F$720=0,\"\",$G$733)))","v":""},null,{"$f":"IF(OR($H$62=\"N\",$H$54=0,$G$753=\"\"),\"\",IF($F$740=FALSE,\"\",IF($F$740=0,\"\",$G$753)))","v":""},null,{"$f":"IF(OR($J$62=\"N\",$J$54=0,$G$773=\"\"),\"\",IF($F$760=FALSE,\"\",IF($F$760=0,\"\",$G$773)))","v":""},null,{"$f":"IF(OR($L$62=\"N\",$L$54=0,$G$793=\"\"),\"\",IF($F$780=FALSE,\"\",IF($F$780=0,\"\",$G$793)))","v":""},null,{"$f":"IF(OR($N$62=\"N\",$N$54=0,$G$813=\"\"),\"\",IF($F$800=FALSE,\"\",IF($F$800=0,\"\",$G$813)))","v":""},null,{"$f":"IF(OR($P$62=\"N\",$P$54=0,$G$833=\"\"),\"\",IF($F$820=FALSE,\"\",IF($F$820=0,\"\",$G$833)))","v":""},null,{"$f":"IF(OR($R$62=\"N\",$R$54=0,$G$853=\"\"),\"\",IF($F$840=FALSE,\"\",IF($F$840=0,\"\",$G$853)))","v":""},null,{"$f":"IF(OR($T$62=\"N\",$T$54=0,$G$873=\"\"),\"\",IF($F$860=FALSE,\"\",IF($F$860=0,\"\",$G$873)))","v":""},null,{"$f":"IF(OR($V$62=\"N\",$V$54=0,$G$893=\"\"),\"\",IF($F$880=FALSE,\"\",IF($F$880=0,\"\",$G$893)))","v":""},null,{"$f":"IF(OR($X$62=\"N\",$X$54=0,$G$913=\"\"),\"\",IF($F$900=FALSE,\"\",IF($F$900=0,\"\",$G$913)))","v":""},null,null,null,null,null,null,null,null,null,null,null,null,null,null,null,null,null,null,null,null,null,null,null,null,null,null,null,null,null,null,null,null,58]
["zusätzliche Kabellänge Audio /m 12",{"$f":"IF(OR($B$62=\"N\",$B$54=0,$G$693=\"\"),\"\",IF($F$680=FALSE,\"\",IF($F$680=0,\"\",$I$693)))","v":""},null,{"$f":"IF(OR($D$62=\"N\",$D$54=0,$G$713=\"\"),\"\",IF($F$700=FALSE,\"\",IF($F$700=0,\"\",$I$713)))","v":""},null,{"$f":"IF(OR($F$62=\"N\",$F$54=0,$G$733=\"\"),\"\",IF($F$720=FALSE,\"\",IF($F$720=0,\"\",$I$733)))","v":""},null,{"$f":"IF(OR($H$62=\"N\",$H$54=0,$G$753=\"\"),\"\",IF($F$740=FALSE,\"\",IF($F$740=0,\"\",$I$753)))","v":""},null,{"$f":"IF(OR($J$62=\"N\",$J$54=0,$G$773=\"\"),\"\",IF($F$760=FALSE,\"\",IF($F$760=0,\"\",$I$773)))","v":""},null,{"$f":"IF(OR($L$62=\"N\",$L$54=0,$G$793=\"\"),\"\",IF($F$780=FALSE,\"\",IF($F$780=0,\"\",$I$793)))","v":""},null,{"$f":"IF(OR($N$62=\"N\",$N$54=0,$G$813=\"\"),\"\",IF($F$800=FALSE,\"\",IF($F$800=0,\"\",$I$813)))","v":""},null,{"$f":"IF(OR($P$62=\"N\",$P$54=0,$G$833=\"\"),\"\",IF($F$820=FALSE,\"\",IF($F$820=0,\"\",$I$833)))","v":""},null,{"$f":"IF(OR($R$62=\"N\",$R$54=0,$G$853=\"\"),\"\",IF($F$840=FALSE,\"\",IF($F$840=0,\"\",$I$853)))","v":""},null,{"$f":"IF(OR($T$62=\"N\",$T$54=0,$G$873=\"\"),\"\",IF($F$860=FALSE,\"\",IF($F$860=0,\"\",$I$873)))","v":""},null,{"$f":"IF(OR($V$62=\"N\",$V$54=0,$G$893=\"\"),\"\",IF($F$880=FALSE,\"\",IF($F$880=0,\"\",$I$893)))","v":""},null,{"$f":"IF(OR($X$62=\"N\",$X$54=0,$G$913=\"\"),\"\",IF($F$900=FALSE,\"\",IF($F$900=0,\"\",$I$913)))","v":""},null,null,null,null,null,null,null,null,null,null,null,null,null,null,null,null,null,null,null,null,null,null,null,null,null,null,null,null,null,null,null,null,59]
["(je ausgewähltem Anschluss) Kabel J/N 13",{"$f":"IF(ISNA(VLOOKUP($F$680,$F$681:$J$690,5,FALSE)),\"\",IF($F$680=FALSE,\"\",VLOOKUP($F$680,$F$681:$J$690,5)))","v":""},null,{"$f":"IF(ISNA(VLOOKUP($F$700,$F$701:$J$710,5,FALSE)),\"\",IF($F$700=FALSE,\"\",VLOOKUP($F$700,$F$701:$J$710,5)))","v":""},null,{"$f":"IF(ISNA(VLOOKUP($F$720,$F$721:$J$730,5,FALSE)),\"\",IF($F$720=FALSE,\"\",VLOOKUP($F$720,$F$721:$J$730,5)))","v":""},null,{"$f":"IF(ISNA(VLOOKUP($F$740,$F$741:$J$750,5,FALSE)),\"\",IF($F$740=FALSE,\"\",VLOOKUP($F$740,$F$741:$J$750,5)))","v":""},null,{"$f":"IF(ISNA(VLOOKUP($F$760,$F$761:$J$770,5,FALSE)),\"\",IF($F$760=FALSE,\"\",VLOOKUP($F$760,$F$761:$J$770,5)))","v":""},null,{"$f":"IF(ISNA(VLOOKUP($F$780,$F$781:$J$790,5,FALSE)),\"\",IF($F$780=FALSE,\"\",VLOOKUP($F$780,$F$781:$J$790,5)))","v":""},null,{"$f":"IF(ISNA(VLOOKUP($F$800,$F$801:$J$810,5,FALSE)),\"\",IF($F$800=FALSE,\"\",VLOOKUP($F$800,$F$801:$J$810,5)))","v":""},null,{"$f":"IF(ISNA(VLOOKUP($F$820,$F$821:$J$830,5,FALSE)),\"\",IF($F$820=FALSE,\"\",VLOOKUP($F$820,$F$821:$J$830,5)))","v":""},null,{"$f":"IF(ISNA(VLOOKUP($F$840,$F$841:$J$850,5,FALSE)),\"\",IF($F$840=FALSE,\"\",VLOOKUP($F$840,$F$841:$J$850,5)))","v":""},null,{"$f":"IF(ISNA(VLOOKUP($F$860,$F$861:$J$870,5,FALSE)),\"\",IF($F$860=FALSE,\"\",VLOOKUP($F$860,$F$861:$J$870,5)))","v":""},null,{"$f":"IF(ISNA(VLOOKUP($F$880,$F$881:$J$890,5,FALSE)),\"\",IF($F$880=FALSE,\"\",VLOOKUP($F$880,$F$881:$J$890,5)))","v":""},null,{"$f":"IF(ISNA(VLOOKUP($F$900,$F$901:$J$910,5,FALSE)),\"\",IF($F$900=FALSE,\"\",VLOOKUP($F$900,$F$901:$J$910,5)))","v":""},null,null,null,null,null,null,null,null,null,null,null,null,null,null,null,null,null,null,null,null,null,null,null,null,null,null,null,null,null,null,null,null,60]
["Zusätzliche Kabellänge 14",{"$f":"IF(B62=\"N\",0,(B54*B53)+B52)","v":0},null,{"$f":"IF(D62=\"N\",0,(D54*D53)+D52)","v":0},null,{"$f":"IF(F62=\"N\",0,(F54*F53)+F52)","v":0},null,{"$f":"IF(H62=\"N\",0,(H54*H53)+H52)","v":0},null,{"$f":"IF(J62=\"N\",0,(J54*J53)+J52)","v":0},null,{"$f":"IF(L62=\"N\",0,(L54*L53)+L52)","v":0},null,{"$f":"IF(N62=\"N\",0,(N54*N53)+N52)","v":0},null,{"$f":"IF(P62=\"N\",0,(P54*P53)+P52)","v":0},null,{"$f":"IF(R62=\"N\",0,(R54*R53)+R52)","v":0},null,{"$f":"IF(T62=\"N\",0,(T54*T53)+T52)","v":0},null,{"$f":"IF(V62=\"N\",0,(V54*V53)+V52)","v":0},null,{"$f":"IF(X62=\"N\",0,(X54*X53)+X52)","v":0},null,null,null,null,null,null,null,null,null,null,null,null,null,null,null,null,null,null,null,null,null,null,null,null,null,null,null,null,null,null,null,null,61]
["Summe TE 15",{"$f":"IF(B$53=0,\"\",B$53*B$56)","v":""},null,{"$f":"IF(D$53=0,\"\",D$53*D$56)","v":""},null,{"$f":"IF(F$53=0,\"\",F$53*F$56)","v":""},null,{"$f":"IF(H$53=0,\"\",H$53*H$56)","v":""},null,{"$f":"IF(J$53=0,\"\",J$53*J$56)","v":""},null,{"$f":"IF(L$53=0,\"\",L$53*L$56)","v":""},null,{"$f":"IF(N$53=0,\"\",N$53*N$56)","v":""},null,{"$f":"IF(P$53=0,\"\",P$53*P$56)","v":""},null,{"$f":"IF(R$53=0,\"\",R$53*R$56)","v":""},null,{"$f":"IF(T$53=0,\"\",T$53*T$56)","v":""},null,{"$f":"IF(V$53=0,\"\",V$53*V$56)","v":""},null,{"$f":"IF(X$53=0,\"\",X$53*X$56)","v":""},null,null,null,null,null,null,null,null,null,null,null,null,null,null,null,null,null,null,null,null,null,null,null,null,null,null,null,null,null,null,null,null,62]
["Datenaufbereitung",680,null,700,null,720,null,740,null,760,null,780,null,800,null,820,null,840,null,860,null,880,null,900,null,null,null,null,null,null,null,null,null,null,null,null,null,null,null,null,null,null,null,null,null,null,null,null,null,null,null,null,null,null,null,null,63]
["Konfigurator","AFM",null,700,null,720,null,740,null,760,null,780,null,800,null,820,null,840,null,860,null,880,null,900,null,null,null,null,null,null,null,null,null,null,null,null,null,null,null,null,null,null,null,null,null,null,null,null,null,null,null,null,null,null,null,null,64]
[null,null,null,null,null,null,null,null,null,null,null,null,null,null,null,null,null,null,null,null,null,null,null,null,null,null,null,null,null,null,null,null,null,null,null,null,null,null,null,null,null,null,null,null,null,null,null,null,null,null,null,null,null,null,null,null,65]
[null,null,null,null,null,null,null,null,null,null,null,null,null,null,null,null,null,null,null,null,null,null,null,null,null,null,null,null,null,null,null,null,null,null,null,null,null,null,null,null,null,null,null,null,null,null,null,null,null,null,null,null,null,null,null,null,66]
["Modulreihe - 4",{"$f":"$A920","v":"BNC-Bu.-rt"},null,{"$f":"$A940","v":"BNC-Bu.-gn"},null,{"$f":"$A960","v":"BNC-Bu.-bl"},null,{"$f":"$A980","v":"BNC-Bu.-sw"},null,{"$f":"$A1000","v":"BNC-Bu.-ws"},null,{"$f":"$A1020","v":"BNC-Bu.-ge"},null,{"$f":"$A1040","v":"5xBNC-Bu."},null,{"$f":"$A1060","v":"Frei 1060"},null,{"$f":"$A1080","v":"Sub-D-9pin-Bu."},null,{"$f":"$A1100","v":"Sub-D-9pin-St."},null,{"$f":"$A1120","v":"Sub-D-15pin-Bu."},null,{"$f":"$A1140","v":"12p-MiniCon"},null,null,null,null,null,null,null,null,null,null,null,null,null,null,null,null,null,null,null,null,null,null,null,null,null,null,null,null,null,null,null,null,67]
["Laufende Nummer 1",{"$f":"IF(B$71<1,\"\",SUM($B$11:$X$11)+SUM($B$31:$X$31)+SUM($B$51:$X$51)+SUM($B$71))","v":""},null,{"$f":"IF(D$71<1,\"\",SUM($B$11:$X$11)+SUM($B$31:$X$31)+SUM($B$51:$X$51)+SUM($B$71:D$71))","v":""},null,{"$f":"IF(F$71<1,\"\",SUM($B$11:$X$11)+SUM($B$31:$X$31)+SUM($B$51:$X$51)+SUM($B$71:F$71))","v":""},null,{"$f":"IF(H$71<1,\"\",SUM($B$11:$X$11)+SUM($B$31:$X$31)+SUM($B$51:$X$51)+SUM($B$71:H$71))","v":""},null,{"$f":"IF(J$71<1,\"\",SUM($B$11:$X$11)+SUM($B$31:$X$31)+SUM($B$51:$X$51)+SUM($B$71:J$71))","v":""},null,{"$f":"IF(L$71<1,\"\",SUM($B$11:$X$11)+SUM($B$31:$X$31)+SUM($B$51:$X$51)+SUM($B$71:L$71))","v":""},null,{"$f":"IF(N$71<1,\"\",SUM($B$11:$X$11)+SUM($B$31:$X$31)+SUM($B$51:$X$51)+SUM($B$71:N$71))","v":""},null,{"$f":"IF(P$71<1,\"\",SUM($B$11:$X$11)+SUM($B$31:$X$31)+SUM($B$51:$X$51)+SUM($B$71:P$71))","v":""},null,{"$f":"IF(R$71<1,\"\",SUM($B$11:$X$11)+SUM($B$31:$X$31)+SUM($B$51:$X$51)+SUM($B$71:R$71))","v":""},null,{"$f":"IF(T$71<1,\"\",SUM($B$11:$X$11)+SUM($B$31:$X$31)+SUM($B$51:$X$51)+SUM($B$71:T$71))","v":""},null,{"$f":"IF(V$71<1,\"\",SUM($B$11:$X$11)+SUM($B$31:$X$31)+SUM($B$51:$X$51)+SUM($B$71:V$71))","v":""},null,{"$f":"IF(X$71<1,\"\",SUM($B$11:$X$11)+SUM($B$31:$X$31)+SUM($B$51:$X$51)+SUM($B$71:X$71))","v":""},null,null,null,null,null,null,null,null,null,null,null,null,null,null,null,null,null,null,null,null,null,null,null,null,null,null,null,null,null,null,null,null,68]
["Modul ausgewählt 2",{"$f":"IF($F$920=0,0,IF(B$73>0,1,0))","v":0},null,{"$f":"IF($F$940=0,0,IF(D$73>0,1,0))","v":0},null,{"$f":"IF($F$960=0,0,IF(F$73>0,1,0))","v":0},null,{"$f":"IF($F$980=0,0,IF(H$73>0,1,0))","v":0},null,{"$f":"IF($F$1000=0,0,IF(J$73>0,1,0))","v":0},null,{"$f":"IF($F$1020=0,0,IF(L$73>0,1,0))","v":0},null,{"$f":"IF($F$1040=0,0,IF(N$73>0,1,0))","v":0},null,{"$f":"IF($F$1060=0,0,IF(P$73>0,1,0))","v":0},null,{"$f":"IF($F$1080=0,0,IF(R$73>0,1,0))","v":0},null,{"$f":"IF($F$1100=0,0,IF(T$73>0,1,0))","v":0},null,{"$f":"IF($F$1120=0,0,IF(V$73>0,1,0))","v":0},null,{"$f":"IF($F$1140=0,0,IF(X$73>0,1,0))","v":0},{"$f":"SUM(B11:X11)+SUM(B31:X31)+SUM(B51:X51)+SUM(B71:X71)","v":0},null,null,null,null,null,null,null,null,null,null,null,null,null,null,null,null,null,null,null,null,null,null,null,null,null,null,null,null,null,null,null,69]
[" Abzug Standard-Kabellänge 3",{"$f":"IF(B$74>0,(-0.3*B$73),0)","v":0},null,{"$f":"IF(D$74>0,(-0.3*D$73),0)","v":0},null,{"$f":"IF(F$74>0,(-0.3*F$73),0)","v":0},null,{"$f":"IF(H$74>0,(-0.3*H$73),0)","v":0},null,{"$f":"IF(J$74>0,(-0.3*J$73),0)","v":0},null,{"$f":"IF(L$74>0,(-0.3*L$73),0)","v":0},null,{"$f":"IF(N$74>0,(-0.3*N$73),0)","v":0},null,{"$f":"IF(P$74>0,(-0.3*P$73),0)","v":0},null,{"$f":"IF(R$74>0,(-0.3*R$73),0)","v":0},null,{"$f":"IF(T$74>0,(-0.3*T$73),0)","v":0},null,{"$f":"IF(V$74>0,(-0.3*V$73),0)","v":0},null,{"$f":"IF(X$74>0,(-0.3*X$73),0)","v":0},null,null,null,null,null,null,null,null,null,null,null,null,null,null,null,null,null,null,null,null,null,null,null,null,null,null,null,null,null,null,null,null,70]
["Menge Module 4",{"$f":"Konfigurator!B73","v":0},null,{"$f":"Konfigurator!D73","v":0},null,{"$f":"Konfigurator!F73","v":0},null,{"$f":"Konfigurator!H73","v":0},null,{"$f":"Konfigurator!J73","v":0},null,{"$f":"Konfigurator!L73","v":0},null,{"$f":"Konfigurator!N73","v":0},null,{"$f":"Konfigurator!P73","v":0},null,{"$f":"Konfigurator!R73","v":0},null,{"$f":"Konfigurator!T73","v":0},null,{"$f":"Konfigurator!V73","v":0},null,{"$f":"Konfigurator!X73","v":0},null,null,null,null,null,null,null,null,null,null,null,null,null,null,null,null,null,null,null,null,null,null,null,null,null,null,null,null,null,null,null,null,71]
["Kabellänge (Meter) 5",{"$f":"Konfigurator!B74","v":0},null,{"$f":"Konfigurator!D74","v":0},null,{"$f":"Konfigurator!F74","v":0},null,{"$f":"Konfigurator!H74","v":0},null,{"$f":"Konfigurator!J74","v":0},null,{"$f":"Konfigurator!L74","v":0},null,{"$f":"Konfigurator!N74","v":0},null,{"$f":"Konfigurator!P74","v":0},null,{"$f":"Konfigurator!R74","v":0},null,{"$f":"Konfigurator!T74","v":0},null,{"$f":"Konfigurator!V74","v":0},null,{"$f":"Konfigurator!X74","v":0},null,null,null,null,null,null,null,null,null,null,null,null,null,null,null,null,null,null,null,null,null,null,null,null,null,null,null,null,null,null,null,null,72]
["Artikel-Nr. 6",{"$f":"IF($B$73=0,\"\",IF(ISNA(VLOOKUP($F$920,$F$921:$J$930,2,FALSE)),\"\",IF($F$920=FALSE,\"\",VLOOKUP($F$920,$F$921:$J$930,2))))","v":""},null,{"$f":"IF($D$73=0,\"\",IF(ISNA(VLOOKUP($F$940,$F$941:$J$950,2,FALSE)),\"\",IF($F$940=FALSE,\"\",VLOOKUP($F$940,$F$941:$J$950,2))))","v":""},null,{"$f":"IF($F$73=0,\"\",IF(ISNA(VLOOKUP($F$960,$F$961:$J$970,2,FALSE)),\"\",IF($F$960=FALSE,\"\",VLOOKUP($F$960,$F$961:$J$970,2))))","v":""},null,{"$f":"IF($H$73=0,\"\",IF(ISNA(VLOOKUP($F$980,$F$981:$J$990,2,FALSE)),\"\",IF($F$980=FALSE,\"\",VLOOKUP($F$980,$F$981:$J$990,2))))","v":""},null,{"$f":"IF($J$73=0,\"\",IF(ISNA(VLOOKUP($F$1000,$F$1001:$J$1010,2,FALSE)),\"\",IF($F$1000=FALSE,\"\",VLOOKUP($F$1000,$F$1001:$J$1010,2))))","v":""},null,{"$f":"IF($L$73=0,\"\",IF(ISNA(VLOOKUP($F$1020,$F$1021:$J$1030,2,FALSE)),\"\",IF($F$1020=FALSE,\"\",VLOOKUP($F$1020,$F$1021:$J$1030,2))))","v":""},null,{"$f":"IF($N$73=0,\"\",IF(ISNA(VLOOKUP($F$1040,$F$1041:$J$1050,2,FALSE)),\"\",IF($F$1040=FALSE,\"\",VLOOKUP($F$1040,$F$1041:$J$1050,2))))","v":""},null,{"$f":"IF($P$73=0,\"\",IF(ISNA(VLOOKUP($F$1060,$F$1061:$J$1071,2,FALSE)),\"\",IF($F$1060=FALSE,\"\",VLOOKUP($F$1060,$F$1061:$J$1071,2))))","v":""},null,{"$f":"IF($R$73=0,\"\",IF(ISNA(VLOOKUP($F$1080,$F$1081:$J$1090,2,FALSE)),\"\",IF($F$1080=FALSE,\"\",VLOOKUP($F$1080,$F$1081:$J$1090,2))))","v":""},null,{"$f":"IF($T$73=0,\"\",IF(ISNA(VLOOKUP($F$1100,$F$1101:$J$1110,2,FALSE)),\"\",IF($F$1100=FALSE,\"\",VLOOKUP($F$1100,$F$1101:$J$1110,2))))","v":""},null,{"$f":"IF($V$73=0,\"\",IF(ISNA(VLOOKUP($F$1120,$F$1121:$J$1130,2,FALSE)),\"\",IF($F$1120=FALSE,\"\",VLOOKUP($F$1120,$F$1121:$J$1130,2))))","v":""},null,{"$f":"IF($X$73=0,\"\",IF(ISNA(VLOOKUP($F$1140,$F$1141:$J$1150,2,FALSE)),\"\",IF($F$1140=FALSE,\"\",VLOOKUP($F$1140,$F$1141:$J$1150,2))))","v":""},null,null,null,null,null,null,null,null,null,null,null,null,null,null,null,null,null,null,null,null,null,null,null,null,null,null,null,null,null,null,null,null,73]
["TE 7",{"$f":"IF($B$73=0,\"\",IF(ISNA(VLOOKUP($F$920,$F$921:$J$930,3,FALSE)),\"\",IF($F$920=FALSE,\"\",VLOOKUP($F$920,$F$921:$J$930,3))))","v":""},null,{"$f":"IF($D$73=0,\"\",IF(ISNA(VLOOKUP($F$940,$F$941:$J$950,3,FALSE)),\"\",IF($F$940=FALSE,\"\",VLOOKUP($F$940,$F$941:$J$950,3))))","v":""},null,{"$f":"IF($F$73=0,\"\",IF(ISNA(VLOOKUP($F$960,$F$961:$J$970,3,FALSE)),\"\",IF($F$960=FALSE,\"\",VLOOKUP($F$960,$F$961:$J$970,3))))","v":""},null,{"$f":"IF($H$73=0,\"\",IF(ISNA(VLOOKUP($F$980,$F$981:$J$990,3,FALSE)),\"\",IF($F$980=FALSE,\"\",VLOOKUP($F$980,$F$981:$J$990,3))))","v":""},null,{"$f":"IF($J$73=0,\"\",IF(ISNA(VLOOKUP($F$1000,$F$1001:$J$1010,3,FALSE)),\"\",IF($F$1000=FALSE,\"\",VLOOKUP($F$1000,$F$1001:$J$1010,3))))","v":""},null,{"$f":"IF($L$73=0,\"\",IF(ISNA(VLOOKUP($F$1020,$F$1021:$J$1030,3,FALSE)),\"\",IF($F$1020=FALSE,\"\",VLOOKUP($F$1020,$F$1021:$J$1030,3))))","v":""},null,{"$f":"IF($N$73=0,\"\",IF(ISNA(VLOOKUP($F$1040,$F$1041:$J$1050,3,FALSE)),\"\",IF($F$1040=FALSE,\"\",VLOOKUP($F$1040,$F$1041:$J$1050,3))))","v":""},null,{"$f":"IF($P$73=0,\"\",IF(ISNA(VLOOKUP($F$1060,$F$1061:$J$1071,3,FALSE)),\"\",IF($F$1060=FALSE,\"\",VLOOKUP($F$1060,$F$1061:$J$1071,3))))","v":""},null,{"$f":"IF($R$73=0,\"\",IF(ISNA(VLOOKUP($F$1080,$F$1081:$J$1090,3,FALSE)),\"\",IF($F$1080=FALSE,\"\",VLOOKUP($F$1080,$F$1081:$J$1090,3))))","v":""},null,{"$f":"IF($T$73=0,\"\",IF(ISNA(VLOOKUP($F$1100,$F$1101:$J$1110,3,FALSE)),\"\",IF($F$1100=FALSE,\"\",VLOOKUP($F$1100,$F$1101:$J$1110,3))))","v":""},null,{"$f":"IF($V$73=0,\"\",IF(ISNA(VLOOKUP($F$1120,$F$1121:$J$1130,3,FALSE)),\"\",IF($F$1120=FALSE,\"\",VLOOKUP($F$1120,$F$1121:$J$1130,3))))","v":""},null,{"$f":"IF($X$73=0,\"\",IF(ISNA(VLOOKUP($F$1140,$F$1141:$J$1150,3,FALSE)),\"\",IF($F$1140=FALSE,\"\",VLOOKUP($F$1140,$F$1141:$J$1150,3))))","v":""},null,null,null,null,null,null,null,null,null,null,null,null,null,null,null,null,null,null,null,null,null,null,null,null,null,null,null,null,null,null,null,null,74]
["Einzel-Preis 8",{"$f":"IF($B$73=0,\"\",IF(ISNA(VLOOKUP($F$920,$F$921:$J$930,4,FALSE)),\"\",IF($F$920=FALSE,\"\",VLOOKUP($F$920,$F$921:$J$930,4))))","v":""},null,{"$f":"IF($D$73=0,\"\",IF(ISNA(VLOOKUP($F$940,$F$941:$J$950,4,FALSE)),\"\",IF($F$940=FALSE,\"\",VLOOKUP($F$940,$F$941:$J$950,4))))","v":""},null,{"$f":"IF($F$73=0,\"\",IF(ISNA(VLOOKUP($F$960,$F$961:$J$970,4,FALSE)),\"\",IF($F$960=FALSE,\"\",VLOOKUP($F$960,$F$961:$J$970,4))))","v":""},null,{"$f":"IF($H$73=0,\"\",IF(ISNA(VLOOKUP($F$980,$F$981:$J$990,4,FALSE)),\"\",IF($F$980=FALSE,\"\",VLOOKUP($F$980,$F$981:$J$990,4))))","v":""},null,{"$f":"IF($J$73=0,\"\",IF(ISNA(VLOOKUP($F$1000,$F$1001:$J$1010,4,FALSE)),\"\",IF($F$1000=FALSE,\"\",VLOOKUP($F$1000,$F$1001:$J$1010,4))))","v":""},null,{"$f":"IF($L$73=0,\"\",IF(ISNA(VLOOKUP($F$1020,$F$1021:$J$1030,42,FALSE)),\"\",IF($F$1020=FALSE,\"\",VLOOKUP($F$1020,$F$1021:$J$1030,4))))","v":""},null,{"$f":"IF($N$73=0,\"\",IF(ISNA(VLOOKUP($F$1040,$F$1041:$J$1050,4,FALSE)),\"\",IF($F$1040=FALSE,\"\",VLOOKUP($F$1040,$F$1041:$J$1050,4))))","v":""},null,{"$f":"IF($P$73=0,\"\",IF(ISNA(VLOOKUP($F$1060,$F$1061:$J$1071,4,FALSE)),\"\",IF($F$1060=FALSE,\"\",VLOOKUP($F$1060,$F$1061:$J$1071,4))))","v":""},null,{"$f":"IF($R$73=0,\"\",IF(ISNA(VLOOKUP($F$1080,$F$1081:$J$1090,4,FALSE)),\"\",IF($F$1080=FALSE,\"\",VLOOKUP($F$1080,$F$1081:$J$1090,4))))","v":""},null,{"$f":"IF($T$73=0,\"\",IF(ISNA(VLOOKUP($F$1100,$F$1101:$J$1110,4,FALSE)),\"\",IF($F$1100=FALSE,\"\",VLOOKUP($F$1100,$F$1101:$J$1110,4))))","v":""},null,{"$f":"IF($V$73=0,\"\",IF(ISNA(VLOOKUP($F$1120,$F$1121:$J$1130,4,FALSE)),\"\",IF($F$1120=FALSE,\"\",VLOOKUP($F$1120,$F$1121:$J$1130,4))))","v":""},null,{"$f":"IF($X$73=0,\"\",IF(ISNA(VLOOKUP($F$1140,$F$1141:$J$1150,4,FALSE)),\"\",IF($F$1140=FALSE,\"\",VLOOKUP($F$1140,$F$1141:$J$1150,4))))","v":""},null,null,null,null,null,null,null,null,null,null,null,null,null,null,null,null,null,null,null,null,null,null,null,null,null,null,null,null,null,null,null,null,75]
["Artikel-Nr. Zusatzkabel - 1  9",{"$f":"IF(OR($B$82=\"N\",$B$74=0),\"\",IF($F$920=FALSE,\"\",IF($F$920=0,\"\",$G$931)))","v":""},null,{"$f":"IF(OR($D$82=\"N\",$D$74=0),\"\",IF($F$940=FALSE,\"\",IF($F$940=0,\"\",$G$951)))","v":""},null,{"$f":"IF(OR($F$82=\"N\",$F$74=0),\"\",IF($F$960=FALSE,\"\",IF($F$960=0,\"\",$G$971)))","v":""},null,{"$f":"IF(OR($H$82=\"N\",$H$74=0),\"\",IF($F$980=FALSE,\"\",IF($F$980=0,\"\",$G$991)))","v":""},null,{"$f":"IF(OR($J$82=\"N\",$J$74=0),\"\",IF($F$1000=FALSE,\"\",IF($F$1000=0,\"\",$G$1011)))","v":""},null,{"$f":"IF(OR($L$82=\"N\",$L$74=0),\"\",IF($F$1020=FALSE,\"\",IF($F$1020=0,\"\",$G$1031)))","v":""},null,{"$f":"IF(OR($N$82=\"N\",$N$74=0),\"\",IF($F$1040=FALSE,\"\",IF($F$1040=0,\"\",$G$1051)))","v":""},null,{"$f":"IF(OR($P$82=\"N\",$P$74=0),\"\",IF($F$1060=FALSE,\"\",IF($F$1060=0,\"\",$G$1071)))","v":""},null,{"$f":"IF(OR($R$82=\"N\",$R$74=0),\"\",IF($F$1080=FALSE,\"\",IF($F$1080=0,\"\",$G$1091)))","v":""},null,{"$f":"IF(OR($T$82=\"N\",$T$74=0),\"\",IF($F$1100=FALSE,\"\",IF($F$1100=0,\"\",$G$1111)))","v":""},null,{"$f":"IF(OR($V$82=\"N\",$V$74=0),\"\",IF($F$1120=FALSE,\"\",IF($F$1120=0,\"\",$G$1131)))","v":""},null,{"$f":"IF(OR($X$82=\"N\",$X$74=0),\"\",IF($F$1140=FALSE,\"\",IF($F$1140=0,\"\",$G$1151)))","v":""},null,null,null,null,null,null,null,null,null,null,null,null,null,null,null,null,null,null,null,null,null,null,null,null,null,null,null,null,null,null,null,null,76]
["zusätzliche Kabellänge /m 10",{"$f":"IF(OR($B$82=\"N\",$B$74=0),\"\",IF($F$920=FALSE,\"\",IF($F$920=0,\"\",$I$931)))","v":""},null,{"$f":"IF(OR($D$82=\"N\",$D$74=0),\"\",IF($F$940=FALSE,\"\",IF($F$940=0,\"\",$I$951)))","v":""},null,{"$f":"IF(OR($F$82=\"N\",$F$74=0),\"\",IF($F$960=FALSE,\"\",IF($F$960=0,\"\",$I$971)))","v":""},null,{"$f":"IF(OR($H$82=\"N\",$H$74=0),\"\",IF($F$980=FALSE,\"\",IF($F$980=0,\"\",$I$991)))","v":""},null,{"$f":"IF(OR($J$82=\"N\",$J$74=0),\"\",IF($F$1000=FALSE,\"\",IF($F$1000=0,\"\",$I$1011)))","v":""},null,{"$f":"IF(OR($L$82=\"N\",$L$74=0),\"\",IF($F$1020=FALSE,\"\",IF($F$1020=0,\"\",$I$1031)))","v":""},null,{"$f":"IF(OR($N$82=\"N\",$N$74=0),\"\",IF($F$1040=FALSE,\"\",IF($F$1040=0,\"\",$I$1051)))","v":""},null,{"$f":"IF(OR($P$82=\"N\",$P$74=0),\"\",IF($F$1060=FALSE,\"\",IF($F$1060=0,\"\",$I$1071)))","v":""},null,{"$f":"IF(OR($R$82=\"N\",$R$74=0),\"\",IF($F$1080=FALSE,\"\",IF($F$1080=0,\"\",$I$1091)))","v":""},null,{"$f":"IF(OR($T$82=\"N\",$T$74=0),\"\",IF($F$1100=FALSE,\"\",IF($F$1100=0,\"\",$I$1111)))","v":""},null,{"$f":"IF(OR($V$82=\"N\",$V$74=0),\"\",IF($F$1120=FALSE,\"\",IF($F$1120=0,\"\",$I$1131)))","v":""},null,{"$f":"IF(OR($X$82=\"N\",$X$74=0),\"\",IF($F$1140=FALSE,\"\",IF($F$1140=0,\"\",$I$1151)))","v":""},null,null,null,null,null,null,null,null,null,null,null,null,null,null,null,null,null,null,null,null,null,null,null,null,null,null,null,null,null,null,null,null,77]
["Artikel-Nr. Zusatzkabel Audio  11",{"$f":"IF(OR($B$82=\"N\",$B$74=0,$G$933=\"\"),\"\",IF($F$920=FALSE,\"\",IF($F$920=0,\"\",$G$933)))","v":""},null,{"$f":"IF(OR($D$82=\"N\",$D$74=0,$G$953=\"\"),\"\",IF($F$940=FALSE,\"\",IF($F$940=0,\"\",$G$953)))","v":""},null,{"$f":"IF(OR($F$82=\"N\",$F$74=0,$G$733=\"\"),\"\",IF($F$960=FALSE,\"\",IF($F$960=0,\"\",$G$973)))","v":""},null,{"$f":"IF(OR($H$82=\"N\",$H$74=0,$G$993=\"\"),\"\",IF($F$980=FALSE,\"\",IF($F$980=0,\"\",$G$993)))","v":""},null,{"$f":"IF(OR($J$82=\"N\",$J$74=0,$G$1013=\"\"),\"\",IF($F$1000=FALSE,\"\",IF($F$1000=0,\"\",$G$1013)))","v":""},null,{"$f":"IF(OR($L$82=\"N\",$L$74=0,$G$1033=\"\"),\"\",IF($F$1020=FALSE,\"\",IF($F$1020=0,\"\",$G$1033)))","v":""},null,{"$f":"IF(OR($N$82=\"N\",$N$74=0,$G$1053=\"\"),\"\",IF($F$1040=FALSE,\"\",IF($F$1040=0,\"\",$G$1053)))","v":""},null,{"$f":"IF(OR($P$82=\"N\",$P$74=0,$G$1073=\"\"),\"\",IF($F$1060=FALSE,\"\",IF($F$1060=0,\"\",$G$1073)))","v":""},null,{"$f":"IF(OR($R$82=\"N\",$R$74=0,$G$1093=\"\"),\"\",IF($F$1080=FALSE,\"\",IF($F$1080=0,\"\",$G$1093)))","v":""},null,{"$f":"IF(OR($T$82=\"N\",$T$74=0,$G$1113=\"\"),\"\",IF($F$1100=FALSE,\"\",IF($F$1100=0,\"\",$G$1113)))","v":""},null,{"$f":"IF(OR($V$82=\"N\",$V$74=0,$G$1133=\"\"),\"\",IF($F$1120=FALSE,\"\",IF($F$1120=0,\"\",$G$1133)))","v":""},null,{"$f":"IF(OR($X$82=\"N\",$X$74=0,$G$1153=\"\"),\"\",IF($F$1140=FALSE,\"\",IF($F$1140=0,\"\",$G$1153)))","v":""},null,null,null,null,null,null,null,null,null,null,null,null,null,null,null,null,null,null,null,null,null,null,null,null,null,null,null,null,null,null,null,null,78]
["zusätzliche Kabellänge Audio /m 12",{"$f":"IF(OR($B$82=\"N\",$B$74=0,$G$933=\"\"),\"\",IF($F$920=FALSE,\"\",IF($F$920=0,\"\",$I$933)))","v":""},null,{"$f":"IF(OR($D$82=\"N\",$D$74=0,$G$953=\"\"),\"\",IF($F$940=FALSE,\"\",IF($F$940=0,\"\",$I$953)))","v":""},null,{"$f":"IF(OR($F$82=\"N\",$F$74=0,$G$733=\"\"),\"\",IF($F$960=FALSE,\"\",IF($F$960=0,\"\",$I$973)))","v":""},null,{"$f":"IF(OR($H$82=\"N\",$H$74=0,$G$993=\"\"),\"\",IF($F$980=FALSE,\"\",IF($F$980=0,\"\",$I$993)))","v":""},null,{"$f":"IF(OR($J$82=\"N\",$J$74=0,$G$1013=\"\"),\"\",IF($F$1000=FALSE,\"\",IF($F$1000=0,\"\",$I$1013)))","v":""},null,{"$f":"IF(OR($L$82=\"N\",$L$74=0,$G$1033=\"\"),\"\",IF($F$1020=FALSE,\"\",IF($F$1020=0,\"\",$I$1033)))","v":""},null,{"$f":"IF(OR($N$82=\"N\",$N$74=0,$G$1053=\"\"),\"\",IF($F$1040=FALSE,\"\",IF($F$1040=0,\"\",$I$1053)))","v":""},null,{"$f":"IF(OR($P$82=\"N\",$P$74=0,$G$1073=\"\"),\"\",IF($F$1060=FALSE,\"\",IF($F$1060=0,\"\",$I$1073)))","v":""},null,{"$f":"IF(OR($R$82=\"N\",$R$74=0,$G$1093=\"\"),\"\",IF($F$1080=FALSE,\"\",IF($F$1080=0,\"\",$I$1093)))","v":""},null,{"$f":"IF(OR($T$82=\"N\",$T$74=0,$G$1113=\"\"),\"\",IF($F$1100=FALSE,\"\",IF($F$1100=0,\"\",$I$1113)))","v":""},null,{"$f":"IF(OR($V$82=\"N\",$V$74=0,$G$1133=\"\"),\"\",IF($F$1120=FALSE,\"\",IF($F$1120=0,\"\",$I$1133)))","v":""},null,{"$f":"IF(OR($X$82=\"N\",$X$74=0,$G$1153=\"\"),\"\",IF($F$1140=FALSE,\"\",IF($F$1140=0,\"\",$I$1153)))","v":""},null,null,null,null,null,null,null,null,null,null,null,null,null,null,null,null,null,null,null,null,null,null,null,null,null,null,null,null,null,null,null,null,79]
["(je ausgewähltem Anschluss) Kabel J/N 13",{"$f":"IF(ISNA(VLOOKUP($F$920,$F$921:$J$930,5,FALSE)),\"\",IF($F$920=FALSE,\"\",VLOOKUP($F$920,$F$921:$J$930,5)))","v":""},null,{"$f":"IF(ISNA(VLOOKUP($F$940,$F$941:$J$950,5,FALSE)),\"\",IF($F$940=FALSE,\"\",VLOOKUP($F$940,$F$941:$J$950,5)))","v":""},null,{"$f":"IF(ISNA(VLOOKUP($F$960,$F$961:$J$970,5,FALSE)),\"\",IF($F$960=FALSE,\"\",VLOOKUP($F$960,$F$961:$J$970,5)))","v":""},null,{"$f":"IF(ISNA(VLOOKUP($F$980,$F$981:$J$990,5,FALSE)),\"\",IF($F$980=FALSE,\"\",VLOOKUP($F$980,$F$981:$J$990,5)))","v":""},null,{"$f":"IF(ISNA(VLOOKUP($F$1000,$F$1001:$J$1010,5,FALSE)),\"\",IF($F$1000=FALSE,\"\",VLOOKUP($F$1000,$F$1001:$J$1010,5)))","v":""},null,{"$f":"IF(ISNA(VLOOKUP($F$1020,$F$1021:$J$1030,5,FALSE)),\"\",IF($F$1020=FALSE,\"\",VLOOKUP($F$1020,$F$1021:$J$1030,5)))","v":""},null,{"$f":"IF(ISNA(VLOOKUP($F$1040,$F$1041:$J$1050,5,FALSE)),\"\",IF($F$1040=FALSE,\"\",VLOOKUP($F$1040,$F$1041:$J$1050,5)))","v":""},null,{"$f":"IF(ISNA(VLOOKUP($F$1060,$F$1061:$J$1070,5,FALSE)),\"\",IF($F$1060=FALSE,\"\",VLOOKUP($F$1060,$F$1061:$J$1070,5)))","v":""},null,{"$f":"IF(ISNA(VLOOKUP($F$1080,$F$1081:$J$1090,5,FALSE)),\"\",IF($F$1080=FALSE,\"\",VLOOKUP($F$1080,$F$1081:$J$1090,5)))","v":""},null,{"$f":"IF(ISNA(VLOOKUP($F$1100,$F$1101:$J$1110,5,FALSE)),\"\",IF($F$1100=FALSE,\"\",VLOOKUP($F$1100,$F$1101:$J$1110,5)))","v":""},null,{"$f":"IF(ISNA(VLOOKUP($F$1120,$F$1121:$J$1130,5,FALSE)),\"\",IF($F$1120=FALSE,\"\",VLOOKUP($F$1120,$F$1121:$J$1130,5)))","v":""},null,{"$f":"IF(ISNA(VLOOKUP($F$1140,$F$1141:$J$1150,5,FALSE)),\"\",IF($F$1140=FALSE,\"\",VLOOKUP($F$1140,$F$1141:$J$1150,5)))","v":""},null,null,null,null,null,null,null,null,null,null,null,null,null,null,null,null,null,null,null,null,null,null,null,null,null,null,null,null,null,null,null,null,80]
["Zusätzliche Kabellänge 14",{"$f":"IF(B82=\"N\",0,(B74*B73)+B72)","v":0},null,{"$f":"IF(D82=\"N\",0,(D74*D73)+D72)","v":0},null,{"$f":"IF(F82=\"N\",0,(F74*F73)+F72)","v":0},null,{"$f":"IF(H82=\"N\",0,(H74*H73)+H72)","v":0},null,{"$f":"IF(J82=\"N\",0,(J74*J73)+J72)","v":0},null,{"$f":"IF(L82=\"N\",0,(L74*L73)+L72)","v":0},null,{"$f":"IF(N82=\"N\",0,(N74*N73)+N72)","v":0},null,{"$f":"IF(P82=\"N\",0,(P74*P73)+P72)","v":0},null,{"$f":"IF(R82=\"N\",0,(R74*R73)+R72)","v":0},null,{"$f":"IF(T82=\"N\",0,(T74*T73)+T72)","v":0},null,{"$f":"IF(V82=\"N\",0,(V74*V73)+V72)","v":0},null,{"$f":"IF(X82=\"N\",0,(X74*X73)+X72)","v":0},null,null,null,null,null,null,null,null,null,null,null,null,null,null,null,null,null,null,null,null,null,null,null,null,null,null,null,null,null,null,null,null,81]
["Summe TE 15",{"$f":"IF(B$73=0,\"\",B$73*B$76)","v":""},null,{"$f":"IF(D$73=0,\"\",D$73*D$76)","v":""},null,{"$f":"IF(F$73=0,\"\",F$73*F$76)","v":""},null,{"$f":"IF(H$73=0,\"\",H$73*H$76)","v":""},null,{"$f":"IF(J$73=0,\"\",J$73*J$76)","v":""},null,{"$f":"IF(L$73=0,\"\",L$73*L$76)","v":""},null,{"$f":"IF(N$73=0,\"\",N$73*N$76)","v":""},null,{"$f":"IF(P$73=0,\"\",P$73*P$76)","v":""},null,{"$f":"IF(R$73=0,\"\",R$73*R$76)","v":""},null,{"$f":"IF(T$73=0,\"\",T$73*T$76)","v":""},null,{"$f":"IF(V$73=0,\"\",V$73*V$76)","v":""},null,{"$f":"IF(X$73=0,\"\",X$73*X$76)","v":""},null,null,null,null,null,null,null,null,null,null,null,null,null,null,null,null,null,null,null,null,null,null,null,null,null,null,null,null,null,null,null,null,82]
["Datenaufbereitung",920,null,940,null,960,null,980,null,1000,null,1020,null,1040,null,1060,null,1080,null,1100,null,1120,null,1140,null,null,null,null,null,null,null,null,null,null,null,null,null,null,null,null,null,null,null,null,null,null,null,null,null,null,null,null,null,null,null,null,83]
["Konfigurator","AFM",null,"AFM",null,"AFM",null,"AFM",null,"AFM",null,"AFM",null,"AFM",null,"AFM",null,"AFM",null,"AFM",null,"AFM",null,"AFM",null,null,null,null,null,null,null,null,null,null,null,null,null,null,null,null,null,null,null,null,null,null,null,null,null,null,null,null,null,null,null,null,84]
[null,null,null,null,null,null,null,null,null,null,null,null,null,null,null,null,null,null,null,null,null,null,null,null,null,null,null,null,null,null,null,null,null,null,null,null,null,null,null,null,null,null,null,null,null,null,null,null,null,null,null,null,null,null,null,null,85]
[null,null,null,null,null,null,null,null,null,null,null,null,null,null,null,null,null,null,null,null,null,null,null,null,null,null,null,null,null,null,null,null,null,null,null,null,null,null,null,null,null,null,null,null,null,null,null,null,null,null,null,null,null,null,null,null,86]
["Modulreihe - 5",{"$f":"$A1160","v":"Taster rot"},null,{"$f":"$A1180","v":"Taster grün"},null,{"$f":"$A1200","v":"Schalter rot"},null,{"$f":"$A1220","v":"Schalter grün"},null,{"$f":"$A1240","v":"Taster Chrom"},null,{"$f":"$A1260","v":"Taster Chr. LED"},null,{"$f":"$A1280","v":"Taster 18x18"},null,{"$f":"$A1300","v":"Taster 24x18"},null,{"$f":"$A1320","v":"Frei 1320"},null,{"$f":"$A1340","v":"Frei 1340"},null,{"$f":"$A1360","v":"Frei 1360"},null,{"$f":"$A1380","v":"Frei 1380"},null,null,null,null,null,null,null,null,null,null,null,null,null,null,null,null,null,null,null,null,null,null,null,null,null,null,null,null,null,null,null,null,87]
["Laufende Nummer 1",{"$f":"IF(B$91<1,\"\",SUM($B$11:$X$11)+SUM($B$31:$X$31)+SUM($B$51:$X$51)+SUM($B$71:$X$71)+SUM($B$91))","v":""},null,{"$f":"IF(D$91<1,\"\",SUM($B$11:$X$11)+SUM($B$31:$X$31)+SUM($B$51:$X$51)+SUM($B$71:$X$71)+SUM($B$91:D$91))","v":""},null,{"$f":"IF(F$91<1,\"\",SUM($B$11:$X$11)+SUM($B$31:$X$31)+SUM($B$51:$X$51)+SUM($B$71:$X$71)+SUM($B$91:F$91))","v":""},null,{"$f":"IF(H$91<1,\"\",SUM($B$11:$X$11)+SUM($B$31:$X$31)+SUM($B$51:$X$51)+SUM($B$71:$X$71)+SUM($B$91:H$91))","v":""},null,{"$f":"IF(J$91<1,\"\",SUM($B$11:$X$11)+SUM($B$31:$X$31)+SUM($B$51:$X$51)+SUM($B$71:$X$71)+SUM($B$91:J$91))","v":""},null,{"$f":"IF(L$91<1,\"\",SUM($B$11:$X$11)+SUM($B$31:$X$31)+SUM($B$51:$X$51)+SUM($B$71:$X$71)+SUM($B$91:L$91))","v":""},null,{"$f":"IF(N$91<1,\"\",SUM($B$11:$X$11)+SUM($B$31:$X$31)+SUM($B$51:$X$51)+SUM($B$71:$X$71)+SUM($B$91:N$91))","v":""},null,{"$f":"IF(P$91<1,\"\",SUM($B$11:$X$11)+SUM($B$31:$X$31)+SUM($B$51:$X$51)+SUM($B$71:$X$71)+SUM($B$91:P$91))","v":""},null,{"$f":"IF(R$91<1,\"\",SUM($B$11:$X$11)+SUM($B$31:$X$31)+SUM($B$51:$X$51)+SUM($B$71:$X$71)+SUM($B$91:R$91))","v":""},null,{"$f":"IF(T$91<1,\"\",SUM($B$11:$X$11)+SUM($B$31:$X$31)+SUM($B$51:$X$51)+SUM($B$71:$X$71)+SUM($B$91:T$91))","v":""},null,{"$f":"IF(V$91<1,\"\",SUM($B$11:$X$11)+SUM($B$31:$X$31)+SUM($B$51:$X$51)+SUM($B$71:$X$71)+SUM($B$91:V$91))","v":""},null,{"$f":"IF(X$91<1,\"\",SUM($B$11:$X$11)+SUM($B$31:$X$31)+SUM($B$51:$X$51)+SUM($B$71:$X$71)+SUM($B$91:X$91))","v":""},null,null,null,null,null,null,null,null,null,null,null,null,null,null,null,null,null,null,null,null,null,null,null,null,null,null,null,null,null,null,null,null,88]
["Modul ausgewählt 2",{"$f":"IF($F$1160=0,0,IF(B$93>0,1,0))","v":0},null,{"$f":"IF($F$1180=0,0,IF(D$93>0,1,0))","v":0},null,{"$f":"IF($F$1200=0,0,IF(F$93>0,1,0))","v":0},null,{"$f":"IF($F$1220=0,0,IF(H$93>0,1,0))","v":0},null,{"$f":"IF($F$1240=0,0,IF(J$93>0,1,0))","v":0},null,{"$f":"IF($F$1260=0,0,IF(L$93>0,1,0))","v":0},null,{"$f":"IF($F$1280=0,0,IF(N$93>0,1,0))","v":0},null,{"$f":"IF($F$1300=0,0,IF(P$93>0,1,0))","v":0},null,{"$f":"IF($F$1320=0,0,IF(R$93>0,1,0))","v":0},null,{"$f":"IF($F$1340=0,0,IF(T$93>0,1,0))","v":0},null,{"$f":"IF($F$1360=0,0,IF(V$93>0,1,0))","v":0},null,{"$f":"IF($F$1380=0,0,IF(X$93>0,1,0))","v":0},{"$f":"SUM(B11:X11)+SUM(B31:X31)+SUM(B51:X51)+SUM(B71:X71)+SUM(B91:X91)","v":0},null,null,null,null,null,null,null,null,null,null,null,null,null,null,null,null,null,null,null,null,null,null,null,null,null,null,null,null,null,null,null,89]
[" Abzug Standard-Kabellänge 3",{"$f":"IF(B$94>0,(-0.3*B$93),0)","v":0},null,{"$f":"IF(D$94>0,(-0.3*D$93),0)","v":0},null,{"$f":"IF(F$94>0,(-0.3*F$93),0)","v":0},null,{"$f":"IF(H$94>0,(-0.3*H$93),0)","v":0},null,{"$f":"IF(J$94>0,(-0.3*J$93),0)","v":0},null,{"$f":"IF(L$94>0,(-0.3*L$93),0)","v":0},null,{"$f":"IF(N$94>0,(-0.3*N$93),0)","v":0},null,{"$f":"IF(P$94>0,(-0.3*P$93),0)","v":0},null,{"$f":"IF(R$94>0,(-0.3*R$93),0)","v":0},null,{"$f":"IF(T$94>0,(-0.3*T$93),0)","v":0},null,{"$f":"IF(V$94>0,(-0.3*V$93),0)","v":0},null,{"$f":"IF(X$94>0,(-0.3*X$93),0)","v":0},null,null,null,null,null,null,null,null,null,null,null,null,null,null,null,null,null,null,null,null,null,null,null,null,null,null,null,null,null,null,null,null,90]
["Menge Module 4",{"$f":"Konfigurator!B83","v":0},null,{"$f":"Konfigurator!D83","v":0},null,{"$f":"Konfigurator!F83","v":0},null,{"$f":"Konfigurator!H83","v":0},null,{"$f":"Konfigurator!J83","v":0},null,{"$f":"Konfigurator!L83","v":0},null,{"$f":"Konfigurator!N83","v":0},null,{"$f":"Konfigurator!P83","v":0},null,{"$f":"Konfigurator!R83","v":0},null,{"$f":"Konfigurator!T83","v":0},null,{"$f":"Konfigurator!V83","v":0},null,{"$f":"Konfigurator!X83","v":0},null,null,null,null,null,null,null,null,null,null,null,null,null,null,null,null,null,null,null,null,null,null,null,null,null,null,null,null,null,null,null,null,91]
["Kabellänge (Meter) 5",{"$f":"Konfigurator!B84","v":0},null,{"$f":"Konfigurator!D84","v":0},null,{"$f":"Konfigurator!F84","v":0},null,{"$f":"Konfigurator!H84","v":0},null,{"$f":"Konfigurator!J84","v":0},null,{"$f":"Konfigurator!L84","v":0},null,{"$f":"Konfigurator!N84","v":0},null,{"$f":"Konfigurator!P84","v":0},null,{"$f":"Konfigurator!R84","v":0},null,{"$f":"Konfigurator!T84","v":0},null,{"$f":"Konfigurator!V84","v":0},null,{"$f":"Konfigurator!X84","v":0},null,null,null,null,null,null,null,null,null,null,null,null,null,null,null,null,null,null,null,null,null,null,null,null,null,null,null,null,null,null,null,null,92]
["Artikel-Nr. 6",{"$f":"IF($B$93=0,\"\",IF(ISNA(VLOOKUP($F$1160,$F$1161:$J$1170,2,FALSE)),\"\",IF($F$1160=FALSE,\"\",VLOOKUP($F$1160,$F$1161:$J$1170,2))))","v":""},null,{"$f":"IF($D$93=0,\"\",IF(ISNA(VLOOKUP($F$1180,$F$1181:$J$1190,2,FALSE)),\"\",IF($F$1180=FALSE,\"\",VLOOKUP($F$1180,$F$1181:$J$1190,2))))","v":""},null,{"$f":"IF($F$93=0,\"\",IF(ISNA(VLOOKUP($F$1200,$F$1201:$J$1210,2,FALSE)),\"\",IF($F$1200=FALSE,\"\",VLOOKUP($F$1200,$F$1201:$J$1210,2))))","v":""},null,{"$f":"IF($H$93=0,\"\",IF(ISNA(VLOOKUP($F$1220,$F$1221:$J$1230,2,FALSE)),\"\",IF($F$1220=FALSE,\"\",VLOOKUP($F$1220,$F$1221:$J$1230,2))))","v":""},null,{"$f":"IF($J$93=0,\"\",IF(ISNA(VLOOKUP($F$1240,$F$1241:$J$1250,2,FALSE)),\"\",IF($F$1240=FALSE,\"\",VLOOKUP($F$1240,$F$1241:$J$1250,2))))","v":""},null,{"$f":"IF($L$93=0,\"\",IF(ISNA(VLOOKUP($F$1260,$F$1261:$J$1270,2,FALSE)),\"\",IF($F$1260=FALSE,\"\",VLOOKUP($F$1260,$F$1261:$J$1270,2))))","v":""},null,{"$f":"IF($N$93=0,\"\",IF(ISNA(VLOOKUP($F$1280,$F$1281:$J$1290,2,FALSE)),\"\",IF($F$1280=FALSE,\"\",VLOOKUP($F$1280,$F$1281:$J$1290,2))))","v":""},null,{"$f":"IF($P$93=0,\"\",IF(ISNA(VLOOKUP($F$1300,$F$1301:$J$1310,2,FALSE)),\"\",IF($F$1300=FALSE,\"\",VLOOKUP($F$1300,$F$1301:$J$1310,2))))","v":""},null,{"$f":"IF($R$93=0,\"\",IF(ISNA(VLOOKUP($F$1320,$F$1321:$J$1330,2,FALSE)),\"\",IF($F$1320=FALSE,\"\",VLOOKUP($F$1320,$F$1321:$J$1330,2))))","v":""},null,{"$f":"IF($T$93=0,\"\",IF(ISNA(VLOOKUP($F$1340,$F$1341:$J$1350,2,FALSE)),\"\",IF($F$1340=FALSE,\"\",VLOOKUP($F$1340,$F$1341:$J$1350,2))))","v":""},null,{"$f":"IF($V$93=0,\"\",IF(ISNA(VLOOKUP($F$1360,$F$1361:$J$1370,2,FALSE)),\"\",IF($F$1360=FALSE,\"\",VLOOKUP($F$1360,$F$1361:$J$1370,2))))","v":""},null,{"$f":"IF($X$93=0,\"\",IF(ISNA(VLOOKUP($F$1380,$F$1381:$J$1390,2,FALSE)),\"\",IF($F$1380=FALSE,\"\",VLOOKUP($F$1380,$F$1381:$J$1390,2))))","v":""},null,null,null,null,null,null,null,null,null,null,null,null,null,null,null,null,null,null,null,null,null,null,null,null,null,null,null,null,null,null,null,null,93]
["TE 7",{"$f":"IF($B$93=0,\"\",IF(ISNA(VLOOKUP($F$1160,$F$1161:$J$1170,3,FALSE)),\"\",IF($F$1160=FALSE,\"\",VLOOKUP($F$1160,$F$1161:$J$1170,3))))","v":""},null,{"$f":"IF($D$93=0,\"\",IF(ISNA(VLOOKUP($F$1180,$F$1181:$J$1190,3,FALSE)),\"\",IF($F$1180=FALSE,\"\",VLOOKUP($F$1180,$F$1181:$J$1190,3))))","v":""},null,{"$f":"IF($F$93=0,\"\",IF(ISNA(VLOOKUP($F$1200,$F$1201:$J$1210,3,FALSE)),\"\",IF($F$1200=FALSE,\"\",VLOOKUP($F$1200,$F$1201:$J$1210,3))))","v":""},null,{"$f":"IF($H$93=0,\"\",IF(ISNA(VLOOKUP($F$1220,$F$1221:$J$1230,3,FALSE)),\"\",IF($F$1220=FALSE,\"\",VLOOKUP($F$1220,$F$1221:$J$1230,3))))","v":""},null,{"$f":"IF($J$93=0,\"\",IF(ISNA(VLOOKUP($F$1240,$F$1241:$J$1250,3,FALSE)),\"\",IF($F$1240=FALSE,\"\",VLOOKUP($F$1240,$F$1241:$J$1250,3))))","v":""},null,{"$f":"IF($L$93=0,\"\",IF(ISNA(VLOOKUP($F$1260,$F$1261:$J$1270,3,FALSE)),\"\",IF($F$1260=FALSE,\"\",VLOOKUP($F$1260,$F$1261:$J$1270,3))))","v":""},null,{"$f":"IF($N$93=0,\"\",IF(ISNA(VLOOKUP($F$1280,$F$1281:$J$1290,3,FALSE)),\"\",IF($F$1280=FALSE,\"\",VLOOKUP($F$1280,$F$1281:$J$1290,3))))","v":""},null,{"$f":"IF($P$93=0,\"\",IF(ISNA(VLOOKUP($F$1300,$F$1301:$J$1310,3,FALSE)),\"\",IF($F$1300=FALSE,\"\",VLOOKUP($F$1300,$F$1301:$J$1310,3))))","v":""},null,{"$f":"IF($R$93=0,\"\",IF(ISNA(VLOOKUP($F$1320,$F$1321:$J$1330,3,FALSE)),\"\",IF($F$1320=FALSE,\"\",VLOOKUP($F$1320,$F$1321:$J$1330,3))))","v":""},null,{"$f":"IF($T$93=0,\"\",IF(ISNA(VLOOKUP($F$1340,$F$1341:$J$1350,3,FALSE)),\"\",IF($F$1340=FALSE,\"\",VLOOKUP($F$1340,$F$1341:$J$1350,3))))","v":""},null,{"$f":"IF($V$93=0,\"\",IF(ISNA(VLOOKUP($F$1360,$F$1361:$J$1370,3,FALSE)),\"\",IF($F$1360=FALSE,\"\",VLOOKUP($F$1360,$F$1361:$J$1370,3))))","v":""},null,{"$f":"IF($X$93=0,\"\",IF(ISNA(VLOOKUP($F$1380,$F$1381:$J$1390,3,FALSE)),\"\",IF($F$1380=FALSE,\"\",VLOOKUP($F$1380,$F$1381:$J$1390,3))))","v":""},null,null,null,null,null,null,null,null,null,null,null,null,null,null,null,null,null,null,null,null,null,null,null,null,null,null,null,null,null,null,null,null,94]
["Einzel-Preis 8",{"$f":"IF($B$93=0,\"\",IF(ISNA(VLOOKUP($F$1160,$F$1161:$J$1170,4,FALSE)),\"\",IF($F$1160=FALSE,\"\",VLOOKUP($F$1160,$F$1161:$J$1170,4))))","v":""},null,{"$f":"IF($D$93=0,\"\",IF(ISNA(VLOOKUP($F$1180,$F$1181:$J$1190,4,FALSE)),\"\",IF($F$1180=FALSE,\"\",VLOOKUP($F$1180,$F$1181:$J$1190,4))))","v":""},null,{"$f":"IF($F$93=0,\"\",IF(ISNA(VLOOKUP($F$1200,$F$1201:$J$1210,4,FALSE)),\"\",IF($F$1200=FALSE,\"\",VLOOKUP($F$1200,$F$1201:$J$1210,4))))","v":""},null,{"$f":"IF($H$93=0,\"\",IF(ISNA(VLOOKUP($F$1220,$F$1221:$J$1230,4,FALSE)),\"\",IF($F$1220=FALSE,\"\",VLOOKUP($F$1220,$F$1221:$J$1230,4))))","v":""},null,{"$f":"IF($J$93=0,\"\",IF(ISNA(VLOOKUP($F$1240,$F$1241:$J$1250,4,FALSE)),\"\",IF($F$1240=FALSE,\"\",VLOOKUP($F$1240,$F$1241:$J$1250,4))))","v":""},null,{"$f":"IF($L$93=0,\"\",IF(ISNA(VLOOKUP($F$1260,$F$1261:$J$1270,4,FALSE)),\"\",IF($F$1260=FALSE,\"\",VLOOKUP($F$1260,$F$1261:$J$1270,4))))","v":""},null,{"$f":"IF($N$93=0,\"\",IF(ISNA(VLOOKUP($F$1280,$F$1281:$J$1290,4,FALSE)),\"\",IF($F$1280=FALSE,\"\",VLOOKUP($F$1280,$F$1281:$J$1290,4))))","v":""},null,{"$f":"IF($P$93=0,\"\",IF(ISNA(VLOOKUP($F$1300,$F$1301:$J$1310,4,FALSE)),\"\",IF($F$1300=FALSE,\"\",VLOOKUP($F$1300,$F$1301:$J$1310,4))))","v":""},null,{"$f":"IF($R$93=0,\"\",IF(ISNA(VLOOKUP($F$1320,$F$1321:$J$1330,4,FALSE)),\"\",IF($F$1320=FALSE,\"\",VLOOKUP($F$1320,$F$1321:$J$1330,4))))","v":""},null,{"$f":"IF($T$93=0,\"\",IF(ISNA(VLOOKUP($F$1340,$F$1341:$J$1350,4,FALSE)),\"\",IF($F$1340=FALSE,\"\",VLOOKUP($F$1340,$F$1341:$J$1350,4))))","v":""},null,{"$f":"IF($V$93=0,\"\",IF(ISNA(VLOOKUP($F$1360,$F$1361:$J$1370,4,FALSE)),\"\",IF($F$1360=FALSE,\"\",VLOOKUP($F$1360,$F$1361:$J$1370,4))))","v":""},null,{"$f":"IF($X$93=0,\"\",IF(ISNA(VLOOKUP($F$1380,$F$1381:$J$1390,4,FALSE)),\"\",IF($F$1380=FALSE,\"\",VLOOKUP($F$1380,$F$1381:$J$1390,4))))","v":""},null,null,null,null,null,null,null,null,null,null,null,null,null,null,null,null,null,null,null,null,null,null,null,null,null,null,null,null,null,null,null,null,95]
["Artikel-Nr. Zusatzkabel - 1  9",{"$f":"IF(OR($B$102=\"N\",$B$94=0),\"\",IF($F$1160=FALSE,\"\",IF($F$1160=0,\"\",$G$1171)))","v":""},null,{"$f":"IF(OR(D$102=\"N\",D$94=0),\"\",IF($F$1180=FALSE,\"\",IF($F$1180=0,\"\",$G$1191)))","v":""},null,{"$f":"IF(OR(F$102=\"N\",F$94=0),\"\",IF($F$1200=FALSE,\"\",IF($F$1200=0,\"\",$G$1211)))","v":""},null,{"$f":"IF(OR(H$102=\"N\",H$94=0),\"\",IF($F$1220=FALSE,\"\",IF($F$1220=0,\"\",$G$1231)))","v":""},null,{"$f":"IF(OR(J$102=\"N\",J$94=0),\"\",IF($F$1240=FALSE,\"\",IF($F$1240=0,\"\",$G$1251)))","v":""},null,{"$f":"IF(OR(L$102=\"N\",L$94=0),\"\",IF($F$1260=FALSE,\"\",IF($F$1260=0,\"\",$G$1271)))","v":""},null,{"$f":"IF(OR(N$102=\"N\",N$94=0),\"\",IF($F$1280=FALSE,\"\",IF($F$1280=0,\"\",$G$1291)))","v":""},null,{"$f":"IF(OR(P$102=\"N\",P$94=0),\"\",IF($F$1300=FALSE,\"\",IF($F$1300=0,\"\",$G$1311)))","v":""},null,{"$f":"IF(OR(R$102=\"N\",R$94=0),\"\",IF($F$1320=FALSE,\"\",IF($F$1320=0,\"\",$G$1331)))","v":""},null,{"$f":"IF(OR(T$102=\"N\",T$94=0),\"\",IF($F$1340=FALSE,\"\",IF($F$1340=0,\"\",$G$1351)))","v":""},null,{"$f":"IF(OR(V$102=\"N\",V$94=0),\"\",IF($F$1360=FALSE,\"\",IF($F$1360=0,\"\",$G$1371)))","v":""},null,{"$f":"IF(OR(X$102=\"N\",X$94=0),\"\",IF($F$1380=FALSE,\"\",IF($F$1380=0,\"\",$G$1391)))","v":""},null,null,null,null,null,null,null,null,null,null,null,null,null,null,null,null,null,null,null,null,null,null,null,null,null,null,null,null,null,null,null,null,96]
["zusätzliche Kabellänge /m 10",{"$f":"IF(OR($B$102=\"N\",$B$94=0),\"\",IF($F$1160=FALSE,\"\",IF($F$1160=0,\"\",$I$1171)))","v":""},null,{"$f":"IF(OR(D$102=\"N\",D$94=0),\"\",IF($F$1180=FALSE,\"\",IF($F$1180=0,\"\",$I$1191)))","v":""},null,{"$f":"IF(OR(F$102=\"N\",F$94=0),\"\",IF($F$1200=FALSE,\"\",IF($F$1200=0,\"\",$I$1211)))","v":""},null,{"$f":"IF(OR(H$102=\"N\",H$94=0),\"\",IF($F$1220=FALSE,\"\",IF($F$1220=0,\"\",$I$1231)))","v":""},null,{"$f":"IF(OR(J$102=\"N\",J$94=0),\"\",IF($F$1240=FALSE,\"\",IF($F$1240=0,\"\",$I$1251)))","v":""},null,{"$f":"IF(OR(L$102=\"N\",L$94=0),\"\",IF($F$1260=FALSE,\"\",IF($F$1260=0,\"\",$I$1271)))","v":""},null,{"$f":"IF(OR(N$102=\"N\",N$94=0),\"\",IF($F$1280=FALSE,\"\",IF($F$1280=0,\"\",$I$1291)))","v":""},null,{"$f":"IF(OR(P$102=\"N\",P$94=0),\"\",IF($F$1300=FALSE,\"\",IF($F$1300=0,\"\",$I$1311)))","v":""},null,{"$f":"IF(OR(R$102=\"N\",R$94=0),\"\",IF($F$1320=FALSE,\"\",IF($F$1320=0,\"\",$I$1331)))","v":""},null,{"$f":"IF(OR(T$102=\"N\",T$94=0),\"\",IF($F$1340=FALSE,\"\",IF($F$1340=0,\"\",$I$1351)))","v":""},null,{"$f":"IF(OR(V$102=\"N\",V$94=0),\"\",IF($F$1360=FALSE,\"\",IF($F$1360=0,\"\",$I$1371)))","v":""},null,{"$f":"IF(OR(X$102=\"N\",X$94=0),\"\",IF($F$1380=FALSE,\"\",IF($F$1380=0,\"\",$I$1391)))","v":""},null,null,null,null,null,null,null,null,null,null,null,null,null,null,null,null,null,null,null,null,null,null,null,null,null,null,null,null,null,null,null,null,97]
["Artikel-Nr. Zusatzkabel Audio  11",{"$f":"IF(OR(B$102=\"N\",B$94=0,$G$1173=\"\"),\"\",IF($F$1160=FALSE,\"\",IF($F$1160=0,\"\",$G$1173)))","v":""},null,{"$f":"IF(OR(D$102=\"N\",D$94=0,$G$1193=\"\"),\"\",IF($F$1180=FALSE,\"\",IF($F$1180=0,\"\",$G$1193)))","v":""},null,{"$f":"IF(OR(F$102=\"N\",F$94=0,$G$1213=\"\"),\"\",IF($F$1200=FALSE,\"\",IF($F$1200=0,\"\",$G$1213)))","v":""},null,{"$f":"IF(OR(H$102=\"N\",H$94=0,$G$1233=\"\"),\"\",IF($F$1220=FALSE,\"\",IF($F$1220=0,\"\",$G$1233)))","v":""},null,{"$f":"IF(OR(J$102=\"N\",J$94=0,$G$1253=\"\"),\"\",IF($F$1240=FALSE,\"\",IF($F$1240=0,\"\",$G$1253)))","v":""},null,{"$f":"IF(OR(L$102=\"N\",L$94=0,$G$1273=\"\"),\"\",IF($F$1260=FALSE,\"\",IF($F$1260=0,\"\",$G$1273)))","v":""},null,{"$f":"IF(J1292=\"J\",5557,IF(OR(N$102=\"N\",N$94=0,$G$1293=\"\"),\"\",IF($F$1280=FALSE,\"\",IF($F$1280=0,\"\",$G$1293))))","v":5557},null,{"$f":"IF(J1312=\"J\",5557,IF(OR(P$102=\"N\",P$94=0,$G$1313=\"\"),\"\",IF($F$1300=FALSE,\"\",IF($F$1300=0,\"\",$G$1313))))","v":5557},null,{"$f":"IF(OR(R$102=\"N\",R$94=0,$G$1333=\"\"),\"\",IF($F$1320=FALSE,\"\",IF($F$1320=0,\"\",$G$1333)))","v":""},null,{"$f":"IF(OR(T$102=\"N\",T$94=0,$G$1353=\"\"),\"\",IF($F$1340=FALSE,\"\",IF($F$1340=0,\"\",$G$1353)))","v":""},null,{"$f":"IF(OR(V$102=\"N\",V$94=0,$G$1373=\"\"),\"\",IF($F$1360=FALSE,\"\",IF($F$1360=0,\"\",$G$1373)))","v":""},null,{"$f":"IF(OR(X$102=\"N\",X$94=0,$G$1393=\"\"),\"\",IF($F$1380=FALSE,\"\",IF($F$1380=0,\"\",$G$1393)))","v":""},null,null,null,null,null,null,null,null,null,null,null,null,null,null,null,null,null,null,null,null,null,null,null,null,null,null,null,null,null,null,null,null,98]
["zusätzliche Kabellänge Audio /m 12",{"$f":"IF(OR(B$102=\"N\",B$94=0,$G$1173=\"\"),\"\",IF($F$1160=FALSE,\"\",IF($F$1160=0,\"\",$I$1173)))","v":""},null,{"$f":"IF(OR(D$102=\"N\",D$94=0,$G$1193=\"\"),\"\",IF($F$1180=FALSE,\"\",IF($F$1180=0,\"\",$I$1193)))","v":""},null,{"$f":"IF(OR(F$102=\"N\",F$94=0,$G$1213=\"\"),\"\",IF($F$1200=FALSE,\"\",IF($F$1200=0,\"\",$I$1213)))","v":""},null,{"$f":"IF(OR(H$102=\"N\",H$94=0,$G$1233=\"\"),\"\",IF($F$1220=FALSE,\"\",IF($F$1220=0,\"\",$I$1233)))","v":""},null,{"$f":"IF(OR(J$102=\"N\",J$94=0,$G$1253=\"\"),\"\",IF($F$1240=FALSE,\"\",IF($F$1240=0,\"\",$I$1253)))","v":""},null,{"$f":"IF(OR(L$102=\"N\",L$94=0,$G$1273=\"\"),\"\",IF($F$1260=FALSE,\"\",IF($F$1260=0,\"\",$I$1273)))","v":""},null,{"$f":"IF($J$1292=\"J\",$I$1292,IF(OR(N$102=\"N\",N$94=0,$G$1293=\"\"),\"\",IF($F$1280=FALSE,\"\",IF($F$1280=0,\"\",$I$1293))))","v":11.991},null,{"$f":"IF($J$1312=\"J\",$I$1312,IF(OR(P$102=\"N\",P$94=0,$G$1313=\"\"),\"\",IF($F$1300=FALSE,\"\",IF($F$1300=0,\"\",$I$1313))))","v":11.991},null,{"$f":"IF(OR(R$102=\"N\",R$94=0,$G$1333=\"\"),\"\",IF($F$1320=FALSE,\"\",IF($F$1320=0,\"\",$I$1333)))","v":""},null,{"$f":"IF(OR(T$102=\"N\",T$94=0,$G$1353=\"\"),\"\",IF($F$1340=FALSE,\"\",IF($F$1340=0,\"\",$I$1353)))","v":""},null,{"$f":"IF(OR(V$102=\"N\",V$94=0,$G$1373=\"\"),\"\",IF($F$1360=FALSE,\"\",IF($F$1360=0,\"\",$I$1373)))","v":""},null,{"$f":"IF(OR(X$102=\"N\",X$94=0,$G$1393=\"\"),\"\",IF($F$1380=FALSE,\"\",IF($F$1380=0,\"\",$I$1393)))","v":""},null,null,null,null,null,null,null,null,null,null,null,null,null,null,null,null,null,null,null,null,null,null,null,null,null,null,null,null,null,null,null,null,99]
["(je ausgewähltem Anschluss) Kabel J/N 13",{"$f":"IF(ISNA(VLOOKUP($F$1160,$F$1161:$J$1170,5,FALSE)),\"\",IF($F$1160=FALSE,\"\",VLOOKUP($F$1160,$F$1161:$J$1170,5)))","v":""},null,{"$f":"IF(ISNA(VLOOKUP($F$1180,$F$1181:$J$1190,5,FALSE)),\"\",IF($F$1180=FALSE,\"\",VLOOKUP($F$1180,$F$1181:$J$1190,5)))","v":""},null,{"$f":"IF(ISNA(VLOOKUP($F$1200,$F$1201:$J$1210,5,FALSE)),\"\",IF($F$1200=FALSE,\"\",VLOOKUP($F$1200,$F$1201:$J$1210,5)))","v":""},null,{"$f":"IF(ISNA(VLOOKUP($F$1220,$F$1221:$J$1230,5,FALSE)),\"\",IF($F$1220=FALSE,\"\",VLOOKUP($F$1220,$F$1221:$J$1230,5)))","v":""},null,{"$f":"IF(ISNA(VLOOKUP($F$1240,$F$1241:$J$1250,5,FALSE)),\"\",IF($F$1240=FALSE,\"\",VLOOKUP($F$1240,$F$1241:$J$1250,5)))","v":""},null,{"$f":"IF(ISNA(VLOOKUP($F$1260,$F$1261:$J$1270,5,FALSE)),\"\",IF($F$1260=FALSE,\"\",VLOOKUP($F$1260,$F$1261:$J$1270,5)))","v":""},null,{"$f":"IF(ISNA(VLOOKUP($F$1280,$F$1281:$J$1290,5,FALSE)),\"\",IF($F$1280=FALSE,\"\",VLOOKUP($F$1280,$F$1281:$J$1290,5)))","v":""},null,{"$f":"IF(ISNA(VLOOKUP($F$1300,$F$1301:$J$1310,5,FALSE)),\"\",IF($F$1300=FALSE,\"\",VLOOKUP($F$1300,$F$1301:$J$1310,5)))","v":""},null,{"$f":"IF(ISNA(VLOOKUP($F$1320,$F$1321:$J$1330,5,FALSE)),\"\",IF($F$1320=FALSE,\"\",VLOOKUP($F$1320,$F$1321:$J$1330,5)))","v":""},null,{"$f":"IF(ISNA(VLOOKUP($F$1340,$F$1341:$J$1350,5,FALSE)),\"\",IF($F$1340=FALSE,\"\",VLOOKUP($F$1340,$F$1341:$J$1350,5)))","v":""},null,{"$f":"IF(ISNA(VLOOKUP($F$1360,$F$1361:$J$1370,5,FALSE)),\"\",IF($F$1360=FALSE,\"\",VLOOKUP($F$1360,$F$1361:$J$1370,5)))","v":""},null,{"$f":"IF(ISNA(VLOOKUP($F$1380,$F$1381:$J$1390,5,FALSE)),\"\",IF($F$1380=FALSE,\"\",VLOOKUP($F$1380,$F$1381:$J$1390,5)))","v":""},null,null,null,null,null,null,null,null,null,null,null,null,null,null,null,null,null,null,null,null,null,null,null,null,null,null,null,null,null,null,null,null,100]
["Zusätzliche Kabellänge 14",{"$f":"IF(B102=\"N\",0,(B94*B93)+B92)","v":0},null,{"$f":"IF(D102=\"N\",0,(D94*D93)+D92)","v":0},null,{"$f":"IF(F102=\"N\",0,(F94*F93)+F92)","v":0},null,{"$f":"IF(H102=\"N\",0,(H94*H93)+H92)","v":0},null,{"$f":"IF(J102=\"N\",0,(J94*J93)+J92)","v":0},null,{"$f":"IF(L102=\"N\",0,(L94*L93)+L92)","v":0},null,{"$f":"IF(N102=\"N\",0,(N94*N93)+N92)","v":0},null,{"$f":"IF(P102=\"N\",0,(P94*P93)+P92)","v":0},null,{"$f":"IF(R102=\"N\",0,(R94*R93)+R92)","v":0},null,{"$f":"IF(T102=\"N\",0,(T94*T93)+T92)","v":0},null,{"$f":"IF(V102=\"N\",0,(V94*V93)+V92)","v":0},null,{"$f":"IF(X102=\"N\",0,(X94*X93)+X92)","v":0}]
["Summe TE 15",{"$f":"IF(B$93=0,\"\",B$93*B$96)","v":""},null,{"$f":"IF(D$93=0,\"\",D$93*D$96)","v":""},null,{"$f":"IF(F$93=0,\"\",F$93*F$96)","v":""},null,{"$f":"IF(H$93=0,\"\",H$93*H$96)","v":""},null,{"$f":"IF(J$93=0,\"\",J$93*J$96)","v":""},null,{"$f":"IF(L$93=0,\"\",L$93*L$96)","v":""},null,{"$f":"IF(N$93=0,\"\",N$93*N$96)","v":""},null,{"$f":"IF(P$93=0,\"\",P$93*P$96)","v":""},null,{"$f":"IF(R$93=0,\"\",R$93*R$96)","v":""},null,{"$f":"IF(T$93=0,\"\",T$93*T$96)","v":""},null,{"$f":"IF(V$93=0,\"\",V$93*V$96)","v":""},null,{"$f":"IF(X$93=0,\"\",X$93*X$96)","v":""}]
["Datenaufbereitung",1160,null,1180,null,1200,null,1220,null,1240,null,1260,null,1280,null,1300,null,1320,null,1340,null,1360,null,1380]
["Konfigurator","AFM",null,"AFM",null,"AFM",null,"AFM",null,"AFM",null,"AFM",null,"AFM",null,"AFM",null,"AFM",null,"AFM",null,"AFM",null,"AFM"]
[]
[]
["Modulreihe - 6",{"$f":"$A1400","v":"Frei 1400"},null,{"$f":"$A1420","v":"Frei 1420"},null,{"$f":"$A1440","v":"Durchf. RU"},null,{"$f":"$A1460","v":"Durchf. LU/RO"},null,{"$f":"$A1480","v":"Durchf. LO/RU"},null,{"$f":"$A1500","v":"Durchf. LU"},null,{"$f":"$A1520","v":"Blindpl. 4TE"},null,{"$f":"$A1400","v":"Frei 1400"},null,{"$f":"$A1400","v":"Frei 1400"},null,{"$f":"$A1400","v":"Frei 1400"},null,{"$f":"$A1400","v":"Frei 1400"},null,{"$f":"$A1400","v":"Frei 1400"}]
["Laufende Nummer 1",{"$f":"IF(B$111<1,\"\",SUM($B$11:$X$11)+SUM($B$31:$X$31)+SUM($B$51:$X$51)+SUM($B$71:$X$71)+SUM($B$91:$X$91)+SUM($B$111))","v":""},null,{"$f":"IF(D$111<1,\"\",SUM($B$11:$X$11)+SUM($B$31:$X$31)+SUM($B$51:$X$51)+SUM($B$71:$X$71)+SUM($B$91:$X$91)+SUM($B$111:D$111))","v":""},null,{"$f":"IF(F$111<1,\"\",SUM($B$11:$X$11)+SUM($B$31:$X$31)+SUM($B$51:$X$51)+SUM($B$71:$X$71)+SUM($B$91:$X$91)+SUM($B$111:F$111))","v":""},null,{"$f":"IF(H$111<1,\"\",SUM($B$11:$X$11)+SUM($B$31:$X$31)+SUM($B$51:$X$51)+SUM($B$71:$X$71)+SUM($B$91:$X$91)+SUM($B$111:H$111))","v":""},null,{"$f":"IF(J$111<1,\"\",SUM($B$11:$X$11)+SUM($B$31:$X$31)+SUM($B$51:$X$51)+SUM($B$71:$X$71)+SUM($B$91:$X$91)+SUM($B$111:J$111))","v":""},null,{"$f":"IF(L$111<1,\"\",SUM($B$11:$X$11)+SUM($B$31:$X$31)+SUM($B$51:$X$51)+SUM($B$71:$X$71)+SUM($B$91:$X$91)+SUM($B$111:L$111))","v":""},null,{"$f":"IF(N$111<1,\"\",SUM($B$11:$X$11)+SUM($B$31:$X$31)+SUM($B$51:$X$51)+SUM($B$71:$X$71)+SUM($B$91:$X$91)+SUM($B$111:N$111))","v":""},null,{"$f":"IF(P$111<1,\"\",SUM($B$11:$X$11)+SUM($B$31:$X$31)+SUM($B$51:$X$51)+SUM($B$71:$X$71)+SUM($B$91:$X$91)+SUM($B$111:P$111))","v":""},null,{"$f":"IF(R$111<1,\"\",SUM($B$11:$X$11)+SUM($B$31:$X$31)+SUM($B$51:$X$51)+SUM($B$71:$X$71)+SUM($B$91:$X$91)+SUM($B$111:R$111))","v":""},null,{"$f":"IF(T$111<1,\"\",SUM($B$11:$X$11)+SUM($B$31:$X$31)+SUM($B$51:$X$51)+SUM($B$71:$X$71)+SUM($B$91:$X$91)+SUM($B$111:T$111))","v":""},null,{"$f":"IF(V$111<1,\"\",SUM($B$11:$X$11)+SUM($B$31:$X$31)+SUM($B$51:$X$51)+SUM($B$71:$X$71)+SUM($B$91:$X$91)+SUM($B$111:V$111))","v":""},null,{"$f":"IF(X$111<1,\"\",SUM($B$11:$X$11)+SUM($B$31:$X$31)+SUM($B$51:$X$51)+SUM($B$71:$X$71)+SUM($B$91:$X$91)+SUM($B$111:X$111))","v":""}]
["Modul ausgewählt 2",{"$f":"IF($F$1400=0,0,IF(B$113>0,1,0))","v":0},null,{"$f":"IF($F$1420=0,0,IF(D$113>0,1,0))","v":0},null,{"$f":"IF($F$1440=0,0,IF(F$113>0,1,0))","v":0},null,{"$f":"IF($F$1460=0,0,IF(H$113>0,1,0))","v":0},null,{"$f":"IF($F$1480=0,0,IF(J$113>0,1,0))","v":0},null,{"$f":"IF($F$1500=0,0,IF(L$113>0,1,0))","v":0},null,{"$f":"IF($F$1520=0,0,IF(N$113>0,1,0))","v":0},null,{"$f":"IF($F$1540=0,0,IF(P$113>0,1,0))","v":0},null,{"$f":"IF($F$1560=0,0,IF(R$113>0,1,0))","v":0},null,{"$f":"IF($F$1580=0,0,IF(T$113>0,1,0))","v":0},null,{"$f":"IF($F$1600=0,0,IF(V$113>0,1,0))","v":0},null,{"$f":"IF($F$1620=0,0,IF(X$113>0,1,0))","v":0},{"$f":"SUM(B11:X11)+SUM(B31:X31)+SUM(B51:X51)+SUM(B71:X71)+SUM(B91:X91)+SUM(B111:X111)","v":0}]
[" Abzug Standard-Kabellänge 3",{"$f":"IF(B$114>0,(-0.3*B$113),0)","v":0},null,{"$f":"IF(D$114>0,(-0.3*D$113),0)","v":0},null,{"$f":"IF(F$114>0,(-0.3*F$113),0)","v":0},null,{"$f":"IF(H$114>0,(-0.3*H$113),0)","v":0},null,{"$f":"IF(J$114>0,(-0.3*J$113),0)","v":0},null,{"$f":"IF(L$114>0,(-0.3*L$113),0)","v":0},null,{"$f":"IF(N$114>0,(-0.3*N$113),0)","v":0},null,{"$f":"IF(P$114>0,(-0.3*P$113),0)","v":0},null,{"$f":"IF(R$114>0,(-0.3*R$113),0)","v":0},null,{"$f":"IF(T$114>0,(-0.3*T$113),0)","v":0},null,{"$f":"IF(V$114>0,(-0.3*V$113),0)","v":0},null,{"$f":"IF(X$114>0,(-0.3*X$113),0)","v":0}]
["Menge Module 4",{"$f":"Konfigurator!B$93","v":0},null,{"$f":"Konfigurator!D$93","v":0},null,{"$f":"Konfigurator!F$93","v":0},null,{"$f":"Konfigurator!H$93","v":0},null,{"$f":"Konfigurator!J$93","v":0},null,{"$f":"Konfigurator!L$93","v":0},null,{"$f":"Konfigurator!N$93","v":0},null,{"$f":"Konfigurator!P$93","v":0},null,{"$f":"Konfigurator!R$93","v":0},null,{"$f":"Konfigurator!T$93","v":0},null,{"$f":"Konfigurator!V$93","v":0},null,{"$f":"Konfigurator!X$93","v":0}]
["Kabellänge (Meter) 5",{"$f":"Konfigurator!B$94","v":0},null,{"$f":"Konfigurator!D$94","v":0},null,{"$f":"Konfigurator!F$94","v":0},null,{"$f":"Konfigurator!H$94","v":0},null,{"$f":"Konfigurator!J$94","v":0},null,{"$f":"Konfigurator!L$94","v":0},null,{"$f":"Konfigurator!N$94","v":0},null,{"$f":"Konfigurator!P$94","v":0},null,{"$f":"Konfigurator!R$94","v":0},null,{"$f":"Konfigurator!T$94","v":0},null,{"$f":"Konfigurator!V$94","v":0},null,{"$f":"Konfigurator!X$94","v":0}]
["Artikel-Nr. 6",{"$f":"IF($B$113=0,\"\",IF(ISNA(VLOOKUP($F$1400,$F$1401:$J$1410,2,FALSE)),\"\",IF($F$1400=FALSE,\"\",VLOOKUP($F$1400,$F$1401:$J$1410,2))))","v":""},null,{"$f":"IF($D$113=0,\"\",IF(ISNA(VLOOKUP($F$1420,$F$1421:$J$1430,2,FALSE)),\"\",IF($F$1420=FALSE,\"\",VLOOKUP($F$1420,$F$1421:$J$1430,2))))","v":""},null,{"$f":"IF($F$113=0,\"\",IF(ISNA(VLOOKUP($F$1440,$F$1441:$J$1450,2,FALSE)),\"\",IF($F$1440=FALSE,\"\",VLOOKUP($F$1440,$F$1441:$J$1450,2))))","v":""},null,{"$f":"IF($H$113=0,\"\",IF(ISNA(VLOOKUP($F$1460,$F$1461:$J$1470,2,FALSE)),\"\",IF($F$1460=FALSE,\"\",VLOOKUP($F$1460,$F$1461:$J$1470,2))))","v":""},null,{"$f":"IF($J$113=0,\"\",IF(ISNA(VLOOKUP($F$1480,$F$1481:$J$1490,2,FALSE)),\"\",IF($F$1480=FALSE,\"\",VLOOKUP($F$1480,$F$1481:$J$1490,2))))","v":""},null,{"$f":"IF($L$113=0,\"\",IF(ISNA(VLOOKUP($F$1500,$F$1501:$J$1510,2,FALSE)),\"\",IF($F$1500=FALSE,\"\",VLOOKUP($F$1500,$F$1501:$J$1510,2))))","v":""},null,{"$f":"IF($N$113=0,\"\",IF(ISNA(VLOOKUP($F$1520,$F$1521:$J$1530,2,FALSE)),\"\",IF($F$1520=FALSE,\"\",VLOOKUP($F$1520,$F$1521:$J$1530,2))))","v":""},null,{"$f":"IF($P$113=0,\"\",IF(ISNA(VLOOKUP($F$1540,$F$1541:$J$1550,2,FALSE)),\"\",IF($F$1540=FALSE,\"\",VLOOKUP($F$1540,$F$1541:$J$1550,2))))","v":""},null,{"$f":"IF($R$113=0,\"\",IF(ISNA(VLOOKUP($F$1560,$F$1561:$J$1570,2,FALSE)),\"\",IF($F$1560=FALSE,\"\",VLOOKUP($F$1560,$F$1561:$J$1570,2))))","v":""},null,{"$f":"IF($T$113=0,\"\",IF(ISNA(VLOOKUP($F$1580,$F$1581:$J$1590,2,FALSE)),\"\",IF($F$1580=FALSE,\"\",VLOOKUP($F$1580,$F$1581:$J$1590,2))))","v":""},null,{"$f":"IF($V$113=0,\"\",IF(ISNA(VLOOKUP($F$1600,$F$1601:$J$1610,2,FALSE)),\"\",IF($F$1600=FALSE,\"\",VLOOKUP($F$1600,$F$1601:$J$1610,2))))","v":""},null,{"$f":"IF($X$113=0,\"\",IF(ISNA(VLOOKUP($F$1620,$F$1621:$J$1630,2,FALSE)),\"\",IF($F$1620=FALSE,\"\",VLOOKUP($F$1620,$F$1621:$J$1630,2))))","v":""}]
["TE 7",{"$f":"IF($B$113=0,\"\",IF(ISNA(VLOOKUP($F$1400,$F$1401:$J$1410,3,FALSE)),\"\",IF($F$1400=FALSE,\"\",VLOOKUP($F$1400,$F$1401:$J$1410,3))))","v":""},null,{"$f":"IF($D$113=0,\"\",IF(ISNA(VLOOKUP($F$1420,$F$1421:$J$1430,3,FALSE)),\"\",IF($F$1420=FALSE,\"\",VLOOKUP($F$1420,$F$1421:$J$1430,3))))","v":""},null,{"$f":"IF($F$113=0,\"\",IF(ISNA(VLOOKUP($F$1440,$F$1441:$J$1450,3,FALSE)),\"\",IF($F$1440=FALSE,\"\",VLOOKUP($F$1440,$F$1441:$J$1450,3))))","v":""},null,{"$f":"IF($H$113=0,\"\",IF(ISNA(VLOOKUP($F$1460,$F$1461:$J$1470,3,FALSE)),\"\",IF($F$1460=FALSE,\"\",VLOOKUP($F$1460,$F$1461:$J$1470,3))))","v":""},null,{"$f":"IF($J$113=0,\"\",IF(ISNA(VLOOKUP($F$1480,$F$1481:$J$1490,3,FALSE)),\"\",IF($F$1480=FALSE,\"\",VLOOKUP($F$1480,$F$1481:$J$1490,3))))","v":""},null,{"$f":"IF($L$113=0,\"\",IF(ISNA(VLOOKUP($F$1500,$F$1501:$J$1510,3,FALSE)),\"\",IF($F$1500=FALSE,\"\",VLOOKUP($F$1500,$F$1501:$J$1510,3))))","v":""},null,{"$f":"IF($N$113=0,\"\",IF(ISNA(VLOOKUP($F$1520,$F$1521:$J$1530,3,FALSE)),\"\",IF($F$1520=FALSE,\"\",VLOOKUP($F$1520,$F$1521:$J$1530,3))))","v":""},null,{"$f":"IF($P$113=0,\"\",IF(ISNA(VLOOKUP($F$1540,$F$1541:$J$1550,3,FALSE)),\"\",IF($F$1540=FALSE,\"\",VLOOKUP($F$1540,$F$1541:$J$1550,3))))","v":""},null,{"$f":"IF($R$113=0,\"\",IF(ISNA(VLOOKUP($F$1560,$F$1561:$J$1570,3,FALSE)),\"\",IF($F$1560=FALSE,\"\",VLOOKUP($F$1560,$F$1561:$J$1570,3))))","v":""},null,{"$f":"IF($T$113=0,\"\",IF(ISNA(VLOOKUP($F$1580,$F$1581:$J$1590,3,FALSE)),\"\",IF($F$1580=FALSE,\"\",VLOOKUP($F$1580,$F$1581:$J$1590,3))))","v":""},null,{"$f":"IF($V$113=0,\"\",IF(ISNA(VLOOKUP($F$1600,$F$1601:$J$1610,3,FALSE)),\"\",IF($F$1600=FALSE,\"\",VLOOKUP($F$1600,$F$1601:$J$1610,3))))","v":""},null,{"$f":"IF($X$113=0,\"\",IF(ISNA(VLOOKUP($F$1620,$F$1621:$J$1630,3,FALSE)),\"\",IF($F$1620=FALSE,\"\",VLOOKUP($F$1620,$F$1621:$J$1630,3))))","v":""}]
["Einzel-Preis 8",{"$f":"IF($B$113=0,\"\",IF(ISNA(VLOOKUP($F$1400,$F$1401:$J$1410,4,FALSE)),\"\",IF($F$1400=FALSE,\"\",VLOOKUP($F$1400,$F$1401:$J$1410,4))))","v":""},null,{"$f":"IF($D$113=0,\"\",IF(ISNA(VLOOKUP($F$1420,$F$1421:$J$1430,4,FALSE)),\"\",IF($F$1420=FALSE,\"\",VLOOKUP($F$1420,$F$1421:$J$1430,4))))","v":""},null,{"$f":"IF($F$113=0,\"\",IF(ISNA(VLOOKUP($F$1440,$F$1441:$J$1450,4,FALSE)),\"\",IF($F$1440=FALSE,\"\",VLOOKUP($F$1440,$F$1441:$J$1450,4))))","v":""},null,{"$f":"IF($H$113=0,\"\",IF(ISNA(VLOOKUP($F$1460,$F$1461:$J$1470,4,FALSE)),\"\",IF($F$1460=FALSE,\"\",VLOOKUP($F$1460,$F$1461:$J$1470,4))))","v":""},null,{"$f":"IF($J$113=0,\"\",IF(ISNA(VLOOKUP($F$1480,$F$1481:$J$1490,4,FALSE)),\"\",IF($F$1480=FALSE,\"\",VLOOKUP($F$1480,$F$1481:$J$1490,4))))","v":""},null,{"$f":"IF($L$113=0,\"\",IF(ISNA(VLOOKUP($F$1500,$F$1501:$J$1510,4,FALSE)),\"\",IF($F$1500=FALSE,\"\",VLOOKUP($F$1500,$F$1501:$J$1510,4))))","v":""},null,{"$f":"IF($N$113=0,\"\",IF(ISNA(VLOOKUP($F$1520,$F$1521:$J$1530,4,FALSE)),\"\",IF($F$1520=FALSE,\"\",VLOOKUP($F$1520,$F$1521:$J$1530,4))))","v":""},null,{"$f":"IF($P$113=0,\"\",IF(ISNA(VLOOKUP($F$1540,$F$1541:$J$1550,4,FALSE)),\"\",IF($F$1540=FALSE,\"\",VLOOKUP($F$1540,$F$1541:$J$1550,4))))","v":""},null,{"$f":"IF($R$113=0,\"\",IF(ISNA(VLOOKUP($F$1560,$F$1561:$J$1570,4,FALSE)),\"\",IF($F$1560=FALSE,\"\",VLOOKUP($F$1560,$F$1561:$J$1570,4))))","v":""},null,{"$f":"IF($T$113=0,\"\",IF(ISNA(VLOOKUP($F$1580,$F$1581:$J$1590,4,FALSE)),\"\",IF($F$1580=FALSE,\"\",VLOOKUP($F$1580,$F$1581:$J$1590,4))))","v":""},null,{"$f":"IF($V$113=0,\"\",IF(ISNA(VLOOKUP($F$1600,$F$1601:$J$1610,4,FALSE)),\"\",IF($F$1600=FALSE,\"\",VLOOKUP($F$1600,$F$1601:$J$1610,4))))","v":""},null,{"$f":"IF($X$113=0,\"\",IF(ISNA(VLOOKUP($F$1620,$F$1621:$J$1630,4,FALSE)),\"\",IF($F$1620=FALSE,\"\",VLOOKUP($F$1620,$F$1621:$J$1630,4))))","v":""}]
["Artikel-Nr. Zusatzkabel - 1  9",{"$f":"IF(OR(B$122=\"N\",B$114=0),\"\",IF($F$1400=FALSE,\"\",IF($F$1400=0,\"\",$G$1411)))","v":""},null,{"$f":"IF(OR(D$122=\"N\",D$114=0),\"\",IF($F$1420=FALSE,\"\",IF($F$1420=0,\"\",$G$1431)))","v":""},null,{"$f":"IF(OR(F$122=\"N\",F$114=0),\"\",IF($F$1440=FALSE,\"\",IF($F$1440=0,\"\",$G$1451)))","v":""},null,{"$f":"IF(OR(H$122=\"N\",H$114=0),\"\",IF($F$1460=FALSE,\"\",IF($F$1460=0,\"\",$G$1471)))","v":""},null,{"$f":"IF(OR(J$122=\"N\",J$114=0),\"\",IF($F$1480=FALSE,\"\",IF($F$1480=0,\"\",$G$1491)))","v":""},null,{"$f":"IF(OR(L$122=\"N\",L$114=0),\"\",IF($F$1500=FALSE,\"\",IF($F$1500=0,\"\",$G$1511)))","v":""},null,{"$f":"IF(OR(N$122=\"N\",N$114=0),\"\",IF($F$1520=FALSE,\"\",IF($F$1520=0,\"\",$G$1531)))","v":""},null,{"$f":"IF(OR(P$122=\"N\",P$114=0),\"\",IF($F$1540=FALSE,\"\",IF($F$1540=0,\"\",$G$1551)))","v":""},null,{"$f":"IF(OR(R$122=\"N\",R$114=0),\"\",IF($F$1560=FALSE,\"\",IF($F$1560=0,\"\",$G$1571)))","v":""},null,{"$f":"IF(OR(T$122=\"N\",T$114=0),\"\",IF($F$1580=FALSE,\"\",IF($F$1580=0,\"\",$G$1591)))","v":""},null,{"$f":"IF(OR(V$122=\"N\",V$114=0),\"\",IF($F$1600=FALSE,\"\",IF($F$1600=0,\"\",$G$1611)))","v":""},null,{"$f":"IF(OR(X$122=\"N\",X$114=0),\"\",IF($F$1620=FALSE,\"\",IF($F$1620=0,\"\",$G$1631)))","v":""}]
["zusätzliche Kabellänge /m 10",{"$f":"IF(OR(B$122=\"N\",B$114=0),\"\",IF($F$1400=FALSE,\"\",IF($F$1400=0,\"\",$I$1411)))","v":""},null,{"$f":"IF(OR(D$122=\"N\",D$114=0),\"\",IF($F$1420=FALSE,\"\",IF($F$1420=0,\"\",$I$1431)))","v":""},null,{"$f":"IF(OR(F$122=\"N\",F$114=0),\"\",IF($F$1440=FALSE,\"\",IF($F$1440=0,\"\",$I$1451)))","v":""},null,{"$f":"IF(OR(H$122=\"N\",H$114=0),\"\",IF($F$1460=FALSE,\"\",IF($F$1460=0,\"\",$I$1471)))","v":""},null,{"$f":"IF(OR(J$122=\"N\",J$114=0),\"\",IF($F$1480=FALSE,\"\",IF($F$1480=0,\"\",$I$1491)))","v":""},null,{"$f":"IF(OR(L$122=\"N\",L$114=0),\"\",IF($F$1500=FALSE,\"\",IF($F$1500=0,\"\",$I$1511)))","v":""},null,{"$f":"IF(OR(N$122=\"N\",N$114=0),\"\",IF($F$1520=FALSE,\"\",IF($F$1520=0,\"\",$I$1531)))","v":""},null,{"$f":"IF(OR(P$122=\"N\",P$114=0),\"\",IF($F$1540=FALSE,\"\",IF($F$1540=0,\"\",$I$1551)))","v":""},null,{"$f":"IF(OR(R$122=\"N\",R$114=0),\"\",IF($F$1560=FALSE,\"\",IF($F$1560=0,\"\",$I$1571)))","v":""},null,{"$f":"IF(OR(T$122=\"N\",T$114=0),\"\",IF($F$1580=FALSE,\"\",IF($F$1580=0,\"\",$I$1591)))","v":""},null,{"$f":"IF(OR(V$122=\"N\",V$114=0),\"\",IF($F$1600=FALSE,\"\",IF($F$1600=0,\"\",$I$1611)))","v":""},null,{"$f":"IF(OR(X$122=\"N\",X$114=0),\"\",IF($F$1620=FALSE,\"\",IF($F$1620=0,\"\",$I$1631)))","v":""}]
["Artikel-Nr. Zusatzkabel Audio  11",{"$f":"IF(OR(B$122=\"N\",B$114=0,$G$1413=\"\"),\"\",IF($F$1400=FALSE,\"\",IF($F$1400=0,\"\",$G$1413)))","v":""},null,{"$f":"IF(OR(D$122=\"N\",D$114=0,$G$1433=\"\"),\"\",IF($F$1420=FALSE,\"\",IF($F$1420=0,\"\",$G$1433)))","v":""},null,{"$f":"IF(OR(F$122=\"N\",F$114=0,$G$1453=\"\"),\"\",IF($F$1440=FALSE,\"\",IF($F$1440=0,\"\",$G$1453)))","v":""},null,{"$f":"IF(OR(H$122=\"N\",H$114=0,$G$1473=\"\"),\"\",IF($F$1460=FALSE,\"\",IF($F$1460=0,\"\",$G$1473)))","v":""},null,{"$f":"IF(OR(J$122=\"N\",J$114=0,$G$1493=\"\"),\"\",IF($F$1480=FALSE,\"\",IF($F$1480=0,\"\",$G$1493)))","v":""},null,{"$f":"IF(OR(L$122=\"N\",L$114=0,$G$1513=\"\"),\"\",IF($F$1500=FALSE,\"\",IF($F$1500=0,\"\",$G$1513)))","v":""},null,{"$f":"IF(OR(N$122=\"N\",N$114=0,$G$1533=\"\"),\"\",IF($F$1520=FALSE,\"\",IF($F$1520=0,\"\",$G$1533)))","v":""},null,{"$f":"IF(OR(P$122=\"N\",P$114=0,$G$1553=\"\"),\"\",IF($F$1540=FALSE,\"\",IF($F$1540=0,\"\",$G$1553)))","v":""},null,{"$f":"IF(OR(R$122=\"N\",R$114=0,$G$1573=\"\"),\"\",IF($F$1560=FALSE,\"\",IF($F$1560=0,\"\",$G$1573)))","v":""},null,{"$f":"IF(OR(T$122=\"N\",T$114=0,$G$1593=\"\"),\"\",IF($F$1580=FALSE,\"\",IF($F$1580=0,\"\",$G$1593)))","v":""},null,{"$f":"IF(OR(V$122=\"N\",V$114=0,$G$1613=\"\"),\"\",IF($F$1600=FALSE,\"\",IF($F$1600=0,\"\",$G$1613)))","v":""},null,{"$f":"IF(OR(X$122=\"N\",X$114=0,$G$1633=\"\"),\"\",IF($F$1620=FALSE,\"\",IF($F$1620=0,\"\",$G$1633)))","v":""}]
["zusätzliche Kabellänge Audio /m 12",{"$f":"IF(OR(B$122=\"N\",B$114=0,$G$1413=\"\"),\"\",IF($F$1400=FALSE,\"\",IF($F$1400=0,\"\",$I$1413)))","v":""},null,{"$f":"IF(OR(D$122=\"N\",D$114=0,$G$1433=\"\"),\"\",IF($F$1420=FALSE,\"\",IF($F$1420=0,\"\",$I$1433)))","v":""},null,{"$f":"IF(OR(F$122=\"N\",F$114=0,$G$1453=\"\"),\"\",IF($F$1440=FALSE,\"\",IF($F$1440=0,\"\",$I$1453)))","v":""},null,{"$f":"IF(OR(H$122=\"N\",H$114=0,$G$1473=\"\"),\"\",IF($F$1460=FALSE,\"\",IF($F$1460=0,\"\",$I$1473)))","v":""},null,{"$f":"IF(OR(J$122=\"N\",J$114=0,$G$1493=\"\"),\"\",IF($F$1480=FALSE,\"\",IF($F$1480=0,\"\",$I$1493)))","v":""},null,{"$f":"IF(OR(L$122=\"N\",L$114=0,$G$1513=\"\"),\"\",IF($F$1500=FALSE,\"\",IF($F$1500=0,\"\",$I$1513)))","v":""},null,{"$f":"IF(OR(N$122=\"N\",N$114=0,$G$1533=\"\"),\"\",IF($F$1520=FALSE,\"\",IF($F$1520=0,\"\",$I$1533)))","v":""},null,{"$f":"IF(OR(P$122=\"N\",P$114=0,$G$1553=\"\"),\"\",IF($F$1540=FALSE,\"\",IF($F$1540=0,\"\",$I$1553)))","v":""},null,{"$f":"IF(OR(R$122=\"N\",R$114=0,$G$1573=\"\"),\"\",IF($F$1560=FALSE,\"\",IF($F$1560=0,\"\",$I$1573)))","v":""},null,{"$f":"IF(OR(T$122=\"N\",T$114=0,$G$1593=\"\"),\"\",IF($F$1580=FALSE,\"\",IF($F$1580=0,\"\",$I$1593)))","v":""},null,{"$f":"IF(OR(V$122=\"N\",V$114=0,$G$1613=\"\"),\"\",IF($F$1600=FALSE,\"\",IF($F$1600=0,\"\",$I$1613)))","v":""},null,{"$f":"IF(OR(X$122=\"N\",X$114=0,$G$1633=\"\"),\"\",IF($F$1620=FALSE,\"\",IF($F$1620=0,\"\",$I$1633)))","v":""}]
["(je ausgewähltem Anschluss) Kabel J/N 13",{"$f":"IF(ISNA(VLOOKUP($F$1400,$F$1401:$J$1410,5,FALSE)),\"\",IF($F$1400=FALSE,\"\",VLOOKUP($F$1400,$F$1401:$J$1410,5)))","v":""},null,{"$f":"IF(ISNA(VLOOKUP($F$1420,$F$1421:$J$1430,5,FALSE)),\"\",IF($F$1420=FALSE,\"\",VLOOKUP($F$1420,$F$1421:$J$1430,5)))","v":""},null,{"$f":"IF(ISNA(VLOOKUP($F$1440,$F$1441:$J$1450,5,FALSE)),\"\",IF($F$1440=FALSE,\"\",VLOOKUP($F$1440,$F$1441:$J$1450,5)))","v":"N"},null,{"$f":"IF(ISNA(VLOOKUP($F$1460,$F$1461:$J$1470,5,FALSE)),\"\",IF($F$1460=FALSE,\"\",VLOOKUP($F$1460,$F$1461:$J$1470,5)))","v":"N"},null,{"$f":"IF(ISNA(VLOOKUP($F$1480,$F$1481:$J$1490,5,FALSE)),\"\",IF($F$1480=FALSE,\"\",VLOOKUP($F$1480,$F$1481:$J$1490,5)))","v":"N"},null,{"$f":"IF(ISNA(VLOOKUP($F$1500,$F$1501:$J$1510,5,FALSE)),\"\",IF($F$1500=FALSE,\"\",VLOOKUP($F$1500,$F$1501:$J$1510,5)))","v":"N"},null,{"$f":"IF(ISNA(VLOOKUP($F$1520,$F$1521:$J$1530,5,FALSE)),\"\",IF($F$1520=FALSE,\"\",VLOOKUP($F$1520,$F$1521:$J$1530,5)))","v":"N"},null,{"$f":"IF(ISNA(VLOOKUP($F$1540,$F$1541:$J$1550,5,FALSE)),\"\",IF($F$1540=FALSE,\"\",VLOOKUP($F$1540,$F$1541:$J$1550,5)))","v":"N"},null,{"$f":"IF(ISNA(VLOOKUP($F$1560,$F$1561:$J$1570,5,FALSE)),\"\",IF($F$1560=FALSE,\"\",VLOOKUP($F$1560,$F$1561:$J$1570,5)))","v":"N"},null,{"$f":"IF(ISNA(VLOOKUP($F$1580,$F$1581:$J$1590,5,FALSE)),\"\",IF($F$1580=FALSE,\"\",VLOOKUP($F$1580,$F$1581:$J$1590,5)))","v":""},null,{"$f":"IF(ISNA(VLOOKUP($F$1600,$F$1601:$J$1610,5,FALSE)),\"\",IF($F$1600=FALSE,\"\",VLOOKUP($F$1600,$F$1601:$J$1610,5)))","v":"N"},null,{"$f":"IF(ISNA(VLOOKUP($F$1620,$F$1621:$J$1630,5,FALSE)),\"\",IF($F$1620=FALSE,\"\",VLOOKUP($F$1620,$F$1621:$J$1630,5)))","v":""}]
["Zusätzliche Kabellänge 14",{"$f":"IF(B122=\"N\",0,(B114*B113)+B112)","v":0},null,{"$f":"IF(D122=\"N\",0,(D114*D113)+D112)","v":0},null,{"$f":"IF(F122=\"N\",0,(F114*F113)+F112)","v":0},null,{"$f":"IF(H122=\"N\",0,(H114*H113)+H112)","v":0},null,{"$f":"IF(J122=\"N\",0,(J114*J113)+J112)","v":0},null,{"$f":"IF(L122=\"N\",0,(L114*L113)+L112)","v":0},null,{"$f":"IF(N122=\"N\",0,(N114*N113)+N112)","v":0},null,{"$f":"IF(P122=\"N\",0,(P114*P113)+P112)","v":0},null,{"$f":"IF(R122=\"N\",0,(R114*R113)+R112)","v":0},null,{"$f":"IF(T122=\"N\",0,(T114*T113)+T112)","v":0},null,{"$f":"IF(V122=\"N\",0,(V114*V113)+V112)","v":0},null,{"$f":"IF(X122=\"N\",0,(X114*X113)+X112)","v":0}]
["Summe TE 15",{"$f":"IF(B$113=0,\"\",B$113*B$116)","v":""},null,{"$f":"IF(D$113=0,\"\",D$113*D$116)","v":""},null,{"$f":"IF(F$113=0,\"\",F$113*F$116)","v":""},null,{"$f":"IF(H$113=0,\"\",H$113*H$116)","v":""},null,{"$f":"IF(J$113=0,\"\",J$113*J$116)","v":""},null,{"$f":"IF(L$113=0,\"\",L$113*L$116)","v":""},null,{"$f":"IF(N$113=0,\"\",N$113*N$116)","v":""},null,{"$f":"IF(P$113=0,\"\",P$113*P$116)","v":""},null,{"$f":"IF(R$113=0,\"\",R$113*R$116)","v":""},null,{"$f":"IF(T$113=0,\"\",T$113*T$116)","v":""},null,{"$f":"IF(V$113=0,\"\",V$113*V$116)","v":""},null,{"$f":"IF(X$113=0,\"\",X$113*X$116)","v":""}]
["Datenaufbereitung",1400,null,1420,null,1440,null,1460,null,1480,null,1500,null,1520,null,1540,null,1560,null,1580,null,1600,null,1620]
["Konfigurator","AFM",null,"AFM",null,"AFM",null,"AFM",null,"AFM",null,"AFM",null,"AFM",null,"AFM",null,"AFM",null,"AFM",null,"AFM",null,"AFM"]
[]
[]
[]
[]
[]
[]
[]
[]
[]
[]
[]
[]
[]
[]
[]
[]
[]
[]
[]
[]
[]
[]
[]
[]
[]
[]
[]
[]
[]
[]
[]
[]
[]
[]
[]
[]
[]
[]
[]
[]
[]
[]
[]
[]
[]
[]
[]
[]
[]
[]
[]
[]
[]
[]
[]
[]
[]
[]
[]
[]
[]
[]
[]
[]
[]
[]
[]
[]
[]
[]
[]
[]
[null,"AL200"]
["VGA-Buchse","Auswählen!","AFM","DB",null,{"$f":"IF(Konfigurator!B$42=B201,1,IF(Konfigurator!B$42=B202,2,IF(Konfigurator!B$42=B203,3,IF(Konfigurator!B$42=B204,4,IF(Konfigurator!B$42=B205,5,IF(Konfigurator!B$42=B206,6,IF(Konfigurator!B$42=B207,7,IF(Konfigurator!B$42=B208,8,))))))))+IF(Konfigurator!B$42=B209,9)+IF(Konfigurator!B$42=B210,10)+IF(Konfigurator!B$42=E200,0)+IF(Konfigurator!B$42=\"\",0)","v":0},"Art.Nr.","TE","Liste","Kabel"]
[null,{"$f":"IF(ISNA(VLOOKUP(G201,'AFM-Artikel'!$A$1:$D$4762,4,FALSE)),\"-\",VLOOKUP(G201,'AFM-Artikel'!$A$1:$D$4762,4,FALSE))","v":"lötbar"},null,null,null,1,5607,8,{"$f":"IF($G201=\"\",\"\",VLOOKUP($G201,'AFM-Artikel'!$A$1:$D$4762,3))","v":13.471500000000001},"N"]
[null,{"$f":"IF(ISNA(VLOOKUP(G202,'AFM-Artikel'!$A$1:$D$4762,4,FALSE)),\"-\",VLOOKUP(G202,'AFM-Artikel'!$A$1:$D$4762,4,FALSE))","v":"VGA-Bu. steckbar"},null,null,null,2,5608,8,{"$f":"IF($G202=\"\",\"\",VLOOKUP($G202,'AFM-Artikel'!$A$1:$D$4762,3))","v":18.858000000000001},"N"]
[null,{"$f":"IF(ISNA(VLOOKUP(G203,'AFM-Artikel'!$A$1:$D$4762,4,FALSE)),\"-\",VLOOKUP(G203,'AFM-Artikel'!$A$1:$D$4762,4,FALSE))","v":"5xBNC-Ku. 30cm"},null,null,null,3,5609,8,{"$f":"IF($G203=\"\",\"\",VLOOKUP($G203,'AFM-Artikel'!$A$1:$D$4762,3))","v":80.913000000000011},"J"]
[null,{"$f":"IF(ISNA(VLOOKUP(G204,'AFM-Artikel'!$A$1:$D$4762,4,FALSE)),\"-\",VLOOKUP(G204,'AFM-Artikel'!$A$1:$D$4762,4,FALSE))","v":"5xBNC-St. 30cm"},null,null,null,4,5610,8,{"$f":"IF($G204=\"\",\"\",VLOOKUP($G204,'AFM-Artikel'!$A$1:$D$4762,3))","v":75.411000000000001},"J"]
[null,{"$f":"IF(ISNA(VLOOKUP(G205,'AFM-Artikel'!$A$1:$D$4762,4,FALSE)),\"-\",VLOOKUP(G205,'AFM-Artikel'!$A$1:$D$4762,4,FALSE))","v":"VGA-St. 30cm"},null,null,null,5,5611,8,{"$f":"IF($G205=\"\",\"\",VLOOKUP($G205,'AFM-Artikel'!$A$1:$D$4762,3))","v":59.2515},"J"]
[null,{"$f":"IF(ISNA(VLOOKUP(G206,'AFM-Artikel'!$A$1:$D$4762,4,FALSE)),\"-\",VLOOKUP(G206,'AFM-Artikel'!$A$1:$D$4762,4,FALSE))","v":"VGA-Ku. 30cm"},null,null,null,6,5612,8,{"$f":"IF($G206=\"\",\"\",VLOOKUP($G206,'AFM-Artikel'!$A$1:$D$4762,3))","v":59.2515},"J"]
[null,{"$f":"IF(ISNA(VLOOKUP(G207,'AFM-Artikel'!$A$1:$D$4762,4,FALSE)),\"-\",VLOOKUP(G207,'AFM-Artikel'!$A$1:$D$4762,4,FALSE))","v":"offen 30cm"},null,null,null,7,5738,8,{"$f":"IF($G207=\"\",\"\",VLOOKUP($G207,'AFM-Artikel'!$A$1:$D$4762,3))","v":37.716000000000001},"J"]
[null,{"$f":"IF(ISNA(VLOOKUP(G208,'AFM-Artikel'!$A$1:$D$4762,4,FALSE)),\"-\",VLOOKUP(G208,'AFM-Artikel'!$A$1:$D$4762,4,FALSE))","v":"-"},null,null,null,8,1,null,{"$f":"IF($G208=\"\",\"\",VLOOKUP($G208,'AFM-Artikel'!$A$1:$D$4762,3))","v":0}]
[null,{"$f":"IF(ISNA(VLOOKUP(G209,'AFM-Artikel'!$A$1:$D$4762,4,FALSE)),\"-\",VLOOKUP(G209,'AFM-Artikel'!$A$1:$D$4762,4,FALSE))","v":"-"},null,null,null,9,1,null,{"$f":"IF($G209=\"\",\"\",VLOOKUP($G209,'AFM-Artikel'!$A$1:$D$4762,3))","v":0}]
[null,{"$f":"IF(ISNA(VLOOKUP(G210,'AFM-Artikel'!$A$1:$D$4762,4,FALSE)),\"-\",VLOOKUP(G210,'AFM-Artikel'!$A$1:$D$4762,4,FALSE))","v":"-"},null,null,null,10,1,null,{"$f":"IF($G210=\"\",\"\",VLOOKUP($G210,'AFM-Artikel'!$A$1:$D$4762,3))","v":0}]
["Zusatzkabel-1",{"$f":"IF($G211=\"\",\"\",VLOOKUP($G211,'AFM-Artikel'!$A$1:$D$4762,2))","v":"zusätzliche Kabellänge VGA-Kabel"},null,null,null,null,5300,null,{"$f":"IF($G211=\"\",\"\",VLOOKUP($G211,'AFM-Artikel'!$A$1:$D$4762,3))","v":5.0610000000000008}]
["Zusatzkabel-2",{"$f":"IF($G212=\"\",\"\",VLOOKUP($G212,'AFM-Artikel'!$A$1:$D$4762,2))","v":"Nicht verfügbar!"},null,null,null,null,0,null,{"$f":"IF($G212=\"\",\"\",VLOOKUP($G212,'AFM-Artikel'!$A$1:$D$4762,3))","v":0}]
["Zusatzkabel-Audio",{"$f":"IF($G213=\"\",\"\",VLOOKUP($G213,'AFM-Artikel'!$A$1:$D$4762,2))","v":"Nicht verfügbar!"},null,null,null,null,0,null,{"$f":"IF($G213=\"\",\"\",VLOOKUP($G213,'AFM-Artikel'!$A$1:$D$4762,3))","v":0}]
[]
[]
[]
[]
[]
[null,"AL220"]
["3,5Kl.-Bu./Ster.","Auswählen!","AFM","DB",null,{"$f":"IF(Konfigurator!D$42=B221,1,IF(Konfigurator!D$42=B222,2,IF(Konfigurator!D$42=B223,3,IF(Konfigurator!D$42=B224,4,IF(Konfigurator!D$42=B225,5,IF(Konfigurator!D$42=B226,6,IF(Konfigurator!D$42=B227,7,IF(Konfigurator!D$42=B228,8,))))))))+IF(Konfigurator!D$42=B229,9)+IF(Konfigurator!D$42=B230,10)+IF(Konfigurator!D$42=E220,0)+IF(Konfigurator!D$42=\"\",0)","v":0},"Art.Nr.","TE","Liste","Kabel"]
[null,{"$f":"IF(ISNA(VLOOKUP(G221,'AFM-Artikel'!$A$1:$D$4762,4,FALSE)),\"-\",VLOOKUP(G221,'AFM-Artikel'!$A$1:$D$4762,4,FALSE))","v":"lötbar"},null,null,null,1,5616,4,{"$f":"IF($G221=\"\",\"\",VLOOKUP($G221,'AFM-Artikel'!$A$1:$D$4762,3))","v":11.770500000000002},"N"]
[null,{"$f":"IF(ISNA(VLOOKUP(G222,'AFM-Artikel'!$A$1:$D$4762,4,FALSE)),\"-\",VLOOKUP(G222,'AFM-Artikel'!$A$1:$D$4762,4,FALSE))","v":"3,5-Kl.-Bu. steckbar"},null,null,null,2,5704,4,{"$f":"IF($G222=\"\",\"\",VLOOKUP($G222,'AFM-Artikel'!$A$1:$D$4762,3))","v":21.9345},"N"]
[null,{"$f":"IF(ISNA(VLOOKUP(G223,'AFM-Artikel'!$A$1:$D$4762,4,FALSE)),\"-\",VLOOKUP(G223,'AFM-Artikel'!$A$1:$D$4762,4,FALSE))","v":"3,5-Kl.-Ku. 30cm"},null,null,null,3,5617,4,{"$f":"IF($G223=\"\",\"\",VLOOKUP($G223,'AFM-Artikel'!$A$1:$D$4762,3))","v":21.9345},"J"]
[null,{"$f":"IF(ISNA(VLOOKUP(G224,'AFM-Artikel'!$A$1:$D$4762,4,FALSE)),\"-\",VLOOKUP(G224,'AFM-Artikel'!$A$1:$D$4762,4,FALSE))","v":"3,5-Kl.-St. 30cm"},null,null,null,4,5618,4,{"$f":"IF($G224=\"\",\"\",VLOOKUP($G224,'AFM-Artikel'!$A$1:$D$4762,3))","v":21.9345},"J"]
[null,{"$f":"IF(ISNA(VLOOKUP(G225,'AFM-Artikel'!$A$1:$D$4762,4,FALSE)),\"-\",VLOOKUP(G225,'AFM-Artikel'!$A$1:$D$4762,4,FALSE))","v":"2xCinch-Ku. 30cm"},null,null,null,5,5619,4,{"$f":"IF($G225=\"\",\"\",VLOOKUP($G225,'AFM-Artikel'!$A$1:$D$4762,3))","v":23.855999999999998},"J"]
[null,{"$f":"IF(ISNA(VLOOKUP(G226,'AFM-Artikel'!$A$1:$D$4762,4,FALSE)),\"-\",VLOOKUP(G226,'AFM-Artikel'!$A$1:$D$4762,4,FALSE))","v":"2xCinch-St. 30cm"},null,null,null,6,5620,4,{"$f":"IF($G226=\"\",\"\",VLOOKUP($G226,'AFM-Artikel'!$A$1:$D$4762,3))","v":23.855999999999998},"J"]
[null,{"$f":"IF(ISNA(VLOOKUP(G227,'AFM-Artikel'!$A$1:$D$4762,4,FALSE)),\"-\",VLOOKUP(G227,'AFM-Artikel'!$A$1:$D$4762,4,FALSE))","v":"offen 30cm"},null,null,null,7,5739,4,{"$f":"IF($G227=\"\",\"\",VLOOKUP($G227,'AFM-Artikel'!$A$1:$D$4762,3))","v":16.716000000000001},"J"]
[null,{"$f":"IF(ISNA(VLOOKUP(G228,'AFM-Artikel'!$A$1:$D$4762,4,FALSE)),\"-\",VLOOKUP(G228,'AFM-Artikel'!$A$1:$D$4762,4,FALSE))","v":"-"},null,null,null,8,1,null,{"$f":"IF($G228=\"\",\"\",VLOOKUP($G228,'AFM-Artikel'!$A$1:$D$4762,3))","v":0}]
[null,{"$f":"IF(ISNA(VLOOKUP(G229,'AFM-Artikel'!$A$1:$D$4762,4,FALSE)),\"-\",VLOOKUP(G229,'AFM-Artikel'!$A$1:$D$4762,4,FALSE))","v":"-"},null,null,null,9,1,null,{"$f":"IF($G229=\"\",\"\",VLOOKUP($G229,'AFM-Artikel'!$A$1:$D$4762,3))","v":0}]
[null,{"$f":"IF(ISNA(VLOOKUP(G230,'AFM-Artikel'!$A$1:$D$4762,4,FALSE)),\"-\",VLOOKUP(G230,'AFM-Artikel'!$A$1:$D$4762,4,FALSE))","v":"-"},null,null,null,10,1,null,{"$f":"IF($G230=\"\",\"\",VLOOKUP($G230,'AFM-Artikel'!$A$1:$D$4762,3))","v":0}]
["Zusatzkabel-1",{"$f":"IF($G231=\"\",\"\",VLOOKUP($G231,'AFM-Artikel'!$A$1:$D$4762,2))","v":"Nicht verfügbar!"},null,null,null,null,0,null,{"$f":"IF($G231=\"\",\"\",VLOOKUP($G231,'AFM-Artikel'!$A$1:$D$4762,3))","v":0}]
["Zusatzkabel-2",{"$f":"IF($G232=\"\",\"\",VLOOKUP($G232,'AFM-Artikel'!$A$1:$D$4762,2))","v":"Nicht verfügbar!"},null,null,null,null,0,null,{"$f":"IF($G232=\"\",\"\",VLOOKUP($G232,'AFM-Artikel'!$A$1:$D$4762,3))","v":0}]
["Zusatzkabel-Audio",{"$f":"IF($G233=\"\",\"\",VLOOKUP($G233,'AFM-Artikel'!$A$1:$D$4762,2))","v":"zusätzliche Kabellänge Audio 3mm"},null,null,null,null,5301,null,{"$f":"IF($G233=\"\",\"\",VLOOKUP($G233,'AFM-Artikel'!$A$1:$D$4762,3))","v":0.64049999999999996}]
["Zusatzkabel-Audio",{"$f":"IF($G234=\"\",\"\",VLOOKUP($G234,'AFM-Artikel'!$A$1:$D$4762,2))","v":"zusätzliche Kabellänge Audio-stereo"},null,null,null,null,5302,null,{"$f":"IF($G234=\"\",\"\",VLOOKUP($G234,'AFM-Artikel'!$A$1:$D$4762,3))","v":2.2364999999999999}]
[]
[]
[]
[]
[null,"AL240_"]
["VGA-Bu./3,5Kl.","Auswählen!","AFM","DB",null,{"$f":"IF(Konfigurator!F$42=B241,1,IF(Konfigurator!F$42=B242,2,IF(Konfigurator!F$42=B243,3,IF(Konfigurator!F$42=B244,4,IF(Konfigurator!F$42=B245,5,IF(Konfigurator!F$42=B246,6,IF(Konfigurator!F$42=B247,7,IF(Konfigurator!F$42=B248,8,))))))))+IF(Konfigurator!F$42=B249,9)+IF(Konfigurator!F$42=B250,10)+IF(Konfigurator!F$42=E240,0)+IF(Konfigurator!F$42=\"\",0)","v":0},"Art.Nr.","TE","Liste","Kabel"]
[null,{"$f":"IF(ISNA(VLOOKUP(G241,'AFM-Artikel'!$A$1:$D$4762,4,FALSE)),\"-\",VLOOKUP(G241,'AFM-Artikel'!$A$1:$D$4762,4,FALSE))","v":"lötbar"},null,null,null,1,5741,8,{"$f":"IF($G241=\"\",\"\",VLOOKUP($G241,'AFM-Artikel'!$A$1:$D$4762,3))","v":25.242000000000001},"N"]
[null,{"$f":"IF(ISNA(VLOOKUP(G242,'AFM-Artikel'!$A$1:$D$4762,4,FALSE)),\"-\",VLOOKUP(G242,'AFM-Artikel'!$A$1:$D$4762,4,FALSE))","v":"VGA-Bu.+Kl. steckbar"},null,null,null,2,5709,8,{"$f":"IF($G242=\"\",\"\",VLOOKUP($G242,'AFM-Artikel'!$A$1:$D$4762,3))","v":40.782000000000004},"N"]
[null,{"$f":"IF(ISNA(VLOOKUP(G243,'AFM-Artikel'!$A$1:$D$4762,4,FALSE)),\"-\",VLOOKUP(G243,'AFM-Artikel'!$A$1:$D$4762,4,FALSE))","v":"VGA-Ku.+Kl.-Ku. 30cm"},null,null,null,3,5725,8,{"$f":"IF($G243=\"\",\"\",VLOOKUP($G243,'AFM-Artikel'!$A$1:$D$4762,3))","v":81.185999999999993},"J"]
[null,{"$f":"IF(ISNA(VLOOKUP(G244,'AFM-Artikel'!$A$1:$D$4762,4,FALSE)),\"-\",VLOOKUP(G244,'AFM-Artikel'!$A$1:$D$4762,4,FALSE))","v":"VGA-St.+Kl.-St. 30cm"},null,null,null,4,5705,8,{"$f":"IF($G244=\"\",\"\",VLOOKUP($G244,'AFM-Artikel'!$A$1:$D$4762,3))","v":81.185999999999993},"J"]
[null,{"$f":"IF(ISNA(VLOOKUP(G245,'AFM-Artikel'!$A$1:$D$4762,4,FALSE)),\"-\",VLOOKUP(G245,'AFM-Artikel'!$A$1:$D$4762,4,FALSE))","v":"5xBNC-Ku. 30cm+Kl. lötbar"},null,null,null,5,5719,8,{"$f":"IF($G245=\"\",\"\",VLOOKUP($G245,'AFM-Artikel'!$A$1:$D$4762,3))","v":92.683499999999995},"J"]
[null,{"$f":"IF(ISNA(VLOOKUP(G246,'AFM-Artikel'!$A$1:$D$4762,4,FALSE)),\"-\",VLOOKUP(G246,'AFM-Artikel'!$A$1:$D$4762,4,FALSE))","v":"5xBNC-St.+Kl.-St. 30cm"},null,null,null,6,5720,8,{"$f":"IF($G246=\"\",\"\",VLOOKUP($G246,'AFM-Artikel'!$A$1:$D$4762,3))","v":97.345500000000001},"J"]
[null,{"$f":"IF(ISNA(VLOOKUP(G247,'AFM-Artikel'!$A$1:$D$4762,4,FALSE)),\"-\",VLOOKUP(G247,'AFM-Artikel'!$A$1:$D$4762,4,FALSE))","v":"5xBNC-Ku.+Kl.-Ku. 30cm"},null,null,null,7,5701,8,{"$f":"IF($G247=\"\",\"\",VLOOKUP($G247,'AFM-Artikel'!$A$1:$D$4762,3))","v":102.84750000000001},"J"]
[null,{"$f":"IF(ISNA(VLOOKUP(G248,'AFM-Artikel'!$A$1:$D$4762,4,FALSE)),\"-\",VLOOKUP(G248,'AFM-Artikel'!$A$1:$D$4762,4,FALSE))","v":"offen 30cm"},null,null,null,8,5740,8,{"$f":"IF($G248=\"\",\"\",VLOOKUP($G248,'AFM-Artikel'!$A$1:$D$4762,3))","v":54.442500000000003},"j"]
[null,{"$f":"IF(ISNA(VLOOKUP(G249,'AFM-Artikel'!$A$1:$D$4762,4,FALSE)),\"-\",VLOOKUP(G249,'AFM-Artikel'!$A$1:$D$4762,4,FALSE))","v":"-"},null,null,null,9,1,null,{"$f":"IF($G249=\"\",\"\",VLOOKUP($G249,'AFM-Artikel'!$A$1:$D$4762,3))","v":0}]
[null,{"$f":"IF(ISNA(VLOOKUP(G250,'AFM-Artikel'!$A$1:$D$4762,4,FALSE)),\"-\",VLOOKUP(G250,'AFM-Artikel'!$A$1:$D$4762,4,FALSE))","v":"-"},null,null,null,10,1,null,{"$f":"IF($G250=\"\",\"\",VLOOKUP($G250,'AFM-Artikel'!$A$1:$D$4762,3))","v":0}]
["Zusatzkabel-1",{"$f":"IF($G251=\"\",\"\",VLOOKUP($G251,'AFM-Artikel'!$A$1:$D$4762,2))","v":"zusätzliche Kabellänge VGA-Kabel"},null,null,null,null,5300,null,{"$f":"IF($G251=\"\",\"\",VLOOKUP($G251,'AFM-Artikel'!$A$1:$D$4762,3))","v":5.0610000000000008}]
["Zusatzkabel-2",{"$f":"IF($G252=\"\",\"\",VLOOKUP($G252,'AFM-Artikel'!$A$1:$D$4762,2))","v":"Nicht verfügbar!"},null,null,null,null,0,null,{"$f":"IF($G252=\"\",\"\",VLOOKUP($G252,'AFM-Artikel'!$A$1:$D$4762,3))","v":0}]
["Zusatzkabel-Audio",{"$f":"IF($G253=\"\",\"\",VLOOKUP($G253,'AFM-Artikel'!$A$1:$D$4762,2))","v":"zusätzliche Kabellänge Audio 3mm"},null,null,null,null,5301,null,{"$f":"IF($G253=\"\",\"\",VLOOKUP($G253,'AFM-Artikel'!$A$1:$D$4762,3))","v":0.64049999999999996}]
[]
[]
[]
[]
[]
[null,"AL260_"]
["DVI-Buchse","Auswählen!","AFM","DB",null,{"$f":"IF(Konfigurator!H$42=B261,1,IF(Konfigurator!H$42=B262,2,IF(Konfigurator!H$42=B263,3,IF(Konfigurator!H$42=B264,4,IF(Konfigurator!H$42=B265,5,IF(Konfigurator!H$42=B266,6,IF(Konfigurator!H$42=B267,7,IF(Konfigurator!H$42=B268,8,))))))))+IF(Konfigurator!H$42=B269,9)+IF(Konfigurator!H$42=B270,10)+IF(Konfigurator!H$42=E260,0)+IF(Konfigurator!H$42=\"\",0)","v":0},"Art.Nr.","TE","Liste","Kabel"]
[null,{"$f":"IF(ISNA(VLOOKUP(G261,'AFM-Artikel'!$A$1:$D$4762,4,FALSE)),\"-\",VLOOKUP(G261,'AFM-Artikel'!$A$1:$D$4762,4,FALSE))","v":"lötbar 24+5"},null,null,null,1,5613,8,{"$f":"IF($G261=\"\",\"\",VLOOKUP($G261,'AFM-Artikel'!$A$1:$D$4762,3))","v":18.858000000000001},"N"]
[null,{"$f":"IF(ISNA(VLOOKUP(G262,'AFM-Artikel'!$A$1:$D$4762,4,FALSE)),\"-\",VLOOKUP(G262,'AFM-Artikel'!$A$1:$D$4762,4,FALSE))","v":"DVI-I-Bu.24+5 steckbar"},null,null,null,2,5702,8,{"$f":"IF($G262=\"\",\"\",VLOOKUP($G262,'AFM-Artikel'!$A$1:$D$4762,3))","v":42.325500000000005},"N"]
[null,{"$f":"IF(ISNA(VLOOKUP(G263,'AFM-Artikel'!$A$1:$D$4762,4,FALSE)),\"-\",VLOOKUP(G263,'AFM-Artikel'!$A$1:$D$4762,4,FALSE))","v":"DVI-D-St. 30cm 24+1"},null,null,null,3,5614,8,{"$f":"IF($G263=\"\",\"\",VLOOKUP($G263,'AFM-Artikel'!$A$1:$D$4762,3))","v":71.179500000000004},"J"]
[null,{"$f":"IF(ISNA(VLOOKUP(G264,'AFM-Artikel'!$A$1:$D$4762,4,FALSE)),\"-\",VLOOKUP(G264,'AFM-Artikel'!$A$1:$D$4762,4,FALSE))","v":"DVI-D-Ku. 30cm 24+1"},null,null,null,4,5615,8,{"$f":"IF($G264=\"\",\"\",VLOOKUP($G264,'AFM-Artikel'!$A$1:$D$4762,3))","v":71.179500000000004},"J"]
[null,{"$f":"IF(ISNA(VLOOKUP(G265,'AFM-Artikel'!$A$1:$D$4762,4,FALSE)),\"-\",VLOOKUP(G265,'AFM-Artikel'!$A$1:$D$4762,4,FALSE))","v":"DVI-I-St.24+5 30cm"},null,null,null,5,5703,8,{"$f":"IF($G265=\"\",\"\",VLOOKUP($G265,'AFM-Artikel'!$A$1:$D$4762,3))","v":81.732000000000014},"J"]
[null,{"$f":"IF(ISNA(VLOOKUP(G266,'AFM-Artikel'!$A$1:$D$4762,4,FALSE)),\"-\",VLOOKUP(G266,'AFM-Artikel'!$A$1:$D$4762,4,FALSE))","v":"DVI-I-Ku.24+5 20cm"},null,null,null,6,5757,8,{"$f":"IF($G266=\"\",\"\",VLOOKUP($G266,'AFM-Artikel'!$A$1:$D$4762,3))","v":81.732000000000014},"N"]
[null,{"$f":"IF(ISNA(VLOOKUP(G267,'AFM-Artikel'!$A$1:$D$4762,4,FALSE)),\"-\",VLOOKUP(G267,'AFM-Artikel'!$A$1:$D$4762,4,FALSE))","v":"-"},null,null,null,7,1,null,{"$f":"IF($G267=\"\",\"\",VLOOKUP($G267,'AFM-Artikel'!$A$1:$D$4762,3))","v":0}]
[null,{"$f":"IF(ISNA(VLOOKUP(G268,'AFM-Artikel'!$A$1:$D$4762,4,FALSE)),\"-\",VLOOKUP(G268,'AFM-Artikel'!$A$1:$D$4762,4,FALSE))","v":"-"},null,null,null,8,1,null,{"$f":"IF($G268=\"\",\"\",VLOOKUP($G268,'AFM-Artikel'!$A$1:$D$4762,3))","v":0}]
[null,{"$f":"IF(ISNA(VLOOKUP(G269,'AFM-Artikel'!$A$1:$D$4762,4,FALSE)),\"-\",VLOOKUP(G269,'AFM-Artikel'!$A$1:$D$4762,4,FALSE))","v":"-"},null,null,null,9,1,null,{"$f":"IF($G269=\"\",\"\",VLOOKUP($G269,'AFM-Artikel'!$A$1:$D$4762,3))","v":0}]
[null,{"$f":"IF(ISNA(VLOOKUP(G270,'AFM-Artikel'!$A$1:$D$4762,4,FALSE)),\"-\",VLOOKUP(G270,'AFM-Artikel'!$A$1:$D$4762,4,FALSE))","v":"-"},null,null,null,10,1,null,{"$f":"IF($G270=\"\",\"\",VLOOKUP($G270,'AFM-Artikel'!$A$1:$D$4762,3))","v":0}]
["Zusatzkabel-1",{"$f":"IF($G271=\"\",\"\",VLOOKUP($G271,'AFM-Artikel'!$A$1:$D$4762,2))","v":"zusätzliche Kabellänge DVI-D"},null,null,null,null,5313,null,{"$f":"IF($G271=\"\",\"\",VLOOKUP($G271,'AFM-Artikel'!$A$1:$D$4762,3))","v":6.93}]
["Zusatzkabel-2",{"$f":"IF($G272=\"\",\"\",VLOOKUP($G272,'AFM-Artikel'!$A$1:$D$4762,2))","v":"zusätzliche Kabellänge DVI-I"},null,null,null,null,5314,null,{"$f":"IF($G272=\"\",\"\",VLOOKUP($G272,'AFM-Artikel'!$A$1:$D$4762,3))","v":7.9590000000000005}]
["Zusatzkabel-Audio",{"$f":"IF($G273=\"\",\"\",VLOOKUP($G273,'AFM-Artikel'!$A$1:$D$4762,2))","v":"Nicht verfügbar!"},null,null,null,null,0,null,{"$f":"IF($G273=\"\",\"\",VLOOKUP($G273,'AFM-Artikel'!$A$1:$D$4762,3))","v":0}]
[]
[]
[]
[]
[]
[null,"AL280_"]
["DVI-Bu/3,5Kl.","Auswählen!","AFM","DB",null,{"$f":"IF(Konfigurator!J$42=B281,1,IF(Konfigurator!J$42=B282,2,IF(Konfigurator!J$42=B283,3,IF(Konfigurator!J$42=B284,4,IF(Konfigurator!J$42=B285,5,IF(Konfigurator!J$42=B286,6,IF(Konfigurator!J$42=B287,7,IF(Konfigurator!J$42=B288,8,))))))))+IF(Konfigurator!J$42=B289,9)+IF(Konfigurator!J$42=B290,10)+IF(Konfigurator!J$42=E280,0)+IF(Konfigurator!J$42=\"\",0)","v":0},"Art.Nr.","TE","Liste","Kabel"]
[null,{"$f":"IF(ISNA(VLOOKUP(G281,'AFM-Artikel'!$A$1:$D$4762,4,FALSE)),\"-\",VLOOKUP(G281,'AFM-Artikel'!$A$1:$D$4762,4,FALSE))","v":"DVI-D-St.30cm+Kl. lötbar"},null,null,null,1,5735,8,{"$f":"IF($G281=\"\",\"\",VLOOKUP($G281,'AFM-Artikel'!$A$1:$D$4762,3))","v":82.96050000000001},"N"]
[null,{"$f":"IF(ISNA(VLOOKUP(G282,'AFM-Artikel'!$A$1:$D$4762,4,FALSE)),\"-\",VLOOKUP(G282,'AFM-Artikel'!$A$1:$D$4762,4,FALSE))","v":"DVI-I+Kl.-Bu.steckbar"},null,null,null,2,5759,8,{"$f":"IF($G282=\"\",\"\",VLOOKUP($G282,'AFM-Artikel'!$A$1:$D$4762,3))","v":40.782000000000004},"N"]
[null,{"$f":"IF(ISNA(VLOOKUP(G283,'AFM-Artikel'!$A$1:$D$4762,4,FALSE)),\"-\",VLOOKUP(G283,'AFM-Artikel'!$A$1:$D$4762,4,FALSE))","v":"DVI-D-St.+Kl.-St. 30cm"},null,null,null,3,5731,8,{"$f":"IF($G283=\"\",\"\",VLOOKUP($G283,'AFM-Artikel'!$A$1:$D$4762,3))","v":93.114000000000004},"J"]
[null,{"$f":"IF(ISNA(VLOOKUP(G284,'AFM-Artikel'!$A$1:$D$4762,4,FALSE)),\"-\",VLOOKUP(G284,'AFM-Artikel'!$A$1:$D$4762,4,FALSE))","v":"DVI-I-St.+Kl.-St. 30cm"},null,null,null,4,5736,8,{"$f":"IF($G284=\"\",\"\",VLOOKUP($G284,'AFM-Artikel'!$A$1:$D$4762,3))","v":106.96350000000001},"J"]
[null,{"$f":"IF(ISNA(VLOOKUP(G285,'AFM-Artikel'!$A$1:$D$4762,4,FALSE)),\"-\",VLOOKUP(G285,'AFM-Artikel'!$A$1:$D$4762,4,FALSE))","v":"-"},null,null,null,5,1,null,{"$f":"IF($G285=\"\",\"\",VLOOKUP($G285,'AFM-Artikel'!$A$1:$D$4762,3))","v":0}]
[null,{"$f":"IF(ISNA(VLOOKUP(G286,'AFM-Artikel'!$A$1:$D$4762,4,FALSE)),\"-\",VLOOKUP(G286,'AFM-Artikel'!$A$1:$D$4762,4,FALSE))","v":"-"},null,null,null,6,1,null,{"$f":"IF($G286=\"\",\"\",VLOOKUP($G286,'AFM-Artikel'!$A$1:$D$4762,3))","v":0}]
[null,{"$f":"IF(ISNA(VLOOKUP(G287,'AFM-Artikel'!$A$1:$D$4762,4,FALSE)),\"-\",VLOOKUP(G287,'AFM-Artikel'!$A$1:$D$4762,4,FALSE))","v":"-"},null,null,null,7,1,null,{"$f":"IF($G287=\"\",\"\",VLOOKUP($G287,'AFM-Artikel'!$A$1:$D$4762,3))","v":0}]
[null,{"$f":"IF(ISNA(VLOOKUP(G288,'AFM-Artikel'!$A$1:$D$4762,4,FALSE)),\"-\",VLOOKUP(G288,'AFM-Artikel'!$A$1:$D$4762,4,FALSE))","v":"-"},null,null,null,8,1,null,{"$f":"IF($G288=\"\",\"\",VLOOKUP($G288,'AFM-Artikel'!$A$1:$D$4762,3))","v":0}]
[null,{"$f":"IF(ISNA(VLOOKUP(G289,'AFM-Artikel'!$A$1:$D$4762,4,FALSE)),\"-\",VLOOKUP(G289,'AFM-Artikel'!$A$1:$D$4762,4,FALSE))","v":"-"},null,null,null,9,1,null,{"$f":"IF($G289=\"\",\"\",VLOOKUP($G289,'AFM-Artikel'!$A$1:$D$4762,3))","v":0}]
[null,{"$f":"IF(ISNA(VLOOKUP(G290,'AFM-Artikel'!$A$1:$D$4762,4,FALSE)),\"-\",VLOOKUP(G290,'AFM-Artikel'!$A$1:$D$4762,4,FALSE))","v":"-"},null,null,null,10,1,null,{"$f":"IF($G290=\"\",\"\",VLOOKUP($G290,'AFM-Artikel'!$A$1:$D$4762,3))","v":0}]
["Zusatzkabel-1",{"$f":"IF($G291=\"\",\"\",VLOOKUP($G291,'AFM-Artikel'!$A$1:$D$4762,2))","v":"zusätzliche Kabellänge DVI-D"},null,null,null,null,5313,null,{"$f":"IF($G291=\"\",\"\",VLOOKUP($G291,'AFM-Artikel'!$A$1:$D$4762,3))","v":6.93}]
["Zusatzkabel-2",{"$f":"IF($G292=\"\",\"\",VLOOKUP($G292,'AFM-Artikel'!$A$1:$D$4762,2))","v":"zusätzliche Kabellänge DVI-I"},null,null,null,null,5314,null,{"$f":"IF($G292=\"\",\"\",VLOOKUP($G292,'AFM-Artikel'!$A$1:$D$4762,3))","v":7.9590000000000005}]
["Zusatzkabel-Audio",{"$f":"IF($G293=\"\",\"\",VLOOKUP($G293,'AFM-Artikel'!$A$1:$D$4762,2))","v":"zusätzliche Kabellänge Audio 3mm"},null,null,null,null,5301,null,{"$f":"IF($G293=\"\",\"\",VLOOKUP($G293,'AFM-Artikel'!$A$1:$D$4762,3))","v":0.64049999999999996}]
[]
[]
[]
[]
[]
[null,"AL300_"]
["HDMI-Bu.","Auswählen!","AFM","DB",null,{"$f":"IF(Konfigurator!L$42=B301,1,IF(Konfigurator!L$42=B302,2,IF(Konfigurator!L$42=B303,3,IF(Konfigurator!L$42=B304,4,IF(Konfigurator!L$42=B305,5,IF(Konfigurator!L$42=B306,6,IF(Konfigurator!L$42=B307,7,IF(Konfigurator!L$42=B308,8,))))))))+IF(Konfigurator!L$42=B309,9)+IF(Konfigurator!L$42=B310,10)+IF(Konfigurator!L$42=B311,11)+IF(Konfigurator!L$42=B312,12)+IF(Konfigurator!L$42=B313,13)+IF(Konfigurator!L$42=B314,14)+IF(Konfigurator!L$42=E300,0)+IF(Konfigurator!L$42=\"\",0)","v":0},"Art.Nr.","TE","Liste","Kabel"]
[null,{"$f":"IF(ISNA(VLOOKUP(G301,'AFM-Artikel'!$A$1:$D$4762,4,FALSE)),\"-\",VLOOKUP(G301,'AFM-Artikel'!$A$1:$D$4762,4,FALSE))","v":"HDMI-Bu.steck."},null,null,null,1,5718,4,{"$f":"IF($G301=\"\",\"\",VLOOKUP($G301,'AFM-Artikel'!$A$1:$D$4762,3))","v":32.4345},"J"]
[null,{"$f":"IF(ISNA(VLOOKUP(G302,'AFM-Artikel'!$A$1:$D$4762,4,FALSE)),\"-\",VLOOKUP(G302,'AFM-Artikel'!$A$1:$D$4762,4,FALSE))","v":"HDMI-Ku. 30cm"},null,null,null,2,5742,4,{"$f":"IF($G302=\"\",\"\",VLOOKUP($G302,'AFM-Artikel'!$A$1:$D$4762,3))","v":52.332000000000008},"J"]
[null,{"$f":"IF(ISNA(VLOOKUP(G303,'AFM-Artikel'!$A$1:$D$4762,4,FALSE)),\"-\",VLOOKUP(G303,'AFM-Artikel'!$A$1:$D$4762,4,FALSE))","v":"Keyst.-Ku.-Winkel 30cm"},null,null,null,3,5814,4,{"$f":"IF($G303=\"\",\"\",VLOOKUP($G303,'AFM-Artikel'!$A$1:$D$4762,3))","v":52.332000000000008},"J"]
[null,null,null,null,null,4,null,null,{"$f":"IF($G304=\"\",\"\",VLOOKUP($G304,'AFM-Artikel'!$A$1:$D$4762,3))","v":""}]
[null,{"$f":"IF(ISNA(VLOOKUP(G305,'AFM-Artikel'!$A$1:$D$4762,4,FALSE)),\"-\",VLOOKUP(G305,'AFM-Artikel'!$A$1:$D$4762,4,FALSE))","v":1},null,null,null,5,4701,null,{"$f":"IF($G305=\"\",\"\",VLOOKUP($G305,'AFM-Artikel'!$A$1:$D$4762,3))","v":31.206}]
[null,{"$f":"IF(ISNA(VLOOKUP(G306,'AFM-Artikel'!$A$1:$D$4762,4,FALSE)),\"-\",VLOOKUP(G306,'AFM-Artikel'!$A$1:$D$4762,4,FALSE))","v":2},null,null,null,6,4913,null,{"$f":"IF($G306=\"\",\"\",VLOOKUP($G306,'AFM-Artikel'!$A$1:$D$4762,3))","v":31.962000000000003}]
[null,{"$f":"IF(ISNA(VLOOKUP(G307,'AFM-Artikel'!$A$1:$D$4762,4,FALSE)),\"-\",VLOOKUP(G307,'AFM-Artikel'!$A$1:$D$4762,4,FALSE))","v":3},null,null,null,7,4700,null,{"$f":"IF($G307=\"\",\"\",VLOOKUP($G307,'AFM-Artikel'!$A$1:$D$4762,3))","v":33.841499999999996}]
[null,{"$f":"IF(ISNA(VLOOKUP(G308,'AFM-Artikel'!$A$1:$D$4762,4,FALSE)),\"-\",VLOOKUP(G308,'AFM-Artikel'!$A$1:$D$4762,4,FALSE))","v":5},null,null,null,8,4698,null,{"$f":"IF($G308=\"\",\"\",VLOOKUP($G308,'AFM-Artikel'!$A$1:$D$4762,3))","v":42.63}]
[null,{"$f":"IF(ISNA(VLOOKUP(G309,'AFM-Artikel'!$A$1:$D$4762,4,FALSE)),\"-\",VLOOKUP(G309,'AFM-Artikel'!$A$1:$D$4762,4,FALSE))","v":7.5},null,null,null,9,4724,null,{"$f":"IF($G309=\"\",\"\",VLOOKUP($G309,'AFM-Artikel'!$A$1:$D$4762,3))","v":33.841499999999996}]
[null,{"$f":"IF(ISNA(VLOOKUP(G310,'AFM-Artikel'!$A$1:$D$4762,4,FALSE)),\"-\",VLOOKUP(G310,'AFM-Artikel'!$A$1:$D$4762,4,FALSE))","v":"-"},null,null,null,10,1,null,{"$f":"IF($G310=\"\",\"\",VLOOKUP($G310,'AFM-Artikel'!$A$1:$D$4762,3))","v":0}]
[null,{"$f":"IF(ISNA(VLOOKUP(G311,'AFM-Artikel'!$A$1:$D$4762,4,FALSE)),\"-\",VLOOKUP(G311,'AFM-Artikel'!$A$1:$D$4762,4,FALSE))","v":"-"},null,null,null,11,1,null,{"$f":"IF($G311=\"\",\"\",VLOOKUP($G311,'AFM-Artikel'!$A$1:$D$4762,3))","v":0}]
[null,{"$f":"IF(ISNA(VLOOKUP(G312,'AFM-Artikel'!$A$1:$D$4762,4,FALSE)),\"-\",VLOOKUP(G312,'AFM-Artikel'!$A$1:$D$4762,4,FALSE))","v":"-"},null,null,null,12,1,null,{"$f":"IF($G312=\"\",\"\",VLOOKUP($G312,'AFM-Artikel'!$A$1:$D$4762,3))","v":0}]
[null,{"$f":"IF(ISNA(VLOOKUP(G313,'AFM-Artikel'!$A$1:$D$4762,4,FALSE)),\"-\",VLOOKUP(G313,'AFM-Artikel'!$A$1:$D$4762,4,FALSE))","v":"-"},null,null,null,13,1,null,{"$f":"IF($G313=\"\",\"\",VLOOKUP($G313,'AFM-Artikel'!$A$1:$D$4762,3))","v":0}]
[null,{"$f":"IF(ISNA(VLOOKUP(G314,'AFM-Artikel'!$A$1:$D$4762,4,FALSE)),\"-\",VLOOKUP(G314,'AFM-Artikel'!$A$1:$D$4762,4,FALSE))","v":"-"},null,null,null,14,1,null,{"$f":"IF($G314=\"\",\"\",VLOOKUP($G314,'AFM-Artikel'!$A$1:$D$4762,3))","v":0}]
["Zusatzkabel-1",{"$f":"IF($G315=\"\",\"\",VLOOKUP($G315,'AFM-Artikel'!$A$1:$D$4762,2))","v":"Nicht verfügbar!"},null,null,null,null,0,null,{"$f":"IF($G315=\"\",\"\",VLOOKUP($G315,'AFM-Artikel'!$A$1:$D$4762,3))","v":0}]
["Zusatzkabel-2",{"$f":"IF($G316=\"\",\"\",VLOOKUP($G316,'AFM-Artikel'!$A$1:$D$4762,2))","v":"Nicht verfügbar!"},null,null,null,null,0,null,{"$f":"IF($G316=\"\",\"\",VLOOKUP($G316,'AFM-Artikel'!$A$1:$D$4762,3))","v":0}]
["Zusatzkabel-Audio",{"$f":"IF($G317=\"\",\"\",VLOOKUP($G317,'AFM-Artikel'!$A$1:$D$4762,2))","v":"Nicht verfügbar!"},null,null,null,null,0,null,{"$f":"IF($G317=\"\",\"\",VLOOKUP($G317,'AFM-Artikel'!$A$1:$D$4762,3))","v":0}]
[]
[null,"AL320_"]
[null,"Auswählen!","AFM","DB",null,{"$f":"IF(Konfigurator!N$42=B321,1,IF(Konfigurator!N$42=B322,2,IF(Konfigurator!N$42=B323,3,IF(Konfigurator!N$42=B324,4,IF(Konfigurator!N$42=B325,5,IF(Konfigurator!N$42=B326,6,IF(Konfigurator!N$42=B327,7,IF(Konfigurator!N$42=B328,8,))))))))+IF(Konfigurator!N$42=B329,9)+IF(Konfigurator!N$42=B330,10)+IF(Konfigurator!N$42=B331,11)+IF(Konfigurator!N$42=B332,12)+IF(Konfigurator!N$42=B333,13)+IF(Konfigurator!N$42=E320,0)+IF(Konfigurator!N$42=\"\",0)","v":0},"Art.Nr.","TE","Liste","Kabel"]
[null,null,null,null,null,1,null,null,{"$f":"IF($G321=\"\",\"\",VLOOKUP($G321,'AFM-Artikel'!$A$1:$D$4762,3))","v":""}]
[null,{"$f":"IF(ISNA(VLOOKUP(G322,'AFM-Artikel'!$A$1:$D$4762,4,FALSE)),\"-\",VLOOKUP(G322,'AFM-Artikel'!$A$1:$D$4762,4,FALSE))","v":1},null,null,null,2,4701,null,{"$f":"IF($G322=\"\",\"\",VLOOKUP($G322,'AFM-Artikel'!$A$1:$D$4762,3))","v":31.206}]
[null,{"$f":"IF(ISNA(VLOOKUP(G323,'AFM-Artikel'!$A$1:$D$4762,4,FALSE)),\"-\",VLOOKUP(G323,'AFM-Artikel'!$A$1:$D$4762,4,FALSE))","v":2},null,null,null,3,4913,null,{"$f":"IF($G323=\"\",\"\",VLOOKUP($G323,'AFM-Artikel'!$A$1:$D$4762,3))","v":31.962000000000003}]
[null,{"$f":"IF(ISNA(VLOOKUP(G324,'AFM-Artikel'!$A$1:$D$4762,4,FALSE)),\"-\",VLOOKUP(G324,'AFM-Artikel'!$A$1:$D$4762,4,FALSE))","v":3},null,null,null,4,4700,null,{"$f":"IF($G324=\"\",\"\",VLOOKUP($G324,'AFM-Artikel'!$A$1:$D$4762,3))","v":33.841499999999996}]
[null,{"$f":"IF(ISNA(VLOOKUP(G325,'AFM-Artikel'!$A$1:$D$4762,4,FALSE)),\"-\",VLOOKUP(G325,'AFM-Artikel'!$A$1:$D$4762,4,FALSE))","v":5},null,null,null,5,4698,null,{"$f":"IF($G325=\"\",\"\",VLOOKUP($G325,'AFM-Artikel'!$A$1:$D$4762,3))","v":42.63}]
[null,{"$f":"IF(ISNA(VLOOKUP(G326,'AFM-Artikel'!$A$1:$D$4762,4,FALSE)),\"-\",VLOOKUP(G326,'AFM-Artikel'!$A$1:$D$4762,4,FALSE))","v":7.5},null,null,null,6,4724,null,{"$f":"IF($G326=\"\",\"\",VLOOKUP($G326,'AFM-Artikel'!$A$1:$D$4762,3))","v":33.841499999999996}]
[null,{"$f":"IF(ISNA(VLOOKUP(G327,'AFM-Artikel'!$A$1:$D$4762,4,FALSE)),\"-\",VLOOKUP(G327,'AFM-Artikel'!$A$1:$D$4762,4,FALSE))","v":"-"},null,null,null,7,1,null,{"$f":"IF($G327=\"\",\"\",VLOOKUP($G327,'AFM-Artikel'!$A$1:$D$4762,3))","v":0}]
[null,{"$f":"IF(ISNA(VLOOKUP(G328,'AFM-Artikel'!$A$1:$D$4762,4,FALSE)),\"-\",VLOOKUP(G328,'AFM-Artikel'!$A$1:$D$4762,4,FALSE))","v":"-"},null,null,null,8,1,null,{"$f":"IF($G328=\"\",\"\",VLOOKUP($G328,'AFM-Artikel'!$A$1:$D$4762,3))","v":0}]
[null,{"$f":"IF(ISNA(VLOOKUP(G329,'AFM-Artikel'!$A$1:$D$4762,4,FALSE)),\"-\",VLOOKUP(G329,'AFM-Artikel'!$A$1:$D$4762,4,FALSE))","v":"-"},null,null,null,9,1,null,{"$f":"IF($G329=\"\",\"\",VLOOKUP($G329,'AFM-Artikel'!$A$1:$D$4762,3))","v":0}]
[null,{"$f":"IF(ISNA(VLOOKUP(G330,'AFM-Artikel'!$A$1:$D$4762,4,FALSE)),\"-\",VLOOKUP(G330,'AFM-Artikel'!$A$1:$D$4762,4,FALSE))","v":"-"},null,null,null,10,1,null,{"$f":"IF($G330=\"\",\"\",VLOOKUP($G330,'AFM-Artikel'!$A$1:$D$4762,3))","v":0}]
[null,{"$f":"IF(ISNA(VLOOKUP(G331,'AFM-Artikel'!$A$1:$D$4762,4,FALSE)),\"-\",VLOOKUP(G331,'AFM-Artikel'!$A$1:$D$4762,4,FALSE))","v":"-"},null,null,null,11,1,null,{"$f":"IF($G331=\"\",\"\",VLOOKUP($G331,'AFM-Artikel'!$A$1:$D$4762,3))","v":0}]
[null,{"$f":"IF(ISNA(VLOOKUP(G332,'AFM-Artikel'!$A$1:$D$4762,4,FALSE)),\"-\",VLOOKUP(G332,'AFM-Artikel'!$A$1:$D$4762,4,FALSE))","v":"-"},null,null,null,12,1,null,{"$f":"IF($G332=\"\",\"\",VLOOKUP($G332,'AFM-Artikel'!$A$1:$D$4762,3))","v":0}]
[null,{"$f":"IF(ISNA(VLOOKUP(G333,'AFM-Artikel'!$A$1:$D$4762,4,FALSE)),\"-\",VLOOKUP(G333,'AFM-Artikel'!$A$1:$D$4762,4,FALSE))","v":"-"},null,null,null,13,1,null,{"$f":"IF($G333=\"\",\"\",VLOOKUP($G333,'AFM-Artikel'!$A$1:$D$4762,3))","v":0}]
["Zusatzkabel-1",{"$f":"IF($G334=\"\",\"\",VLOOKUP($G334,'AFM-Artikel'!$A$1:$D$4762,2))","v":"Nicht verfügbar!"},null,null,null,null,0,null,{"$f":"IF($G334=\"\",\"\",VLOOKUP($G334,'AFM-Artikel'!$A$1:$D$4762,3))","v":0}]
["Zusatzkabel-2",{"$f":"IF($G335=\"\",\"\",VLOOKUP($G335,'AFM-Artikel'!$A$1:$D$4762,2))","v":"Nicht verfügbar!"},null,null,null,null,0,null,{"$f":"IF($G335=\"\",\"\",VLOOKUP($G335,'AFM-Artikel'!$A$1:$D$4762,3))","v":0}]
["Zusatzkabel-Audio",{"$f":"IF($G336=\"\",\"\",VLOOKUP($G336,'AFM-Artikel'!$A$1:$D$4762,2))","v":"Nicht verfügbar!"},null,null,null,null,0,null,{"$f":"IF($G336=\"\",\"\",VLOOKUP($G336,'AFM-Artikel'!$A$1:$D$4762,3))","v":0}]
[]
[]
[null,"AL340_"]
["HDMI-Bu.360°","Auswählen!","AFM","DB",null,{"$f":"IF(Konfigurator!P$42=B341,1,IF(Konfigurator!P$42=B342,2,IF(Konfigurator!P$42=B343,3,IF(Konfigurator!P$42=B344,4,IF(Konfigurator!P$42=B345,5,IF(Konfigurator!P$42=B346,6,IF(Konfigurator!P$42=B347,7,IF(Konfigurator!P$42=B348,8,))))))))+IF(Konfigurator!P$42=B352,9)+IF(Konfigurator!P$42=B353,10)+IF(Konfigurator!P$42=E340,0)+IF(Konfigurator!P$42=\"\",0)","v":0},"Art.Nr.","TE","Liste","Kabel"]
[null,"Buchse",null,null,null,1,5774,8,{"$f":"IF($G341=\"\",\"\",VLOOKUP($G341,'AFM-Artikel'!$A$1:$D$4762,3))","v":47.176500000000004},"J"]
[null,{"$f":"IF(ISNA(VLOOKUP(G342,'AFM-Artikel'!$A$1:$D$4762,4,FALSE)),\"-\",VLOOKUP(G342,'AFM-Artikel'!$A$1:$D$4762,4,FALSE))","v":1},null,null,null,2,4701,null,{"$f":"IF($G342=\"\",\"\",VLOOKUP($G342,'AFM-Artikel'!$A$1:$D$4762,3))","v":31.206}]
[null,{"$f":"IF(ISNA(VLOOKUP(G343,'AFM-Artikel'!$A$1:$D$4762,4,FALSE)),\"-\",VLOOKUP(G343,'AFM-Artikel'!$A$1:$D$4762,4,FALSE))","v":2},null,null,null,3,4913,null,{"$f":"IF($G343=\"\",\"\",VLOOKUP($G343,'AFM-Artikel'!$A$1:$D$4762,3))","v":31.962000000000003}]
[null,{"$f":"IF(ISNA(VLOOKUP(G344,'AFM-Artikel'!$A$1:$D$4762,4,FALSE)),\"-\",VLOOKUP(G344,'AFM-Artikel'!$A$1:$D$4762,4,FALSE))","v":3},null,null,null,4,4700,null,{"$f":"IF($G344=\"\",\"\",VLOOKUP($G344,'AFM-Artikel'!$A$1:$D$4762,3))","v":33.841499999999996}]
[null,{"$f":"IF(ISNA(VLOOKUP(G345,'AFM-Artikel'!$A$1:$D$4762,4,FALSE)),\"-\",VLOOKUP(G345,'AFM-Artikel'!$A$1:$D$4762,4,FALSE))","v":5},null,null,null,5,4698,null,{"$f":"IF($G345=\"\",\"\",VLOOKUP($G345,'AFM-Artikel'!$A$1:$D$4762,3))","v":42.63}]
[null,{"$f":"IF(ISNA(VLOOKUP(G346,'AFM-Artikel'!$A$1:$D$4762,4,FALSE)),\"-\",VLOOKUP(G346,'AFM-Artikel'!$A$1:$D$4762,4,FALSE))","v":7.5},null,null,null,6,4724,null,{"$f":"IF($G346=\"\",\"\",VLOOKUP($G346,'AFM-Artikel'!$A$1:$D$4762,3))","v":33.841499999999996}]
[null,{"$f":"IF(ISNA(VLOOKUP(G347,'AFM-Artikel'!$A$1:$D$4762,4,FALSE)),\"-\",VLOOKUP(G347,'AFM-Artikel'!$A$1:$D$4762,4,FALSE))","v":"-"},null,null,null,7,1,null,{"$f":"IF($G347=\"\",\"\",VLOOKUP($G347,'AFM-Artikel'!$A$1:$D$4762,3))","v":0}]
[null,{"$f":"IF(ISNA(VLOOKUP(G348,'AFM-Artikel'!$A$1:$D$4762,4,FALSE)),\"-\",VLOOKUP(G348,'AFM-Artikel'!$A$1:$D$4762,4,FALSE))","v":"-"},null,null,null,8,1,null,{"$f":"IF($G348=\"\",\"\",VLOOKUP($G348,'AFM-Artikel'!$A$1:$D$4762,3))","v":0}]
[null,{"$f":"IF(ISNA(VLOOKUP(G349,'AFM-Artikel'!$A$1:$D$4762,4,FALSE)),\"-\",VLOOKUP(G349,'AFM-Artikel'!$A$1:$D$4762,4,FALSE))","v":"-"},null,null,null,9,1,null,{"$f":"IF($G349=\"\",\"\",VLOOKUP($G349,'AFM-Artikel'!$A$1:$D$4762,3))","v":0}]
[null,{"$f":"IF(ISNA(VLOOKUP(G350,'AFM-Artikel'!$A$1:$D$4762,4,FALSE)),\"-\",VLOOKUP(G350,'AFM-Artikel'!$A$1:$D$4762,4,FALSE))","v":"-"},null,null,null,10,1,null,{"$f":"IF($G350=\"\",\"\",VLOOKUP($G350,'AFM-Artikel'!$A$1:$D$4762,3))","v":0}]
[null,{"$f":"IF(ISNA(VLOOKUP(G351,'AFM-Artikel'!$A$1:$D$4762,4,FALSE)),\"-\",VLOOKUP(G351,'AFM-Artikel'!$A$1:$D$4762,4,FALSE))","v":"-"},null,null,null,11,1,null,{"$f":"IF($G351=\"\",\"\",VLOOKUP($G351,'AFM-Artikel'!$A$1:$D$4762,3))","v":0}]
[null,{"$f":"IF(ISNA(VLOOKUP(G352,'AFM-Artikel'!$A$1:$D$4762,4,FALSE)),\"-\",VLOOKUP(G352,'AFM-Artikel'!$A$1:$D$4762,4,FALSE))","v":"-"},null,null,null,12,1,null,{"$f":"IF($G352=\"\",\"\",VLOOKUP($G352,'AFM-Artikel'!$A$1:$D$4762,3))","v":0}]
[null,{"$f":"IF(ISNA(VLOOKUP(G353,'AFM-Artikel'!$A$1:$D$4762,4,FALSE)),\"-\",VLOOKUP(G353,'AFM-Artikel'!$A$1:$D$4762,4,FALSE))","v":"-"},null,null,null,13,1,null,{"$f":"IF($G353=\"\",\"\",VLOOKUP($G353,'AFM-Artikel'!$A$1:$D$4762,3))","v":0}]
["Zusatzkabel-1",{"$f":"IF($G354=\"\",\"\",VLOOKUP($G354,'AFM-Artikel'!$A$1:$D$4762,2))","v":"Nicht verfügbar!"},null,null,null,null,0,null,{"$f":"IF($G354=\"\",\"\",VLOOKUP($G354,'AFM-Artikel'!$A$1:$D$4762,3))","v":0}]
["Zusatzkabel-2",{"$f":"IF($G355=\"\",\"\",VLOOKUP($G355,'AFM-Artikel'!$A$1:$D$4762,2))","v":"Nicht verfügbar!"},null,null,null,null,0,null,{"$f":"IF($G355=\"\",\"\",VLOOKUP($G355,'AFM-Artikel'!$A$1:$D$4762,3))","v":0}]
["Zusatzkabel-Audio",{"$f":"IF($G356=\"\",\"\",VLOOKUP($G356,'AFM-Artikel'!$A$1:$D$4762,2))","v":"Nicht verfügbar!"},null,null,null,null,0,null,{"$f":"IF($G356=\"\",\"\",VLOOKUP($G356,'AFM-Artikel'!$A$1:$D$4762,3))","v":0}]
[]
[]
[null,"AL360_"]
["HDMI-Bu.Platine","Auswählen!","AFM","DB",null,{"$f":"IF(Konfigurator!R$42=B361,1,IF(Konfigurator!R$42=B362,2,IF(Konfigurator!R$42=B363,3,IF(Konfigurator!R$42=B364,4,IF(Konfigurator!R$42=B365,5,IF(Konfigurator!R$42=B366,6,IF(Konfigurator!R$42=B367,7,IF(Konfigurator!R$42=B368,8,))))))))+IF(Konfigurator!R$42=B369,9)+IF(Konfigurator!R$42=B370,10)+IF(Konfigurator!R$42=E360,0)+IF(Konfigurator!R$42=\"\",0)","v":0},"Art.Nr.","TE","Liste","Kabel"]
[null,{"$f":"IF(ISNA(VLOOKUP(G361,'AFM-Artikel'!$A$1:$D$4762,4,FALSE)),\"-\",VLOOKUP(G361,'AFM-Artikel'!$A$1:$D$4762,4,FALSE))","v":"HDMI-St.30cm"},null,null,null,1,5787,8,{"$f":"IF($G361=\"\",\"\",VLOOKUP($G361,'AFM-Artikel'!$A$1:$D$4762,3))","v":90.320999999999998},"J"]
[null,{"$f":"IF(ISNA(VLOOKUP(G362,'AFM-Artikel'!$A$1:$D$4762,4,FALSE)),\"-\",VLOOKUP(G362,'AFM-Artikel'!$A$1:$D$4762,4,FALSE))","v":"offen 30cm"},null,null,null,2,5791,8,{"$f":"IF($G362=\"\",\"\",VLOOKUP($G362,'AFM-Artikel'!$A$1:$D$4762,3))","v":57.036000000000001},"J"]
[null,{"$f":"IF(ISNA(VLOOKUP(G363,'AFM-Artikel'!$A$1:$D$4762,4,FALSE)),\"-\",VLOOKUP(G363,'AFM-Artikel'!$A$1:$D$4762,4,FALSE))","v":"-"},null,null,null,3,1,null,{"$f":"IF($G363=\"\",\"\",VLOOKUP($G363,'AFM-Artikel'!$A$1:$D$4762,3))","v":0}]
[null,{"$f":"IF(ISNA(VLOOKUP(G364,'AFM-Artikel'!$A$1:$D$4762,4,FALSE)),\"-\",VLOOKUP(G364,'AFM-Artikel'!$A$1:$D$4762,4,FALSE))","v":"-"},null,null,null,4,1,null,{"$f":"IF($G364=\"\",\"\",VLOOKUP($G364,'AFM-Artikel'!$A$1:$D$4762,3))","v":0}]
[null,{"$f":"IF(ISNA(VLOOKUP(G365,'AFM-Artikel'!$A$1:$D$4762,4,FALSE)),\"-\",VLOOKUP(G365,'AFM-Artikel'!$A$1:$D$4762,4,FALSE))","v":"-"},null,null,null,5,1,null,{"$f":"IF($G365=\"\",\"\",VLOOKUP($G365,'AFM-Artikel'!$A$1:$D$4762,3))","v":0}]
[null,{"$f":"IF(ISNA(VLOOKUP(G366,'AFM-Artikel'!$A$1:$D$4762,4,FALSE)),\"-\",VLOOKUP(G366,'AFM-Artikel'!$A$1:$D$4762,4,FALSE))","v":"-"},null,null,null,6,1,null,{"$f":"IF($G366=\"\",\"\",VLOOKUP($G366,'AFM-Artikel'!$A$1:$D$4762,3))","v":0}]
[null,{"$f":"IF(ISNA(VLOOKUP(G367,'AFM-Artikel'!$A$1:$D$4762,4,FALSE)),\"-\",VLOOKUP(G367,'AFM-Artikel'!$A$1:$D$4762,4,FALSE))","v":"-"},null,null,null,7,1,null,{"$f":"IF($G367=\"\",\"\",VLOOKUP($G367,'AFM-Artikel'!$A$1:$D$4762,3))","v":0}]
[null,{"$f":"IF(ISNA(VLOOKUP(G368,'AFM-Artikel'!$A$1:$D$4762,4,FALSE)),\"-\",VLOOKUP(G368,'AFM-Artikel'!$A$1:$D$4762,4,FALSE))","v":"-"},null,null,null,8,1,null,{"$f":"IF($G368=\"\",\"\",VLOOKUP($G368,'AFM-Artikel'!$A$1:$D$4762,3))","v":0}]
[null,{"$f":"IF(ISNA(VLOOKUP(G369,'AFM-Artikel'!$A$1:$D$4762,4,FALSE)),\"-\",VLOOKUP(G369,'AFM-Artikel'!$A$1:$D$4762,4,FALSE))","v":"-"},null,null,null,9,1,null,{"$f":"IF($G369=\"\",\"\",VLOOKUP($G369,'AFM-Artikel'!$A$1:$D$4762,3))","v":0}]
[null,{"$f":"IF(ISNA(VLOOKUP(G370,'AFM-Artikel'!$A$1:$D$4762,4,FALSE)),\"-\",VLOOKUP(G370,'AFM-Artikel'!$A$1:$D$4762,4,FALSE))","v":"-"},null,null,null,10,1,null,{"$f":"IF($G370=\"\",\"\",VLOOKUP($G370,'AFM-Artikel'!$A$1:$D$4762,3))","v":0}]
["Zusatzkabel-1",{"$f":"IF($G371=\"\",\"\",VLOOKUP($G371,'AFM-Artikel'!$A$1:$D$4762,2))","v":"zusätzliche Kabellänge HDMI AWG24"},null,null,null,null,5318,null,{"$f":"IF($G371=\"\",\"\",VLOOKUP($G371,'AFM-Artikel'!$A$1:$D$4762,3))","v":9.166500000000001}]
["Zusatzkabel-2",{"$f":"IF($G372=\"\",\"\",VLOOKUP($G372,'AFM-Artikel'!$A$1:$D$4762,2))","v":"Nicht verfügbar!"},null,null,null,null,0,null,{"$f":"IF($G372=\"\",\"\",VLOOKUP($G372,'AFM-Artikel'!$A$1:$D$4762,3))","v":0}]
["Zusatzkabel-Audio",{"$f":"IF($G373=\"\",\"\",VLOOKUP($G373,'AFM-Artikel'!$A$1:$D$4762,2))","v":"Nicht verfügbar!"},null,null,null,null,0,null,{"$f":"IF($G373=\"\",\"\",VLOOKUP($G373,'AFM-Artikel'!$A$1:$D$4762,3))","v":0}]
[]
[]
[]
[]
[]
[null,"AL380_"]
["DP-Bu.","Auswählen!","AFM","DB",null,{"$f":"IF(Konfigurator!T$42=B381,1,IF(Konfigurator!T$42=B382,2,IF(Konfigurator!T$42=B383,3,IF(Konfigurator!T$42=B384,4,IF(Konfigurator!T$42=B385,5,IF(Konfigurator!T$42=B386,6,IF(Konfigurator!T$42=B387,7,IF(Konfigurator!T$42=B388,8,))))))))+IF(Konfigurator!T$42=B389,9)+IF(Konfigurator!T$42=B390,10)+IF(Konfigurator!T$42=E380,0)","v":0},"Art.Nr.","TE","Liste","Kabel"]
[null,{"$f":"IF(ISNA(VLOOKUP(G381,'AFM-Artikel'!$A$1:$D$4762,4,FALSE)),\"-\",VLOOKUP(G381,'AFM-Artikel'!$A$1:$D$4762,4,FALSE))","v":"DP-Bu. Steck"},null,null,null,1,5752,8,{"$f":"IF($G381=\"\",\"\",VLOOKUP($G381,'AFM-Artikel'!$A$1:$D$4762,3))","v":47.533500000000004},"N"]
[null,{"$f":"IF(ISNA(VLOOKUP(G382,'AFM-Artikel'!$A$1:$D$4762,4,FALSE)),\"-\",VLOOKUP(G382,'AFM-Artikel'!$A$1:$D$4762,4,FALSE))","v":"DP-Kuppl. 30cm"},null,null,null,2,5806,8,{"$f":"IF($G382=\"\",\"\",VLOOKUP($G382,'AFM-Artikel'!$A$1:$D$4762,3))","v":76.061999999999998},"J"]
[null,{"$f":"IF(ISNA(VLOOKUP(G383,'AFM-Artikel'!$A$1:$D$4762,4,FALSE)),\"-\",VLOOKUP(G383,'AFM-Artikel'!$A$1:$D$4762,4,FALSE))","v":"DP-Stecker 30cm"},null,null,null,3,5804,8,{"$f":"IF($G383=\"\",\"\",VLOOKUP($G383,'AFM-Artikel'!$A$1:$D$4762,3))","v":76.061999999999998},"J"]
[null,{"$f":"IF(ISNA(VLOOKUP(G384,'AFM-Artikel'!$A$1:$D$4762,4,FALSE)),\"-\",VLOOKUP(G384,'AFM-Artikel'!$A$1:$D$4762,4,FALSE))","v":"DP-Ku.aktiv 30cm"},null,null,null,4,5815,8,{"$f":"IF($G384=\"\",\"\",VLOOKUP($G384,'AFM-Artikel'!$A$1:$D$4762,3))","v":171.51750000000001},"J"]
[null,{"$f":"IF(ISNA(VLOOKUP(G385,'AFM-Artikel'!$A$1:$D$4762,4,FALSE)),\"-\",VLOOKUP(G385,'AFM-Artikel'!$A$1:$D$4762,4,FALSE))","v":"-"},null,null,null,5,1,null,{"$f":"IF($G385=\"\",\"\",VLOOKUP($G385,'AFM-Artikel'!$A$1:$D$4762,3))","v":0}]
[null,{"$f":"IF(ISNA(VLOOKUP(G386,'AFM-Artikel'!$A$1:$D$4762,4,FALSE)),\"-\",VLOOKUP(G386,'AFM-Artikel'!$A$1:$D$4762,4,FALSE))","v":"-"},null,null,null,6,1,null,{"$f":"IF($G386=\"\",\"\",VLOOKUP($G386,'AFM-Artikel'!$A$1:$D$4762,3))","v":0}]
[null,{"$f":"IF(ISNA(VLOOKUP(G387,'AFM-Artikel'!$A$1:$D$4762,4,FALSE)),\"-\",VLOOKUP(G387,'AFM-Artikel'!$A$1:$D$4762,4,FALSE))","v":"-"},null,null,null,7,1,null,{"$f":"IF($G387=\"\",\"\",VLOOKUP($G387,'AFM-Artikel'!$A$1:$D$4762,3))","v":0}]
[null,{"$f":"IF(ISNA(VLOOKUP(G388,'AFM-Artikel'!$A$1:$D$4762,4,FALSE)),\"-\",VLOOKUP(G388,'AFM-Artikel'!$A$1:$D$4762,4,FALSE))","v":"-"},null,null,null,8,1,null,{"$f":"IF($G388=\"\",\"\",VLOOKUP($G388,'AFM-Artikel'!$A$1:$D$4762,3))","v":0}]
[null,{"$f":"IF(ISNA(VLOOKUP(G389,'AFM-Artikel'!$A$1:$D$4762,4,FALSE)),\"-\",VLOOKUP(G389,'AFM-Artikel'!$A$1:$D$4762,4,FALSE))","v":"-"},null,null,null,9,1,null,{"$f":"IF($G389=\"\",\"\",VLOOKUP($G389,'AFM-Artikel'!$A$1:$D$4762,3))","v":0}]
[null,{"$f":"IF(ISNA(VLOOKUP(G390,'AFM-Artikel'!$A$1:$D$4762,4,FALSE)),\"-\",VLOOKUP(G390,'AFM-Artikel'!$A$1:$D$4762,4,FALSE))","v":"-"},null,null,null,10,1,null,{"$f":"IF($G390=\"\",\"\",VLOOKUP($G390,'AFM-Artikel'!$A$1:$D$4762,3))","v":0}]
["Zusatzkabel-1",{"$f":"IF($G391=\"\",\"\",VLOOKUP($G391,'AFM-Artikel'!$A$1:$D$4762,2))","v":"zusätzliche Kabellänge DisplayPort"},null,null,null,null,5320,null,{"$f":"IF($G391=\"\",0,VLOOKUP($G391,'AFM-Artikel'!$A$1:$D$4762,3))","v":4.242}]
["Zusatzkabel-2",{"$f":"IF($G392=\"\",\"\",VLOOKUP($G392,'AFM-Artikel'!$A$1:$D$4762,2))","v":"Nicht verfügbar!"},null,null,null,null,0,null,{"$f":"IF($G392=\"\",\"\",VLOOKUP($G392,'AFM-Artikel'!$A$1:$D$4762,3))","v":0}]
["Zusatzkabel-Audio",{"$f":"IF($G393=\"\",\"\",VLOOKUP($G393,'AFM-Artikel'!$A$1:$D$4762,2))","v":"Nicht verfügbar!"},null,null,null,null,0,null,{"$f":"IF($G393=\"\",\"\",VLOOKUP($G393,'AFM-Artikel'!$A$1:$D$4762,3))","v":0}]
[]
[]
[]
[]
[]
[null,"AL400_"]
["DP-Bu.","Auswählen!","AFM","DB",null,{"$f":"IF(Konfigurator!V$42=B401,1,IF(Konfigurator!V$42=B402,2,IF(Konfigurator!V$42=B403,3,IF(Konfigurator!V$42=B404,4,IF(Konfigurator!V$42=B405,5,IF(Konfigurator!V$42=B406,6,IF(Konfigurator!V$42=B407,7,IF(Konfigurator!V$42=B408,8,))))))))+IF(Konfigurator!V$42=B409,9)+IF(Konfigurator!V$42=B410,10)+IF(Konfigurator!V$42=E400,0)","v":0},"Art.Nr.","TE","Liste","Kabel"]
[null,{"$f":"IF(ISNA(VLOOKUP(G401,'AFM-Artikel'!$A$1:$D$4762,4,FALSE)),\"-\",VLOOKUP(G401,'AFM-Artikel'!$A$1:$D$4762,4,FALSE))","v":"DP-Bu. Steck"},null,null,null,1,5752,4,{"$f":"IF($G401=\"\",\"\",VLOOKUP($G401,'AFM-Artikel'!$A$1:$D$4762,3))","v":47.533500000000004},"N"]
[null,{"$f":"IF(ISNA(VLOOKUP(G402,'AFM-Artikel'!$A$1:$D$4762,4,FALSE)),\"-\",VLOOKUP(G402,'AFM-Artikel'!$A$1:$D$4762,4,FALSE))","v":"DP-Kuppl. 30cm"},null,null,null,2,5807,4,{"$f":"IF($G402=\"\",\"\",VLOOKUP($G402,'AFM-Artikel'!$A$1:$D$4762,3))","v":76.061999999999998},"J"]
[null,{"$f":"IF(ISNA(VLOOKUP(G403,'AFM-Artikel'!$A$1:$D$4762,4,FALSE)),\"-\",VLOOKUP(G403,'AFM-Artikel'!$A$1:$D$4762,4,FALSE))","v":"DP-Stecker 30cm"},null,null,null,3,5805,4,{"$f":"IF($G403=\"\",\"\",VLOOKUP($G403,'AFM-Artikel'!$A$1:$D$4762,3))","v":76.061999999999998},"J"]
[null,{"$f":"IF(ISNA(VLOOKUP(G404,'AFM-Artikel'!$A$1:$D$4762,4,FALSE)),\"-\",VLOOKUP(G404,'AFM-Artikel'!$A$1:$D$4762,4,FALSE))","v":"DP-Ku.Peitsche 30cm"},null,null,null,4,5818,4,{"$f":"IF($G404=\"\",\"\",VLOOKUP($G404,'AFM-Artikel'!$A$1:$D$4762,3))","v":53.791499999999999},"N"]
[null,{"$f":"IF(ISNA(VLOOKUP(G405,'AFM-Artikel'!$A$1:$D$4762,4,FALSE)),\"-\",VLOOKUP(G405,'AFM-Artikel'!$A$1:$D$4762,4,FALSE))","v":"-"},null,null,null,5,1,null,{"$f":"IF($G405=\"\",\"\",VLOOKUP($G405,'AFM-Artikel'!$A$1:$D$4762,3))","v":0}]
[null,{"$f":"IF(ISNA(VLOOKUP(G406,'AFM-Artikel'!$A$1:$D$4762,4,FALSE)),\"-\",VLOOKUP(G406,'AFM-Artikel'!$A$1:$D$4762,4,FALSE))","v":"-"},null,null,null,6,1,null,{"$f":"IF($G406=\"\",\"\",VLOOKUP($G406,'AFM-Artikel'!$A$1:$D$4762,3))","v":0}]
[null,{"$f":"IF(ISNA(VLOOKUP(G407,'AFM-Artikel'!$A$1:$D$4762,4,FALSE)),\"-\",VLOOKUP(G407,'AFM-Artikel'!$A$1:$D$4762,4,FALSE))","v":"-"},null,null,null,7,1,null,{"$f":"IF($G407=\"\",\"\",VLOOKUP($G407,'AFM-Artikel'!$A$1:$D$4762,3))","v":0}]
[null,{"$f":"IF(ISNA(VLOOKUP(G408,'AFM-Artikel'!$A$1:$D$4762,4,FALSE)),\"-\",VLOOKUP(G408,'AFM-Artikel'!$A$1:$D$4762,4,FALSE))","v":"-"},null,null,null,8,1,null,{"$f":"IF($G408=\"\",\"\",VLOOKUP($G408,'AFM-Artikel'!$A$1:$D$4762,3))","v":0}]
[null,{"$f":"IF(ISNA(VLOOKUP(G409,'AFM-Artikel'!$A$1:$D$4762,4,FALSE)),\"-\",VLOOKUP(G409,'AFM-Artikel'!$A$1:$D$4762,4,FALSE))","v":"-"},null,null,null,9,1,null,{"$f":"IF($G409=\"\",\"\",VLOOKUP($G409,'AFM-Artikel'!$A$1:$D$4762,3))","v":0}]
[null,{"$f":"IF(ISNA(VLOOKUP(G410,'AFM-Artikel'!$A$1:$D$4762,4,FALSE)),\"-\",VLOOKUP(G410,'AFM-Artikel'!$A$1:$D$4762,4,FALSE))","v":"-"},null,null,null,10,1,null,{"$f":"IF($G410=\"\",\"\",VLOOKUP($G410,'AFM-Artikel'!$A$1:$D$4762,3))","v":0}]
["Zusatzkabel-1",{"$f":"IF($G411=\"\",\"\",VLOOKUP($G411,'AFM-Artikel'!$A$1:$D$4762,2))","v":"zusätzliche Kabellänge DisplayPort"},null,null,null,null,5320,null,{"$f":"IF($G411=\"\",\"\",VLOOKUP($G411,'AFM-Artikel'!$A$1:$D$4762,3))","v":4.242}]
["Zusatzkabel-2",{"$f":"IF($G412=\"\",\"\",VLOOKUP($G412,'AFM-Artikel'!$A$1:$D$4762,2))","v":"Nicht verfügbar!"},null,null,null,null,0,null,{"$f":"IF($G412=\"\",\"\",VLOOKUP($G412,'AFM-Artikel'!$A$1:$D$4762,3))","v":0}]
["Zusatzkabel-Audio",{"$f":"IF($G413=\"\",\"\",VLOOKUP($G413,'AFM-Artikel'!$A$1:$D$4762,2))","v":"Nicht verfügbar!"},null,null,null,null,0,null,{"$f":"IF($G413=\"\",\"\",VLOOKUP($G413,'AFM-Artikel'!$A$1:$D$4762,3))","v":0}]
[]
[]
[]
[]
[]
[null,"AL420_"]
[null,"Auswählen!","AFM","DB",null,{"$f":"IF(Konfigurator!X$42=B421,1,IF(Konfigurator!X$42=B422,2,IF(Konfigurator!X$42=B423,3,IF(Konfigurator!X$42=B424,4,IF(Konfigurator!X$42=B425,5,IF(Konfigurator!X$42=B426,6,IF(Konfigurator!X$42=B427,7,IF(Konfigurator!X$42=B428,8,))))))))+IF(Konfigurator!X$42=B429,9)+IF(Konfigurator!X$42=B430,10)+IF(Konfigurator!X$42=E420,0)","v":0},"Art.Nr.","TE","Liste","Kabel"]
[null,{"$f":"IF(ISNA(VLOOKUP(G421,'AFM-Artikel'!$A$1:$D$4762,4,FALSE)),\"-\",VLOOKUP(G421,'AFM-Artikel'!$A$1:$D$4762,4,FALSE))","v":"-"},null,null,null,1,1,null,{"$f":"IF($G421=\"\",\"\",VLOOKUP($G421,'AFM-Artikel'!$A$1:$D$4762,3))","v":0}]
[null,{"$f":"IF(ISNA(VLOOKUP(G422,'AFM-Artikel'!$A$1:$D$4762,4,FALSE)),\"-\",VLOOKUP(G422,'AFM-Artikel'!$A$1:$D$4762,4,FALSE))","v":"-"},null,null,null,2,1,null,{"$f":"IF($G422=\"\",\"\",VLOOKUP($G422,'AFM-Artikel'!$A$1:$D$4762,3))","v":0}]
[null,{"$f":"IF(ISNA(VLOOKUP(G423,'AFM-Artikel'!$A$1:$D$4762,4,FALSE)),\"-\",VLOOKUP(G423,'AFM-Artikel'!$A$1:$D$4762,4,FALSE))","v":"-"},null,null,null,3,1,null,{"$f":"IF($G423=\"\",\"\",VLOOKUP($G423,'AFM-Artikel'!$A$1:$D$4762,3))","v":0}]
[null,{"$f":"IF(ISNA(VLOOKUP(G424,'AFM-Artikel'!$A$1:$D$4762,4,FALSE)),\"-\",VLOOKUP(G424,'AFM-Artikel'!$A$1:$D$4762,4,FALSE))","v":"-"},null,null,null,4,1,null,{"$f":"IF($G424=\"\",\"\",VLOOKUP($G424,'AFM-Artikel'!$A$1:$D$4762,3))","v":0}]
[null,{"$f":"IF(ISNA(VLOOKUP(G425,'AFM-Artikel'!$A$1:$D$4762,4,FALSE)),\"-\",VLOOKUP(G425,'AFM-Artikel'!$A$1:$D$4762,4,FALSE))","v":"-"},null,null,null,5,1,null,{"$f":"IF($G425=\"\",\"\",VLOOKUP($G425,'AFM-Artikel'!$A$1:$D$4762,3))","v":0}]
[null,{"$f":"IF(ISNA(VLOOKUP(G426,'AFM-Artikel'!$A$1:$D$4762,4,FALSE)),\"-\",VLOOKUP(G426,'AFM-Artikel'!$A$1:$D$4762,4,FALSE))","v":"-"},null,null,null,6,1,null,{"$f":"IF($G426=\"\",\"\",VLOOKUP($G426,'AFM-Artikel'!$A$1:$D$4762,3))","v":0}]
[null,{"$f":"IF(ISNA(VLOOKUP(G427,'AFM-Artikel'!$A$1:$D$4762,4,FALSE)),\"-\",VLOOKUP(G427,'AFM-Artikel'!$A$1:$D$4762,4,FALSE))","v":"-"},null,null,null,7,1,null,{"$f":"IF($G427=\"\",\"\",VLOOKUP($G427,'AFM-Artikel'!$A$1:$D$4762,3))","v":0}]
[null,{"$f":"IF(ISNA(VLOOKUP(G428,'AFM-Artikel'!$A$1:$D$4762,4,FALSE)),\"-\",VLOOKUP(G428,'AFM-Artikel'!$A$1:$D$4762,4,FALSE))","v":"-"},null,null,null,8,1,null,{"$f":"IF($G428=\"\",\"\",VLOOKUP($G428,'AFM-Artikel'!$A$1:$D$4762,3))","v":0}]
[null,{"$f":"IF(ISNA(VLOOKUP(G429,'AFM-Artikel'!$A$1:$D$4762,4,FALSE)),\"-\",VLOOKUP(G429,'AFM-Artikel'!$A$1:$D$4762,4,FALSE))","v":"-"},null,null,null,9,1,null,{"$f":"IF($G429=\"\",\"\",VLOOKUP($G429,'AFM-Artikel'!$A$1:$D$4762,3))","v":0}]
[null,{"$f":"IF(ISNA(VLOOKUP(G430,'AFM-Artikel'!$A$1:$D$4762,4,FALSE)),\"-\",VLOOKUP(G430,'AFM-Artikel'!$A$1:$D$4762,4,FALSE))","v":"-"},null,null,null,10,1,null,{"$f":"IF($G430=\"\",\"\",VLOOKUP($G430,'AFM-Artikel'!$A$1:$D$4762,3))","v":0}]
["Zusatzkabel-1",{"$f":"IF($G431=\"\",\"\",VLOOKUP($G431,'AFM-Artikel'!$A$1:$D$4762,2))","v":"Nicht verfügbar!"},null,null,null,null,0,null,{"$f":"IF($G431=\"\",\"\",VLOOKUP($G431,'AFM-Artikel'!$A$1:$D$4762,3))","v":0}]
["Zusatzkabel-2",{"$f":"IF($G432=\"\",\"\",VLOOKUP($G432,'AFM-Artikel'!$A$1:$D$4762,2))","v":"Nicht verfügbar!"},null,null,null,null,0,null,{"$f":"IF($G432=\"\",\"\",VLOOKUP($G432,'AFM-Artikel'!$A$1:$D$4762,3))","v":0}]
["Zusatzkabel-Audio",{"$f":"IF($G433=\"\",\"\",VLOOKUP($G433,'AFM-Artikel'!$A$1:$D$4762,2))","v":"Nicht verfügbar!"},null,null,null,null,0,null,{"$f":"IF($G433=\"\",\"\",VLOOKUP($G433,'AFM-Artikel'!$A$1:$D$4762,3))","v":0}]
[]
[]
[]
[]
[]
[null,"AL440_"]
["3pol-Bu.","Auswählen!","AFM","DB",null,{"$f":"IF(Konfigurator!B$52=B441,1,IF(Konfigurator!B$52=B442,2,IF(Konfigurator!B$52=B443,3,IF(Konfigurator!B$52=B444,4,IF(Konfigurator!B$52=B445,5,IF(Konfigurator!B$52=B446,6,IF(Konfigurator!B$52=B447,7,IF(Konfigurator!B$52=B448,8,))))))))+IF(Konfigurator!B$52=B449,9)+IF(Konfigurator!B$52=B450,10)+IF(Konfigurator!B$52=E440,0)","v":0},"Art.Nr.","TE","Liste","Kabel"]
[null,{"$f":"IF(ISNA(VLOOKUP(G441,'AFM-Artikel'!$A$1:$D$4762,4,FALSE)),\"-\",VLOOKUP(G441,'AFM-Artikel'!$A$1:$D$4762,4,FALSE))","v":"lötbar"},null,null,null,1,5680,8,{"$f":"IF($G441=\"\",\"\",VLOOKUP($G441,'AFM-Artikel'!$A$1:$D$4762,3))","v":16.275000000000002},"N"]
[null,{"$f":"IF(ISNA(VLOOKUP(G442,'AFM-Artikel'!$A$1:$D$4762,4,FALSE)),\"-\",VLOOKUP(G442,'AFM-Artikel'!$A$1:$D$4762,4,FALSE))","v":"3p.XLR-Ku. 30cm"},null,null,null,2,5681,8,{"$f":"IF($G442=\"\",\"\",VLOOKUP($G442,'AFM-Artikel'!$A$1:$D$4762,3))","v":34.628999999999998},"J"]
[null,{"$f":"IF(ISNA(VLOOKUP(G443,'AFM-Artikel'!$A$1:$D$4762,4,FALSE)),\"-\",VLOOKUP(G443,'AFM-Artikel'!$A$1:$D$4762,4,FALSE))","v":"3p.XLR-St. 30cm"},null,null,null,3,5682,8,{"$f":"IF($G443=\"\",\"\",VLOOKUP($G443,'AFM-Artikel'!$A$1:$D$4762,3))","v":34.628999999999998},"J"]
[null,{"$f":"IF(ISNA(VLOOKUP(G444,'AFM-Artikel'!$A$1:$D$4762,4,FALSE)),\"-\",VLOOKUP(G444,'AFM-Artikel'!$A$1:$D$4762,4,FALSE))","v":"3p.XLR-Winkel-St. 30cm"},null,null,null,4,5714,8,{"$f":"IF($G444=\"\",\"\",VLOOKUP($G444,'AFM-Artikel'!$A$1:$D$4762,3))","v":39.028500000000001},"J"]
[null,{"$f":"IF(ISNA(VLOOKUP(G445,'AFM-Artikel'!$A$1:$D$4762,4,FALSE)),\"-\",VLOOKUP(G445,'AFM-Artikel'!$A$1:$D$4762,4,FALSE))","v":"-"},null,null,null,5,1,null,{"$f":"IF($G445=\"\",\"\",VLOOKUP($G445,'AFM-Artikel'!$A$1:$D$4762,3))","v":0}]
[null,{"$f":"IF(ISNA(VLOOKUP(G446,'AFM-Artikel'!$A$1:$D$4762,4,FALSE)),\"-\",VLOOKUP(G446,'AFM-Artikel'!$A$1:$D$4762,4,FALSE))","v":"-"},null,null,null,6,1,null,{"$f":"IF($G446=\"\",\"\",VLOOKUP($G446,'AFM-Artikel'!$A$1:$D$4762,3))","v":0}]
[null,{"$f":"IF(ISNA(VLOOKUP(G447,'AFM-Artikel'!$A$1:$D$4762,4,FALSE)),\"-\",VLOOKUP(G447,'AFM-Artikel'!$A$1:$D$4762,4,FALSE))","v":"-"},null,null,null,7,1,null,{"$f":"IF($G447=\"\",\"\",VLOOKUP($G447,'AFM-Artikel'!$A$1:$D$4762,3))","v":0}]
[null,{"$f":"IF(ISNA(VLOOKUP(G448,'AFM-Artikel'!$A$1:$D$4762,4,FALSE)),\"-\",VLOOKUP(G448,'AFM-Artikel'!$A$1:$D$4762,4,FALSE))","v":"-"},null,null,null,8,1,null,{"$f":"IF($G448=\"\",\"\",VLOOKUP($G448,'AFM-Artikel'!$A$1:$D$4762,3))","v":0}]
[null,{"$f":"IF(ISNA(VLOOKUP(G449,'AFM-Artikel'!$A$1:$D$4762,4,FALSE)),\"-\",VLOOKUP(G449,'AFM-Artikel'!$A$1:$D$4762,4,FALSE))","v":"-"},null,null,null,9,1,null,{"$f":"IF($G449=\"\",\"\",VLOOKUP($G449,'AFM-Artikel'!$A$1:$D$4762,3))","v":0}]
[null,{"$f":"IF(ISNA(VLOOKUP(G450,'AFM-Artikel'!$A$1:$D$4762,4,FALSE)),\"-\",VLOOKUP(G450,'AFM-Artikel'!$A$1:$D$4762,4,FALSE))","v":"-"},null,null,null,10,1,null,{"$f":"IF($G450=\"\",\"\",VLOOKUP($G450,'AFM-Artikel'!$A$1:$D$4762,3))","v":0}]
["Zusatzkabel-1",{"$f":"IF($G451=\"\",\"\",VLOOKUP($G451,'AFM-Artikel'!$A$1:$D$4762,2))","v":"Nicht verfügbar!"},null,null,null,null,0,null,{"$f":"IF($G451=\"\",\"\",VLOOKUP($G451,'AFM-Artikel'!$A$1:$D$4762,3))","v":0}]
["Zusatzkabel-2",{"$f":"IF($G452=\"\",\"\",VLOOKUP($G452,'AFM-Artikel'!$A$1:$D$4762,2))","v":"Nicht verfügbar!"},null,null,null,null,0,null,{"$f":"IF($G452=\"\",\"\",VLOOKUP($G452,'AFM-Artikel'!$A$1:$D$4762,3))","v":0}]
["Zusatzkabel-Audio",{"$f":"IF($G453=\"\",\"\",VLOOKUP($G453,'AFM-Artikel'!$A$1:$D$4762,2))","v":"zusätzliche Kabellänge Audio 6mm"},null,null,null,null,5308,null,{"$f":"IF($G453=\"\",\"\",VLOOKUP($G453,'AFM-Artikel'!$A$1:$D$4762,3))","v":1.3125}]
[]
[]
[]
[]
[]
[null,"AL460_"]
["3pol-St.","Auswählen!","AFM","DB",null,{"$f":"IF(Konfigurator!D$52=B461,1,IF(Konfigurator!D$52=B462,2,IF(Konfigurator!D$52=B463,3,IF(Konfigurator!D$52=B464,4,IF(Konfigurator!D$52=B465,5,IF(Konfigurator!D$52=B466,6,IF(Konfigurator!D$52=B467,7,IF(Konfigurator!D$52=B468,8,))))))))+IF(Konfigurator!D$52=B469,9)+IF(Konfigurator!D$52=B470,10)+IF(Konfigurator!D$52=E460,0)","v":0},"Art.Nr.","TE","Liste","Kabel"]
[null,{"$f":"IF(ISNA(VLOOKUP(G461,'AFM-Artikel'!$A$1:$D$4762,4,FALSE)),\"-\",VLOOKUP(G461,'AFM-Artikel'!$A$1:$D$4762,4,FALSE))","v":"lötbar"},null,null,null,1,5683,8,{"$f":"IF($G461=\"\",\"\",VLOOKUP($G461,'AFM-Artikel'!$A$1:$D$4762,3))","v":16.275000000000002},"N"]
[null,{"$f":"IF(ISNA(VLOOKUP(G462,'AFM-Artikel'!$A$1:$D$4762,4,FALSE)),\"-\",VLOOKUP(G462,'AFM-Artikel'!$A$1:$D$4762,4,FALSE))","v":"3p.XLR-Ku. 30cm"},null,null,null,2,5684,8,{"$f":"IF($G462=\"\",\"\",VLOOKUP($G462,'AFM-Artikel'!$A$1:$D$4762,3))","v":34.628999999999998},"J"]
[null,{"$f":"IF(ISNA(VLOOKUP(G463,'AFM-Artikel'!$A$1:$D$4762,4,FALSE)),\"-\",VLOOKUP(G463,'AFM-Artikel'!$A$1:$D$4762,4,FALSE))","v":"3p.XLR-St. 30cm"},null,null,null,3,5685,8,{"$f":"IF($G463=\"\",\"\",VLOOKUP($G463,'AFM-Artikel'!$A$1:$D$4762,3))","v":34.628999999999998},"J"]
[null,{"$f":"IF(ISNA(VLOOKUP(G464,'AFM-Artikel'!$A$1:$D$4762,4,FALSE)),\"-\",VLOOKUP(G464,'AFM-Artikel'!$A$1:$D$4762,4,FALSE))","v":"-"},null,null,null,4,1,null,{"$f":"IF($G464=\"\",\"\",VLOOKUP($G464,'AFM-Artikel'!$A$1:$D$4762,3))","v":0}]
[null,{"$f":"IF(ISNA(VLOOKUP(G465,'AFM-Artikel'!$A$1:$D$4762,4,FALSE)),\"-\",VLOOKUP(G465,'AFM-Artikel'!$A$1:$D$4762,4,FALSE))","v":"-"},null,null,null,5,1,null,{"$f":"IF($G465=\"\",\"\",VLOOKUP($G465,'AFM-Artikel'!$A$1:$D$4762,3))","v":0}]
[null,{"$f":"IF(ISNA(VLOOKUP(G466,'AFM-Artikel'!$A$1:$D$4762,4,FALSE)),\"-\",VLOOKUP(G466,'AFM-Artikel'!$A$1:$D$4762,4,FALSE))","v":"-"},null,null,null,6,1,null,{"$f":"IF($G466=\"\",\"\",VLOOKUP($G466,'AFM-Artikel'!$A$1:$D$4762,3))","v":0}]
[null,{"$f":"IF(ISNA(VLOOKUP(G467,'AFM-Artikel'!$A$1:$D$4762,4,FALSE)),\"-\",VLOOKUP(G467,'AFM-Artikel'!$A$1:$D$4762,4,FALSE))","v":"-"},null,null,null,7,1,null,{"$f":"IF($G467=\"\",\"\",VLOOKUP($G467,'AFM-Artikel'!$A$1:$D$4762,3))","v":0}]
[null,{"$f":"IF(ISNA(VLOOKUP(G468,'AFM-Artikel'!$A$1:$D$4762,4,FALSE)),\"-\",VLOOKUP(G468,'AFM-Artikel'!$A$1:$D$4762,4,FALSE))","v":"-"},null,null,null,8,1,null,{"$f":"IF($G468=\"\",\"\",VLOOKUP($G468,'AFM-Artikel'!$A$1:$D$4762,3))","v":0}]
[null,{"$f":"IF(ISNA(VLOOKUP(G469,'AFM-Artikel'!$A$1:$D$4762,4,FALSE)),\"-\",VLOOKUP(G469,'AFM-Artikel'!$A$1:$D$4762,4,FALSE))","v":"-"},null,null,null,9,1,null,{"$f":"IF($G469=\"\",\"\",VLOOKUP($G469,'AFM-Artikel'!$A$1:$D$4762,3))","v":0}]
[null,{"$f":"IF(ISNA(VLOOKUP(G470,'AFM-Artikel'!$A$1:$D$4762,4,FALSE)),\"-\",VLOOKUP(G470,'AFM-Artikel'!$A$1:$D$4762,4,FALSE))","v":"-"},null,null,null,10,1,null,{"$f":"IF($G470=\"\",\"\",VLOOKUP($G470,'AFM-Artikel'!$A$1:$D$4762,3))","v":0}]
["Zusatzkabel-1",{"$f":"IF($G471=\"\",\"\",VLOOKUP($G471,'AFM-Artikel'!$A$1:$D$4762,2))","v":"Nicht verfügbar!"},null,null,null,null,0,null,{"$f":"IF($G471=\"\",\"\",VLOOKUP($G471,'AFM-Artikel'!$A$1:$D$4762,3))","v":0}]
["Zusatzkabel-2",{"$f":"IF($G472=\"\",\"\",VLOOKUP($G472,'AFM-Artikel'!$A$1:$D$4762,2))","v":"Nicht verfügbar!"},null,null,null,null,0,null,{"$f":"IF($G472=\"\",\"\",VLOOKUP($G472,'AFM-Artikel'!$A$1:$D$4762,3))","v":0}]
["Zusatzkabel-Audio",{"$f":"IF($G473=\"\",\"\",VLOOKUP($G473,'AFM-Artikel'!$A$1:$D$4762,2))","v":"zusätzliche Kabellänge Audio 6mm"},null,null,null,null,5308,null,{"$f":"IF($G473=\"\",\"\",VLOOKUP($G473,'AFM-Artikel'!$A$1:$D$4762,3))","v":1.3125}]
[]
[]
[]
[]
[]
[null,"AL480_"]
["4pol-Bu.","Auswählen!","AFM","DB",null,{"$f":"IF(Konfigurator!F$52=B481,1,IF(Konfigurator!F$52=B482,2,IF(Konfigurator!F$52=B483,3,IF(Konfigurator!F$52=B484,4,IF(Konfigurator!F$52=B485,5,IF(Konfigurator!F$52=B486,6,IF(Konfigurator!F$52=B487,7,IF(Konfigurator!F$52=B488,8,))))))))+IF(Konfigurator!F$52=B489,9)+IF(Konfigurator!F$52=B490,10)+IF(Konfigurator!F$52=E480,0)","v":0},"Art.Nr.","TE","Liste","Kabel"]
[null,{"$f":"IF(ISNA(VLOOKUP(G481,'AFM-Artikel'!$A$1:$D$4762,4,FALSE)),\"-\",VLOOKUP(G481,'AFM-Artikel'!$A$1:$D$4762,4,FALSE))","v":"lötbar"},null,null,null,1,5686,8,{"$f":"IF($G481=\"\",\"\",VLOOKUP($G481,'AFM-Artikel'!$A$1:$D$4762,3))","v":18.4695},"N"]
[null,{"$f":"IF(ISNA(VLOOKUP(G482,'AFM-Artikel'!$A$1:$D$4762,4,FALSE)),\"-\",VLOOKUP(G482,'AFM-Artikel'!$A$1:$D$4762,4,FALSE))","v":"Lüsterklemme 30cm"},null,null,null,2,5687,8,{"$f":"IF($G482=\"\",\"\",VLOOKUP($G482,'AFM-Artikel'!$A$1:$D$4762,3))","v":30.786000000000001},"J"]
[null,{"$f":"IF(ISNA(VLOOKUP(G483,'AFM-Artikel'!$A$1:$D$4762,4,FALSE)),\"-\",VLOOKUP(G483,'AFM-Artikel'!$A$1:$D$4762,4,FALSE))","v":"-"},null,null,null,3,1,8,{"$f":"IF($G483=\"\",\"\",VLOOKUP($G483,'AFM-Artikel'!$A$1:$D$4762,3))","v":0}]
[null,{"$f":"IF(ISNA(VLOOKUP(G484,'AFM-Artikel'!$A$1:$D$4762,4,FALSE)),\"-\",VLOOKUP(G484,'AFM-Artikel'!$A$1:$D$4762,4,FALSE))","v":"-"},null,null,null,4,1,8,{"$f":"IF($G484=\"\",\"\",VLOOKUP($G484,'AFM-Artikel'!$A$1:$D$4762,3))","v":0}]
[null,{"$f":"IF(ISNA(VLOOKUP(G485,'AFM-Artikel'!$A$1:$D$4762,4,FALSE)),\"-\",VLOOKUP(G485,'AFM-Artikel'!$A$1:$D$4762,4,FALSE))","v":"-"},null,null,null,5,1,8,{"$f":"IF($G485=\"\",\"\",VLOOKUP($G485,'AFM-Artikel'!$A$1:$D$4762,3))","v":0}]
[null,{"$f":"IF(ISNA(VLOOKUP(G486,'AFM-Artikel'!$A$1:$D$4762,4,FALSE)),\"-\",VLOOKUP(G486,'AFM-Artikel'!$A$1:$D$4762,4,FALSE))","v":"-"},null,null,null,6,1,8,{"$f":"IF($G486=\"\",\"\",VLOOKUP($G486,'AFM-Artikel'!$A$1:$D$4762,3))","v":0}]
[null,{"$f":"IF(ISNA(VLOOKUP(G487,'AFM-Artikel'!$A$1:$D$4762,4,FALSE)),\"-\",VLOOKUP(G487,'AFM-Artikel'!$A$1:$D$4762,4,FALSE))","v":"-"},null,null,null,7,1,8,{"$f":"IF($G487=\"\",\"\",VLOOKUP($G487,'AFM-Artikel'!$A$1:$D$4762,3))","v":0}]
[null,{"$f":"IF(ISNA(VLOOKUP(G488,'AFM-Artikel'!$A$1:$D$4762,4,FALSE)),\"-\",VLOOKUP(G488,'AFM-Artikel'!$A$1:$D$4762,4,FALSE))","v":"-"},null,null,null,8,1,8,{"$f":"IF($G488=\"\",\"\",VLOOKUP($G488,'AFM-Artikel'!$A$1:$D$4762,3))","v":0}]
[null,{"$f":"IF(ISNA(VLOOKUP(G489,'AFM-Artikel'!$A$1:$D$4762,4,FALSE)),\"-\",VLOOKUP(G489,'AFM-Artikel'!$A$1:$D$4762,4,FALSE))","v":"-"},null,null,null,9,1,8,{"$f":"IF($G489=\"\",\"\",VLOOKUP($G489,'AFM-Artikel'!$A$1:$D$4762,3))","v":0}]
[null,{"$f":"IF(ISNA(VLOOKUP(G490,'AFM-Artikel'!$A$1:$D$4762,4,FALSE)),\"-\",VLOOKUP(G490,'AFM-Artikel'!$A$1:$D$4762,4,FALSE))","v":"-"},null,null,null,10,1,8,{"$f":"IF($G490=\"\",\"\",VLOOKUP($G490,'AFM-Artikel'!$A$1:$D$4762,3))","v":0}]
["Zusatzkabel-1",{"$f":"IF($G491=\"\",\"\",VLOOKUP($G491,'AFM-Artikel'!$A$1:$D$4762,2))","v":"zusätzliche Kabellänge 4pol-Steuerleitung"},null,null,null,null,5315,null,{"$f":"IF($G491=\"\",\"\",VLOOKUP($G491,'AFM-Artikel'!$A$1:$D$4762,3))","v":1.2075}]
["Zusatzkabel-2",{"$f":"IF($G492=\"\",\"\",VLOOKUP($G492,'AFM-Artikel'!$A$1:$D$4762,2))","v":"Nicht verfügbar!"},null,null,null,null,0,null,{"$f":"IF($G492=\"\",\"\",VLOOKUP($G492,'AFM-Artikel'!$A$1:$D$4762,3))","v":0}]
["Zusatzkabel-Audio",{"$f":"IF($G493=\"\",\"\",VLOOKUP($G493,'AFM-Artikel'!$A$1:$D$4762,2))","v":"Nicht verfügbar!"},null,null,null,null,0,null,{"$f":"IF($G493=\"\",\"\",VLOOKUP($G493,'AFM-Artikel'!$A$1:$D$4762,3))","v":0}]
[]
[]
[]
[]
[]
[null,"AL500_"]
["5pol-Bu.","Auswählen!","AFM","DB",null,{"$f":"IF(Konfigurator!H$52=B501,1,IF(Konfigurator!H$52=B502,2,IF(Konfigurator!H$52=B503,3,IF(Konfigurator!H$52=B504,4,IF(Konfigurator!H$52=B505,5,IF(Konfigurator!H$52=B506,6,IF(Konfigurator!H$52=B507,7,IF(Konfigurator!H$52=B508,8,))))))))+IF(Konfigurator!H$52=B509,9)+IF(Konfigurator!H$52=B510,10)+IF(Konfigurator!H$52=E500,0)","v":0},"Art.Nr.","TE","Liste","Kabel"]
[null,{"$f":"IF(ISNA(VLOOKUP(G501,'AFM-Artikel'!$A$1:$D$4762,4,FALSE)),\"-\",VLOOKUP(G501,'AFM-Artikel'!$A$1:$D$4762,4,FALSE))","v":"lötbar"},null,null,null,1,5711,8,{"$f":"IF($G501=\"\",\"\",VLOOKUP($G501,'AFM-Artikel'!$A$1:$D$4762,3))","v":19.277999999999999},"N"]
[null,{"$f":"IF(ISNA(VLOOKUP(G502,'AFM-Artikel'!$A$1:$D$4762,4,FALSE)),\"-\",VLOOKUP(G502,'AFM-Artikel'!$A$1:$D$4762,4,FALSE))","v":"Lüsterklemme 30cm"},null,null,null,2,5708,8,{"$f":"IF($G502=\"\",\"\",VLOOKUP($G502,'AFM-Artikel'!$A$1:$D$4762,3))","v":38.482500000000002},"J"]
[null,{"$f":"IF(ISNA(VLOOKUP(G503,'AFM-Artikel'!$A$1:$D$4762,4,FALSE)),\"-\",VLOOKUP(G503,'AFM-Artikel'!$A$1:$D$4762,4,FALSE))","v":"-"},null,null,null,3,1,8,{"$f":"IF($G503=\"\",\"\",VLOOKUP($G503,'AFM-Artikel'!$A$1:$D$4762,3))","v":0}]
[null,{"$f":"IF(ISNA(VLOOKUP(G504,'AFM-Artikel'!$A$1:$D$4762,4,FALSE)),\"-\",VLOOKUP(G504,'AFM-Artikel'!$A$1:$D$4762,4,FALSE))","v":"-"},null,null,null,4,1,8,{"$f":"IF($G504=\"\",\"\",VLOOKUP($G504,'AFM-Artikel'!$A$1:$D$4762,3))","v":0}]
[null,{"$f":"IF(ISNA(VLOOKUP(G505,'AFM-Artikel'!$A$1:$D$4762,4,FALSE)),\"-\",VLOOKUP(G505,'AFM-Artikel'!$A$1:$D$4762,4,FALSE))","v":"-"},null,null,null,5,1,8,{"$f":"IF($G505=\"\",\"\",VLOOKUP($G505,'AFM-Artikel'!$A$1:$D$4762,3))","v":0}]
[null,{"$f":"IF(ISNA(VLOOKUP(G506,'AFM-Artikel'!$A$1:$D$4762,4,FALSE)),\"-\",VLOOKUP(G506,'AFM-Artikel'!$A$1:$D$4762,4,FALSE))","v":"-"},null,null,null,6,1,8,{"$f":"IF($G506=\"\",\"\",VLOOKUP($G506,'AFM-Artikel'!$A$1:$D$4762,3))","v":0}]
[null,{"$f":"IF(ISNA(VLOOKUP(G507,'AFM-Artikel'!$A$1:$D$4762,4,FALSE)),\"-\",VLOOKUP(G507,'AFM-Artikel'!$A$1:$D$4762,4,FALSE))","v":"-"},null,null,null,7,1,8,{"$f":"IF($G507=\"\",\"\",VLOOKUP($G507,'AFM-Artikel'!$A$1:$D$4762,3))","v":0}]
[null,{"$f":"IF(ISNA(VLOOKUP(G508,'AFM-Artikel'!$A$1:$D$4762,4,FALSE)),\"-\",VLOOKUP(G508,'AFM-Artikel'!$A$1:$D$4762,4,FALSE))","v":"-"},null,null,null,8,1,8,{"$f":"IF($G508=\"\",\"\",VLOOKUP($G508,'AFM-Artikel'!$A$1:$D$4762,3))","v":0}]
[null,{"$f":"IF(ISNA(VLOOKUP(G509,'AFM-Artikel'!$A$1:$D$4762,4,FALSE)),\"-\",VLOOKUP(G509,'AFM-Artikel'!$A$1:$D$4762,4,FALSE))","v":"-"},null,null,null,9,1,8,{"$f":"IF($G509=\"\",\"\",VLOOKUP($G509,'AFM-Artikel'!$A$1:$D$4762,3))","v":0}]
[null,{"$f":"IF(ISNA(VLOOKUP(G510,'AFM-Artikel'!$A$1:$D$4762,4,FALSE)),\"-\",VLOOKUP(G510,'AFM-Artikel'!$A$1:$D$4762,4,FALSE))","v":"-"},null,null,null,10,1,8,{"$f":"IF($G510=\"\",\"\",VLOOKUP($G510,'AFM-Artikel'!$A$1:$D$4762,3))","v":0}]
["Zusatzkabel-1",{"$f":"IF($G511=\"\",\"\",VLOOKUP($G511,'AFM-Artikel'!$A$1:$D$4762,2))","v":"Nicht verfügbar!"},null,null,null,null,0,null,{"$f":"IF($G511=\"\",\"\",VLOOKUP($G511,'AFM-Artikel'!$A$1:$D$4762,3))","v":0}]
["Zusatzkabel-2",{"$f":"IF($G512=\"\",\"\",VLOOKUP($G512,'AFM-Artikel'!$A$1:$D$4762,2))","v":"Nicht verfügbar!"},null,null,null,null,0,null,{"$f":"IF($G512=\"\",\"\",VLOOKUP($G512,'AFM-Artikel'!$A$1:$D$4762,3))","v":0}]
["Zusatzkabel-Audio",{"$f":"IF($G513=\"\",\"\",VLOOKUP($G513,'AFM-Artikel'!$A$1:$D$4762,2))","v":"zusätzliche Kabellänge Audio-stereo"},null,null,null,null,5302,null,{"$f":"IF($G513=\"\",\"\",VLOOKUP($G513,'AFM-Artikel'!$A$1:$D$4762,3))","v":2.2364999999999999}]
[]
[]
[]
[]
[]
[null,"AL520_"]
["6pol-Bu.","Auswählen!","AFM","DB",null,{"$f":"IF(Konfigurator!J$52=B521,1,IF(Konfigurator!J$52=B522,2,IF(Konfigurator!J$52=B523,3,IF(Konfigurator!J$52=B524,4,IF(Konfigurator!J$52=B525,5,IF(Konfigurator!J$52=B526,6,IF(Konfigurator!J$52=B527,7,IF(Konfigurator!J$52=B528,8,))))))))+IF(Konfigurator!J$52=B529,9)+IF(Konfigurator!J$52=B530,10)+IF(Konfigurator!J$52=E520,0)","v":0},"Art.Nr.","TE","Liste","Kabel"]
[null,{"$f":"IF(ISNA(VLOOKUP(G521,'AFM-Artikel'!$A$1:$D$4762,4,FALSE)),\"-\",VLOOKUP(G521,'AFM-Artikel'!$A$1:$D$4762,4,FALSE))","v":"lötbar"},null,null,null,1,5707,8,{"$f":"IF($G521=\"\",\"\",VLOOKUP($G521,'AFM-Artikel'!$A$1:$D$4762,3))","v":30.5655},"N"]
[null,{"$f":"IF(ISNA(VLOOKUP(G522,'AFM-Artikel'!$A$1:$D$4762,4,FALSE)),\"-\",VLOOKUP(G522,'AFM-Artikel'!$A$1:$D$4762,4,FALSE))","v":"-"},null,null,null,2,1,8,{"$f":"IF($G522=\"\",\"\",VLOOKUP($G522,'AFM-Artikel'!$A$1:$D$4762,3))","v":0}]
[null,{"$f":"IF(ISNA(VLOOKUP(G523,'AFM-Artikel'!$A$1:$D$4762,4,FALSE)),\"-\",VLOOKUP(G523,'AFM-Artikel'!$A$1:$D$4762,4,FALSE))","v":"-"},null,null,null,3,1,8,{"$f":"IF($G523=\"\",\"\",VLOOKUP($G523,'AFM-Artikel'!$A$1:$D$4762,3))","v":0}]
[null,{"$f":"IF(ISNA(VLOOKUP(G524,'AFM-Artikel'!$A$1:$D$4762,4,FALSE)),\"-\",VLOOKUP(G524,'AFM-Artikel'!$A$1:$D$4762,4,FALSE))","v":"-"},null,null,null,4,1,8,{"$f":"IF($G524=\"\",\"\",VLOOKUP($G524,'AFM-Artikel'!$A$1:$D$4762,3))","v":0}]
[null,{"$f":"IF(ISNA(VLOOKUP(G525,'AFM-Artikel'!$A$1:$D$4762,4,FALSE)),\"-\",VLOOKUP(G525,'AFM-Artikel'!$A$1:$D$4762,4,FALSE))","v":"-"},null,null,null,5,1,8,{"$f":"IF($G525=\"\",\"\",VLOOKUP($G525,'AFM-Artikel'!$A$1:$D$4762,3))","v":0}]
[null,{"$f":"IF(ISNA(VLOOKUP(G526,'AFM-Artikel'!$A$1:$D$4762,4,FALSE)),\"-\",VLOOKUP(G526,'AFM-Artikel'!$A$1:$D$4762,4,FALSE))","v":"-"},null,null,null,6,1,8,{"$f":"IF($G526=\"\",\"\",VLOOKUP($G526,'AFM-Artikel'!$A$1:$D$4762,3))","v":0}]
[null,{"$f":"IF(ISNA(VLOOKUP(G527,'AFM-Artikel'!$A$1:$D$4762,4,FALSE)),\"-\",VLOOKUP(G527,'AFM-Artikel'!$A$1:$D$4762,4,FALSE))","v":"-"},null,null,null,7,1,8,{"$f":"IF($G527=\"\",\"\",VLOOKUP($G527,'AFM-Artikel'!$A$1:$D$4762,3))","v":0}]
[null,{"$f":"IF(ISNA(VLOOKUP(G528,'AFM-Artikel'!$A$1:$D$4762,4,FALSE)),\"-\",VLOOKUP(G528,'AFM-Artikel'!$A$1:$D$4762,4,FALSE))","v":"-"},null,null,null,8,1,8,{"$f":"IF($G528=\"\",\"\",VLOOKUP($G528,'AFM-Artikel'!$A$1:$D$4762,3))","v":0}]
[null,{"$f":"IF(ISNA(VLOOKUP(G529,'AFM-Artikel'!$A$1:$D$4762,4,FALSE)),\"-\",VLOOKUP(G529,'AFM-Artikel'!$A$1:$D$4762,4,FALSE))","v":"-"},null,null,null,9,1,8,{"$f":"IF($G529=\"\",\"\",VLOOKUP($G529,'AFM-Artikel'!$A$1:$D$4762,3))","v":0}]
[null,{"$f":"IF(ISNA(VLOOKUP(G530,'AFM-Artikel'!$A$1:$D$4762,4,FALSE)),\"-\",VLOOKUP(G530,'AFM-Artikel'!$A$1:$D$4762,4,FALSE))","v":"-"},null,null,null,10,1,8,{"$f":"IF($G530=\"\",\"\",VLOOKUP($G530,'AFM-Artikel'!$A$1:$D$4762,3))","v":0}]
["Zusatzkabel-1",{"$f":"IF($G531=\"\",\"\",VLOOKUP($G531,'AFM-Artikel'!$A$1:$D$4762,2))","v":"Nicht verfügbar!"},null,null,null,null,0,null,{"$f":"IF($G531=\"\",\"\",VLOOKUP($G531,'AFM-Artikel'!$A$1:$D$4762,3))","v":0}]
["Zusatzkabel-2",{"$f":"IF($G532=\"\",\"\",VLOOKUP($G532,'AFM-Artikel'!$A$1:$D$4762,2))","v":"Nicht verfügbar!"},null,null,null,null,0,null,{"$f":"IF($G532=\"\",\"\",VLOOKUP($G532,'AFM-Artikel'!$A$1:$D$4762,3))","v":0}]
["Zusatzkabel-Audio",{"$f":"IF($G533=\"\",\"\",VLOOKUP($G533,'AFM-Artikel'!$A$1:$D$4762,2))","v":"Nicht verfügbar!"},null,null,null,null,0,null,{"$f":"IF($G533=\"\",\"\",VLOOKUP($G533,'AFM-Artikel'!$A$1:$D$4762,3))","v":0}]
[]
[]
[]
[]
[]
[null,"AL540_"]
["XLR USB-Bu/Bu.","Auswählen!","AFM","DB",null,{"$f":"IF(Konfigurator!L$52=B541,1,IF(Konfigurator!L$52=B542,2,IF(Konfigurator!L$52=B543,3,IF(Konfigurator!L$52=B544,4,IF(Konfigurator!L$52=B545,5,IF(Konfigurator!L$52=B546,6,IF(Konfigurator!L$52=B547,7,IF(Konfigurator!L$52=B548,8,))))))))+IF(Konfigurator!L$52=B549,9)+IF(Konfigurator!L$52=B550,10)+IF(Konfigurator!L$52=E540,0)","v":0},"Art.Nr.","TE","Liste","Kabel"]
[null,{"$f":"IF(ISNA(VLOOKUP(G541,'AFM-Artikel'!$A$1:$D$4762,4,FALSE)),\"-\",VLOOKUP(G541,'AFM-Artikel'!$A$1:$D$4762,4,FALSE))","v":"USB-Bu. A/B drehbar"},null,null,null,1,"5690A",8,{"$f":"IF($G541=\"\",\"\",VLOOKUP($G541,'AFM-Artikel'!$A$1:$D$4762,3))","v":21.9345},"N"]
[null,{"$f":"IF(ISNA(VLOOKUP(G542,'AFM-Artikel'!$A$1:$D$4762,4,FALSE)),\"-\",VLOOKUP(G542,'AFM-Artikel'!$A$1:$D$4762,4,FALSE))","v":"USB-Bu. B/A drehbar"},null,null,null,2,"5690B",8,{"$f":"IF($G542=\"\",\"\",VLOOKUP($G542,'AFM-Artikel'!$A$1:$D$4762,3))","v":21.9345},"N"]
[null,{"$f":"IF(ISNA(VLOOKUP(G543,'AFM-Artikel'!$A$1:$D$4762,4,FALSE)),\"-\",VLOOKUP(G543,'AFM-Artikel'!$A$1:$D$4762,4,FALSE))","v":"-"},null,null,null,3,1,null,{"$f":"IF($G543=\"\",\"\",VLOOKUP($G543,'AFM-Artikel'!$A$1:$D$4762,3))","v":0}]
[null,{"$f":"IF(ISNA(VLOOKUP(G544,'AFM-Artikel'!$A$1:$D$4762,4,FALSE)),\"-\",VLOOKUP(G544,'AFM-Artikel'!$A$1:$D$4762,4,FALSE))","v":"-"},null,null,null,4,1,null,{"$f":"IF($G544=\"\",\"\",VLOOKUP($G544,'AFM-Artikel'!$A$1:$D$4762,3))","v":0}]
[null,{"$f":"IF(ISNA(VLOOKUP(G545,'AFM-Artikel'!$A$1:$D$4762,4,FALSE)),\"-\",VLOOKUP(G545,'AFM-Artikel'!$A$1:$D$4762,4,FALSE))","v":"-"},null,null,null,5,1,null,{"$f":"IF($G545=\"\",\"\",VLOOKUP($G545,'AFM-Artikel'!$A$1:$D$4762,3))","v":0}]
[null,{"$f":"IF(ISNA(VLOOKUP(G546,'AFM-Artikel'!$A$1:$D$4762,4,FALSE)),\"-\",VLOOKUP(G546,'AFM-Artikel'!$A$1:$D$4762,4,FALSE))","v":"-"},null,null,null,6,1,null,{"$f":"IF($G546=\"\",\"\",VLOOKUP($G546,'AFM-Artikel'!$A$1:$D$4762,3))","v":0}]
[null,{"$f":"IF(ISNA(VLOOKUP(G547,'AFM-Artikel'!$A$1:$D$4762,4,FALSE)),\"-\",VLOOKUP(G547,'AFM-Artikel'!$A$1:$D$4762,4,FALSE))","v":"-"},null,null,null,7,1,null,{"$f":"IF($G547=\"\",\"\",VLOOKUP($G547,'AFM-Artikel'!$A$1:$D$4762,3))","v":0}]
[null,{"$f":"IF(ISNA(VLOOKUP(G548,'AFM-Artikel'!$A$1:$D$4762,4,FALSE)),\"-\",VLOOKUP(G548,'AFM-Artikel'!$A$1:$D$4762,4,FALSE))","v":"-"},null,null,null,8,1,null,{"$f":"IF($G548=\"\",\"\",VLOOKUP($G548,'AFM-Artikel'!$A$1:$D$4762,3))","v":0}]
[null,{"$f":"IF(ISNA(VLOOKUP(G549,'AFM-Artikel'!$A$1:$D$4762,4,FALSE)),\"-\",VLOOKUP(G549,'AFM-Artikel'!$A$1:$D$4762,4,FALSE))","v":"-"},null,null,null,9,1,null,{"$f":"IF($G549=\"\",\"\",VLOOKUP($G549,'AFM-Artikel'!$A$1:$D$4762,3))","v":0}]
[null,{"$f":"IF(ISNA(VLOOKUP(G550,'AFM-Artikel'!$A$1:$D$4762,4,FALSE)),\"-\",VLOOKUP(G550,'AFM-Artikel'!$A$1:$D$4762,4,FALSE))","v":"-"},null,null,null,10,1,null,{"$f":"IF($G550=\"\",\"\",VLOOKUP($G550,'AFM-Artikel'!$A$1:$D$4762,3))","v":0}]
["Zusatzkabel-1",{"$f":"IF($G551=\"\",\"\",VLOOKUP($G551,'AFM-Artikel'!$A$1:$D$4762,2))","v":"zusätzliche Kabellänge USB"},null,null,null,null,5312,null,{"$f":"IF($G551=\"\",\"\",VLOOKUP($G551,'AFM-Artikel'!$A$1:$D$4762,3))","v":1.8690000000000002}]
["Zusatzkabel-2",{"$f":"IF($G552=\"\",\"\",VLOOKUP($G552,'AFM-Artikel'!$A$1:$D$4762,2))","v":"Nicht verfügbar!"},null,null,null,null,0,null,{"$f":"IF($G552=\"\",\"\",VLOOKUP($G552,'AFM-Artikel'!$A$1:$D$4762,3))","v":0}]
["Zusatzkabel-Audio",{"$f":"IF($G553=\"\",\"\",VLOOKUP($G553,'AFM-Artikel'!$A$1:$D$4762,2))","v":"Nicht verfügbar!"},null,null,null,null,0,null,{"$f":"IF($G553=\"\",\"\",VLOOKUP($G553,'AFM-Artikel'!$A$1:$D$4762,3))","v":0}]
[]
[]
[]
[]
[]
[null,"AL560_"]
["XLR - RJ45","Auswählen!","AFM","DB",null,{"$f":"IF(Konfigurator!N$52=B561,1,IF(Konfigurator!N$52=B562,2,IF(Konfigurator!N$52=B563,3,IF(Konfigurator!N$52=B564,4,IF(Konfigurator!N$52=B565,5,IF(Konfigurator!N$52=B566,6,IF(Konfigurator!N$52=B567,7,IF(Konfigurator!N$52=B568,8))))))))+IF(Konfigurator!N$52=B569,9)+IF(Konfigurator!N$52=B570,10)+IF(Konfigurator!N$52=E560,0)","v":0},"Art.Nr.","TE","Liste","Kabel"]
[null,{"$f":"IF(ISNA(VLOOKUP(G561,'AFM-Artikel'!$A$1:$D$4762,4,FALSE)),\"-\",VLOOKUP(G561,'AFM-Artikel'!$A$1:$D$4762,4,FALSE))","v":"schneid-klemm"},null,null,null,1,5715,8,{"$f":"IF($G561=\"\",\"\",VLOOKUP($G561,'AFM-Artikel'!$A$1:$D$4762,3))","v":29.578500000000002},"N"]
[null,{"$f":"IF(ISNA(VLOOKUP(G562,'AFM-Artikel'!$A$1:$D$4762,4,FALSE)),\"-\",VLOOKUP(G562,'AFM-Artikel'!$A$1:$D$4762,4,FALSE))","v":"RJ45-Ku.30cm"},null,null,null,2,5790,8,{"$f":"IF($G562=\"\",\"\",VLOOKUP($G562,'AFM-Artikel'!$A$1:$D$4762,3))","v":42.178500000000007},"J"]
[null,{"$f":"IF(ISNA(VLOOKUP(G563,'AFM-Artikel'!$A$1:$D$4762,4,FALSE)),\"-\",VLOOKUP(G563,'AFM-Artikel'!$A$1:$D$4762,4,FALSE))","v":"RJ45 steckbar"},null,null,null,3,5808,8,{"$f":"IF($G563=\"\",\"\",VLOOKUP($G563,'AFM-Artikel'!$A$1:$D$4762,3))","v":31.857000000000003},"N"]
[null,{"$f":"IF(ISNA(VLOOKUP(G564,'AFM-Artikel'!$A$1:$D$4762,4,FALSE)),\"-\",VLOOKUP(G564,'AFM-Artikel'!$A$1:$D$4762,4,FALSE))","v":"-"},null,null,null,4,1,null,{"$f":"IF($G564=\"\",\"\",VLOOKUP($G564,'AFM-Artikel'!$A$1:$D$4762,3))","v":0}]
[null,{"$f":"IF(ISNA(VLOOKUP(G565,'AFM-Artikel'!$A$1:$D$4762,4,FALSE)),\"-\",VLOOKUP(G565,'AFM-Artikel'!$A$1:$D$4762,4,FALSE))","v":"-"},null,null,null,5,1,null,{"$f":"IF($G565=\"\",\"\",VLOOKUP($G565,'AFM-Artikel'!$A$1:$D$4762,3))","v":0}]
[null,{"$f":"IF(ISNA(VLOOKUP(G566,'AFM-Artikel'!$A$1:$D$4762,4,FALSE)),\"-\",VLOOKUP(G566,'AFM-Artikel'!$A$1:$D$4762,4,FALSE))","v":"-"},null,null,null,6,1,null,{"$f":"IF($G566=\"\",\"\",VLOOKUP($G566,'AFM-Artikel'!$A$1:$D$4762,3))","v":0}]
[null,{"$f":"IF(ISNA(VLOOKUP(G567,'AFM-Artikel'!$A$1:$D$4762,4,FALSE)),\"-\",VLOOKUP(G567,'AFM-Artikel'!$A$1:$D$4762,4,FALSE))","v":"-"},null,null,null,7,1,null,{"$f":"IF($G567=\"\",\"\",VLOOKUP($G567,'AFM-Artikel'!$A$1:$D$4762,3))","v":0}]
[null,{"$f":"IF(ISNA(VLOOKUP(G568,'AFM-Artikel'!$A$1:$D$4762,4,FALSE)),\"-\",VLOOKUP(G568,'AFM-Artikel'!$A$1:$D$4762,4,FALSE))","v":"-"},null,null,null,8,1,null,{"$f":"IF($G568=\"\",\"\",VLOOKUP($G568,'AFM-Artikel'!$A$1:$D$4762,3))","v":0}]
[null,{"$f":"IF(ISNA(VLOOKUP(G569,'AFM-Artikel'!$A$1:$D$4762,4,FALSE)),\"-\",VLOOKUP(G569,'AFM-Artikel'!$A$1:$D$4762,4,FALSE))","v":"-"},null,null,null,9,1,null,{"$f":"IF($G569=\"\",\"\",VLOOKUP($G569,'AFM-Artikel'!$A$1:$D$4762,3))","v":0}]
[null,{"$f":"IF(ISNA(VLOOKUP(G570,'AFM-Artikel'!$A$1:$D$4762,4,FALSE)),\"-\",VLOOKUP(G570,'AFM-Artikel'!$A$1:$D$4762,4,FALSE))","v":"-"},null,null,null,10,1,null,{"$f":"IF($G570=\"\",\"\",VLOOKUP($G570,'AFM-Artikel'!$A$1:$D$4762,3))","v":0}]
["Zusatzkabel-1",{"$f":"IF($G571=\"\",\"\",VLOOKUP($G571,'AFM-Artikel'!$A$1:$D$4762,2))","v":"zusätzliche Kabellänge Cat.6"},null,null,null,null,5310,null,{"$f":"IF($G571=\"\",\"\",VLOOKUP($G571,'AFM-Artikel'!$A$1:$D$4762,3))","v":2.0895000000000001}]
["Zusatzkabel-2",{"$f":"IF($G572=\"\",\"\",VLOOKUP($G572,'AFM-Artikel'!$A$1:$D$4762,2))","v":"Nicht verfügbar!"},null,null,null,null,0,null,{"$f":"IF($G572=\"\",\"\",VLOOKUP($G572,'AFM-Artikel'!$A$1:$D$4762,3))","v":0}]
["Zusatzkabel-Audio",{"$f":"IF($G573=\"\",\"\",VLOOKUP($G573,'AFM-Artikel'!$A$1:$D$4762,2))","v":"Nicht verfügbar!"},null,null,null,null,0,null,{"$f":"IF($G573=\"\",\"\",VLOOKUP($G573,'AFM-Artikel'!$A$1:$D$4762,3))","v":0}]
[]
[]
[]
[]
[]
[null,"AL580_"]
["XLR - Cat.6","Auswählen!","AFM","DB",null,{"$f":"IF(Konfigurator!P$52=B581,1,IF(Konfigurator!P$52=B582,2,IF(Konfigurator!P$52=B583,3,IF(Konfigurator!P$52=B584,4,IF(Konfigurator!P$52=B585,5,IF(Konfigurator!P$52=B586,6,IF(Konfigurator!P$52=B587,7,IF(Konfigurator!P$52=B588,8,))))))))+IF(Konfigurator!P$52=B589,9)+IF(Konfigurator!P$52=B590,10)+IF(Konfigurator!P$52=E580,0)","v":0},"Art.Nr.","TE","Liste","Kabel"]
[null,{"$f":"IF(ISNA(VLOOKUP(G581,'AFM-Artikel'!$A$1:$D$4762,4,FALSE)),\"-\",VLOOKUP(G581,'AFM-Artikel'!$A$1:$D$4762,4,FALSE))","v":"Neutrik, Cat.6-Ku. 30cm"},null,null,null,1,5813,8,{"$f":"IF($G581=\"\",\"\",VLOOKUP($G581,'AFM-Artikel'!$A$1:$D$4762,3))","v":56.385000000000005},"J"]
[null,{"$f":"IF(ISNA(VLOOKUP(G582,'AFM-Artikel'!$A$1:$D$4762,4,FALSE)),\"-\",VLOOKUP(G582,'AFM-Artikel'!$A$1:$D$4762,4,FALSE))","v":"-"},null,null,null,2,1,null,{"$f":"IF($G582=\"\",\"\",VLOOKUP($G582,'AFM-Artikel'!$A$1:$D$4762,3))","v":0}]
[null,{"$f":"IF(ISNA(VLOOKUP(G583,'AFM-Artikel'!$A$1:$D$4762,4,FALSE)),\"-\",VLOOKUP(G583,'AFM-Artikel'!$A$1:$D$4762,4,FALSE))","v":"-"},null,null,null,3,1,null,{"$f":"IF($G583=\"\",\"\",VLOOKUP($G583,'AFM-Artikel'!$A$1:$D$4762,3))","v":0}]
[null,{"$f":"IF(ISNA(VLOOKUP(G584,'AFM-Artikel'!$A$1:$D$4762,4,FALSE)),\"-\",VLOOKUP(G584,'AFM-Artikel'!$A$1:$D$4762,4,FALSE))","v":"-"},null,null,null,4,1,null,{"$f":"IF($G584=\"\",\"\",VLOOKUP($G584,'AFM-Artikel'!$A$1:$D$4762,3))","v":0}]
[null,{"$f":"IF(ISNA(VLOOKUP(G585,'AFM-Artikel'!$A$1:$D$4762,4,FALSE)),\"-\",VLOOKUP(G585,'AFM-Artikel'!$A$1:$D$4762,4,FALSE))","v":"-"},null,null,null,5,1,null,{"$f":"IF($G585=\"\",\"\",VLOOKUP($G585,'AFM-Artikel'!$A$1:$D$4762,3))","v":0}]
[null,{"$f":"IF(ISNA(VLOOKUP(G586,'AFM-Artikel'!$A$1:$D$4762,4,FALSE)),\"-\",VLOOKUP(G586,'AFM-Artikel'!$A$1:$D$4762,4,FALSE))","v":"-"},null,null,null,6,1,null,{"$f":"IF($G586=\"\",\"\",VLOOKUP($G586,'AFM-Artikel'!$A$1:$D$4762,3))","v":0}]
[null,{"$f":"IF(ISNA(VLOOKUP(G587,'AFM-Artikel'!$A$1:$D$4762,4,FALSE)),\"-\",VLOOKUP(G587,'AFM-Artikel'!$A$1:$D$4762,4,FALSE))","v":"-"},null,null,null,7,1,null,{"$f":"IF($G587=\"\",\"\",VLOOKUP($G587,'AFM-Artikel'!$A$1:$D$4762,3))","v":0}]
[null,{"$f":"IF(ISNA(VLOOKUP(G588,'AFM-Artikel'!$A$1:$D$4762,4,FALSE)),\"-\",VLOOKUP(G588,'AFM-Artikel'!$A$1:$D$4762,4,FALSE))","v":"-"},null,null,null,8,1,null,{"$f":"IF($G588=\"\",\"\",VLOOKUP($G588,'AFM-Artikel'!$A$1:$D$4762,3))","v":0}]
[null,{"$f":"IF(ISNA(VLOOKUP(G589,'AFM-Artikel'!$A$1:$D$4762,4,FALSE)),\"-\",VLOOKUP(G589,'AFM-Artikel'!$A$1:$D$4762,4,FALSE))","v":"-"},null,null,null,9,1,null,{"$f":"IF($G589=\"\",\"\",VLOOKUP($G589,'AFM-Artikel'!$A$1:$D$4762,3))","v":0}]
[null,{"$f":"IF(ISNA(VLOOKUP(G590,'AFM-Artikel'!$A$1:$D$4762,4,FALSE)),\"-\",VLOOKUP(G590,'AFM-Artikel'!$A$1:$D$4762,4,FALSE))","v":"-"},null,null,null,10,1,null,{"$f":"IF($G590=\"\",\"\",VLOOKUP($G590,'AFM-Artikel'!$A$1:$D$4762,3))","v":0}]
["Zusatzkabel-1",{"$f":"IF($G591=\"\",\"\",VLOOKUP($G591,'AFM-Artikel'!$A$1:$D$4762,2))","v":"zusätzliche Kabellänge Cat.6"},null,null,null,null,5310,null,{"$f":"IF($G591=\"\",\"\",VLOOKUP($G591,'AFM-Artikel'!$A$1:$D$4762,3))","v":2.0895000000000001}]
["Zusatzkabel-2",{"$f":"IF($G592=\"\",\"\",VLOOKUP($G592,'AFM-Artikel'!$A$1:$D$4762,2))","v":"Nicht verfügbar!"},null,null,null,null,0,null,{"$f":"IF($G592=\"\",\"\",VLOOKUP($G592,'AFM-Artikel'!$A$1:$D$4762,3))","v":0}]
["Zusatzkabel-Audio",{"$f":"IF($G593=\"\",\"\",VLOOKUP($G593,'AFM-Artikel'!$A$1:$D$4762,2))","v":"Nicht verfügbar!"},null,null,null,null,0,null,{"$f":"IF($G593=\"\",\"\",VLOOKUP($G593,'AFM-Artikel'!$A$1:$D$4762,3))","v":0}]
[]
[]
[]
[]
[]
[null,"AL600_"]
["XLR - Cat.6A","Auswählen!","AFM","DB",null,{"$f":"IF(Konfigurator!R$52=B601,1,IF(Konfigurator!R$52=B602,2,IF(Konfigurator!R$52=B603,3,IF(Konfigurator!R$52=B604,4,IF(Konfigurator!R$52=B605,5,IF(Konfigurator!R$52=B606,6,IF(Konfigurator!R$52=B607,7,IF(Konfigurator!R$52=B608,8,))))))))+IF(Konfigurator!R$52=B609,9)+IF(Konfigurator!R$52=B610,10)+IF(Konfigurator!R$52=E600,0)","v":0},"Art.Nr.","TE","Liste","Kabel"]
[null,{"$f":"IF(ISNA(VLOOKUP(G601,'AFM-Artikel'!$A$1:$D$4762,4,FALSE)),\"-\",VLOOKUP(G601,'AFM-Artikel'!$A$1:$D$4762,4,FALSE))","v":"Neutrik, Cat.6A, steckbar"},null,null,null,1,5824,8,{"$f":"IF($G601=\"\",\"\",VLOOKUP($G601,'AFM-Artikel'!$A$1:$D$4762,3))","v":37.716000000000001},"N"]
[null,{"$f":"IF(ISNA(VLOOKUP(G602,'AFM-Artikel'!$A$1:$D$4762,4,FALSE)),\"-\",VLOOKUP(G602,'AFM-Artikel'!$A$1:$D$4762,4,FALSE))","v":"Neutrik, Cat.6A, Ku. 30cm"},null,null,null,2,5825,8,{"$f":"IF($G602=\"\",\"\",VLOOKUP($G602,'AFM-Artikel'!$A$1:$D$4762,3))","v":70.024500000000003},"J"]
[null,{"$f":"IF(ISNA(VLOOKUP(G603,'AFM-Artikel'!$A$1:$D$4762,4,FALSE)),\"-\",VLOOKUP(G603,'AFM-Artikel'!$A$1:$D$4762,4,FALSE))","v":"-"},null,null,null,3,1,null,{"$f":"IF($G603=\"\",\"\",VLOOKUP($G603,'AFM-Artikel'!$A$1:$D$4762,3))","v":0}]
[null,{"$f":"IF(ISNA(VLOOKUP(G604,'AFM-Artikel'!$A$1:$D$4762,4,FALSE)),\"-\",VLOOKUP(G604,'AFM-Artikel'!$A$1:$D$4762,4,FALSE))","v":"-"},null,null,null,4,1,null,{"$f":"IF($G604=\"\",\"\",VLOOKUP($G604,'AFM-Artikel'!$A$1:$D$4762,3))","v":0}]
[null,{"$f":"IF(ISNA(VLOOKUP(G605,'AFM-Artikel'!$A$1:$D$4762,4,FALSE)),\"-\",VLOOKUP(G605,'AFM-Artikel'!$A$1:$D$4762,4,FALSE))","v":"-"},null,null,null,5,1,null,{"$f":"IF($G605=\"\",\"\",VLOOKUP($G605,'AFM-Artikel'!$A$1:$D$4762,3))","v":0}]
[null,{"$f":"IF(ISNA(VLOOKUP(G606,'AFM-Artikel'!$A$1:$D$4762,4,FALSE)),\"-\",VLOOKUP(G606,'AFM-Artikel'!$A$1:$D$4762,4,FALSE))","v":"-"},null,null,null,6,1,null,{"$f":"IF($G606=\"\",\"\",VLOOKUP($G606,'AFM-Artikel'!$A$1:$D$4762,3))","v":0}]
[null,{"$f":"IF(ISNA(VLOOKUP(G607,'AFM-Artikel'!$A$1:$D$4762,4,FALSE)),\"-\",VLOOKUP(G607,'AFM-Artikel'!$A$1:$D$4762,4,FALSE))","v":"-"},null,null,null,7,1,null,{"$f":"IF($G607=\"\",\"\",VLOOKUP($G607,'AFM-Artikel'!$A$1:$D$4762,3))","v":0}]
[null,{"$f":"IF(ISNA(VLOOKUP(G608,'AFM-Artikel'!$A$1:$D$4762,4,FALSE)),\"-\",VLOOKUP(G608,'AFM-Artikel'!$A$1:$D$4762,4,FALSE))","v":"-"},null,null,null,8,1,null,{"$f":"IF($G608=\"\",\"\",VLOOKUP($G608,'AFM-Artikel'!$A$1:$D$4762,3))","v":0}]
[null,{"$f":"IF(ISNA(VLOOKUP(G609,'AFM-Artikel'!$A$1:$D$4762,4,FALSE)),\"-\",VLOOKUP(G609,'AFM-Artikel'!$A$1:$D$4762,4,FALSE))","v":"-"},null,null,null,9,1,null,{"$f":"IF($G609=\"\",\"\",VLOOKUP($G609,'AFM-Artikel'!$A$1:$D$4762,3))","v":0}]
[null,{"$f":"IF(ISNA(VLOOKUP(G610,'AFM-Artikel'!$A$1:$D$4762,4,FALSE)),\"-\",VLOOKUP(G610,'AFM-Artikel'!$A$1:$D$4762,4,FALSE))","v":"-"},null,null,null,10,1,null,{"$f":"IF($G610=\"\",\"\",VLOOKUP($G610,'AFM-Artikel'!$A$1:$D$4762,3))","v":0}]
["Zusatzkabel-1",{"$f":"IF($G611=\"\",\"\",VLOOKUP($G611,'AFM-Artikel'!$A$1:$D$4762,2))","v":"zusätzliche Kabellänge Cat.6"},null,null,null,null,5310,null,{"$f":"IF($G611=\"\",\"\",VLOOKUP($G611,'AFM-Artikel'!$A$1:$D$4762,3))","v":2.0895000000000001}]
["Zusatzkabel-2",{"$f":"IF($G612=\"\",\"\",VLOOKUP($G612,'AFM-Artikel'!$A$1:$D$4762,2))","v":"Nicht verfügbar!"},null,null,null,null,0,null,{"$f":"IF($G612=\"\",\"\",VLOOKUP($G612,'AFM-Artikel'!$A$1:$D$4762,3))","v":0}]
["Zusatzkabel-Audio",{"$f":"IF($G613=\"\",\"\",VLOOKUP($G613,'AFM-Artikel'!$A$1:$D$4762,2))","v":"Nicht verfügbar!"},null,null,null,null,0,null,{"$f":"IF($G613=\"\",\"\",VLOOKUP($G613,'AFM-Artikel'!$A$1:$D$4762,3))","v":0}]
[]
[]
[]
[]
[]
[null,"AL620_"]
["4pol-Speakon","Auswählen!","AFM","DB",null,{"$f":"IF(Konfigurator!T$52=B621,1,IF(Konfigurator!T$52=B622,2,IF(Konfigurator!T$52=B623,3,IF(Konfigurator!T$52=B624,4,IF(Konfigurator!T$52=B625,5,IF(Konfigurator!T$52=B626,6,IF(Konfigurator!T$52=B627,7,IF(Konfigurator!T$52=B628,8,))))))))+IF(Konfigurator!T$52=B629,9)+IF(Konfigurator!T$52=B630,10)+IF(Konfigurator!T$52=E620,0)","v":0},"Art.Nr.","TE","Liste","Kabel"]
[null,{"$f":"IF(ISNA(VLOOKUP(G621,'AFM-Artikel'!$A$1:$D$4762,4,FALSE)),\"-\",VLOOKUP(G621,'AFM-Artikel'!$A$1:$D$4762,4,FALSE))","v":"lötbar"},null,null,null,1,5688,8,{"$f":"IF($G621=\"\",\"\",VLOOKUP($G621,'AFM-Artikel'!$A$1:$D$4762,3))","v":12.925500000000001},"N"]
[null,{"$f":"IF(ISNA(VLOOKUP(G622,'AFM-Artikel'!$A$1:$D$4762,4,FALSE)),\"-\",VLOOKUP(G622,'AFM-Artikel'!$A$1:$D$4762,4,FALSE))","v":"4pol-Lüsterkl. 30cm"},null,null,null,2,5689,8,{"$f":"IF($G622=\"\",\"\",VLOOKUP($G622,'AFM-Artikel'!$A$1:$D$4762,3))","v":24.391500000000001},"J"]
[null,{"$f":"IF(ISNA(VLOOKUP(G623,'AFM-Artikel'!$A$1:$D$4762,4,FALSE)),\"-\",VLOOKUP(G623,'AFM-Artikel'!$A$1:$D$4762,4,FALSE))","v":"-"},null,null,null,3,1,null,{"$f":"IF($G623=\"\",\"\",VLOOKUP($G623,'AFM-Artikel'!$A$1:$D$4762,3))","v":0}]
[null,{"$f":"IF(ISNA(VLOOKUP(G624,'AFM-Artikel'!$A$1:$D$4762,4,FALSE)),\"-\",VLOOKUP(G624,'AFM-Artikel'!$A$1:$D$4762,4,FALSE))","v":"-"},null,null,null,4,1,null,{"$f":"IF($G624=\"\",\"\",VLOOKUP($G624,'AFM-Artikel'!$A$1:$D$4762,3))","v":0}]
[null,{"$f":"IF(ISNA(VLOOKUP(G625,'AFM-Artikel'!$A$1:$D$4762,4,FALSE)),\"-\",VLOOKUP(G625,'AFM-Artikel'!$A$1:$D$4762,4,FALSE))","v":"-"},null,null,null,5,1,null,{"$f":"IF($G625=\"\",\"\",VLOOKUP($G625,'AFM-Artikel'!$A$1:$D$4762,3))","v":0}]
[null,{"$f":"IF(ISNA(VLOOKUP(G626,'AFM-Artikel'!$A$1:$D$4762,4,FALSE)),\"-\",VLOOKUP(G626,'AFM-Artikel'!$A$1:$D$4762,4,FALSE))","v":"-"},null,null,null,6,1,null,{"$f":"IF($G626=\"\",\"\",VLOOKUP($G626,'AFM-Artikel'!$A$1:$D$4762,3))","v":0}]
[null,{"$f":"IF(ISNA(VLOOKUP(G627,'AFM-Artikel'!$A$1:$D$4762,4,FALSE)),\"-\",VLOOKUP(G627,'AFM-Artikel'!$A$1:$D$4762,4,FALSE))","v":"-"},null,null,null,7,1,null,{"$f":"IF($G627=\"\",\"\",VLOOKUP($G627,'AFM-Artikel'!$A$1:$D$4762,3))","v":0}]
[null,{"$f":"IF(ISNA(VLOOKUP(G628,'AFM-Artikel'!$A$1:$D$4762,4,FALSE)),\"-\",VLOOKUP(G628,'AFM-Artikel'!$A$1:$D$4762,4,FALSE))","v":"-"},null,null,null,8,1,null,{"$f":"IF($G628=\"\",\"\",VLOOKUP($G628,'AFM-Artikel'!$A$1:$D$4762,3))","v":0}]
[null,{"$f":"IF(ISNA(VLOOKUP(G629,'AFM-Artikel'!$A$1:$D$4762,4,FALSE)),\"-\",VLOOKUP(G629,'AFM-Artikel'!$A$1:$D$4762,4,FALSE))","v":"-"},null,null,null,9,1,null,{"$f":"IF($G629=\"\",\"\",VLOOKUP($G629,'AFM-Artikel'!$A$1:$D$4762,3))","v":0}]
[null,{"$f":"IF(ISNA(VLOOKUP(G630,'AFM-Artikel'!$A$1:$D$4762,4,FALSE)),\"-\",VLOOKUP(G630,'AFM-Artikel'!$A$1:$D$4762,4,FALSE))","v":"-"},null,null,null,10,1,null,{"$f":"IF($G630=\"\",\"\",VLOOKUP($G630,'AFM-Artikel'!$A$1:$D$4762,3))","v":0}]
["Zusatzkabel-1",{"$f":"IF($G631=\"\",\"\",VLOOKUP($G631,'AFM-Artikel'!$A$1:$D$4762,2))","v":"zusätzliche Kabellänge Speakon 4x2,5mm²"},null,null,null,null,5309,null,5.78]
["Zusatzkabel-2",{"$f":"IF($G632=\"\",\"\",VLOOKUP($G632,'AFM-Artikel'!$A$1:$D$4762,2))","v":"Nicht verfügbar!"},null,null,null,null,0,null,{"$f":"IF($G632=\"\",\"\",VLOOKUP($G632,'AFM-Artikel'!$A$1:$D$4762,3))","v":0}]
["Zusatzkabel-Audio",{"$f":"IF($G633=\"\",\"\",VLOOKUP($G633,'AFM-Artikel'!$A$1:$D$4762,2))","v":"Nicht verfügbar!"},null,null,null,null,0,null,{"$f":"IF($G633=\"\",\"\",VLOOKUP($G633,'AFM-Artikel'!$A$1:$D$4762,3))","v":0}]
[]
[]
[]
[]
[]
[null,"AL640_"]
["PowerCon-A","Auswählen!","AFM","DB",null,{"$f":"IF(Konfigurator!V$52=B641,1,IF(Konfigurator!V$52=B642,2,IF(Konfigurator!V$52=B643,3,IF(Konfigurator!V$52=B644,4,IF(Konfigurator!V$52=B645,5,IF(Konfigurator!V$52=B646,6,IF(Konfigurator!V$52=B647,7,IF(Konfigurator!V$52=B648,8,))))))))+IF(Konfigurator!V$52=B649,9)+IF(Konfigurator!V$52=B650,10)+IF(Konfigurator!V$52=E640,0)","v":0},"Art.Nr.","TE","Liste","Kabel"]
[null,{"$f":"IF(ISNA(VLOOKUP(G641,'AFM-Artikel'!$A$1:$D$4762,4,FALSE)),\"-\",VLOOKUP(G641,'AFM-Artikel'!$A$1:$D$4762,4,FALSE))","v":"lötbar"},null,null,null,1,5717,8,{"$f":"IF($G641=\"\",\"\",VLOOKUP($G641,'AFM-Artikel'!$A$1:$D$4762,3))","v":16.275000000000002},"J"]
[null,{"$f":"IF(ISNA(VLOOKUP(G642,'AFM-Artikel'!$A$1:$D$4762,4,FALSE)),\"-\",VLOOKUP(G642,'AFM-Artikel'!$A$1:$D$4762,4,FALSE))","v":"-"},null,null,null,2,1,null,{"$f":"IF($G642=\"\",\"\",VLOOKUP($G642,'AFM-Artikel'!$A$1:$D$4762,3))","v":0}]
[null,{"$f":"IF(ISNA(VLOOKUP(G643,'AFM-Artikel'!$A$1:$D$4762,4,FALSE)),\"-\",VLOOKUP(G643,'AFM-Artikel'!$A$1:$D$4762,4,FALSE))","v":"-"},null,null,null,3,1,null,{"$f":"IF($G643=\"\",\"\",VLOOKUP($G643,'AFM-Artikel'!$A$1:$D$4762,3))","v":0}]
[null,{"$f":"IF(ISNA(VLOOKUP(G644,'AFM-Artikel'!$A$1:$D$4762,4,FALSE)),\"-\",VLOOKUP(G644,'AFM-Artikel'!$A$1:$D$4762,4,FALSE))","v":"-"},null,null,null,4,1,null,{"$f":"IF($G644=\"\",\"\",VLOOKUP($G644,'AFM-Artikel'!$A$1:$D$4762,3))","v":0}]
[null,{"$f":"IF(ISNA(VLOOKUP(G645,'AFM-Artikel'!$A$1:$D$4762,4,FALSE)),\"-\",VLOOKUP(G645,'AFM-Artikel'!$A$1:$D$4762,4,FALSE))","v":"-"},null,null,null,5,1,null,{"$f":"IF($G645=\"\",\"\",VLOOKUP($G645,'AFM-Artikel'!$A$1:$D$4762,3))","v":0}]
[null,{"$f":"IF(ISNA(VLOOKUP(G646,'AFM-Artikel'!$A$1:$D$4762,4,FALSE)),\"-\",VLOOKUP(G646,'AFM-Artikel'!$A$1:$D$4762,4,FALSE))","v":"-"},null,null,null,6,1,null,{"$f":"IF($G646=\"\",\"\",VLOOKUP($G646,'AFM-Artikel'!$A$1:$D$4762,3))","v":0}]
[null,{"$f":"IF(ISNA(VLOOKUP(G647,'AFM-Artikel'!$A$1:$D$4762,4,FALSE)),\"-\",VLOOKUP(G647,'AFM-Artikel'!$A$1:$D$4762,4,FALSE))","v":"-"},null,null,null,7,1,null,{"$f":"IF($G647=\"\",\"\",VLOOKUP($G647,'AFM-Artikel'!$A$1:$D$4762,3))","v":0}]
[null,{"$f":"IF(ISNA(VLOOKUP(G648,'AFM-Artikel'!$A$1:$D$4762,4,FALSE)),\"-\",VLOOKUP(G648,'AFM-Artikel'!$A$1:$D$4762,4,FALSE))","v":"-"},null,null,null,8,1,null,{"$f":"IF($G648=\"\",\"\",VLOOKUP($G648,'AFM-Artikel'!$A$1:$D$4762,3))","v":0}]
[null,{"$f":"IF(ISNA(VLOOKUP(G649,'AFM-Artikel'!$A$1:$D$4762,4,FALSE)),\"-\",VLOOKUP(G649,'AFM-Artikel'!$A$1:$D$4762,4,FALSE))","v":"-"},null,null,null,9,1,null,{"$f":"IF($G649=\"\",\"\",VLOOKUP($G649,'AFM-Artikel'!$A$1:$D$4762,3))","v":0}]
[null,{"$f":"IF(ISNA(VLOOKUP(G650,'AFM-Artikel'!$A$1:$D$4762,4,FALSE)),\"-\",VLOOKUP(G650,'AFM-Artikel'!$A$1:$D$4762,4,FALSE))","v":"-"},null,null,null,10,1,null,{"$f":"IF($G650=\"\",\"\",VLOOKUP($G650,'AFM-Artikel'!$A$1:$D$4762,3))","v":0}]
["Zusatzkabel-1",{"$f":"IF($G651=\"\",\"\",VLOOKUP($G651,'AFM-Artikel'!$A$1:$D$4762,2))","v":"zusätzliche Kabellänge Netzkabel"},null,null,null,null,5311,null,{"$f":"IF($G651=\"\",\"\",VLOOKUP($G651,'AFM-Artikel'!$A$1:$D$4762,3))","v":1.5645}]
["Zusatzkabel-2",{"$f":"IF($G652=\"\",\"\",VLOOKUP($G652,'AFM-Artikel'!$A$1:$D$4762,2))","v":"Nicht verfügbar!"},null,null,null,null,0,null,{"$f":"IF($G652=\"\",\"\",VLOOKUP($G652,'AFM-Artikel'!$A$1:$D$4762,3))","v":0}]
["Zusatzkabel-Audio",{"$f":"IF($G653=\"\",\"\",VLOOKUP($G653,'AFM-Artikel'!$A$1:$D$4762,2))","v":"Nicht verfügbar!"},null,null,null,null,0,null,{"$f":"IF($G653=\"\",\"\",VLOOKUP($G653,'AFM-Artikel'!$A$1:$D$4762,3))","v":0}]
[]
[]
[]
[]
[]
[null,"AL660_"]
["PowerCon-B","Auswählen!","AFM","DB",null,{"$f":"IF(Konfigurator!X$52=B661,1,IF(Konfigurator!X$52=B662,2,IF(Konfigurator!X$52=B663,3,IF(Konfigurator!X$52=B664,4,IF(Konfigurator!X$52=B665,5,IF(Konfigurator!X$52=B666,6,IF(Konfigurator!X$52=B667,7,IF(Konfigurator!X$52=B668,8,))))))))+IF(Konfigurator!X$52=B669,9)+IF(Konfigurator!X$52=B670,10)+IF(Konfigurator!X$52=E660,0)","v":0},"Art.Nr.","TE","Liste","Kabel"]
[null,{"$f":"IF(ISNA(VLOOKUP(G661,'AFM-Artikel'!$A$1:$D$4762,4,FALSE)),\"-\",VLOOKUP(G661,'AFM-Artikel'!$A$1:$D$4762,4,FALSE))","v":"lötbar"},null,null,null,1,5716,8,{"$f":"IF($G661=\"\",\"\",VLOOKUP($G661,'AFM-Artikel'!$A$1:$D$4762,3))","v":16.275000000000002},"J"]
[null,{"$f":"IF(ISNA(VLOOKUP(G662,'AFM-Artikel'!$A$1:$D$4762,4,FALSE)),\"-\",VLOOKUP(G662,'AFM-Artikel'!$A$1:$D$4762,4,FALSE))","v":"-"},null,null,null,2,1,null,{"$f":"IF($G662=\"\",\"\",VLOOKUP($G662,'AFM-Artikel'!$A$1:$D$4762,3))","v":0}]
[null,{"$f":"IF(ISNA(VLOOKUP(G663,'AFM-Artikel'!$A$1:$D$4762,4,FALSE)),\"-\",VLOOKUP(G663,'AFM-Artikel'!$A$1:$D$4762,4,FALSE))","v":"-"},null,null,null,3,1,null,{"$f":"IF($G663=\"\",\"\",VLOOKUP($G663,'AFM-Artikel'!$A$1:$D$4762,3))","v":0}]
[null,{"$f":"IF(ISNA(VLOOKUP(G664,'AFM-Artikel'!$A$1:$D$4762,4,FALSE)),\"-\",VLOOKUP(G664,'AFM-Artikel'!$A$1:$D$4762,4,FALSE))","v":"-"},null,null,null,4,1,null,{"$f":"IF($G664=\"\",\"\",VLOOKUP($G664,'AFM-Artikel'!$A$1:$D$4762,3))","v":0}]
[null,{"$f":"IF(ISNA(VLOOKUP(G665,'AFM-Artikel'!$A$1:$D$4762,4,FALSE)),\"-\",VLOOKUP(G665,'AFM-Artikel'!$A$1:$D$4762,4,FALSE))","v":"-"},null,null,null,5,1,null,{"$f":"IF($G665=\"\",\"\",VLOOKUP($G665,'AFM-Artikel'!$A$1:$D$4762,3))","v":0}]
[null,{"$f":"IF(ISNA(VLOOKUP(G666,'AFM-Artikel'!$A$1:$D$4762,4,FALSE)),\"-\",VLOOKUP(G666,'AFM-Artikel'!$A$1:$D$4762,4,FALSE))","v":"-"},null,null,null,6,1,null,{"$f":"IF($G666=\"\",\"\",VLOOKUP($G666,'AFM-Artikel'!$A$1:$D$4762,3))","v":0}]
[null,{"$f":"IF(ISNA(VLOOKUP(G667,'AFM-Artikel'!$A$1:$D$4762,4,FALSE)),\"-\",VLOOKUP(G667,'AFM-Artikel'!$A$1:$D$4762,4,FALSE))","v":"-"},null,null,null,7,1,null,{"$f":"IF($G667=\"\",\"\",VLOOKUP($G667,'AFM-Artikel'!$A$1:$D$4762,3))","v":0}]
[null,{"$f":"IF(ISNA(VLOOKUP(G668,'AFM-Artikel'!$A$1:$D$4762,4,FALSE)),\"-\",VLOOKUP(G668,'AFM-Artikel'!$A$1:$D$4762,4,FALSE))","v":"-"},null,null,null,8,1,null,{"$f":"IF($G668=\"\",\"\",VLOOKUP($G668,'AFM-Artikel'!$A$1:$D$4762,3))","v":0}]
[null,{"$f":"IF(ISNA(VLOOKUP(G669,'AFM-Artikel'!$A$1:$D$4762,4,FALSE)),\"-\",VLOOKUP(G669,'AFM-Artikel'!$A$1:$D$4762,4,FALSE))","v":"-"},null,null,null,9,1,null,{"$f":"IF($G669=\"\",\"\",VLOOKUP($G669,'AFM-Artikel'!$A$1:$D$4762,3))","v":0}]
[null,{"$f":"IF(ISNA(VLOOKUP(G670,'AFM-Artikel'!$A$1:$D$4762,4,FALSE)),\"-\",VLOOKUP(G670,'AFM-Artikel'!$A$1:$D$4762,4,FALSE))","v":"-"},null,null,null,10,1,null,{"$f":"IF($G670=\"\",\"\",VLOOKUP($G670,'AFM-Artikel'!$A$1:$D$4762,3))","v":0}]
["Zusatzkabel-1",{"$f":"IF($G671=\"\",\"\",VLOOKUP($G671,'AFM-Artikel'!$A$1:$D$4762,2))","v":"zusätzliche Kabellänge Netzkabel"},null,null,null,null,5311,null,{"$f":"IF($G671=\"\",\"\",VLOOKUP($G671,'AFM-Artikel'!$A$1:$D$4762,3))","v":1.5645}]
["Zusatzkabel-2",{"$f":"IF($G672=\"\",\"\",VLOOKUP($G672,'AFM-Artikel'!$A$1:$D$4762,2))","v":"Nicht verfügbar!"},null,null,null,null,0,null,{"$f":"IF($G672=\"\",\"\",VLOOKUP($G672,'AFM-Artikel'!$A$1:$D$4762,3))","v":0}]
["Zusatzkabel-Audio",{"$f":"IF($G673=\"\",\"\",VLOOKUP($G673,'AFM-Artikel'!$A$1:$D$4762,2))","v":"Nicht verfügbar!"},null,null,null,null,0,null,{"$f":"IF($G673=\"\",\"\",VLOOKUP($G673,'AFM-Artikel'!$A$1:$D$4762,3))","v":0}]
[]
[]
[]
[]
[]
[null,"AL680_"]
["Cinch-Bu.-ge","Auswählen!","AFM","DB",null,{"$f":"IF(Konfigurator!B$62=B681,1,IF(Konfigurator!B$62=B682,2,IF(Konfigurator!B$62=B683,3,IF(Konfigurator!B$62=B684,4,IF(Konfigurator!B$62=B685,5,IF(Konfigurator!B$62=B686,6,IF(Konfigurator!B$62=B687,7,IF(Konfigurator!B$62=B688,8,))))))))+IF(Konfigurator!B$62=B689,9)+IF(Konfigurator!B$62=B690,10)+IF(Konfigurator!B$62=E680,0)","v":0},"Art.Nr.","TE","Liste","Kabel"]
[null,{"$f":"IF(ISNA(VLOOKUP(G681,'AFM-Artikel'!$A$1:$D$4762,4,FALSE)),\"-\",VLOOKUP(G681,'AFM-Artikel'!$A$1:$D$4762,4,FALSE))","v":"lötbar"},null,null,null,1,5647,4,{"$f":"IF($G681=\"\",\"\",VLOOKUP($G681,'AFM-Artikel'!$A$1:$D$4762,3))","v":12.316500000000001},"N"]
[null,{"$f":"IF(ISNA(VLOOKUP(G682,'AFM-Artikel'!$A$1:$D$4762,4,FALSE)),\"-\",VLOOKUP(G682,'AFM-Artikel'!$A$1:$D$4762,4,FALSE))","v":"Cinch-Bu.steckbar"},null,null,null,2,5652,4,{"$f":"IF($G682=\"\",\"\",VLOOKUP($G682,'AFM-Artikel'!$A$1:$D$4762,3))","v":18.4695},"N"]
[null,{"$f":"IF(ISNA(VLOOKUP(G683,'AFM-Artikel'!$A$1:$D$4762,4,FALSE)),\"-\",VLOOKUP(G683,'AFM-Artikel'!$A$1:$D$4762,4,FALSE))","v":"Cinch-Ku. 30cm"},null,null,null,3,5655,4,{"$f":"IF($G683=\"\",\"\",VLOOKUP($G683,'AFM-Artikel'!$A$1:$D$4762,3))","v":23.089500000000001},"J"]
[null,{"$f":"IF(ISNA(VLOOKUP(G684,'AFM-Artikel'!$A$1:$D$4762,4,FALSE)),\"-\",VLOOKUP(G684,'AFM-Artikel'!$A$1:$D$4762,4,FALSE))","v":"Cinch-St. 30cm"},null,null,null,4,5660,4,{"$f":"IF($G684=\"\",\"\",VLOOKUP($G684,'AFM-Artikel'!$A$1:$D$4762,3))","v":23.089500000000001},"J"]
[null,{"$f":"IF(ISNA(VLOOKUP(G685,'AFM-Artikel'!$A$1:$D$4762,4,FALSE)),\"-\",VLOOKUP(G685,'AFM-Artikel'!$A$1:$D$4762,4,FALSE))","v":"BNC-Ku. 30cm"},null,null,null,5,5663,4,{"$f":"IF($G685=\"\",\"\",VLOOKUP($G685,'AFM-Artikel'!$A$1:$D$4762,3))","v":24.622499999999999},"J"]
[null,{"$f":"IF(ISNA(VLOOKUP(G686,'AFM-Artikel'!$A$1:$D$4762,4,FALSE)),\"-\",VLOOKUP(G686,'AFM-Artikel'!$A$1:$D$4762,4,FALSE))","v":"BNC-St. 30cm"},null,null,null,6,5664,4,{"$f":"IF($G686=\"\",\"\",VLOOKUP($G686,'AFM-Artikel'!$A$1:$D$4762,3))","v":22.428000000000001},"J"]
[null,{"$f":"IF(ISNA(VLOOKUP(G687,'AFM-Artikel'!$A$1:$D$4762,4,FALSE)),\"-\",VLOOKUP(G687,'AFM-Artikel'!$A$1:$D$4762,4,FALSE))","v":"-"},null,null,null,7,1,null,{"$f":"IF($G687=\"\",\"\",VLOOKUP($G687,'AFM-Artikel'!$A$1:$D$4762,3))","v":0}]
[null,{"$f":"IF(ISNA(VLOOKUP(G688,'AFM-Artikel'!$A$1:$D$4762,4,FALSE)),\"-\",VLOOKUP(G688,'AFM-Artikel'!$A$1:$D$4762,4,FALSE))","v":"-"},null,null,null,8,1,null,{"$f":"IF($G688=\"\",\"\",VLOOKUP($G688,'AFM-Artikel'!$A$1:$D$4762,3))","v":0}]
[null,{"$f":"IF(ISNA(VLOOKUP(G689,'AFM-Artikel'!$A$1:$D$4762,4,FALSE)),\"-\",VLOOKUP(G689,'AFM-Artikel'!$A$1:$D$4762,4,FALSE))","v":"-"},null,null,null,9,1,null,{"$f":"IF($G689=\"\",\"\",VLOOKUP($G689,'AFM-Artikel'!$A$1:$D$4762,3))","v":0}]
[null,{"$f":"IF(ISNA(VLOOKUP(G690,'AFM-Artikel'!$A$1:$D$4762,4,FALSE)),\"-\",VLOOKUP(G690,'AFM-Artikel'!$A$1:$D$4762,4,FALSE))","v":"-"},null,null,null,10,1,null,{"$f":"IF($G690=\"\",\"\",VLOOKUP($G690,'AFM-Artikel'!$A$1:$D$4762,3))","v":0}]
["Zusatzkabel-1",{"$f":"IF($G691=\"\",\"\",VLOOKUP($G691,'AFM-Artikel'!$A$1:$D$4762,2))","v":"zusätzliche Kabellänge Video 3mm"},null,null,null,null,5303,null,{"$f":"IF($G691=\"\",\"\",VLOOKUP($G691,'AFM-Artikel'!$A$1:$D$4762,3))","v":0.54600000000000004}]
["Zusatzkabel-2",{"$f":"IF($G692=\"\",\"\",VLOOKUP($G692,'AFM-Artikel'!$A$1:$D$4762,2))","v":"Nicht verfügbar!"},null,null,null,null,0,null,{"$f":"IF($G692=\"\",\"\",VLOOKUP($G692,'AFM-Artikel'!$A$1:$D$4762,3))","v":0}]
["Zusatzkabel-Audio",{"$f":"IF($G693=\"\",\"\",VLOOKUP($G693,'AFM-Artikel'!$A$1:$D$4762,2))","v":"Nicht verfügbar!"},null,null,null,null,0,null,{"$f":"IF($G693=\"\",\"\",VLOOKUP($G693,'AFM-Artikel'!$A$1:$D$4762,3))","v":0}]
[]
[]
[]
[]
[]
[null,"AL700_"]
["Cinch-Bu.-sw","Auswählen!","AFM","DB",null,{"$f":"IF(Konfigurator!D$62=B701,1,IF(Konfigurator!D$62=B702,2,IF(Konfigurator!D$62=B703,3,IF(Konfigurator!D$62=B704,4,IF(Konfigurator!D$62=B705,5,IF(Konfigurator!D$62=B706,6,IF(Konfigurator!D$62=B707,7,IF(Konfigurator!D$62=B708,8,))))))))+IF(Konfigurator!D$62=B709,9)+IF(Konfigurator!D$62=B710,10)+IF(Konfigurator!D$62=E700,0)","v":0},"Art.Nr.","TE","Liste","Kabel"]
[null,{"$f":"IF(ISNA(VLOOKUP(G701,'AFM-Artikel'!$A$1:$D$4762,4,FALSE)),\"-\",VLOOKUP(G701,'AFM-Artikel'!$A$1:$D$4762,4,FALSE))","v":"lötbar"},null,null,null,1,5645,4,{"$f":"IF($G701=\"\",\"\",VLOOKUP($G701,'AFM-Artikel'!$A$1:$D$4762,3))","v":12.316500000000001},"N"]
[null,{"$f":"IF(ISNA(VLOOKUP(G702,'AFM-Artikel'!$A$1:$D$4762,4,FALSE)),\"-\",VLOOKUP(G702,'AFM-Artikel'!$A$1:$D$4762,4,FALSE))","v":"Cinch-Bu.steckbar"},null,null,null,2,5650,4,{"$f":"IF($G702=\"\",\"\",VLOOKUP($G702,'AFM-Artikel'!$A$1:$D$4762,3))","v":18.4695},"N"]
[null,{"$f":"IF(ISNA(VLOOKUP(G703,'AFM-Artikel'!$A$1:$D$4762,4,FALSE)),\"-\",VLOOKUP(G703,'AFM-Artikel'!$A$1:$D$4762,4,FALSE))","v":"Cinch-Ku. 30cm"},null,null,null,3,5653,4,{"$f":"IF($G703=\"\",\"\",VLOOKUP($G703,'AFM-Artikel'!$A$1:$D$4762,3))","v":23.089500000000001},"J"]
[null,{"$f":"IF(ISNA(VLOOKUP(G704,'AFM-Artikel'!$A$1:$D$4762,4,FALSE)),\"-\",VLOOKUP(G704,'AFM-Artikel'!$A$1:$D$4762,4,FALSE))","v":"Cinch-St. 30cm"},null,null,null,4,5658,4,{"$f":"IF($G704=\"\",\"\",VLOOKUP($G704,'AFM-Artikel'!$A$1:$D$4762,3))","v":23.089500000000001},"J"]
[null,{"$f":"IF(ISNA(VLOOKUP(G705,'AFM-Artikel'!$A$1:$D$4762,4,FALSE)),\"-\",VLOOKUP(G705,'AFM-Artikel'!$A$1:$D$4762,4,FALSE))","v":"-"},null,null,null,5,1,null,{"$f":"IF($G705=\"\",\"\",VLOOKUP($G705,'AFM-Artikel'!$A$1:$D$4762,3))","v":0}]
[null,{"$f":"IF(ISNA(VLOOKUP(G706,'AFM-Artikel'!$A$1:$D$4762,4,FALSE)),\"-\",VLOOKUP(G706,'AFM-Artikel'!$A$1:$D$4762,4,FALSE))","v":"-"},null,null,null,6,1,null,{"$f":"IF($G706=\"\",\"\",VLOOKUP($G706,'AFM-Artikel'!$A$1:$D$4762,3))","v":0}]
[null,{"$f":"IF(ISNA(VLOOKUP(G707,'AFM-Artikel'!$A$1:$D$4762,4,FALSE)),\"-\",VLOOKUP(G707,'AFM-Artikel'!$A$1:$D$4762,4,FALSE))","v":"-"},null,null,null,7,1,null,{"$f":"IF($G707=\"\",\"\",VLOOKUP($G707,'AFM-Artikel'!$A$1:$D$4762,3))","v":0}]
[null,{"$f":"IF(ISNA(VLOOKUP(G708,'AFM-Artikel'!$A$1:$D$4762,4,FALSE)),\"-\",VLOOKUP(G708,'AFM-Artikel'!$A$1:$D$4762,4,FALSE))","v":"-"},null,null,null,8,1,null,{"$f":"IF($G708=\"\",\"\",VLOOKUP($G708,'AFM-Artikel'!$A$1:$D$4762,3))","v":0}]
[null,{"$f":"IF(ISNA(VLOOKUP(G709,'AFM-Artikel'!$A$1:$D$4762,4,FALSE)),\"-\",VLOOKUP(G709,'AFM-Artikel'!$A$1:$D$4762,4,FALSE))","v":"-"},null,null,null,9,1,null,{"$f":"IF($G709=\"\",\"\",VLOOKUP($G709,'AFM-Artikel'!$A$1:$D$4762,3))","v":0}]
[null,{"$f":"IF(ISNA(VLOOKUP(G710,'AFM-Artikel'!$A$1:$D$4762,4,FALSE)),\"-\",VLOOKUP(G710,'AFM-Artikel'!$A$1:$D$4762,4,FALSE))","v":"-"},null,null,null,10,1,null,{"$f":"IF($G710=\"\",\"\",VLOOKUP($G710,'AFM-Artikel'!$A$1:$D$4762,3))","v":0}]
["Zusatzkabel-1",{"$f":"IF($G711=\"\",\"\",VLOOKUP($G711,'AFM-Artikel'!$A$1:$D$4762,2))","v":"Nicht verfügbar!"},null,null,null,null,0,null,{"$f":"IF($G711=\"\",\"\",VLOOKUP($G711,'AFM-Artikel'!$A$1:$D$4762,3))","v":0}]
["Zusatzkabel-2",{"$f":"IF($G712=\"\",\"\",VLOOKUP($G712,'AFM-Artikel'!$A$1:$D$4762,2))","v":"Nicht verfügbar!"},null,null,null,null,0,null,{"$f":"IF($G712=\"\",\"\",VLOOKUP($G712,'AFM-Artikel'!$A$1:$D$4762,3))","v":0}]
["Zusatzkabel-Audio",{"$f":"IF($G713=\"\",\"\",VLOOKUP($G713,'AFM-Artikel'!$A$1:$D$4762,2))","v":"zusätzliche Kabellänge Audio 3mm"},null,null,null,null,5301,null,{"$f":"IF($G713=\"\",\"\",VLOOKUP($G713,'AFM-Artikel'!$A$1:$D$4762,3))","v":0.64049999999999996}]
[]
[]
[]
[]
[]
[null,"AL720_"]
["Cinch-Bu.-rt","Auswählen!","AFM","DB",null,{"$f":"IF(Konfigurator!F$62=B721,1,IF(Konfigurator!F$62=B722,2,IF(Konfigurator!F$62=B723,3,IF(Konfigurator!F$62=B724,4,IF(Konfigurator!F$62=B725,5,IF(Konfigurator!F$62=B726,6,IF(Konfigurator!F$62=B727,7,IF(Konfigurator!F$62=B728,8,))))))))+IF(Konfigurator!F$62=B729,9)+IF(Konfigurator!F$62=B730,10)+IF(Konfigurator!F$62=E720,0)","v":0},"Art.Nr.","TE","Liste","Kabel"]
[null,{"$f":"IF(ISNA(VLOOKUP(G721,'AFM-Artikel'!$A$1:$D$4762,4,FALSE)),\"-\",VLOOKUP(G721,'AFM-Artikel'!$A$1:$D$4762,4,FALSE))","v":"lötbar"},null,null,null,1,5646,4,{"$f":"IF($G721=\"\",\"\",VLOOKUP($G721,'AFM-Artikel'!$A$1:$D$4762,3))","v":12.316500000000001},"N"]
[null,{"$f":"IF(ISNA(VLOOKUP(G722,'AFM-Artikel'!$A$1:$D$4762,4,FALSE)),\"-\",VLOOKUP(G722,'AFM-Artikel'!$A$1:$D$4762,4,FALSE))","v":"Cinch-Bu.steckbar"},null,null,null,2,5651,4,{"$f":"IF($G722=\"\",\"\",VLOOKUP($G722,'AFM-Artikel'!$A$1:$D$4762,3))","v":18.4695},"N"]
[null,{"$f":"IF(ISNA(VLOOKUP(G723,'AFM-Artikel'!$A$1:$D$4762,4,FALSE)),\"-\",VLOOKUP(G723,'AFM-Artikel'!$A$1:$D$4762,4,FALSE))","v":"Cinch-Ku. 30cm"},null,null,null,3,5654,4,{"$f":"IF($G723=\"\",\"\",VLOOKUP($G723,'AFM-Artikel'!$A$1:$D$4762,3))","v":23.089500000000001},"J"]
[null,{"$f":"IF(ISNA(VLOOKUP(G724,'AFM-Artikel'!$A$1:$D$4762,4,FALSE)),\"-\",VLOOKUP(G724,'AFM-Artikel'!$A$1:$D$4762,4,FALSE))","v":"Cinch-St. 30cm"},null,null,null,4,5659,4,{"$f":"IF($G724=\"\",\"\",VLOOKUP($G724,'AFM-Artikel'!$A$1:$D$4762,3))","v":23.089500000000001},"J"]
[null,{"$f":"IF(ISNA(VLOOKUP(G725,'AFM-Artikel'!$A$1:$D$4762,4,FALSE)),\"-\",VLOOKUP(G725,'AFM-Artikel'!$A$1:$D$4762,4,FALSE))","v":"-"},null,null,null,5,1,null,{"$f":"IF($G725=\"\",\"\",VLOOKUP($G725,'AFM-Artikel'!$A$1:$D$4762,3))","v":0}]
[null,{"$f":"IF(ISNA(VLOOKUP(G726,'AFM-Artikel'!$A$1:$D$4762,4,FALSE)),\"-\",VLOOKUP(G726,'AFM-Artikel'!$A$1:$D$4762,4,FALSE))","v":"-"},null,null,null,6,1,null,{"$f":"IF($G726=\"\",\"\",VLOOKUP($G726,'AFM-Artikel'!$A$1:$D$4762,3))","v":0}]
[null,{"$f":"IF(ISNA(VLOOKUP(G727,'AFM-Artikel'!$A$1:$D$4762,4,FALSE)),\"-\",VLOOKUP(G727,'AFM-Artikel'!$A$1:$D$4762,4,FALSE))","v":"-"},null,null,null,7,1,null,{"$f":"IF($G727=\"\",\"\",VLOOKUP($G727,'AFM-Artikel'!$A$1:$D$4762,3))","v":0}]
[null,{"$f":"IF(ISNA(VLOOKUP(G728,'AFM-Artikel'!$A$1:$D$4762,4,FALSE)),\"-\",VLOOKUP(G728,'AFM-Artikel'!$A$1:$D$4762,4,FALSE))","v":"-"},null,null,null,8,1,null,{"$f":"IF($G728=\"\",\"\",VLOOKUP($G728,'AFM-Artikel'!$A$1:$D$4762,3))","v":0}]
[null,{"$f":"IF(ISNA(VLOOKUP(G729,'AFM-Artikel'!$A$1:$D$4762,4,FALSE)),\"-\",VLOOKUP(G729,'AFM-Artikel'!$A$1:$D$4762,4,FALSE))","v":"-"},null,null,null,9,1,null,{"$f":"IF($G729=\"\",\"\",VLOOKUP($G729,'AFM-Artikel'!$A$1:$D$4762,3))","v":0}]
[null,{"$f":"IF(ISNA(VLOOKUP(G730,'AFM-Artikel'!$A$1:$D$4762,4,FALSE)),\"-\",VLOOKUP(G730,'AFM-Artikel'!$A$1:$D$4762,4,FALSE))","v":"-"},null,null,null,10,1,null,{"$f":"IF($G730=\"\",\"\",VLOOKUP($G730,'AFM-Artikel'!$A$1:$D$4762,3))","v":0}]
["Zusatzkabel-1",{"$f":"IF($G731=\"\",\"\",VLOOKUP($G731,'AFM-Artikel'!$A$1:$D$4762,2))","v":"Nicht verfügbar!"},null,null,null,null,0,null,{"$f":"IF($G731=\"\",\"\",VLOOKUP($G731,'AFM-Artikel'!$A$1:$D$4762,3))","v":0}]
["Zusatzkabel-2",{"$f":"IF($G732=\"\",\"\",VLOOKUP($G732,'AFM-Artikel'!$A$1:$D$4762,2))","v":"Nicht verfügbar!"},null,null,null,null,0,null,{"$f":"IF($G732=\"\",\"\",VLOOKUP($G732,'AFM-Artikel'!$A$1:$D$4762,3))","v":0}]
["Zusatzkabel-Audio",{"$f":"IF($G733=\"\",\"\",VLOOKUP($G733,'AFM-Artikel'!$A$1:$D$4762,2))","v":"zusätzliche Kabellänge Audio 3mm"},null,null,null,null,5301,null,{"$f":"IF($G733=\"\",\"\",VLOOKUP($G733,'AFM-Artikel'!$A$1:$D$4762,3))","v":0.64049999999999996}]
[]
[]
[]
[]
[]
[null,"AL740_"]
["Cinch-Bu.-gn","Auswählen!","AFM","DB",null,{"$f":"IF(Konfigurator!H$62=B741,1,IF(Konfigurator!H$62=B742,2,IF(Konfigurator!H$62=B743,3,IF(Konfigurator!H$62=B744,4,IF(Konfigurator!H$62=B745,5,IF(Konfigurator!H$62=B746,6,IF(Konfigurator!H$62=B747,7,IF(Konfigurator!H$62=B748,8,))))))))+IF(Konfigurator!H$62=B749,9)+IF(Konfigurator!H$62=B750,10)+IF(Konfigurator!H$62=E740,0)","v":0},"Art.Nr.","TE","Liste","Kabel"]
[null,{"$f":"IF(ISNA(VLOOKUP(G741,'AFM-Artikel'!$A$1:$D$4762,4,FALSE)),\"-\",VLOOKUP(G741,'AFM-Artikel'!$A$1:$D$4762,4,FALSE))","v":"lötbar"},null,null,null,1,5648,4,{"$f":"IF($G741=\"\",\"\",VLOOKUP($G741,'AFM-Artikel'!$A$1:$D$4762,3))","v":12.316500000000001},"N"]
[null,{"$f":"IF(ISNA(VLOOKUP(G742,'AFM-Artikel'!$A$1:$D$4762,4,FALSE)),\"-\",VLOOKUP(G742,'AFM-Artikel'!$A$1:$D$4762,4,FALSE))","v":"Cinch-Ku. 30cm"},null,null,null,2,5656,4,{"$f":"IF($G742=\"\",\"\",VLOOKUP($G742,'AFM-Artikel'!$A$1:$D$4762,3))","v":23.089500000000001},"J"]
[null,{"$f":"IF(ISNA(VLOOKUP(G743,'AFM-Artikel'!$A$1:$D$4762,4,FALSE)),\"-\",VLOOKUP(G743,'AFM-Artikel'!$A$1:$D$4762,4,FALSE))","v":"Cinch-St. 30cm"},null,null,null,3,5661,4,{"$f":"IF($G743=\"\",\"\",VLOOKUP($G743,'AFM-Artikel'!$A$1:$D$4762,3))","v":23.089500000000001},"J"]
[null,{"$f":"IF(ISNA(VLOOKUP(G744,'AFM-Artikel'!$A$1:$D$4762,4,FALSE)),\"-\",VLOOKUP(G744,'AFM-Artikel'!$A$1:$D$4762,4,FALSE))","v":"-"},null,null,null,4,1,null,{"$f":"IF($G744=\"\",\"\",VLOOKUP($G744,'AFM-Artikel'!$A$1:$D$4762,3))","v":0}]
[null,{"$f":"IF(ISNA(VLOOKUP(G745,'AFM-Artikel'!$A$1:$D$4762,4,FALSE)),\"-\",VLOOKUP(G745,'AFM-Artikel'!$A$1:$D$4762,4,FALSE))","v":"-"},null,null,null,5,1,null,{"$f":"IF($G745=\"\",\"\",VLOOKUP($G745,'AFM-Artikel'!$A$1:$D$4762,3))","v":0}]
[null,{"$f":"IF(ISNA(VLOOKUP(G746,'AFM-Artikel'!$A$1:$D$4762,4,FALSE)),\"-\",VLOOKUP(G746,'AFM-Artikel'!$A$1:$D$4762,4,FALSE))","v":"-"},null,null,null,6,1,null,{"$f":"IF($G746=\"\",\"\",VLOOKUP($G746,'AFM-Artikel'!$A$1:$D$4762,3))","v":0}]
[null,{"$f":"IF(ISNA(VLOOKUP(G747,'AFM-Artikel'!$A$1:$D$4762,4,FALSE)),\"-\",VLOOKUP(G747,'AFM-Artikel'!$A$1:$D$4762,4,FALSE))","v":"-"},null,null,null,7,1,null,{"$f":"IF($G747=\"\",\"\",VLOOKUP($G747,'AFM-Artikel'!$A$1:$D$4762,3))","v":0}]
[null,{"$f":"IF(ISNA(VLOOKUP(G748,'AFM-Artikel'!$A$1:$D$4762,4,FALSE)),\"-\",VLOOKUP(G748,'AFM-Artikel'!$A$1:$D$4762,4,FALSE))","v":"-"},null,null,null,8,1,null,{"$f":"IF($G748=\"\",\"\",VLOOKUP($G748,'AFM-Artikel'!$A$1:$D$4762,3))","v":0}]
[null,{"$f":"IF(ISNA(VLOOKUP(G749,'AFM-Artikel'!$A$1:$D$4762,4,FALSE)),\"-\",VLOOKUP(G749,'AFM-Artikel'!$A$1:$D$4762,4,FALSE))","v":"-"},null,null,null,9,1,null,{"$f":"IF($G749=\"\",\"\",VLOOKUP($G749,'AFM-Artikel'!$A$1:$D$4762,3))","v":0}]
[null,{"$f":"IF(ISNA(VLOOKUP(G750,'AFM-Artikel'!$A$1:$D$4762,4,FALSE)),\"-\",VLOOKUP(G750,'AFM-Artikel'!$A$1:$D$4762,4,FALSE))","v":"-"},null,null,null,10,1,null,{"$f":"IF($G750=\"\",\"\",VLOOKUP($G750,'AFM-Artikel'!$A$1:$D$4762,3))","v":0}]
["Zusatzkabel-1",{"$f":"IF($G751=\"\",\"\",VLOOKUP($G751,'AFM-Artikel'!$A$1:$D$4762,2))","v":"Nicht verfügbar!"},null,null,null,null,0,null,{"$f":"IF($G751=\"\",\"\",VLOOKUP($G751,'AFM-Artikel'!$A$1:$D$4762,3))","v":0}]
["Zusatzkabel-2",{"$f":"IF($G752=\"\",\"\",VLOOKUP($G752,'AFM-Artikel'!$A$1:$D$4762,2))","v":"Nicht verfügbar!"},null,null,null,null,0,null,{"$f":"IF($G752=\"\",\"\",VLOOKUP($G752,'AFM-Artikel'!$A$1:$D$4762,3))","v":0}]
["Zusatzkabel-Audio",{"$f":"IF($G753=\"\",\"\",VLOOKUP($G753,'AFM-Artikel'!$A$1:$D$4762,2))","v":"zusätzliche Kabellänge Audio 3mm"},null,null,null,null,5301,null,{"$f":"IF($G753=\"\",\"\",VLOOKUP($G753,'AFM-Artikel'!$A$1:$D$4762,3))","v":0.64049999999999996}]
[]
[]
[]
[]
[]
[null,"AL760_"]
["Cinch-Bu.-bl","Auswählen!","AFM","DB",null,{"$f":"IF(Konfigurator!J$62=B761,1,IF(Konfigurator!J$62=B762,2,IF(Konfigurator!J$62=B763,3,IF(Konfigurator!J$62=B764,4,IF(Konfigurator!J$62=B765,5,IF(Konfigurator!J$62=B766,6,IF(Konfigurator!J$62=B767,7,IF(Konfigurator!J$62=B768,8,))))))))+IF(Konfigurator!J$62=B769,9)+IF(Konfigurator!J$62=B770,10)+IF(Konfigurator!J$62=E760,0)","v":0},"Art.Nr.","TE","Liste","Kabel"]
[null,{"$f":"IF(ISNA(VLOOKUP(G761,'AFM-Artikel'!$A$1:$D$4762,4,FALSE)),\"-\",VLOOKUP(G761,'AFM-Artikel'!$A$1:$D$4762,4,FALSE))","v":"lötbar"},null,null,null,1,5649,4,{"$f":"IF($G761=\"\",\"\",VLOOKUP($G761,'AFM-Artikel'!$A$1:$D$4762,3))","v":12.316500000000001},"N"]
[null,{"$f":"IF(ISNA(VLOOKUP(G762,'AFM-Artikel'!$A$1:$D$4762,4,FALSE)),\"-\",VLOOKUP(G762,'AFM-Artikel'!$A$1:$D$4762,4,FALSE))","v":"Cinch-Ku. 30cm"},null,null,null,2,5657,4,{"$f":"IF($G762=\"\",\"\",VLOOKUP($G762,'AFM-Artikel'!$A$1:$D$4762,3))","v":23.089500000000001},"J"]
[null,{"$f":"IF(ISNA(VLOOKUP(G763,'AFM-Artikel'!$A$1:$D$4762,4,FALSE)),\"-\",VLOOKUP(G763,'AFM-Artikel'!$A$1:$D$4762,4,FALSE))","v":"Cinch-St. 30cm"},null,null,null,3,5662,4,{"$f":"IF($G763=\"\",\"\",VLOOKUP($G763,'AFM-Artikel'!$A$1:$D$4762,3))","v":23.089500000000001},"J"]
[null,{"$f":"IF(ISNA(VLOOKUP(G764,'AFM-Artikel'!$A$1:$D$4762,4,FALSE)),\"-\",VLOOKUP(G764,'AFM-Artikel'!$A$1:$D$4762,4,FALSE))","v":"-"},null,null,null,4,1,null,{"$f":"IF($G764=\"\",\"\",VLOOKUP($G764,'AFM-Artikel'!$A$1:$D$4762,3))","v":0}]
[null,{"$f":"IF(ISNA(VLOOKUP(G765,'AFM-Artikel'!$A$1:$D$4762,4,FALSE)),\"-\",VLOOKUP(G765,'AFM-Artikel'!$A$1:$D$4762,4,FALSE))","v":"-"},null,null,null,5,1,null,{"$f":"IF($G765=\"\",\"\",VLOOKUP($G765,'AFM-Artikel'!$A$1:$D$4762,3))","v":0}]
[null,{"$f":"IF(ISNA(VLOOKUP(G766,'AFM-Artikel'!$A$1:$D$4762,4,FALSE)),\"-\",VLOOKUP(G766,'AFM-Artikel'!$A$1:$D$4762,4,FALSE))","v":"-"},null,null,null,6,1,null,{"$f":"IF($G766=\"\",\"\",VLOOKUP($G766,'AFM-Artikel'!$A$1:$D$4762,3))","v":0}]
[null,{"$f":"IF(ISNA(VLOOKUP(G767,'AFM-Artikel'!$A$1:$D$4762,4,FALSE)),\"-\",VLOOKUP(G767,'AFM-Artikel'!$A$1:$D$4762,4,FALSE))","v":"-"},null,null,null,7,1,null,{"$f":"IF($G767=\"\",\"\",VLOOKUP($G767,'AFM-Artikel'!$A$1:$D$4762,3))","v":0}]
[null,{"$f":"IF(ISNA(VLOOKUP(G768,'AFM-Artikel'!$A$1:$D$4762,4,FALSE)),\"-\",VLOOKUP(G768,'AFM-Artikel'!$A$1:$D$4762,4,FALSE))","v":"-"},null,null,null,8,1,null,{"$f":"IF($G768=\"\",\"\",VLOOKUP($G768,'AFM-Artikel'!$A$1:$D$4762,3))","v":0}]
[null,{"$f":"IF(ISNA(VLOOKUP(G769,'AFM-Artikel'!$A$1:$D$4762,4,FALSE)),\"-\",VLOOKUP(G769,'AFM-Artikel'!$A$1:$D$4762,4,FALSE))","v":"-"},null,null,null,9,1,null,{"$f":"IF($G769=\"\",\"\",VLOOKUP($G769,'AFM-Artikel'!$A$1:$D$4762,3))","v":0}]
[null,{"$f":"IF(ISNA(VLOOKUP(G770,'AFM-Artikel'!$A$1:$D$4762,4,FALSE)),\"-\",VLOOKUP(G770,'AFM-Artikel'!$A$1:$D$4762,4,FALSE))","v":"-"},null,null,null,10,1,null,{"$f":"IF($G770=\"\",\"\",VLOOKUP($G770,'AFM-Artikel'!$A$1:$D$4762,3))","v":0}]
["Zusatzkabel-1",{"$f":"IF($G771=\"\",\"\",VLOOKUP($G771,'AFM-Artikel'!$A$1:$D$4762,2))","v":"Nicht verfügbar!"},null,null,null,null,0,null,{"$f":"IF($G771=\"\",\"\",VLOOKUP($G771,'AFM-Artikel'!$A$1:$D$4762,3))","v":0}]
["Zusatzkabel-2",{"$f":"IF($G772=\"\",\"\",VLOOKUP($G772,'AFM-Artikel'!$A$1:$D$4762,2))","v":"Nicht verfügbar!"},null,null,null,null,0,null,{"$f":"IF($G772=\"\",\"\",VLOOKUP($G772,'AFM-Artikel'!$A$1:$D$4762,3))","v":0}]
["Zusatzkabel-Audio",{"$f":"IF($G773=\"\",\"\",VLOOKUP($G773,'AFM-Artikel'!$A$1:$D$4762,2))","v":"zusätzliche Kabellänge Audio 3mm"},null,null,null,null,5301,null,{"$f":"IF($G773=\"\",\"\",VLOOKUP($G773,'AFM-Artikel'!$A$1:$D$4762,3))","v":0.64049999999999996}]
[]
[]
[]
[]
[]
[null,"AL780_"]
["3xCinch-Bu.","Auswählen!","AFM","DB",null,{"$f":"IF(Konfigurator!L$62=B781,1,IF(Konfigurator!L$62=B782,2,IF(Konfigurator!L$62=B783,3,IF(Konfigurator!L$62=B784,4,IF(Konfigurator!L$62=B785,5,IF(Konfigurator!L$62=B786,6,IF(Konfigurator!L$62=B787,7,IF(Konfigurator!L$62=B788,8,))))))))+IF(Konfigurator!L$62=B789,9)+IF(Konfigurator!L$62=B790,10)+IF(Konfigurator!L$62=E780,0)","v":0},"Art.Nr.","TE","Liste","Kabel"]
[null,{"$f":"IF(ISNA(VLOOKUP(G781,'AFM-Artikel'!$A$1:$D$4762,4,FALSE)),\"-\",VLOOKUP(G781,'AFM-Artikel'!$A$1:$D$4762,4,FALSE))","v":"3x lötbar"},null,null,null,1,5727,8,{"$f":"IF($G781=\"\",\"\",VLOOKUP($G781,'AFM-Artikel'!$A$1:$D$4762,3))","v":36.939},"N"]
[null,{"$f":"IF(ISNA(VLOOKUP(G782,'AFM-Artikel'!$A$1:$D$4762,4,FALSE)),\"-\",VLOOKUP(G782,'AFM-Artikel'!$A$1:$D$4762,4,FALSE))","v":"3xCinch-Ku. 30cm"},null,null,null,2,5730,8,{"$f":"IF($G782=\"\",\"\",VLOOKUP($G782,'AFM-Artikel'!$A$1:$D$4762,3))","v":69.257999999999996},"J"]
[null,{"$f":"IF(ISNA(VLOOKUP(G783,'AFM-Artikel'!$A$1:$D$4762,4,FALSE)),\"-\",VLOOKUP(G783,'AFM-Artikel'!$A$1:$D$4762,4,FALSE))","v":"3xCinch-St. 30cm"},null,null,null,3,5772,8,{"$f":"IF($G783=\"\",\"\",VLOOKUP($G783,'AFM-Artikel'!$A$1:$D$4762,3))","v":69.257999999999996},"J"]
[null,{"$f":"IF(ISNA(VLOOKUP(G784,'AFM-Artikel'!$A$1:$D$4762,4,FALSE)),\"-\",VLOOKUP(G784,'AFM-Artikel'!$A$1:$D$4762,4,FALSE))","v":"-"},null,null,null,4,1,null,{"$f":"IF($G784=\"\",\"\",VLOOKUP($G784,'AFM-Artikel'!$A$1:$D$4762,3))","v":0}]
[null,{"$f":"IF(ISNA(VLOOKUP(G785,'AFM-Artikel'!$A$1:$D$4762,4,FALSE)),\"-\",VLOOKUP(G785,'AFM-Artikel'!$A$1:$D$4762,4,FALSE))","v":"-"},null,null,null,5,1,null,{"$f":"IF($G785=\"\",\"\",VLOOKUP($G785,'AFM-Artikel'!$A$1:$D$4762,3))","v":0}]
[null,{"$f":"IF(ISNA(VLOOKUP(G786,'AFM-Artikel'!$A$1:$D$4762,4,FALSE)),\"-\",VLOOKUP(G786,'AFM-Artikel'!$A$1:$D$4762,4,FALSE))","v":"-"},null,null,null,6,1,null,{"$f":"IF($G786=\"\",\"\",VLOOKUP($G786,'AFM-Artikel'!$A$1:$D$4762,3))","v":0}]
[null,{"$f":"IF(ISNA(VLOOKUP(G787,'AFM-Artikel'!$A$1:$D$4762,4,FALSE)),\"-\",VLOOKUP(G787,'AFM-Artikel'!$A$1:$D$4762,4,FALSE))","v":"-"},null,null,null,7,1,null,{"$f":"IF($G787=\"\",\"\",VLOOKUP($G787,'AFM-Artikel'!$A$1:$D$4762,3))","v":0}]
[null,{"$f":"IF(ISNA(VLOOKUP(G788,'AFM-Artikel'!$A$1:$D$4762,4,FALSE)),\"-\",VLOOKUP(G788,'AFM-Artikel'!$A$1:$D$4762,4,FALSE))","v":"-"},null,null,null,8,1,null,{"$f":"IF($G788=\"\",\"\",VLOOKUP($G788,'AFM-Artikel'!$A$1:$D$4762,3))","v":0}]
[null,{"$f":"IF(ISNA(VLOOKUP(G789,'AFM-Artikel'!$A$1:$D$4762,4,FALSE)),\"-\",VLOOKUP(G789,'AFM-Artikel'!$A$1:$D$4762,4,FALSE))","v":"-"},null,null,null,9,1,null,{"$f":"IF($G789=\"\",\"\",VLOOKUP($G789,'AFM-Artikel'!$A$1:$D$4762,3))","v":0}]
[null,{"$f":"IF(ISNA(VLOOKUP(G790,'AFM-Artikel'!$A$1:$D$4762,4,FALSE)),\"-\",VLOOKUP(G790,'AFM-Artikel'!$A$1:$D$4762,4,FALSE))","v":"-"},null,null,null,10,1,null,{"$f":"IF($G790=\"\",\"\",VLOOKUP($G790,'AFM-Artikel'!$A$1:$D$4762,3))","v":0}]
["Zusatzkabel-1",{"$f":"IF($G791=\"\",\"\",VLOOKUP($G791,'AFM-Artikel'!$A$1:$D$4762,2))","v":"zusätzliche Kabellänge RGB-Mini-Kabel 3x3mm"},null,null,null,null,5316,null,{"$f":"IF($G791=\"\",\"\",VLOOKUP($G791,'AFM-Artikel'!$A$1:$D$4762,3))","v":3.5805000000000002}]
["Zusatzkabel-2",{"$f":"IF($G792=\"\",\"\",VLOOKUP($G792,'AFM-Artikel'!$A$1:$D$4762,2))","v":"Nicht verfügbar!"},null,null,null,null,0,null,{"$f":"IF($G792=\"\",\"\",VLOOKUP($G792,'AFM-Artikel'!$A$1:$D$4762,3))","v":0}]
["Zusatzkabel-Audio",{"$f":"IF($G793=\"\",\"\",VLOOKUP($G793,'AFM-Artikel'!$A$1:$D$4762,2))","v":"Nicht verfügbar!"},null,null,null,null,0,null,{"$f":"IF($G793=\"\",\"\",VLOOKUP($G793,'AFM-Artikel'!$A$1:$D$4762,3))","v":0}]
[]
[]
[]
[]
[]
[null,"AL800_"]
["Frei 800","Auswählen!","AFM","DB",null,{"$f":"IF(Konfigurator!N$62=B801,1,IF(Konfigurator!N$62=B802,2,IF(Konfigurator!N$62=B803,3,IF(Konfigurator!N$62=B804,4,IF(Konfigurator!N$62=B805,5,IF(Konfigurator!N$62=B806,6,IF(Konfigurator!N$62=B807,7,IF(Konfigurator!N$62=B808,8,))))))))+IF(Konfigurator!N$62=B809,9)+IF(Konfigurator!N$62=B810,10)+IF(Konfigurator!N$62=E800,0)","v":0},"Art.Nr.","TE","Liste","Kabel"]
[null,{"$f":"IF(ISNA(VLOOKUP(G801,'AFM-Artikel'!$A$1:$D$4762,4,FALSE)),\"-\",VLOOKUP(G801,'AFM-Artikel'!$A$1:$D$4762,4,FALSE))","v":"-"},null,null,null,1,10801,null,{"$f":"IF($G801=\"\",\"\",VLOOKUP($G801,'AFM-Artikel'!$A$1:$D$4762,3))","v":62.464500000000008}]
[null,{"$f":"IF(ISNA(VLOOKUP(G802,'AFM-Artikel'!$A$1:$D$4762,4,FALSE)),\"-\",VLOOKUP(G802,'AFM-Artikel'!$A$1:$D$4762,4,FALSE))","v":"-"},null,null,null,2,10802,null,{"$f":"IF($G802=\"\",\"\",VLOOKUP($G802,'AFM-Artikel'!$A$1:$D$4762,3))","v":62.464500000000008}]
[null,{"$f":"IF(ISNA(VLOOKUP(G803,'AFM-Artikel'!$A$1:$D$4762,4,FALSE)),\"-\",VLOOKUP(G803,'AFM-Artikel'!$A$1:$D$4762,4,FALSE))","v":"-"},null,null,null,3,10803,null,{"$f":"IF($G803=\"\",\"\",VLOOKUP($G803,'AFM-Artikel'!$A$1:$D$4762,3))","v":62.464500000000008}]
[null,{"$f":"IF(ISNA(VLOOKUP(G804,'AFM-Artikel'!$A$1:$D$4762,4,FALSE)),\"-\",VLOOKUP(G804,'AFM-Artikel'!$A$1:$D$4762,4,FALSE))","v":"-"},null,null,null,4,10804,null,{"$f":"IF($G804=\"\",\"\",VLOOKUP($G804,'AFM-Artikel'!$A$1:$D$4762,3))","v":62.464500000000008}]
[null,{"$f":"IF(ISNA(VLOOKUP(G805,'AFM-Artikel'!$A$1:$D$4762,4,FALSE)),\"-\",VLOOKUP(G805,'AFM-Artikel'!$A$1:$D$4762,4,FALSE))","v":"-"},null,null,null,5,10805,null,{"$f":"IF($G805=\"\",\"\",VLOOKUP($G805,'AFM-Artikel'!$A$1:$D$4762,3))","v":62.464500000000008}]
[null,{"$f":"IF(ISNA(VLOOKUP(G806,'AFM-Artikel'!$A$1:$D$4762,4,FALSE)),\"-\",VLOOKUP(G806,'AFM-Artikel'!$A$1:$D$4762,4,FALSE))","v":"-"},null,null,null,6,10806,null,{"$f":"IF($G806=\"\",\"\",VLOOKUP($G806,'AFM-Artikel'!$A$1:$D$4762,3))","v":62.464500000000008}]
[null,{"$f":"IF(ISNA(VLOOKUP(G807,'AFM-Artikel'!$A$1:$D$4762,4,FALSE)),\"-\",VLOOKUP(G807,'AFM-Artikel'!$A$1:$D$4762,4,FALSE))","v":"-"},null,null,null,7,10807,null,{"$f":"IF($G807=\"\",\"\",VLOOKUP($G807,'AFM-Artikel'!$A$1:$D$4762,3))","v":62.464500000000008}]
[null,{"$f":"IF(ISNA(VLOOKUP(G808,'AFM-Artikel'!$A$1:$D$4762,4,FALSE)),\"-\",VLOOKUP(G808,'AFM-Artikel'!$A$1:$D$4762,4,FALSE))","v":"-"},null,null,null,8,10808,null,{"$f":"IF($G808=\"\",\"\",VLOOKUP($G808,'AFM-Artikel'!$A$1:$D$4762,3))","v":62.464500000000008}]
[null,{"$f":"IF(ISNA(VLOOKUP(G809,'AFM-Artikel'!$A$1:$D$4762,4,FALSE)),\"-\",VLOOKUP(G809,'AFM-Artikel'!$A$1:$D$4762,4,FALSE))","v":"-"},null,null,null,9,10809,null,{"$f":"IF($G809=\"\",\"\",VLOOKUP($G809,'AFM-Artikel'!$A$1:$D$4762,3))","v":62.464500000000008}]
[null,{"$f":"IF(ISNA(VLOOKUP(G810,'AFM-Artikel'!$A$1:$D$4762,4,FALSE)),\"-\",VLOOKUP(G810,'AFM-Artikel'!$A$1:$D$4762,4,FALSE))","v":"-"},null,null,null,10,10810,null,{"$f":"IF($G810=\"\",\"\",VLOOKUP($G810,'AFM-Artikel'!$A$1:$D$4762,3))","v":62.464500000000008}]
["Zusatzkabel-1",{"$f":"IF($G811=\"\",\"\",VLOOKUP($G811,'AFM-Artikel'!$A$1:$D$4762,2))","v":"Kabel 12p.Neutrik/Cat.5 Stecker 2,5m"},null,null,null,null,10811,null,{"$f":"IF($G811=\"\",\"\",VLOOKUP($G811,'AFM-Artikel'!$A$1:$D$4762,3))","v":62.464500000000008}]
["Zusatzkabel-2",{"$f":"IF($G812=\"\",\"\",VLOOKUP($G812,'AFM-Artikel'!$A$1:$D$4762,2))","v":"Kabel 12p.Neutrik/Cat.5 Stecker 2,5m"},null,null,null,null,10812,null,{"$f":"IF($G812=\"\",\"\",VLOOKUP($G812,'AFM-Artikel'!$A$1:$D$4762,3))","v":62.464500000000008}]
["Zusatzkabel-Audio",{"$f":"IF($G813=\"\",\"\",VLOOKUP($G813,'AFM-Artikel'!$A$1:$D$4762,2))","v":"Kabel 12p.Neutrik/Cat.5 Stecker 2,5m"},null,null,null,null,10813,null,{"$f":"IF($G813=\"\",\"\",VLOOKUP($G813,'AFM-Artikel'!$A$1:$D$4762,3))","v":62.464500000000008}]
[]
[]
[]
[]
[]
[null,"AL820_"]
["3,5Kl. 4p.-Bu.","Auswählen!","AFM","DB",null,{"$f":"IF(Konfigurator!P$62=B821,1,IF(Konfigurator!P$62=B822,2,IF(Konfigurator!P$62=B823,3,IF(Konfigurator!P$62=B824,4,IF(Konfigurator!P$62=B825,5,IF(Konfigurator!P$62=B826,6,IF(Konfigurator!P$62=B827,7,IF(Konfigurator!P$62=B828,8,))))))))+IF(Konfigurator!P$62=B829,9)+IF(Konfigurator!P$62=B830,10)+IF(Konfigurator!P$62=E820,0)","v":0},"Art.Nr.","TE","Liste","Kabel"]
[null,{"$f":"IF(ISNA(VLOOKUP(G821,'AFM-Artikel'!$A$1:$D$4762,4,FALSE)),\"-\",VLOOKUP(G821,'AFM-Artikel'!$A$1:$D$4762,4,FALSE))","v":"lötbar"},null,null,null,1,5786,4,{"$f":"IF($G821=\"\",\"\",VLOOKUP($G821,'AFM-Artikel'!$A$1:$D$4762,3))","v":22.386000000000003},"N"]
[null,{"$f":"IF(ISNA(VLOOKUP(G822,'AFM-Artikel'!$A$1:$D$4762,4,FALSE)),\"-\",VLOOKUP(G822,'AFM-Artikel'!$A$1:$D$4762,4,FALSE))","v":"3,5Kl.-4p Ku.30cm"},null,null,null,2,5799,4,{"$f":"IF($G822=\"\",\"\",VLOOKUP($G822,'AFM-Artikel'!$A$1:$D$4762,3))","v":49.864500000000007},"J"]
[null,{"$f":"IF(ISNA(VLOOKUP(G823,'AFM-Artikel'!$A$1:$D$4762,4,FALSE)),\"-\",VLOOKUP(G823,'AFM-Artikel'!$A$1:$D$4762,4,FALSE))","v":"-"},null,null,null,3,1,null,{"$f":"IF($G823=\"\",\"\",VLOOKUP($G823,'AFM-Artikel'!$A$1:$D$4762,3))","v":0}]
[null,{"$f":"IF(ISNA(VLOOKUP(G824,'AFM-Artikel'!$A$1:$D$4762,4,FALSE)),\"-\",VLOOKUP(G824,'AFM-Artikel'!$A$1:$D$4762,4,FALSE))","v":"-"},null,null,null,4,1,null,{"$f":"IF($G824=\"\",\"\",VLOOKUP($G824,'AFM-Artikel'!$A$1:$D$4762,3))","v":0}]
[null,{"$f":"IF(ISNA(VLOOKUP(G825,'AFM-Artikel'!$A$1:$D$4762,4,FALSE)),\"-\",VLOOKUP(G825,'AFM-Artikel'!$A$1:$D$4762,4,FALSE))","v":"-"},null,null,null,5,1,null,{"$f":"IF($G825=\"\",\"\",VLOOKUP($G825,'AFM-Artikel'!$A$1:$D$4762,3))","v":0}]
[null,{"$f":"IF(ISNA(VLOOKUP(G826,'AFM-Artikel'!$A$1:$D$4762,4,FALSE)),\"-\",VLOOKUP(G826,'AFM-Artikel'!$A$1:$D$4762,4,FALSE))","v":"-"},null,null,null,6,1,null,{"$f":"IF($G826=\"\",\"\",VLOOKUP($G826,'AFM-Artikel'!$A$1:$D$4762,3))","v":0}]
[null,{"$f":"IF(ISNA(VLOOKUP(G827,'AFM-Artikel'!$A$1:$D$4762,4,FALSE)),\"-\",VLOOKUP(G827,'AFM-Artikel'!$A$1:$D$4762,4,FALSE))","v":"-"},null,null,null,7,1,null,{"$f":"IF($G827=\"\",\"\",VLOOKUP($G827,'AFM-Artikel'!$A$1:$D$4762,3))","v":0}]
[null,{"$f":"IF(ISNA(VLOOKUP(G828,'AFM-Artikel'!$A$1:$D$4762,4,FALSE)),\"-\",VLOOKUP(G828,'AFM-Artikel'!$A$1:$D$4762,4,FALSE))","v":"-"},null,null,null,8,1,null,{"$f":"IF($G828=\"\",\"\",VLOOKUP($G828,'AFM-Artikel'!$A$1:$D$4762,3))","v":0}]
[null,{"$f":"IF(ISNA(VLOOKUP(G829,'AFM-Artikel'!$A$1:$D$4762,4,FALSE)),\"-\",VLOOKUP(G829,'AFM-Artikel'!$A$1:$D$4762,4,FALSE))","v":"-"},null,null,null,9,1,null,{"$f":"IF($G829=\"\",\"\",VLOOKUP($G829,'AFM-Artikel'!$A$1:$D$4762,3))","v":0}]
[null,{"$f":"IF(ISNA(VLOOKUP(G830,'AFM-Artikel'!$A$1:$D$4762,4,FALSE)),\"-\",VLOOKUP(G830,'AFM-Artikel'!$A$1:$D$4762,4,FALSE))","v":"-"},null,null,null,10,1,null,{"$f":"IF($G830=\"\",\"\",VLOOKUP($G830,'AFM-Artikel'!$A$1:$D$4762,3))","v":0}]
["Zusatzkabel-1",{"$f":"IF($G831=\"\",\"\",VLOOKUP($G831,'AFM-Artikel'!$A$1:$D$4762,2))","v":"zusätzliche Kabellänge 4pol-Steuerleitung"},null,null,null,null,5315,null,{"$f":"IF($G831=\"\",\"\",VLOOKUP($G831,'AFM-Artikel'!$A$1:$D$4762,3))","v":1.2075}]
["Zusatzkabel-2",{"$f":"IF($G832=\"\",\"\",VLOOKUP($G832,'AFM-Artikel'!$A$1:$D$4762,2))","v":"Nicht verfügbar!"},null,null,null,null,0,null,{"$f":"IF($G832=\"\",\"\",VLOOKUP($G832,'AFM-Artikel'!$A$1:$D$4762,3))","v":0}]
["Zusatzkabel-Audio",{"$f":"IF($G833=\"\",\"\",VLOOKUP($G833,'AFM-Artikel'!$A$1:$D$4762,2))","v":"Nicht verfügbar!"},null,null,null,null,0,null,{"$f":"IF($G833=\"\",\"\",VLOOKUP($G833,'AFM-Artikel'!$A$1:$D$4762,3))","v":0}]
[]
[]
[]
[]
[]
[null,"AL840_"]
["RJ45-Bu.","Auswählen!","AFM","DB",null,{"$f":"IF(Konfigurator!R$62=B841,1,IF(Konfigurator!R$62=B842,2,IF(Konfigurator!R$62=B843,3,IF(Konfigurator!R$62=B844,4,IF(Konfigurator!R$62=B845,5,IF(Konfigurator!R$62=B846,6,IF(Konfigurator!R$62=B847,7,IF(Konfigurator!R$62=B848,8,))))))))+IF(Konfigurator!R$62=B849,9)+IF(Konfigurator!R$62=B850,10)+IF(Konfigurator!R$62=E840,0)","v":0},"Art.Nr.","TE","Liste","Kabel"]
[null,{"$f":"IF(ISNA(VLOOKUP(G841,'AFM-Artikel'!$A$1:$D$4762,4,FALSE)),\"-\",VLOOKUP(G841,'AFM-Artikel'!$A$1:$D$4762,4,FALSE))","v":"schneid-klemm"},null,null,null,1,5691,4,{"$f":"IF($G841=\"\",\"\",VLOOKUP($G841,'AFM-Artikel'!$A$1:$D$4762,3))","v":17.157},"N"]
[null,{"$f":"IF(ISNA(VLOOKUP(G842,'AFM-Artikel'!$A$1:$D$4762,4,FALSE)),\"-\",VLOOKUP(G842,'AFM-Artikel'!$A$1:$D$4762,4,FALSE))","v":"RJ45-Bu. steckbar"},null,null,null,2,5694,4,{"$f":"IF($G842=\"\",\"\",VLOOKUP($G842,'AFM-Artikel'!$A$1:$D$4762,3))","v":20.391000000000002},"N"]
[null,{"$f":"IF(ISNA(VLOOKUP(G843,'AFM-Artikel'!$A$1:$D$4762,4,FALSE)),\"-\",VLOOKUP(G843,'AFM-Artikel'!$A$1:$D$4762,4,FALSE))","v":"Cat.5-Ku. 30cm"},null,null,null,3,5693,4,{"$f":"IF($G843=\"\",\"\",VLOOKUP($G843,'AFM-Artikel'!$A$1:$D$4762,3))","v":28.087500000000002},"J"]
[null,{"$f":"IF(ISNA(VLOOKUP(G844,'AFM-Artikel'!$A$1:$D$4762,4,FALSE)),\"-\",VLOOKUP(G844,'AFM-Artikel'!$A$1:$D$4762,4,FALSE))","v":"Cat.6-Ku. 30cm"},null,null,null,4,5696,4,{"$f":"IF($G844=\"\",\"\",VLOOKUP($G844,'AFM-Artikel'!$A$1:$D$4762,3))","v":32.76},"J"]
[null,{"$f":"IF(ISNA(VLOOKUP(G845,'AFM-Artikel'!$A$1:$D$4762,4,FALSE)),\"-\",VLOOKUP(G845,'AFM-Artikel'!$A$1:$D$4762,4,FALSE))","v":"Cat.6-St. 30cm"},null,null,null,5,5692,4,{"$f":"IF($G845=\"\",\"\",VLOOKUP($G845,'AFM-Artikel'!$A$1:$D$4762,3))","v":28.087500000000002},"J"]
[null,{"$f":"IF(ISNA(VLOOKUP(G846,'AFM-Artikel'!$A$1:$D$4762,4,FALSE)),\"-\",VLOOKUP(G846,'AFM-Artikel'!$A$1:$D$4762,4,FALSE))","v":"-"},null,null,null,6,1,null,{"$f":"IF($G846=\"\",\"\",VLOOKUP($G846,'AFM-Artikel'!$A$1:$D$4762,3))","v":0}]
[null,{"$f":"IF(ISNA(VLOOKUP(G847,'AFM-Artikel'!$A$1:$D$4762,4,FALSE)),\"-\",VLOOKUP(G847,'AFM-Artikel'!$A$1:$D$4762,4,FALSE))","v":"-"},null,null,null,7,1,null,{"$f":"IF($G847=\"\",\"\",VLOOKUP($G847,'AFM-Artikel'!$A$1:$D$4762,3))","v":0}]
[null,{"$f":"IF(ISNA(VLOOKUP(G848,'AFM-Artikel'!$A$1:$D$4762,4,FALSE)),\"-\",VLOOKUP(G848,'AFM-Artikel'!$A$1:$D$4762,4,FALSE))","v":"-"},null,null,null,8,1,null,{"$f":"IF($G848=\"\",\"\",VLOOKUP($G848,'AFM-Artikel'!$A$1:$D$4762,3))","v":0}]
[null,{"$f":"IF(ISNA(VLOOKUP(G849,'AFM-Artikel'!$A$1:$D$4762,4,FALSE)),\"-\",VLOOKUP(G849,'AFM-Artikel'!$A$1:$D$4762,4,FALSE))","v":"-"},null,null,null,9,1,null,{"$f":"IF($G849=\"\",\"\",VLOOKUP($G849,'AFM-Artikel'!$A$1:$D$4762,3))","v":0}]
[null,{"$f":"IF(ISNA(VLOOKUP(G850,'AFM-Artikel'!$A$1:$D$4762,4,FALSE)),\"-\",VLOOKUP(G850,'AFM-Artikel'!$A$1:$D$4762,4,FALSE))","v":"-"},null,null,null,10,1,null,{"$f":"IF($G850=\"\",\"\",VLOOKUP($G850,'AFM-Artikel'!$A$1:$D$4762,3))","v":0}]
["Zusatzkabel-1",{"$f":"IF($G851=\"\",\"\",VLOOKUP($G851,'AFM-Artikel'!$A$1:$D$4762,2))","v":"zusätzliche Kabellänge Cat.6"},null,null,null,null,5310,null,{"$f":"IF($G851=\"\",\"\",VLOOKUP($G851,'AFM-Artikel'!$A$1:$D$4762,3))","v":2.0895000000000001}]
["Zusatzkabel-2",{"$f":"IF($G852=\"\",\"\",VLOOKUP($G852,'AFM-Artikel'!$A$1:$D$4762,2))","v":"zusätzliche Kabellänge Cat.5"},null,null,null,null,5305,null,{"$f":"IF($G852=\"\",\"\",VLOOKUP($G852,'AFM-Artikel'!$A$1:$D$4762,3))","v":1.8690000000000002}]
["Zusatzkabel-Audio",{"$f":"IF($G853=\"\",\"\",VLOOKUP($G853,'AFM-Artikel'!$A$1:$D$4762,2))","v":"Nicht verfügbar!"},null,null,null,null,0,null,{"$f":"IF($G853=\"\",\"\",VLOOKUP($G853,'AFM-Artikel'!$A$1:$D$4762,3))","v":0}]
[]
[]
[]
[]
[]
[null,"AL860_"]
["USB-A-Bu.","Auswählen!","AFM","DB",null,{"$f":"IF(Konfigurator!T$62=B861,1,IF(Konfigurator!T$62=B862,2,IF(Konfigurator!T$62=B863,3,IF(Konfigurator!T$62=B864,4,IF(Konfigurator!T$62=B865,5,IF(Konfigurator!T$62=B866,6,IF(Konfigurator!T$62=B867,7,IF(Konfigurator!T$62=B868,8,))))))))+IF(Konfigurator!T$62=B869,9)+IF(Konfigurator!T$62=B870,10)+IF(Konfigurator!T$62=E860,0)","v":0},"Art.Nr.","TE","Liste","Kabel"]
[null,{"$f":"IF(ISNA(VLOOKUP(G861,'AFM-Artikel'!$A$1:$D$4762,4,FALSE)),\"-\",VLOOKUP(G861,'AFM-Artikel'!$A$1:$D$4762,4,FALSE))","v":"lötbar"},null,null,null,1,5697,4,{"$f":"IF($G861=\"\",\"\",VLOOKUP($G861,'AFM-Artikel'!$A$1:$D$4762,3))","v":23.089500000000001},"N"]
[null,{"$f":"IF(ISNA(VLOOKUP(G862,'AFM-Artikel'!$A$1:$D$4762,4,FALSE)),\"-\",VLOOKUP(G862,'AFM-Artikel'!$A$1:$D$4762,4,FALSE))","v":"USB-A-Bu."},null,null,null,2,5700,4,{"$f":"IF($G862=\"\",\"\",VLOOKUP($G862,'AFM-Artikel'!$A$1:$D$4762,3))","v":21.9345},"N"]
[null,{"$f":"IF(ISNA(VLOOKUP(G863,'AFM-Artikel'!$A$1:$D$4762,4,FALSE)),\"-\",VLOOKUP(G863,'AFM-Artikel'!$A$1:$D$4762,4,FALSE))","v":"USB-B-Bu."},null,null,null,3,5764,4,{"$f":"IF($G863=\"\",\"\",VLOOKUP($G863,'AFM-Artikel'!$A$1:$D$4762,3))","v":21.9345},"N"]
[null,{"$f":"IF(ISNA(VLOOKUP(G864,'AFM-Artikel'!$A$1:$D$4762,4,FALSE)),\"-\",VLOOKUP(G864,'AFM-Artikel'!$A$1:$D$4762,4,FALSE))","v":"USB-A-St. 30cm"},null,null,null,4,5698,4,{"$f":"IF($G864=\"\",\"\",VLOOKUP($G864,'AFM-Artikel'!$A$1:$D$4762,3))","v":29.137500000000003},"J"]
[null,{"$f":"IF(ISNA(VLOOKUP(G865,'AFM-Artikel'!$A$1:$D$4762,4,FALSE)),\"-\",VLOOKUP(G865,'AFM-Artikel'!$A$1:$D$4762,4,FALSE))","v":"USB-B-St. 30cm"},null,null,null,5,5699,4,{"$f":"IF($G865=\"\",\"\",VLOOKUP($G865,'AFM-Artikel'!$A$1:$D$4762,3))","v":29.137500000000003},"J"]
[null,{"$f":"IF(ISNA(VLOOKUP(G866,'AFM-Artikel'!$A$1:$D$4762,4,FALSE)),\"-\",VLOOKUP(G866,'AFM-Artikel'!$A$1:$D$4762,4,FALSE))","v":"USB-A-Ku. 30cm"},null,null,null,6,5713,4,{"$f":"IF($G866=\"\",\"\",VLOOKUP($G866,'AFM-Artikel'!$A$1:$D$4762,3))","v":29.137500000000003},"J"]
[null,{"$f":"IF(ISNA(VLOOKUP(G867,'AFM-Artikel'!$A$1:$D$4762,4,FALSE)),\"-\",VLOOKUP(G867,'AFM-Artikel'!$A$1:$D$4762,4,FALSE))","v":"-"},null,null,null,7,1,null,{"$f":"IF($G867=\"\",\"\",VLOOKUP($G867,'AFM-Artikel'!$A$1:$D$4762,3))","v":0}]
[null,{"$f":"IF(ISNA(VLOOKUP(G868,'AFM-Artikel'!$A$1:$D$4762,4,FALSE)),\"-\",VLOOKUP(G868,'AFM-Artikel'!$A$1:$D$4762,4,FALSE))","v":"-"},null,null,null,8,1,null,{"$f":"IF($G868=\"\",\"\",VLOOKUP($G868,'AFM-Artikel'!$A$1:$D$4762,3))","v":0}]
[null,{"$f":"IF(ISNA(VLOOKUP(G869,'AFM-Artikel'!$A$1:$D$4762,4,FALSE)),\"-\",VLOOKUP(G869,'AFM-Artikel'!$A$1:$D$4762,4,FALSE))","v":"-"},null,null,null,9,1,null,{"$f":"IF($G869=\"\",\"\",VLOOKUP($G869,'AFM-Artikel'!$A$1:$D$4762,3))","v":0}]
[null,{"$f":"IF(ISNA(VLOOKUP(G870,'AFM-Artikel'!$A$1:$D$4762,4,FALSE)),\"-\",VLOOKUP(G870,'AFM-Artikel'!$A$1:$D$4762,4,FALSE))","v":"-"},null,null,null,10,1,null,{"$f":"IF($G870=\"\",\"\",VLOOKUP($G870,'AFM-Artikel'!$A$1:$D$4762,3))","v":0}]
["Zusatzkabel-1",{"$f":"IF($G871=\"\",\"\",VLOOKUP($G871,'AFM-Artikel'!$A$1:$D$4762,2))","v":"zusätzliche Kabellänge USB"},null,null,null,null,5312,null,{"$f":"IF($G871=\"\",\"\",VLOOKUP($G871,'AFM-Artikel'!$A$1:$D$4762,3))","v":1.8690000000000002}]
["Zusatzkabel-2",{"$f":"IF($G872=\"\",\"\",VLOOKUP($G872,'AFM-Artikel'!$A$1:$D$4762,2))","v":"Nicht verfügbar!"},null,null,null,null,0,null,{"$f":"IF($G872=\"\",\"\",VLOOKUP($G872,'AFM-Artikel'!$A$1:$D$4762,3))","v":0}]
["Zusatzkabel-Audio",{"$f":"IF($G873=\"\",\"\",VLOOKUP($G873,'AFM-Artikel'!$A$1:$D$4762,2))","v":"Nicht verfügbar!"},null,null,null,null,0,null,{"$f":"IF($G873=\"\",\"\",VLOOKUP($G873,'AFM-Artikel'!$A$1:$D$4762,3))","v":0}]
[]
[]
[]
[]
[]
[null,"AL880_"]
["USB-B-Bu.","Auswählen!","AFM","DB",null,{"$f":"IF(Konfigurator!V$62=B881,1,IF(Konfigurator!V$62=B882,2,IF(Konfigurator!V$62=B883,3,IF(Konfigurator!V$62=B884,4,IF(Konfigurator!V$62=B885,5,IF(Konfigurator!V$62=B886,6,IF(Konfigurator!V$62=B887,7,IF(Konfigurator!V$62=B888,8,))))))))+IF(Konfigurator!V$62=B889,9)+IF(Konfigurator!V$62=B890,10)+IF(Konfigurator!V$62=E880,0)","v":0},"Art.Nr.","TE","Liste","Kabel"]
[null,{"$f":"IF(ISNA(VLOOKUP(G881,'AFM-Artikel'!$A$1:$D$4762,4,FALSE)),\"-\",VLOOKUP(G881,'AFM-Artikel'!$A$1:$D$4762,4,FALSE))","v":"lötbar"},null,null,null,1,5762,4,{"$f":"IF($G881=\"\",\"\",VLOOKUP($G881,'AFM-Artikel'!$A$1:$D$4762,3))","v":23.089500000000001},"N"]
[null,{"$f":"IF(ISNA(VLOOKUP(G882,'AFM-Artikel'!$A$1:$D$4762,4,FALSE)),\"-\",VLOOKUP(G882,'AFM-Artikel'!$A$1:$D$4762,4,FALSE))","v":"USB-B-Bu."},null,null,null,2,5763,4,{"$f":"IF($G882=\"\",\"\",VLOOKUP($G882,'AFM-Artikel'!$A$1:$D$4762,3))","v":21.9345},"N"]
[null,{"$f":"IF(ISNA(VLOOKUP(G883,'AFM-Artikel'!$A$1:$D$4762,4,FALSE)),\"-\",VLOOKUP(G883,'AFM-Artikel'!$A$1:$D$4762,4,FALSE))","v":"USB-A-Bu."},null,null,null,3,5773,4,{"$f":"IF($G883=\"\",\"\",VLOOKUP($G883,'AFM-Artikel'!$A$1:$D$4762,3))","v":21.9345},"N"]
[null,{"$f":"IF(ISNA(VLOOKUP(G884,'AFM-Artikel'!$A$1:$D$4762,4,FALSE)),\"-\",VLOOKUP(G884,'AFM-Artikel'!$A$1:$D$4762,4,FALSE))","v":"USB-A-St. 30cm"},null,null,null,4,5734,4,{"$f":"IF($G884=\"\",\"\",VLOOKUP($G884,'AFM-Artikel'!$A$1:$D$4762,3))","v":29.137500000000003},"J"]
[null,{"$f":"IF(ISNA(VLOOKUP(G885,'AFM-Artikel'!$A$1:$D$4762,4,FALSE)),\"-\",VLOOKUP(G885,'AFM-Artikel'!$A$1:$D$4762,4,FALSE))","v":"USB-B-St. 30cm"},null,null,null,5,5732,4,{"$f":"IF($G885=\"\",\"\",VLOOKUP($G885,'AFM-Artikel'!$A$1:$D$4762,3))","v":29.137500000000003},"J"]
[null,{"$f":"IF(ISNA(VLOOKUP(G886,'AFM-Artikel'!$A$1:$D$4762,4,FALSE)),\"-\",VLOOKUP(G886,'AFM-Artikel'!$A$1:$D$4762,4,FALSE))","v":"USB-A-Ku. 30cm"},null,null,null,6,5754,4,{"$f":"IF($G886=\"\",\"\",VLOOKUP($G886,'AFM-Artikel'!$A$1:$D$4762,3))","v":29.137500000000003},"J"]
[null,{"$f":"IF(ISNA(VLOOKUP(G887,'AFM-Artikel'!$A$1:$D$4762,4,FALSE)),\"-\",VLOOKUP(G887,'AFM-Artikel'!$A$1:$D$4762,4,FALSE))","v":"-"},null,null,null,7,1,null,{"$f":"IF($G887=\"\",\"\",VLOOKUP($G887,'AFM-Artikel'!$A$1:$D$4762,3))","v":0}]
[null,{"$f":"IF(ISNA(VLOOKUP(G888,'AFM-Artikel'!$A$1:$D$4762,4,FALSE)),\"-\",VLOOKUP(G888,'AFM-Artikel'!$A$1:$D$4762,4,FALSE))","v":"-"},null,null,null,8,1,null,{"$f":"IF($G888=\"\",\"\",VLOOKUP($G888,'AFM-Artikel'!$A$1:$D$4762,3))","v":0}]
[null,{"$f":"IF(ISNA(VLOOKUP(G889,'AFM-Artikel'!$A$1:$D$4762,4,FALSE)),\"-\",VLOOKUP(G889,'AFM-Artikel'!$A$1:$D$4762,4,FALSE))","v":"-"},null,null,null,9,1,null,{"$f":"IF($G889=\"\",\"\",VLOOKUP($G889,'AFM-Artikel'!$A$1:$D$4762,3))","v":0}]
[null,{"$f":"IF(ISNA(VLOOKUP(G890,'AFM-Artikel'!$A$1:$D$4762,4,FALSE)),\"-\",VLOOKUP(G890,'AFM-Artikel'!$A$1:$D$4762,4,FALSE))","v":"-"},null,null,null,10,1,null,{"$f":"IF($G890=\"\",\"\",VLOOKUP($G890,'AFM-Artikel'!$A$1:$D$4762,3))","v":0}]
["Zusatzkabel-1",{"$f":"IF($G891=\"\",\"\",VLOOKUP($G891,'AFM-Artikel'!$A$1:$D$4762,2))","v":"zusätzliche Kabellänge USB"},null,null,null,null,5312,null,{"$f":"IF($G891=\"\",\"\",VLOOKUP($G891,'AFM-Artikel'!$A$1:$D$4762,3))","v":1.8690000000000002}]
["Zusatzkabel-2",{"$f":"IF($G892=\"\",\"\",VLOOKUP($G892,'AFM-Artikel'!$A$1:$D$4762,2))","v":"Nicht verfügbar!"},null,null,null,null,0,null,{"$f":"IF($G892=\"\",\"\",VLOOKUP($G892,'AFM-Artikel'!$A$1:$D$4762,3))","v":0}]
["Zusatzkabel-Audio",{"$f":"IF($G893=\"\",\"\",VLOOKUP($G893,'AFM-Artikel'!$A$1:$D$4762,2))","v":"Nicht verfügbar!"},null,null,null,null,0,null,{"$f":"IF($G893=\"\",\"\",VLOOKUP($G893,'AFM-Artikel'!$A$1:$D$4762,3))","v":0}]
[]
[]
[]
[]
[]
[null,"AL900_"]
["USB-A-Bu.","Auswählen!","AFM","DB",null,{"$f":"IF(Konfigurator!X$62=B901,1,IF(Konfigurator!X$62=B902,2,IF(Konfigurator!X$62=B903,3,IF(Konfigurator!X$62=B904,4,IF(Konfigurator!X$62=B905,5,IF(Konfigurator!X$62=B906,6,IF(Konfigurator!X$62=B907,7,IF(Konfigurator!X$62=B908,8,))))))))+IF(Konfigurator!X$62=B909,9)+IF(Konfigurator!X$62=B910,10)+IF(Konfigurator!X$62=E900,0)","v":0},"Art.Nr.","TE","Liste","Kabel"]
[null,{"$f":"IF(ISNA(VLOOKUP(G901,'AFM-Artikel'!$A$1:$D$4762,4,FALSE)),\"-\",VLOOKUP(G901,'AFM-Artikel'!$A$1:$D$4762,4,FALSE))","v":"Netzkabel 30cm"},null,null,null,1,5812,8,{"$f":"IF($G901=\"\",\"\",VLOOKUP($G901,'AFM-Artikel'!$A$1:$D$4762,3))","v":102.69},"N"]
[null,{"$f":"IF(ISNA(VLOOKUP(G902,'AFM-Artikel'!$A$1:$D$4762,4,FALSE)),\"-\",VLOOKUP(G902,'AFM-Artikel'!$A$1:$D$4762,4,FALSE))","v":"-"},null,null,null,2,1,null,{"$f":"IF($G902=\"\",\"\",VLOOKUP($G902,'AFM-Artikel'!$A$1:$D$4762,3))","v":0}]
[null,{"$f":"IF(ISNA(VLOOKUP(G903,'AFM-Artikel'!$A$1:$D$4762,4,FALSE)),\"-\",VLOOKUP(G903,'AFM-Artikel'!$A$1:$D$4762,4,FALSE))","v":"-"},null,null,null,3,1,null,{"$f":"IF($G903=\"\",\"\",VLOOKUP($G903,'AFM-Artikel'!$A$1:$D$4762,3))","v":0}]
[null,{"$f":"IF(ISNA(VLOOKUP(G904,'AFM-Artikel'!$A$1:$D$4762,4,FALSE)),\"-\",VLOOKUP(G904,'AFM-Artikel'!$A$1:$D$4762,4,FALSE))","v":"-"},null,null,null,4,1,null,{"$f":"IF($G904=\"\",\"\",VLOOKUP($G904,'AFM-Artikel'!$A$1:$D$4762,3))","v":0}]
[null,{"$f":"IF(ISNA(VLOOKUP(G905,'AFM-Artikel'!$A$1:$D$4762,4,FALSE)),\"-\",VLOOKUP(G905,'AFM-Artikel'!$A$1:$D$4762,4,FALSE))","v":"-"},null,null,null,5,1,null,{"$f":"IF($G905=\"\",\"\",VLOOKUP($G905,'AFM-Artikel'!$A$1:$D$4762,3))","v":0}]
[null,{"$f":"IF(ISNA(VLOOKUP(G906,'AFM-Artikel'!$A$1:$D$4762,4,FALSE)),\"-\",VLOOKUP(G906,'AFM-Artikel'!$A$1:$D$4762,4,FALSE))","v":"-"},null,null,null,6,1,null,{"$f":"IF($G906=\"\",\"\",VLOOKUP($G906,'AFM-Artikel'!$A$1:$D$4762,3))","v":0}]
[null,{"$f":"IF(ISNA(VLOOKUP(G907,'AFM-Artikel'!$A$1:$D$4762,4,FALSE)),\"-\",VLOOKUP(G907,'AFM-Artikel'!$A$1:$D$4762,4,FALSE))","v":"-"},null,null,null,7,1,null,{"$f":"IF($G907=\"\",\"\",VLOOKUP($G907,'AFM-Artikel'!$A$1:$D$4762,3))","v":0}]
[null,{"$f":"IF(ISNA(VLOOKUP(G908,'AFM-Artikel'!$A$1:$D$4762,4,FALSE)),\"-\",VLOOKUP(G908,'AFM-Artikel'!$A$1:$D$4762,4,FALSE))","v":"-"},null,null,null,8,1,null,{"$f":"IF($G908=\"\",\"\",VLOOKUP($G908,'AFM-Artikel'!$A$1:$D$4762,3))","v":0}]
[null,{"$f":"IF(ISNA(VLOOKUP(G909,'AFM-Artikel'!$A$1:$D$4762,4,FALSE)),\"-\",VLOOKUP(G909,'AFM-Artikel'!$A$1:$D$4762,4,FALSE))","v":"-"},null,null,null,9,1,null,{"$f":"IF($G909=\"\",\"\",VLOOKUP($G909,'AFM-Artikel'!$A$1:$D$4762,3))","v":0}]
[null,{"$f":"IF(ISNA(VLOOKUP(G910,'AFM-Artikel'!$A$1:$D$4762,4,FALSE)),\"-\",VLOOKUP(G910,'AFM-Artikel'!$A$1:$D$4762,4,FALSE))","v":"-"},null,null,null,10,1,null,{"$f":"IF($G910=\"\",\"\",VLOOKUP($G910,'AFM-Artikel'!$A$1:$D$4762,3))","v":0}]
["Zusatzkabel-1",{"$f":"IF($G911=\"\",\"\",VLOOKUP($G911,'AFM-Artikel'!$A$1:$D$4762,2))","v":"Nicht verfügbar!"},null,null,null,null,0,null,{"$f":"IF($G911=\"\",\"\",VLOOKUP($G911,'AFM-Artikel'!$A$1:$D$4762,3))","v":0}]
["Zusatzkabel-2",{"$f":"IF($G912=\"\",\"\",VLOOKUP($G912,'AFM-Artikel'!$A$1:$D$4762,2))","v":"Nicht verfügbar!"},null,null,null,null,0,null,{"$f":"IF($G912=\"\",\"\",VLOOKUP($G912,'AFM-Artikel'!$A$1:$D$4762,3))","v":0}]
["Zusatzkabel-Audio",{"$f":"IF($G913=\"\",\"\",VLOOKUP($G913,'AFM-Artikel'!$A$1:$D$4762,2))","v":"Nicht verfügbar!"},null,null,null,null,0,null,{"$f":"IF($G913=\"\",\"\",VLOOKUP($G913,'AFM-Artikel'!$A$1:$D$4762,3))","v":0}]
[]
[]
[]
[]
[]
[null,"AL920_"]
["BNC-Bu.-rt","Auswählen!","AFM","DB",null,{"$f":"IF(Konfigurator!B$72=B921,1,IF(Konfigurator!B$72=B922,2,IF(Konfigurator!B$72=B923,3,IF(Konfigurator!B$72=B924,4,IF(Konfigurator!B$72=B925,5,IF(Konfigurator!B$72=B926,6,IF(Konfigurator!B$72=B927,7,IF(Konfigurator!B$72=B928,8,))))))))+IF(Konfigurator!B$72=B929,9)+IF(Konfigurator!B$72=B930,10)+IF(Konfigurator!B$72=E920,0)","v":0},"Art.Nr.","TE","Liste","Kabel"]
[null,{"$f":"IF(ISNA(VLOOKUP(G921,'AFM-Artikel'!$A$1:$D$4762,4,FALSE)),\"-\",VLOOKUP(G921,'AFM-Artikel'!$A$1:$D$4762,4,FALSE))","v":"lötbar"},null,null,null,1,5621,4,{"$f":"IF($G921=\"\",\"\",VLOOKUP($G921,'AFM-Artikel'!$A$1:$D$4762,3))","v":16.159500000000001},"N"]
[null,{"$f":"IF(ISNA(VLOOKUP(G922,'AFM-Artikel'!$A$1:$D$4762,4,FALSE)),\"-\",VLOOKUP(G922,'AFM-Artikel'!$A$1:$D$4762,4,FALSE))","v":"BNC-Bu. steckbar"},null,null,null,2,5627,4,{"$f":"IF($G922=\"\",\"\",VLOOKUP($G922,'AFM-Artikel'!$A$1:$D$4762,3))","v":17.702999999999999},"N"]
[null,{"$f":"IF(ISNA(VLOOKUP(G923,'AFM-Artikel'!$A$1:$D$4762,4,FALSE)),\"-\",VLOOKUP(G923,'AFM-Artikel'!$A$1:$D$4762,4,FALSE))","v":"BNC-Ku. 30cm"},null,null,null,3,5633,4,{"$f":"IF($G923=\"\",\"\",VLOOKUP($G923,'AFM-Artikel'!$A$1:$D$4762,3))","v":26.932500000000001},"J"]
[null,{"$f":"IF(ISNA(VLOOKUP(G924,'AFM-Artikel'!$A$1:$D$4762,4,FALSE)),\"-\",VLOOKUP(G924,'AFM-Artikel'!$A$1:$D$4762,4,FALSE))","v":"BNC-St. 30cm"},null,null,null,4,5639,4,{"$f":"IF($G924=\"\",\"\",VLOOKUP($G924,'AFM-Artikel'!$A$1:$D$4762,3))","v":26.166000000000004},"J"]
[null,{"$f":"IF(ISNA(VLOOKUP(G925,'AFM-Artikel'!$A$1:$D$4762,4,FALSE)),\"-\",VLOOKUP(G925,'AFM-Artikel'!$A$1:$D$4762,4,FALSE))","v":"-"},null,null,null,5,1,null,{"$f":"IF($G925=\"\",\"\",VLOOKUP($G925,'AFM-Artikel'!$A$1:$D$4762,3))","v":0}]
[null,{"$f":"IF(ISNA(VLOOKUP(G926,'AFM-Artikel'!$A$1:$D$4762,4,FALSE)),\"-\",VLOOKUP(G926,'AFM-Artikel'!$A$1:$D$4762,4,FALSE))","v":"-"},null,null,null,6,1,null,{"$f":"IF($G926=\"\",\"\",VLOOKUP($G926,'AFM-Artikel'!$A$1:$D$4762,3))","v":0}]
[null,{"$f":"IF(ISNA(VLOOKUP(G927,'AFM-Artikel'!$A$1:$D$4762,4,FALSE)),\"-\",VLOOKUP(G927,'AFM-Artikel'!$A$1:$D$4762,4,FALSE))","v":"-"},null,null,null,7,1,null,{"$f":"IF($G927=\"\",\"\",VLOOKUP($G927,'AFM-Artikel'!$A$1:$D$4762,3))","v":0}]
[null,{"$f":"IF(ISNA(VLOOKUP(G928,'AFM-Artikel'!$A$1:$D$4762,4,FALSE)),\"-\",VLOOKUP(G928,'AFM-Artikel'!$A$1:$D$4762,4,FALSE))","v":"-"},null,null,null,8,1,null,{"$f":"IF($G928=\"\",\"\",VLOOKUP($G928,'AFM-Artikel'!$A$1:$D$4762,3))","v":0}]
[null,{"$f":"IF(ISNA(VLOOKUP(G929,'AFM-Artikel'!$A$1:$D$4762,4,FALSE)),\"-\",VLOOKUP(G929,'AFM-Artikel'!$A$1:$D$4762,4,FALSE))","v":"-"},null,null,null,9,1,null,{"$f":"IF($G929=\"\",\"\",VLOOKUP($G929,'AFM-Artikel'!$A$1:$D$4762,3))","v":0}]
[null,{"$f":"IF(ISNA(VLOOKUP(G930,'AFM-Artikel'!$A$1:$D$4762,4,FALSE)),\"-\",VLOOKUP(G930,'AFM-Artikel'!$A$1:$D$4762,4,FALSE))","v":"-"},null,null,null,10,1,null,{"$f":"IF($G930=\"\",\"\",VLOOKUP($G930,'AFM-Artikel'!$A$1:$D$4762,3))","v":0}]
["Zusatzkabel-1",{"$f":"IF($G931=\"\",\"\",VLOOKUP($G931,'AFM-Artikel'!$A$1:$D$4762,2))","v":"zusätzliche Kabellänge Video 3mm"},null,null,null,null,5303,null,{"$f":"IF($G931=\"\",\"\",VLOOKUP($G931,'AFM-Artikel'!$A$1:$D$4762,3))","v":0.54600000000000004}]
["Zusatzkabel-2",{"$f":"IF($G932=\"\",\"\",VLOOKUP($G932,'AFM-Artikel'!$A$1:$D$4762,2))","v":"Nicht verfügbar!"},null,null,null,null,0,null,{"$f":"IF($G932=\"\",\"\",VLOOKUP($G932,'AFM-Artikel'!$A$1:$D$4762,3))","v":0}]
["Zusatzkabel-Audio",{"$f":"IF($G933=\"\",\"\",VLOOKUP($G933,'AFM-Artikel'!$A$1:$D$4762,2))","v":"Nicht verfügbar!"},null,null,null,null,0,null,{"$f":"IF($G933=\"\",\"\",VLOOKUP($G933,'AFM-Artikel'!$A$1:$D$4762,3))","v":0}]
[]
[]
[]
[]
[]
[null,"AL940_"]
["BNC-Bu.-gn","Auswählen!","AFM","DB",null,{"$f":"IF(Konfigurator!D$72=B941,1,IF(Konfigurator!D$72=B942,2,IF(Konfigurator!D$72=B943,3,IF(Konfigurator!D$72=B944,4,IF(Konfigurator!D$72=B945,5,IF(Konfigurator!D$72=B946,6,IF(Konfigurator!D$72=B947,7,IF(Konfigurator!D$72=B948,8,))))))))+IF(Konfigurator!D$72=B949,9)+IF(Konfigurator!D$72=B950,10)+IF(Konfigurator!D$72=E940,0)","v":0},"Art.Nr.","TE","Liste","Kabel"]
[null,{"$f":"IF(ISNA(VLOOKUP(G941,'AFM-Artikel'!$A$1:$D$4762,4,FALSE)),\"-\",VLOOKUP(G941,'AFM-Artikel'!$A$1:$D$4762,4,FALSE))","v":"lötbar"},null,null,null,1,5622,4,{"$f":"IF($G941=\"\",\"\",VLOOKUP($G941,'AFM-Artikel'!$A$1:$D$4762,3))","v":16.159500000000001},"N"]
[null,{"$f":"IF(ISNA(VLOOKUP(G942,'AFM-Artikel'!$A$1:$D$4762,4,FALSE)),\"-\",VLOOKUP(G942,'AFM-Artikel'!$A$1:$D$4762,4,FALSE))","v":"BNC-Bu. steckbar"},null,null,null,2,5628,4,{"$f":"IF($G942=\"\",\"\",VLOOKUP($G942,'AFM-Artikel'!$A$1:$D$4762,3))","v":17.702999999999999},"N"]
[null,{"$f":"IF(ISNA(VLOOKUP(G943,'AFM-Artikel'!$A$1:$D$4762,4,FALSE)),\"-\",VLOOKUP(G943,'AFM-Artikel'!$A$1:$D$4762,4,FALSE))","v":"BNC-Ku. 30cm"},null,null,null,3,5634,4,{"$f":"IF($G943=\"\",\"\",VLOOKUP($G943,'AFM-Artikel'!$A$1:$D$4762,3))","v":26.932500000000001},"J"]
[null,{"$f":"IF(ISNA(VLOOKUP(G944,'AFM-Artikel'!$A$1:$D$4762,4,FALSE)),\"-\",VLOOKUP(G944,'AFM-Artikel'!$A$1:$D$4762,4,FALSE))","v":"BNC-St. 30cm"},null,null,null,4,5640,4,{"$f":"IF($G944=\"\",\"\",VLOOKUP($G944,'AFM-Artikel'!$A$1:$D$4762,3))","v":26.166000000000004},"J"]
[null,{"$f":"IF(ISNA(VLOOKUP(G945,'AFM-Artikel'!$A$1:$D$4762,4,FALSE)),\"-\",VLOOKUP(G945,'AFM-Artikel'!$A$1:$D$4762,4,FALSE))","v":"-"},null,null,null,5,1,null,{"$f":"IF($G945=\"\",\"\",VLOOKUP($G945,'AFM-Artikel'!$A$1:$D$4762,3))","v":0}]
[null,{"$f":"IF(ISNA(VLOOKUP(G946,'AFM-Artikel'!$A$1:$D$4762,4,FALSE)),\"-\",VLOOKUP(G946,'AFM-Artikel'!$A$1:$D$4762,4,FALSE))","v":"-"},null,null,null,6,1,null,{"$f":"IF($G946=\"\",\"\",VLOOKUP($G946,'AFM-Artikel'!$A$1:$D$4762,3))","v":0}]
[null,{"$f":"IF(ISNA(VLOOKUP(G947,'AFM-Artikel'!$A$1:$D$4762,4,FALSE)),\"-\",VLOOKUP(G947,'AFM-Artikel'!$A$1:$D$4762,4,FALSE))","v":"-"},null,null,null,7,1,null,{"$f":"IF($G947=\"\",\"\",VLOOKUP($G947,'AFM-Artikel'!$A$1:$D$4762,3))","v":0}]
[null,{"$f":"IF(ISNA(VLOOKUP(G948,'AFM-Artikel'!$A$1:$D$4762,4,FALSE)),\"-\",VLOOKUP(G948,'AFM-Artikel'!$A$1:$D$4762,4,FALSE))","v":"-"},null,null,null,8,1,null,{"$f":"IF($G948=\"\",\"\",VLOOKUP($G948,'AFM-Artikel'!$A$1:$D$4762,3))","v":0}]
[null,{"$f":"IF(ISNA(VLOOKUP(G949,'AFM-Artikel'!$A$1:$D$4762,4,FALSE)),\"-\",VLOOKUP(G949,'AFM-Artikel'!$A$1:$D$4762,4,FALSE))","v":"-"},null,null,null,9,1,null,{"$f":"IF($G949=\"\",\"\",VLOOKUP($G949,'AFM-Artikel'!$A$1:$D$4762,3))","v":0}]
[null,{"$f":"IF(ISNA(VLOOKUP(G950,'AFM-Artikel'!$A$1:$D$4762,4,FALSE)),\"-\",VLOOKUP(G950,'AFM-Artikel'!$A$1:$D$4762,4,FALSE))","v":"-"},null,null,null,10,1,null,{"$f":"IF($G950=\"\",\"\",VLOOKUP($G950,'AFM-Artikel'!$A$1:$D$4762,3))","v":0}]
["Zusatzkabel-1",{"$f":"IF($G951=\"\",\"\",VLOOKUP($G951,'AFM-Artikel'!$A$1:$D$4762,2))","v":"zusätzliche Kabellänge Video 3mm"},null,null,null,null,5303,null,{"$f":"IF($G951=\"\",\"\",VLOOKUP($G951,'AFM-Artikel'!$A$1:$D$4762,3))","v":0.54600000000000004}]
["Zusatzkabel-2",{"$f":"IF($G952=\"\",\"\",VLOOKUP($G952,'AFM-Artikel'!$A$1:$D$4762,2))","v":"Nicht verfügbar!"},null,null,null,null,0,null,{"$f":"IF($G952=\"\",\"\",VLOOKUP($G952,'AFM-Artikel'!$A$1:$D$4762,3))","v":0}]
["Zusatzkabel-Audio",{"$f":"IF($G953=\"\",\"\",VLOOKUP($G953,'AFM-Artikel'!$A$1:$D$4762,2))","v":"Nicht verfügbar!"},null,null,null,null,0,null,{"$f":"IF($G953=\"\",\"\",VLOOKUP($G953,'AFM-Artikel'!$A$1:$D$4762,3))","v":0}]
[]
[]
[]
[]
[]
[null,"AL960_"]
["BNC-Bu.-bl","Auswählen!","AFM","DB",null,{"$f":"IF(Konfigurator!F$72=B961,1,IF(Konfigurator!F$72=B962,2,IF(Konfigurator!F$72=B963,3,IF(Konfigurator!F$72=B964,4,IF(Konfigurator!F$72=B965,5,IF(Konfigurator!F$72=B966,6,IF(Konfigurator!F$72=B967,7,IF(Konfigurator!F$72=B968,8,))))))))+IF(Konfigurator!F$72=B969,9)+IF(Konfigurator!F$72=B970,10)+IF(Konfigurator!F$72=E960,0)","v":0},"Art.Nr.","TE","Liste","Kabel"]
[null,{"$f":"IF(ISNA(VLOOKUP(G961,'AFM-Artikel'!$A$1:$D$4762,4,FALSE)),\"-\",VLOOKUP(G961,'AFM-Artikel'!$A$1:$D$4762,4,FALSE))","v":"lötbar"},null,null,null,1,5623,4,{"$f":"IF($G961=\"\",\"\",VLOOKUP($G961,'AFM-Artikel'!$A$1:$D$4762,3))","v":16.159500000000001},"N"]
[null,{"$f":"IF(ISNA(VLOOKUP(G962,'AFM-Artikel'!$A$1:$D$4762,4,FALSE)),\"-\",VLOOKUP(G962,'AFM-Artikel'!$A$1:$D$4762,4,FALSE))","v":"BNC-Bu. steckbar"},null,null,null,2,5629,4,{"$f":"IF($G962=\"\",\"\",VLOOKUP($G962,'AFM-Artikel'!$A$1:$D$4762,3))","v":17.702999999999999},"N"]
[null,{"$f":"IF(ISNA(VLOOKUP(G963,'AFM-Artikel'!$A$1:$D$4762,4,FALSE)),\"-\",VLOOKUP(G963,'AFM-Artikel'!$A$1:$D$4762,4,FALSE))","v":"BNC-Ku. 30cm"},null,null,null,3,5635,4,{"$f":"IF($G963=\"\",\"\",VLOOKUP($G963,'AFM-Artikel'!$A$1:$D$4762,3))","v":26.932500000000001},"J"]
[null,{"$f":"IF(ISNA(VLOOKUP(G964,'AFM-Artikel'!$A$1:$D$4762,4,FALSE)),\"-\",VLOOKUP(G964,'AFM-Artikel'!$A$1:$D$4762,4,FALSE))","v":"BNC-St. 30cm"},null,null,null,4,5641,4,{"$f":"IF($G964=\"\",\"\",VLOOKUP($G964,'AFM-Artikel'!$A$1:$D$4762,3))","v":26.166000000000004},"J"]
[null,{"$f":"IF(ISNA(VLOOKUP(G965,'AFM-Artikel'!$A$1:$D$4762,4,FALSE)),\"-\",VLOOKUP(G965,'AFM-Artikel'!$A$1:$D$4762,4,FALSE))","v":"-"},null,null,null,5,1,null,{"$f":"IF($G965=\"\",\"\",VLOOKUP($G965,'AFM-Artikel'!$A$1:$D$4762,3))","v":0}]
[null,{"$f":"IF(ISNA(VLOOKUP(G966,'AFM-Artikel'!$A$1:$D$4762,4,FALSE)),\"-\",VLOOKUP(G966,'AFM-Artikel'!$A$1:$D$4762,4,FALSE))","v":"-"},null,null,null,6,1,null,{"$f":"IF($G966=\"\",\"\",VLOOKUP($G966,'AFM-Artikel'!$A$1:$D$4762,3))","v":0}]
[null,{"$f":"IF(ISNA(VLOOKUP(G967,'AFM-Artikel'!$A$1:$D$4762,4,FALSE)),\"-\",VLOOKUP(G967,'AFM-Artikel'!$A$1:$D$4762,4,FALSE))","v":"-"},null,null,null,7,1,null,{"$f":"IF($G967=\"\",\"\",VLOOKUP($G967,'AFM-Artikel'!$A$1:$D$4762,3))","v":0}]
[null,{"$f":"IF(ISNA(VLOOKUP(G968,'AFM-Artikel'!$A$1:$D$4762,4,FALSE)),\"-\",VLOOKUP(G968,'AFM-Artikel'!$A$1:$D$4762,4,FALSE))","v":"-"},null,null,null,8,1,null,{"$f":"IF($G968=\"\",\"\",VLOOKUP($G968,'AFM-Artikel'!$A$1:$D$4762,3))","v":0}]
[null,{"$f":"IF(ISNA(VLOOKUP(G969,'AFM-Artikel'!$A$1:$D$4762,4,FALSE)),\"-\",VLOOKUP(G969,'AFM-Artikel'!$A$1:$D$4762,4,FALSE))","v":"-"},null,null,null,9,1,null,{"$f":"IF($G969=\"\",\"\",VLOOKUP($G969,'AFM-Artikel'!$A$1:$D$4762,3))","v":0}]
[null,{"$f":"IF(ISNA(VLOOKUP(G970,'AFM-Artikel'!$A$1:$D$4762,4,FALSE)),\"-\",VLOOKUP(G970,'AFM-Artikel'!$A$1:$D$4762,4,FALSE))","v":"-"},null,null,null,10,1,null,{"$f":"IF($G970=\"\",\"\",VLOOKUP($G970,'AFM-Artikel'!$A$1:$D$4762,3))","v":0}]
["Zusatzkabel-1",{"$f":"IF($G971=\"\",\"\",VLOOKUP($G971,'AFM-Artikel'!$A$1:$D$4762,2))","v":"zusätzliche Kabellänge Video 3mm"},null,null,null,null,5303,null,{"$f":"IF($G971=\"\",\"\",VLOOKUP($G971,'AFM-Artikel'!$A$1:$D$4762,3))","v":0.54600000000000004}]
["Zusatzkabel-2",{"$f":"IF($G972=\"\",\"\",VLOOKUP($G972,'AFM-Artikel'!$A$1:$D$4762,2))","v":"Nicht verfügbar!"},null,null,null,null,0,null,{"$f":"IF($G972=\"\",\"\",VLOOKUP($G972,'AFM-Artikel'!$A$1:$D$4762,3))","v":0}]
["Zusatzkabel-Audio",{"$f":"IF($G973=\"\",\"\",VLOOKUP($G973,'AFM-Artikel'!$A$1:$D$4762,2))","v":"Nicht verfügbar!"},null,null,null,null,0,null,{"$f":"IF($G973=\"\",\"\",VLOOKUP($G973,'AFM-Artikel'!$A$1:$D$4762,3))","v":0}]
[]
[]
[]
[]
[]
[null,"AL980_"]
["BNC-Bu.-sw","Auswählen!","AFM","DB",null,{"$f":"IF(Konfigurator!H$72=B981,1,IF(Konfigurator!H$72=B982,2,IF(Konfigurator!H$72=B983,3,IF(Konfigurator!H$72=B984,4,IF(Konfigurator!H$72=B985,5,IF(Konfigurator!H$72=B986,6,IF(Konfigurator!H$72=B987,7,IF(Konfigurator!H$72=B988,8,))))))))+IF(Konfigurator!H$72=B989,9)+IF(Konfigurator!H$72=B990,10)+IF(Konfigurator!H$72=E980,0)","v":0},"Art.Nr.","TE","Liste","Kabel"]
[null,{"$f":"IF(ISNA(VLOOKUP(G981,'AFM-Artikel'!$A$1:$D$4762,4,FALSE)),\"-\",VLOOKUP(G981,'AFM-Artikel'!$A$1:$D$4762,4,FALSE))","v":"lötbar"},null,null,null,1,5624,4,{"$f":"IF($G981=\"\",\"\",VLOOKUP($G981,'AFM-Artikel'!$A$1:$D$4762,3))","v":16.159500000000001},"N"]
[null,{"$f":"IF(ISNA(VLOOKUP(G982,'AFM-Artikel'!$A$1:$D$4762,4,FALSE)),\"-\",VLOOKUP(G982,'AFM-Artikel'!$A$1:$D$4762,4,FALSE))","v":"BNC-Bu. steckbar"},null,null,null,2,5630,4,{"$f":"IF($G982=\"\",\"\",VLOOKUP($G982,'AFM-Artikel'!$A$1:$D$4762,3))","v":17.702999999999999},"N"]
[null,{"$f":"IF(ISNA(VLOOKUP(G983,'AFM-Artikel'!$A$1:$D$4762,4,FALSE)),\"-\",VLOOKUP(G983,'AFM-Artikel'!$A$1:$D$4762,4,FALSE))","v":"BNC-Ku. 30cm"},null,null,null,3,5636,4,{"$f":"IF($G983=\"\",\"\",VLOOKUP($G983,'AFM-Artikel'!$A$1:$D$4762,3))","v":26.932500000000001},"J"]
[null,{"$f":"IF(ISNA(VLOOKUP(G984,'AFM-Artikel'!$A$1:$D$4762,4,FALSE)),\"-\",VLOOKUP(G984,'AFM-Artikel'!$A$1:$D$4762,4,FALSE))","v":"BNC-St. 30cm"},null,null,null,4,5642,4,{"$f":"IF($G984=\"\",\"\",VLOOKUP($G984,'AFM-Artikel'!$A$1:$D$4762,3))","v":26.166000000000004},"J"]
[null,{"$f":"IF(ISNA(VLOOKUP(G985,'AFM-Artikel'!$A$1:$D$4762,4,FALSE)),\"-\",VLOOKUP(G985,'AFM-Artikel'!$A$1:$D$4762,4,FALSE))","v":"-"},null,null,null,5,1,null,{"$f":"IF($G985=\"\",\"\",VLOOKUP($G985,'AFM-Artikel'!$A$1:$D$4762,3))","v":0}]
[null,{"$f":"IF(ISNA(VLOOKUP(G986,'AFM-Artikel'!$A$1:$D$4762,4,FALSE)),\"-\",VLOOKUP(G986,'AFM-Artikel'!$A$1:$D$4762,4,FALSE))","v":"-"},null,null,null,6,1,null,{"$f":"IF($G986=\"\",\"\",VLOOKUP($G986,'AFM-Artikel'!$A$1:$D$4762,3))","v":0}]
[null,{"$f":"IF(ISNA(VLOOKUP(G987,'AFM-Artikel'!$A$1:$D$4762,4,FALSE)),\"-\",VLOOKUP(G987,'AFM-Artikel'!$A$1:$D$4762,4,FALSE))","v":"-"},null,null,null,7,1,null,{"$f":"IF($G987=\"\",\"\",VLOOKUP($G987,'AFM-Artikel'!$A$1:$D$4762,3))","v":0}]
[null,{"$f":"IF(ISNA(VLOOKUP(G988,'AFM-Artikel'!$A$1:$D$4762,4,FALSE)),\"-\",VLOOKUP(G988,'AFM-Artikel'!$A$1:$D$4762,4,FALSE))","v":"-"},null,null,null,8,1,null,{"$f":"IF($G988=\"\",\"\",VLOOKUP($G988,'AFM-Artikel'!$A$1:$D$4762,3))","v":0}]
[null,{"$f":"IF(ISNA(VLOOKUP(G989,'AFM-Artikel'!$A$1:$D$4762,4,FALSE)),\"-\",VLOOKUP(G989,'AFM-Artikel'!$A$1:$D$4762,4,FALSE))","v":"-"},null,null,null,9,1,null,{"$f":"IF($G989=\"\",\"\",VLOOKUP($G989,'AFM-Artikel'!$A$1:$D$4762,3))","v":0}]
[null,{"$f":"IF(ISNA(VLOOKUP(G990,'AFM-Artikel'!$A$1:$D$4762,4,FALSE)),\"-\",VLOOKUP(G990,'AFM-Artikel'!$A$1:$D$4762,4,FALSE))","v":"-"},null,null,null,10,1,null,{"$f":"IF($G990=\"\",\"\",VLOOKUP($G990,'AFM-Artikel'!$A$1:$D$4762,3))","v":0}]
["Zusatzkabel-1",{"$f":"IF($G991=\"\",\"\",VLOOKUP($G991,'AFM-Artikel'!$A$1:$D$4762,2))","v":"zusätzliche Kabellänge Video 3mm"},null,null,null,null,5303,null,{"$f":"IF($G991=\"\",\"\",VLOOKUP($G991,'AFM-Artikel'!$A$1:$D$4762,3))","v":0.54600000000000004}]
["Zusatzkabel-2",{"$f":"IF($G992=\"\",\"\",VLOOKUP($G992,'AFM-Artikel'!$A$1:$D$4762,2))","v":"Nicht verfügbar!"},null,null,null,null,0,null,{"$f":"IF($G992=\"\",\"\",VLOOKUP($G992,'AFM-Artikel'!$A$1:$D$4762,3))","v":0}]
["Zusatzkabel-Audio",{"$f":"IF($G993=\"\",\"\",VLOOKUP($G993,'AFM-Artikel'!$A$1:$D$4762,2))","v":"Nicht verfügbar!"},null,null,null,null,0,null,{"$f":"IF($G993=\"\",\"\",VLOOKUP($G993,'AFM-Artikel'!$A$1:$D$4762,3))","v":0}]
[]
[]
[]
[]
[]
[null,"AL1000_"]
["BNC-Bu.-ws","Auswählen!","AFM","DB",null,{"$f":"IF(Konfigurator!J$72=B1001,1,IF(Konfigurator!J$72=B1002,2,IF(Konfigurator!J$72=B1003,3,IF(Konfigurator!J$72=B1004,4,IF(Konfigurator!J$72=B1005,5,IF(Konfigurator!J$72=B1006,6,IF(Konfigurator!J$72=B1007,7,IF(Konfigurator!J$72=B1008,8,))))))))+IF(Konfigurator!J$72=B1009,9)+IF(Konfigurator!J$72=B1010,10)+IF(Konfigurator!J$72=E1000,0)","v":0},"Art.Nr.","TE","Liste","Kabel"]
[null,{"$f":"IF(ISNA(VLOOKUP(G1001,'AFM-Artikel'!$A$1:$D$4762,4,FALSE)),\"-\",VLOOKUP(G1001,'AFM-Artikel'!$A$1:$D$4762,4,FALSE))","v":"lötbar"},null,null,null,1,5625,4,{"$f":"IF($G1001=\"\",\"\",VLOOKUP($G1001,'AFM-Artikel'!$A$1:$D$4762,3))","v":16.159500000000001},"N"]
[null,{"$f":"IF(ISNA(VLOOKUP(G1002,'AFM-Artikel'!$A$1:$D$4762,4,FALSE)),\"-\",VLOOKUP(G1002,'AFM-Artikel'!$A$1:$D$4762,4,FALSE))","v":"BNC-Bu. steckbar"},null,null,null,2,5631,4,{"$f":"IF($G1002=\"\",\"\",VLOOKUP($G1002,'AFM-Artikel'!$A$1:$D$4762,3))","v":17.702999999999999},"N"]
[null,{"$f":"IF(ISNA(VLOOKUP(G1003,'AFM-Artikel'!$A$1:$D$4762,4,FALSE)),\"-\",VLOOKUP(G1003,'AFM-Artikel'!$A$1:$D$4762,4,FALSE))","v":"BNC-Ku. 30cm"},null,null,null,3,5637,4,{"$f":"IF($G1003=\"\",\"\",VLOOKUP($G1003,'AFM-Artikel'!$A$1:$D$4762,3))","v":26.932500000000001},"J"]
[null,{"$f":"IF(ISNA(VLOOKUP(G1004,'AFM-Artikel'!$A$1:$D$4762,4,FALSE)),\"-\",VLOOKUP(G1004,'AFM-Artikel'!$A$1:$D$4762,4,FALSE))","v":"BNC-St. 30cm"},null,null,null,4,5643,4,{"$f":"IF($G1004=\"\",\"\",VLOOKUP($G1004,'AFM-Artikel'!$A$1:$D$4762,3))","v":26.166000000000004},"J"]
[null,{"$f":"IF(ISNA(VLOOKUP(G1005,'AFM-Artikel'!$A$1:$D$4762,4,FALSE)),\"-\",VLOOKUP(G1005,'AFM-Artikel'!$A$1:$D$4762,4,FALSE))","v":"-"},null,null,null,5,1,null,{"$f":"IF($G1005=\"\",\"\",VLOOKUP($G1005,'AFM-Artikel'!$A$1:$D$4762,3))","v":0}]
[null,{"$f":"IF(ISNA(VLOOKUP(G1006,'AFM-Artikel'!$A$1:$D$4762,4,FALSE)),\"-\",VLOOKUP(G1006,'AFM-Artikel'!$A$1:$D$4762,4,FALSE))","v":"-"},null,null,null,6,1,null,{"$f":"IF($G1006=\"\",\"\",VLOOKUP($G1006,'AFM-Artikel'!$A$1:$D$4762,3))","v":0}]
[null,{"$f":"IF(ISNA(VLOOKUP(G1007,'AFM-Artikel'!$A$1:$D$4762,4,FALSE)),\"-\",VLOOKUP(G1007,'AFM-Artikel'!$A$1:$D$4762,4,FALSE))","v":"-"},null,null,null,7,1,null,{"$f":"IF($G1007=\"\",\"\",VLOOKUP($G1007,'AFM-Artikel'!$A$1:$D$4762,3))","v":0}]
[null,{"$f":"IF(ISNA(VLOOKUP(G1008,'AFM-Artikel'!$A$1:$D$4762,4,FALSE)),\"-\",VLOOKUP(G1008,'AFM-Artikel'!$A$1:$D$4762,4,FALSE))","v":"-"},null,null,null,8,1,null,{"$f":"IF($G1008=\"\",\"\",VLOOKUP($G1008,'AFM-Artikel'!$A$1:$D$4762,3))","v":0}]
[null,{"$f":"IF(ISNA(VLOOKUP(G1009,'AFM-Artikel'!$A$1:$D$4762,4,FALSE)),\"-\",VLOOKUP(G1009,'AFM-Artikel'!$A$1:$D$4762,4,FALSE))","v":"-"},null,null,null,9,1,null,{"$f":"IF($G1009=\"\",\"\",VLOOKUP($G1009,'AFM-Artikel'!$A$1:$D$4762,3))","v":0}]
[null,{"$f":"IF(ISNA(VLOOKUP(G1010,'AFM-Artikel'!$A$1:$D$4762,4,FALSE)),\"-\",VLOOKUP(G1010,'AFM-Artikel'!$A$1:$D$4762,4,FALSE))","v":"-"},null,null,null,10,1,null,{"$f":"IF($G1010=\"\",\"\",VLOOKUP($G1010,'AFM-Artikel'!$A$1:$D$4762,3))","v":0}]
["Zusatzkabel-1",{"$f":"IF($G1011=\"\",\"\",VLOOKUP($G1011,'AFM-Artikel'!$A$1:$D$4762,2))","v":"zusätzliche Kabellänge Video 3mm"},null,null,null,null,5303,null,{"$f":"IF($G1011=\"\",\"\",VLOOKUP($G1011,'AFM-Artikel'!$A$1:$D$4762,3))","v":0.54600000000000004}]
["Zusatzkabel-2",{"$f":"IF($G1012=\"\",\"\",VLOOKUP($G1012,'AFM-Artikel'!$A$1:$D$4762,2))","v":"Nicht verfügbar!"},null,null,null,null,0,null,{"$f":"IF($G1012=\"\",\"\",VLOOKUP($G1012,'AFM-Artikel'!$A$1:$D$4762,3))","v":0}]
["Zusatzkabel-Audio",{"$f":"IF($G1013=\"\",\"\",VLOOKUP($G1013,'AFM-Artikel'!$A$1:$D$4762,2))","v":"Nicht verfügbar!"},null,null,null,null,0,null,{"$f":"IF($G1013=\"\",\"\",VLOOKUP($G1013,'AFM-Artikel'!$A$1:$D$4762,3))","v":0}]
[]
[]
[]
[]
[]
[null,"AL1020_"]
["BNC-Bu.-ge","Auswählen!","AFM","DB",null,{"$f":"IF(Konfigurator!L$72=B1021,1,IF(Konfigurator!L$72=B1022,2,IF(Konfigurator!L$72=B1023,3,IF(Konfigurator!L$72=B1024,4,IF(Konfigurator!L$72=B1025,5,IF(Konfigurator!L$72=B1026,6,IF(Konfigurator!L$72=B1027,7,IF(Konfigurator!L$72=B1028,8,))))))))+IF(Konfigurator!L$72=B1029,9)+IF(Konfigurator!L$72=B1030,10)+IF(Konfigurator!L$72=E1020,0)","v":0},"Art.Nr.","TE","Liste","Kabel"]
[null,{"$f":"IF(ISNA(VLOOKUP(G1021,'AFM-Artikel'!$A$1:$D$4762,4,FALSE)),\"-\",VLOOKUP(G1021,'AFM-Artikel'!$A$1:$D$4762,4,FALSE))","v":"lötbar"},null,null,null,1,5626,4,{"$f":"IF($G1021=\"\",\"\",VLOOKUP($G1021,'AFM-Artikel'!$A$1:$D$4762,3))","v":16.159500000000001},"N"]
[null,{"$f":"IF(ISNA(VLOOKUP(G1022,'AFM-Artikel'!$A$1:$D$4762,4,FALSE)),\"-\",VLOOKUP(G1022,'AFM-Artikel'!$A$1:$D$4762,4,FALSE))","v":"BNC-Bu. steckbar"},null,null,null,2,5632,4,{"$f":"IF($G1022=\"\",\"\",VLOOKUP($G1022,'AFM-Artikel'!$A$1:$D$4762,3))","v":17.702999999999999},"N"]
[null,{"$f":"IF(ISNA(VLOOKUP(G1023,'AFM-Artikel'!$A$1:$D$4762,4,FALSE)),\"-\",VLOOKUP(G1023,'AFM-Artikel'!$A$1:$D$4762,4,FALSE))","v":"BNC-Ku. 30cm"},null,null,null,3,5638,4,{"$f":"IF($G1023=\"\",\"\",VLOOKUP($G1023,'AFM-Artikel'!$A$1:$D$4762,3))","v":26.932500000000001},"J"]
[null,{"$f":"IF(ISNA(VLOOKUP(G1024,'AFM-Artikel'!$A$1:$D$4762,4,FALSE)),\"-\",VLOOKUP(G1024,'AFM-Artikel'!$A$1:$D$4762,4,FALSE))","v":"BNC-St. 30cm"},null,null,null,4,5644,4,{"$f":"IF($G1024=\"\",\"\",VLOOKUP($G1024,'AFM-Artikel'!$A$1:$D$4762,3))","v":26.166000000000004},"J"]
[null,{"$f":"IF(ISNA(VLOOKUP(G1025,'AFM-Artikel'!$A$1:$D$4762,4,FALSE)),\"-\",VLOOKUP(G1025,'AFM-Artikel'!$A$1:$D$4762,4,FALSE))","v":"-"},null,null,null,5,1,null,{"$f":"IF($G1025=\"\",\"\",VLOOKUP($G1025,'AFM-Artikel'!$A$1:$D$4762,3))","v":0}]
[null,{"$f":"IF(ISNA(VLOOKUP(G1026,'AFM-Artikel'!$A$1:$D$4762,4,FALSE)),\"-\",VLOOKUP(G1026,'AFM-Artikel'!$A$1:$D$4762,4,FALSE))","v":"-"},null,null,null,6,1,null,{"$f":"IF($G1026=\"\",\"\",VLOOKUP($G1026,'AFM-Artikel'!$A$1:$D$4762,3))","v":0}]
[null,{"$f":"IF(ISNA(VLOOKUP(G1027,'AFM-Artikel'!$A$1:$D$4762,4,FALSE)),\"-\",VLOOKUP(G1027,'AFM-Artikel'!$A$1:$D$4762,4,FALSE))","v":"-"},null,null,null,7,1,null,{"$f":"IF($G1027=\"\",\"\",VLOOKUP($G1027,'AFM-Artikel'!$A$1:$D$4762,3))","v":0}]
[null,{"$f":"IF(ISNA(VLOOKUP(G1028,'AFM-Artikel'!$A$1:$D$4762,4,FALSE)),\"-\",VLOOKUP(G1028,'AFM-Artikel'!$A$1:$D$4762,4,FALSE))","v":"-"},null,null,null,8,1,null,{"$f":"IF($G1028=\"\",\"\",VLOOKUP($G1028,'AFM-Artikel'!$A$1:$D$4762,3))","v":0}]
[null,{"$f":"IF(ISNA(VLOOKUP(G1029,'AFM-Artikel'!$A$1:$D$4762,4,FALSE)),\"-\",VLOOKUP(G1029,'AFM-Artikel'!$A$1:$D$4762,4,FALSE))","v":"-"},null,null,null,9,1,null,{"$f":"IF($G1029=\"\",\"\",VLOOKUP($G1029,'AFM-Artikel'!$A$1:$D$4762,3))","v":0}]
[null,{"$f":"IF(ISNA(VLOOKUP(G1030,'AFM-Artikel'!$A$1:$D$4762,4,FALSE)),\"-\",VLOOKUP(G1030,'AFM-Artikel'!$A$1:$D$4762,4,FALSE))","v":"-"},null,null,null,10,1,null,{"$f":"IF($G1030=\"\",\"\",VLOOKUP($G1030,'AFM-Artikel'!$A$1:$D$4762,3))","v":0}]
["Zusatzkabel-1",{"$f":"IF($G1031=\"\",\"\",VLOOKUP($G1031,'AFM-Artikel'!$A$1:$D$4762,2))","v":"zusätzliche Kabellänge Video 3mm"},null,null,null,null,5303,null,{"$f":"IF($G1031=\"\",\"\",VLOOKUP($G1031,'AFM-Artikel'!$A$1:$D$4762,3))","v":0.54600000000000004}]
["Zusatzkabel-2",{"$f":"IF($G1032=\"\",\"\",VLOOKUP($G1032,'AFM-Artikel'!$A$1:$D$4762,2))","v":"Nicht verfügbar!"},null,null,null,null,0,null,{"$f":"IF($G1032=\"\",\"\",VLOOKUP($G1032,'AFM-Artikel'!$A$1:$D$4762,3))","v":0}]
["Zusatzkabel-Audio",{"$f":"IF($G1033=\"\",\"\",VLOOKUP($G1033,'AFM-Artikel'!$A$1:$D$4762,2))","v":"Nicht verfügbar!"},null,null,null,null,0,null,{"$f":"IF($G1033=\"\",\"\",VLOOKUP($G1033,'AFM-Artikel'!$A$1:$D$4762,3))","v":0}]
[]
[]
[]
[]
[]
[null,"AL1040_"]
["5xBNC-Bu.","Auswählen!","AFM","DB",null,{"$f":"IF(Konfigurator!N$72=B1041,1,IF(Konfigurator!N$72=B1042,2,IF(Konfigurator!N$72=B1043,3,IF(Konfigurator!N$72=B1044,4,IF(Konfigurator!N$72=B1045,5,IF(Konfigurator!N$72=B1046,6,IF(Konfigurator!N$72=B1047,7,IF(Konfigurator!N$72=B1048,8,))))))))+IF(Konfigurator!N$72=B1049,9)+IF(Konfigurator!N$72=B1050,10)+IF(Konfigurator!N$72=E1040,0)","v":0},"Art.Nr.","TE","Liste","Kabel"]
[null,{"$f":"IF(ISNA(VLOOKUP(G1041,'AFM-Artikel'!$A$1:$D$4762,4,FALSE)),\"-\",VLOOKUP(G1041,'AFM-Artikel'!$A$1:$D$4762,4,FALSE))","v":"5x BNC-Bu. steckbar"},null,null,null,1,5728,12,{"$f":"IF($G1041=\"\",\"\",VLOOKUP($G1041,'AFM-Artikel'!$A$1:$D$4762,3))","v":88.494},"N"]
[null,{"$f":"IF(ISNA(VLOOKUP(G1042,'AFM-Artikel'!$A$1:$D$4762,4,FALSE)),\"-\",VLOOKUP(G1042,'AFM-Artikel'!$A$1:$D$4762,4,FALSE))","v":"5x BNC-Ku. 30cm"},null,null,null,2,5733,12,{"$f":"IF($G1042=\"\",\"\",VLOOKUP($G1042,'AFM-Artikel'!$A$1:$D$4762,3))","v":134.673},"J"]
[null,{"$f":"IF(ISNA(VLOOKUP(G1043,'AFM-Artikel'!$A$1:$D$4762,4,FALSE)),\"-\",VLOOKUP(G1043,'AFM-Artikel'!$A$1:$D$4762,4,FALSE))","v":"-"},null,null,null,3,1,null,{"$f":"IF($G1043=\"\",\"\",VLOOKUP($G1043,'AFM-Artikel'!$A$1:$D$4762,3))","v":0}]
[null,{"$f":"IF(ISNA(VLOOKUP(G1044,'AFM-Artikel'!$A$1:$D$4762,4,FALSE)),\"-\",VLOOKUP(G1044,'AFM-Artikel'!$A$1:$D$4762,4,FALSE))","v":"-"},null,null,null,4,1,null,{"$f":"IF($G1044=\"\",\"\",VLOOKUP($G1044,'AFM-Artikel'!$A$1:$D$4762,3))","v":0}]
[null,{"$f":"IF(ISNA(VLOOKUP(G1045,'AFM-Artikel'!$A$1:$D$4762,4,FALSE)),\"-\",VLOOKUP(G1045,'AFM-Artikel'!$A$1:$D$4762,4,FALSE))","v":"-"},null,null,null,5,1,null,{"$f":"IF($G1045=\"\",\"\",VLOOKUP($G1045,'AFM-Artikel'!$A$1:$D$4762,3))","v":0}]
[null,{"$f":"IF(ISNA(VLOOKUP(G1046,'AFM-Artikel'!$A$1:$D$4762,4,FALSE)),\"-\",VLOOKUP(G1046,'AFM-Artikel'!$A$1:$D$4762,4,FALSE))","v":"-"},null,null,null,6,1,null,{"$f":"IF($G1046=\"\",\"\",VLOOKUP($G1046,'AFM-Artikel'!$A$1:$D$4762,3))","v":0}]
[null,{"$f":"IF(ISNA(VLOOKUP(G1047,'AFM-Artikel'!$A$1:$D$4762,4,FALSE)),\"-\",VLOOKUP(G1047,'AFM-Artikel'!$A$1:$D$4762,4,FALSE))","v":"-"},null,null,null,7,1,null,{"$f":"IF($G1047=\"\",\"\",VLOOKUP($G1047,'AFM-Artikel'!$A$1:$D$4762,3))","v":0}]
[null,{"$f":"IF(ISNA(VLOOKUP(G1048,'AFM-Artikel'!$A$1:$D$4762,4,FALSE)),\"-\",VLOOKUP(G1048,'AFM-Artikel'!$A$1:$D$4762,4,FALSE))","v":"-"},null,null,null,8,1,null,{"$f":"IF($G1048=\"\",\"\",VLOOKUP($G1048,'AFM-Artikel'!$A$1:$D$4762,3))","v":0}]
[null,{"$f":"IF(ISNA(VLOOKUP(G1049,'AFM-Artikel'!$A$1:$D$4762,4,FALSE)),\"-\",VLOOKUP(G1049,'AFM-Artikel'!$A$1:$D$4762,4,FALSE))","v":"-"},null,null,null,9,1,null,{"$f":"IF($G1049=\"\",\"\",VLOOKUP($G1049,'AFM-Artikel'!$A$1:$D$4762,3))","v":0}]
[null,{"$f":"IF(ISNA(VLOOKUP(G1050,'AFM-Artikel'!$A$1:$D$4762,4,FALSE)),\"-\",VLOOKUP(G1050,'AFM-Artikel'!$A$1:$D$4762,4,FALSE))","v":"-"},null,null,null,10,1,null,{"$f":"IF($G1050=\"\",\"\",VLOOKUP($G1050,'AFM-Artikel'!$A$1:$D$4762,3))","v":0}]
["Zusatzkabel-1",{"$f":"IF($G1051=\"\",\"\",VLOOKUP($G1051,'AFM-Artikel'!$A$1:$D$4762,2))","v":"zusätzliche Kabellänge VGA-Kabel"},null,null,null,null,5300,null,{"$f":"IF($G1051=\"\",\"\",VLOOKUP($G1051,'AFM-Artikel'!$A$1:$D$4762,3))","v":5.0610000000000008}]
["Zusatzkabel-2",{"$f":"IF($G1052=\"\",\"\",VLOOKUP($G1052,'AFM-Artikel'!$A$1:$D$4762,2))","v":"Nicht verfügbar!"},null,null,null,null,0,null,{"$f":"IF($G1052=\"\",\"\",VLOOKUP($G1052,'AFM-Artikel'!$A$1:$D$4762,3))","v":0}]
["Zusatzkabel-Audio",{"$f":"IF($G1053=\"\",\"\",VLOOKUP($G1053,'AFM-Artikel'!$A$1:$D$4762,2))","v":"Nicht verfügbar!"},null,null,null,null,0,null,{"$f":"IF($G1053=\"\",\"\",VLOOKUP($G1053,'AFM-Artikel'!$A$1:$D$4762,3))","v":0}]
[]
[]
[]
[]
[]
[null,"AL1060_"]
["Frei 1060","Auswählen!","AFM","DB",null,{"$f":"IF(Konfigurator!P$72=B1061,1,IF(Konfigurator!P$72=B1062,2,IF(Konfigurator!P$72=B1063,3,IF(Konfigurator!P$72=B1064,4,IF(Konfigurator!P$72=B1065,5,IF(Konfigurator!P$72=B1066,6,IF(Konfigurator!P$72=B1067,7,IF(Konfigurator!P$72=B1068,8,))))))))+IF(Konfigurator!P$72=B1069,9)+IF(Konfigurator!P$72=B1070,10)+IF(Konfigurator!P$72=E1060,0)","v":0},"Art.Nr.","TE","Liste","Kabel"]
[null,{"$f":"IF(ISNA(VLOOKUP(G1061,'AFM-Artikel'!$A$1:$D$4762,4,FALSE)),\"-\",VLOOKUP(G1061,'AFM-Artikel'!$A$1:$D$4762,4,FALSE))","v":"-"},null,null,null,1,1,null,{"$f":"IF($G1061=\"\",\"\",VLOOKUP($G1061,'AFM-Artikel'!$A$1:$D$4762,3))","v":0}]
[null,{"$f":"IF(ISNA(VLOOKUP(G1062,'AFM-Artikel'!$A$1:$D$4762,4,FALSE)),\"-\",VLOOKUP(G1062,'AFM-Artikel'!$A$1:$D$4762,4,FALSE))","v":"-"},null,null,null,2,1,null,{"$f":"IF($G1062=\"\",\"\",VLOOKUP($G1062,'AFM-Artikel'!$A$1:$D$4762,3))","v":0}]
[null,{"$f":"IF(ISNA(VLOOKUP(G1063,'AFM-Artikel'!$A$1:$D$4762,4,FALSE)),\"-\",VLOOKUP(G1063,'AFM-Artikel'!$A$1:$D$4762,4,FALSE))","v":"-"},null,null,null,3,1,null,{"$f":"IF($G1063=\"\",\"\",VLOOKUP($G1063,'AFM-Artikel'!$A$1:$D$4762,3))","v":0}]
[null,{"$f":"IF(ISNA(VLOOKUP(G1064,'AFM-Artikel'!$A$1:$D$4762,4,FALSE)),\"-\",VLOOKUP(G1064,'AFM-Artikel'!$A$1:$D$4762,4,FALSE))","v":"-"},null,null,null,4,1,null,{"$f":"IF($G1064=\"\",\"\",VLOOKUP($G1064,'AFM-Artikel'!$A$1:$D$4762,3))","v":0}]
[null,{"$f":"IF(ISNA(VLOOKUP(G1065,'AFM-Artikel'!$A$1:$D$4762,4,FALSE)),\"-\",VLOOKUP(G1065,'AFM-Artikel'!$A$1:$D$4762,4,FALSE))","v":"-"},null,null,null,5,1,null,{"$f":"IF($G1065=\"\",\"\",VLOOKUP($G1065,'AFM-Artikel'!$A$1:$D$4762,3))","v":0}]
[null,{"$f":"IF(ISNA(VLOOKUP(G1066,'AFM-Artikel'!$A$1:$D$4762,4,FALSE)),\"-\",VLOOKUP(G1066,'AFM-Artikel'!$A$1:$D$4762,4,FALSE))","v":"-"},null,null,null,6,1,null,{"$f":"IF($G1066=\"\",\"\",VLOOKUP($G1066,'AFM-Artikel'!$A$1:$D$4762,3))","v":0}]
[null,{"$f":"IF(ISNA(VLOOKUP(G1067,'AFM-Artikel'!$A$1:$D$4762,4,FALSE)),\"-\",VLOOKUP(G1067,'AFM-Artikel'!$A$1:$D$4762,4,FALSE))","v":"-"},null,null,null,7,1,null,{"$f":"IF($G1067=\"\",\"\",VLOOKUP($G1067,'AFM-Artikel'!$A$1:$D$4762,3))","v":0}]
[null,{"$f":"IF(ISNA(VLOOKUP(G1068,'AFM-Artikel'!$A$1:$D$4762,4,FALSE)),\"-\",VLOOKUP(G1068,'AFM-Artikel'!$A$1:$D$4762,4,FALSE))","v":"-"},null,null,null,8,1,null,{"$f":"IF($G1068=\"\",\"\",VLOOKUP($G1068,'AFM-Artikel'!$A$1:$D$4762,3))","v":0}]
[null,{"$f":"IF(ISNA(VLOOKUP(G1069,'AFM-Artikel'!$A$1:$D$4762,4,FALSE)),\"-\",VLOOKUP(G1069,'AFM-Artikel'!$A$1:$D$4762,4,FALSE))","v":"-"},null,null,null,9,1,null,{"$f":"IF($G1069=\"\",\"\",VLOOKUP($G1069,'AFM-Artikel'!$A$1:$D$4762,3))","v":0}]
[null,{"$f":"IF(ISNA(VLOOKUP(G1070,'AFM-Artikel'!$A$1:$D$4762,4,FALSE)),\"-\",VLOOKUP(G1070,'AFM-Artikel'!$A$1:$D$4762,4,FALSE))","v":"-"},null,null,null,10,1,null,{"$f":"IF($G1070=\"\",\"\",VLOOKUP($G1070,'AFM-Artikel'!$A$1:$D$4762,3))","v":0}]
["Zusatzkabel-1",{"$f":"IF($G1071=\"\",\"\",VLOOKUP($G1071,'AFM-Artikel'!$A$1:$D$4762,2))","v":"Nicht verfügbar!"},null,null,null,null,0,null,{"$f":"IF($G1071=\"\",\"\",VLOOKUP($G1071,'AFM-Artikel'!$A$1:$D$4762,3))","v":0}]
["Zusatzkabel-2",{"$f":"IF($G1072=\"\",\"\",VLOOKUP($G1072,'AFM-Artikel'!$A$1:$D$4762,2))","v":"Nicht verfügbar!"},null,null,null,null,0,null,{"$f":"IF($G1072=\"\",\"\",VLOOKUP($G1072,'AFM-Artikel'!$A$1:$D$4762,3))","v":0}]
["Zusatzkabel-Audio",{"$f":"IF($G1073=\"\",\"\",VLOOKUP($G1073,'AFM-Artikel'!$A$1:$D$4762,2))","v":"Nicht verfügbar!"},null,null,null,null,0,null,{"$f":"IF($G1073=\"\",\"\",VLOOKUP($G1073,'AFM-Artikel'!$A$1:$D$4762,3))","v":0}]
[]
[]
[]
[]
[]
[null,"AL1080_"]
["Sub-D-9pin-Bu.","Auswählen!","AFM","DB",null,{"$f":"IF(Konfigurator!R$72=B1081,1,IF(Konfigurator!R$72=B1082,2,IF(Konfigurator!R$72=B1083,3,IF(Konfigurator!R$72=B1084,4,IF(Konfigurator!R$72=B1085,5,IF(Konfigurator!R$72=B1086,6,IF(Konfigurator!R$72=B1087,7,IF(Konfigurator!R$72=B1088,8,))))))))+IF(Konfigurator!R$72=B1089,9)+IF(Konfigurator!R$72=B1090,10)+IF(Konfigurator!R$72=E1080,0)","v":0},"Art.Nr.","TE","Liste","Kabel"]
[null,{"$f":"IF(ISNA(VLOOKUP(G1081,'AFM-Artikel'!$A$1:$D$4762,4,FALSE)),\"-\",VLOOKUP(G1081,'AFM-Artikel'!$A$1:$D$4762,4,FALSE))","v":"lötbar"},null,null,null,1,5670,8,{"$f":"IF($G1081=\"\",\"\",VLOOKUP($G1081,'AFM-Artikel'!$A$1:$D$4762,3))","v":12.6945},"N"]
[null,{"$f":"IF(ISNA(VLOOKUP(G1082,'AFM-Artikel'!$A$1:$D$4762,4,FALSE)),\"-\",VLOOKUP(G1082,'AFM-Artikel'!$A$1:$D$4762,4,FALSE))","v":"9p.Sub-D-Bu. steckbar"},null,null,null,2,5671,8,{"$f":"IF($G1082=\"\",\"\",VLOOKUP($G1082,'AFM-Artikel'!$A$1:$D$4762,3))","v":17.513999999999999},"N"]
[null,{"$f":"IF(ISNA(VLOOKUP(G1083,'AFM-Artikel'!$A$1:$D$4762,4,FALSE)),\"-\",VLOOKUP(G1083,'AFM-Artikel'!$A$1:$D$4762,4,FALSE))","v":"9p.Sub-D-St. steckbar"},null,null,null,3,5672,8,{"$f":"IF($G1083=\"\",\"\",VLOOKUP($G1083,'AFM-Artikel'!$A$1:$D$4762,3))","v":17.513999999999999},"N"]
[null,{"$f":"IF(ISNA(VLOOKUP(G1084,'AFM-Artikel'!$A$1:$D$4762,4,FALSE)),\"-\",VLOOKUP(G1084,'AFM-Artikel'!$A$1:$D$4762,4,FALSE))","v":"9p.Ku. 30cm"},null,null,null,4,5673,8,{"$f":"IF($G1084=\"\",\"\",VLOOKUP($G1084,'AFM-Artikel'!$A$1:$D$4762,3))","v":46.725000000000001},"J"]
[null,{"$f":"IF(ISNA(VLOOKUP(G1085,'AFM-Artikel'!$A$1:$D$4762,4,FALSE)),\"-\",VLOOKUP(G1085,'AFM-Artikel'!$A$1:$D$4762,4,FALSE))","v":"9p.St. 30cm"},null,null,null,5,5674,8,{"$f":"IF($G1085=\"\",\"\",VLOOKUP($G1085,'AFM-Artikel'!$A$1:$D$4762,3))","v":46.725000000000001},"J"]
[null,{"$f":"IF(ISNA(VLOOKUP(G1086,'AFM-Artikel'!$A$1:$D$4762,4,FALSE)),\"-\",VLOOKUP(G1086,'AFM-Artikel'!$A$1:$D$4762,4,FALSE))","v":"-"},null,null,null,6,1,null,{"$f":"IF($G1086=\"\",\"\",VLOOKUP($G1086,'AFM-Artikel'!$A$1:$D$4762,3))","v":0}]
[null,{"$f":"IF(ISNA(VLOOKUP(G1087,'AFM-Artikel'!$A$1:$D$4762,4,FALSE)),\"-\",VLOOKUP(G1087,'AFM-Artikel'!$A$1:$D$4762,4,FALSE))","v":"-"},null,null,null,7,1,null,{"$f":"IF($G1087=\"\",\"\",VLOOKUP($G1087,'AFM-Artikel'!$A$1:$D$4762,3))","v":0}]
[null,{"$f":"IF(ISNA(VLOOKUP(G1088,'AFM-Artikel'!$A$1:$D$4762,4,FALSE)),\"-\",VLOOKUP(G1088,'AFM-Artikel'!$A$1:$D$4762,4,FALSE))","v":"-"},null,null,null,8,1,null,{"$f":"IF($G1088=\"\",\"\",VLOOKUP($G1088,'AFM-Artikel'!$A$1:$D$4762,3))","v":0}]
[null,{"$f":"IF(ISNA(VLOOKUP(G1089,'AFM-Artikel'!$A$1:$D$4762,4,FALSE)),\"-\",VLOOKUP(G1089,'AFM-Artikel'!$A$1:$D$4762,4,FALSE))","v":"-"},null,null,null,9,1,null,{"$f":"IF($G1089=\"\",\"\",VLOOKUP($G1089,'AFM-Artikel'!$A$1:$D$4762,3))","v":0}]
[null,{"$f":"IF(ISNA(VLOOKUP(G1090,'AFM-Artikel'!$A$1:$D$4762,4,FALSE)),\"-\",VLOOKUP(G1090,'AFM-Artikel'!$A$1:$D$4762,4,FALSE))","v":"-"},null,null,null,10,1,null,{"$f":"IF($G1090=\"\",\"\",VLOOKUP($G1090,'AFM-Artikel'!$A$1:$D$4762,3))","v":0}]
["Zusatzkabel-1",{"$f":"IF($G1091=\"\",\"\",VLOOKUP($G1091,'AFM-Artikel'!$A$1:$D$4762,2))","v":"zusätzliche Kabellänge 8pol-Steuerleitung"},null,null,null,null,5307,null,{"$f":"IF($G1091=\"\",\"\",VLOOKUP($G1091,'AFM-Artikel'!$A$1:$D$4762,3))","v":1.4175000000000002}]
["Zusatzkabel-2",{"$f":"IF($G1092=\"\",\"\",VLOOKUP($G1092,'AFM-Artikel'!$A$1:$D$4762,2))","v":"Nicht verfügbar!"},null,null,null,null,0,null,{"$f":"IF($G1092=\"\",\"\",VLOOKUP($G1092,'AFM-Artikel'!$A$1:$D$4762,3))","v":0}]
["Zusatzkabel-Audio",{"$f":"IF($G1093=\"\",\"\",VLOOKUP($G1093,'AFM-Artikel'!$A$1:$D$4762,2))","v":"Nicht verfügbar!"},null,null,null,null,0,null,{"$f":"IF($G1093=\"\",\"\",VLOOKUP($G1093,'AFM-Artikel'!$A$1:$D$4762,3))","v":0}]
[]
[]
[]
[]
[]
[null,"AL1100_"]
["Sub-D-9pin-St.","Auswählen!","AFM","DB",null,{"$f":"IF(Konfigurator!T$72=B1101,1,IF(Konfigurator!T$72=B1102,2,IF(Konfigurator!T$72=B1103,3,IF(Konfigurator!T$72=B1104,4,IF(Konfigurator!T$72=B1105,5,IF(Konfigurator!T$72=B1106,6,IF(Konfigurator!T$72=B1107,7,IF(Konfigurator!T$72=B1108,8,))))))))+IF(Konfigurator!T$72=B1109,9)+IF(Konfigurator!T$72=B1110,10)+IF(Konfigurator!T$72=E1100,0)","v":0},"Art.Nr.","TE","Liste","Kabel"]
[null,{"$f":"IF(ISNA(VLOOKUP(G1101,'AFM-Artikel'!$A$1:$D$4762,4,FALSE)),\"-\",VLOOKUP(G1101,'AFM-Artikel'!$A$1:$D$4762,4,FALSE))","v":"lötbar"},null,null,null,1,5675,8,{"$f":"IF($G1101=\"\",\"\",VLOOKUP($G1101,'AFM-Artikel'!$A$1:$D$4762,3))","v":12.6945},"N"]
[null,{"$f":"IF(ISNA(VLOOKUP(G1102,'AFM-Artikel'!$A$1:$D$4762,4,FALSE)),\"-\",VLOOKUP(G1102,'AFM-Artikel'!$A$1:$D$4762,4,FALSE))","v":"9p.St. steckbar"},null,null,null,2,5676,8,{"$f":"IF($G1102=\"\",\"\",VLOOKUP($G1102,'AFM-Artikel'!$A$1:$D$4762,3))","v":17.513999999999999},"N"]
[null,{"$f":"IF(ISNA(VLOOKUP(G1103,'AFM-Artikel'!$A$1:$D$4762,4,FALSE)),\"-\",VLOOKUP(G1103,'AFM-Artikel'!$A$1:$D$4762,4,FALSE))","v":"9p.Bu. steckbar"},null,null,null,3,5677,8,{"$f":"IF($G1103=\"\",\"\",VLOOKUP($G1103,'AFM-Artikel'!$A$1:$D$4762,3))","v":17.513999999999999},"N"]
[null,{"$f":"IF(ISNA(VLOOKUP(G1104,'AFM-Artikel'!$A$1:$D$4762,4,FALSE)),\"-\",VLOOKUP(G1104,'AFM-Artikel'!$A$1:$D$4762,4,FALSE))","v":"9p.Ku. 30cm"},null,null,null,4,5678,8,{"$f":"IF($G1104=\"\",\"\",VLOOKUP($G1104,'AFM-Artikel'!$A$1:$D$4762,3))","v":46.725000000000001},"J"]
[null,{"$f":"IF(ISNA(VLOOKUP(G1105,'AFM-Artikel'!$A$1:$D$4762,4,FALSE)),\"-\",VLOOKUP(G1105,'AFM-Artikel'!$A$1:$D$4762,4,FALSE))","v":"9p.St. 30cm"},null,null,null,5,5679,8,{"$f":"IF($G1105=\"\",\"\",VLOOKUP($G1105,'AFM-Artikel'!$A$1:$D$4762,3))","v":46.725000000000001},"J"]
[null,{"$f":"IF(ISNA(VLOOKUP(G1106,'AFM-Artikel'!$A$1:$D$4762,4,FALSE)),\"-\",VLOOKUP(G1106,'AFM-Artikel'!$A$1:$D$4762,4,FALSE))","v":"-"},null,null,null,6,1,null,{"$f":"IF($G1106=\"\",\"\",VLOOKUP($G1106,'AFM-Artikel'!$A$1:$D$4762,3))","v":0}]
[null,{"$f":"IF(ISNA(VLOOKUP(G1107,'AFM-Artikel'!$A$1:$D$4762,4,FALSE)),\"-\",VLOOKUP(G1107,'AFM-Artikel'!$A$1:$D$4762,4,FALSE))","v":"-"},null,null,null,7,1,null,{"$f":"IF($G1107=\"\",\"\",VLOOKUP($G1107,'AFM-Artikel'!$A$1:$D$4762,3))","v":0}]
[null,{"$f":"IF(ISNA(VLOOKUP(G1108,'AFM-Artikel'!$A$1:$D$4762,4,FALSE)),\"-\",VLOOKUP(G1108,'AFM-Artikel'!$A$1:$D$4762,4,FALSE))","v":"-"},null,null,null,8,1,null,{"$f":"IF($G1108=\"\",\"\",VLOOKUP($G1108,'AFM-Artikel'!$A$1:$D$4762,3))","v":0}]
[null,{"$f":"IF(ISNA(VLOOKUP(G1109,'AFM-Artikel'!$A$1:$D$4762,4,FALSE)),\"-\",VLOOKUP(G1109,'AFM-Artikel'!$A$1:$D$4762,4,FALSE))","v":"-"},null,null,null,9,1,null,{"$f":"IF($G1109=\"\",\"\",VLOOKUP($G1109,'AFM-Artikel'!$A$1:$D$4762,3))","v":0}]
[null,{"$f":"IF(ISNA(VLOOKUP(G1110,'AFM-Artikel'!$A$1:$D$4762,4,FALSE)),\"-\",VLOOKUP(G1110,'AFM-Artikel'!$A$1:$D$4762,4,FALSE))","v":"-"},null,null,null,10,1,null,{"$f":"IF($G1110=\"\",\"\",VLOOKUP($G1110,'AFM-Artikel'!$A$1:$D$4762,3))","v":0}]
["Zusatzkabel-1",{"$f":"IF($G1111=\"\",\"\",VLOOKUP($G1111,'AFM-Artikel'!$A$1:$D$4762,2))","v":"zusätzliche Kabellänge 8pol-Steuerleitung"},null,null,null,null,5307,null,{"$f":"IF($G1111=\"\",\"\",VLOOKUP($G1111,'AFM-Artikel'!$A$1:$D$4762,3))","v":1.4175000000000002}]
["Zusatzkabel-2",{"$f":"IF($G1112=\"\",\"\",VLOOKUP($G1112,'AFM-Artikel'!$A$1:$D$4762,2))","v":"Nicht verfügbar!"},null,null,null,null,0,null,{"$f":"IF($G1112=\"\",\"\",VLOOKUP($G1112,'AFM-Artikel'!$A$1:$D$4762,3))","v":0}]
["Zusatzkabel-Audio",{"$f":"IF($G1113=\"\",\"\",VLOOKUP($G1113,'AFM-Artikel'!$A$1:$D$4762,2))","v":"Nicht verfügbar!"},null,null,null,null,0,null,{"$f":"IF($G1113=\"\",\"\",VLOOKUP($G1113,'AFM-Artikel'!$A$1:$D$4762,3))","v":0}]
[]
[]
[]
[]
[]
[null,"AL1120_"]
["Sub-D-15pin-Bu.","Auswählen!","AFM","DB",null,{"$f":"IF(Konfigurator!V$72=B1121,1,IF(Konfigurator!V$72=B1122,2,IF(Konfigurator!V$72=B1123,3,IF(Konfigurator!V$72=B1124,4,IF(Konfigurator!V$72=B1125,5,IF(Konfigurator!V$72=B1126,6,IF(Konfigurator!V$72=B1127,7,IF(Konfigurator!V$72=B1128,8,))))))))+IF(Konfigurator!V$72=B1129,9)+IF(Konfigurator!V$72=B1130,10)+IF(Konfigurator!V$72=E1120,0)","v":0},"Art.Nr.","TE","Liste","Kabel"]
[null,{"$f":"IF(ISNA(VLOOKUP(G1121,'AFM-Artikel'!$A$1:$D$4762,4,FALSE)),\"-\",VLOOKUP(G1121,'AFM-Artikel'!$A$1:$D$4762,4,FALSE))","v":"15p.Sub-D-Bu. steckbar"},null,null,null,1,5729,8,{"$f":"IF($G1121=\"\",\"\",VLOOKUP($G1121,'AFM-Artikel'!$A$1:$D$4762,3))","v":20.201999999999998},"N"]
[null,{"$f":"IF(ISNA(VLOOKUP(G1122,'AFM-Artikel'!$A$1:$D$4762,4,FALSE)),\"-\",VLOOKUP(G1122,'AFM-Artikel'!$A$1:$D$4762,4,FALSE))","v":"-"},null,null,null,2,1,null,{"$f":"IF($G1122=\"\",\"\",VLOOKUP($G1122,'AFM-Artikel'!$A$1:$D$4762,3))","v":0}]
[null,{"$f":"IF(ISNA(VLOOKUP(G1123,'AFM-Artikel'!$A$1:$D$4762,4,FALSE)),\"-\",VLOOKUP(G1123,'AFM-Artikel'!$A$1:$D$4762,4,FALSE))","v":"-"},null,null,null,3,1,null,{"$f":"IF($G1123=\"\",\"\",VLOOKUP($G1123,'AFM-Artikel'!$A$1:$D$4762,3))","v":0}]
[null,{"$f":"IF(ISNA(VLOOKUP(G1124,'AFM-Artikel'!$A$1:$D$4762,4,FALSE)),\"-\",VLOOKUP(G1124,'AFM-Artikel'!$A$1:$D$4762,4,FALSE))","v":"-"},null,null,null,4,1,null,{"$f":"IF($G1124=\"\",\"\",VLOOKUP($G1124,'AFM-Artikel'!$A$1:$D$4762,3))","v":0}]
[null,{"$f":"IF(ISNA(VLOOKUP(G1125,'AFM-Artikel'!$A$1:$D$4762,4,FALSE)),\"-\",VLOOKUP(G1125,'AFM-Artikel'!$A$1:$D$4762,4,FALSE))","v":"-"},null,null,null,5,1,null,{"$f":"IF($G1125=\"\",\"\",VLOOKUP($G1125,'AFM-Artikel'!$A$1:$D$4762,3))","v":0}]
[null,{"$f":"IF(ISNA(VLOOKUP(G1126,'AFM-Artikel'!$A$1:$D$4762,4,FALSE)),\"-\",VLOOKUP(G1126,'AFM-Artikel'!$A$1:$D$4762,4,FALSE))","v":"-"},null,null,null,6,1,null,{"$f":"IF($G1126=\"\",\"\",VLOOKUP($G1126,'AFM-Artikel'!$A$1:$D$4762,3))","v":0}]
[null,{"$f":"IF(ISNA(VLOOKUP(G1127,'AFM-Artikel'!$A$1:$D$4762,4,FALSE)),\"-\",VLOOKUP(G1127,'AFM-Artikel'!$A$1:$D$4762,4,FALSE))","v":"-"},null,null,null,7,1,null,{"$f":"IF($G1127=\"\",\"\",VLOOKUP($G1127,'AFM-Artikel'!$A$1:$D$4762,3))","v":0}]
[null,{"$f":"IF(ISNA(VLOOKUP(G1128,'AFM-Artikel'!$A$1:$D$4762,4,FALSE)),\"-\",VLOOKUP(G1128,'AFM-Artikel'!$A$1:$D$4762,4,FALSE))","v":"-"},null,null,null,8,1,null,{"$f":"IF($G1128=\"\",\"\",VLOOKUP($G1128,'AFM-Artikel'!$A$1:$D$4762,3))","v":0}]
[null,{"$f":"IF(ISNA(VLOOKUP(G1129,'AFM-Artikel'!$A$1:$D$4762,4,FALSE)),\"-\",VLOOKUP(G1129,'AFM-Artikel'!$A$1:$D$4762,4,FALSE))","v":"-"},null,null,null,9,1,null,{"$f":"IF($G1129=\"\",\"\",VLOOKUP($G1129,'AFM-Artikel'!$A$1:$D$4762,3))","v":0}]
[null,{"$f":"IF(ISNA(VLOOKUP(G1130,'AFM-Artikel'!$A$1:$D$4762,4,FALSE)),\"-\",VLOOKUP(G1130,'AFM-Artikel'!$A$1:$D$4762,4,FALSE))","v":"-"},null,null,null,10,1,null,{"$f":"IF($G1130=\"\",\"\",VLOOKUP($G1130,'AFM-Artikel'!$A$1:$D$4762,3))","v":0}]
["Zusatzkabel-1",{"$f":"IF($G1131=\"\",\"\",VLOOKUP($G1131,'AFM-Artikel'!$A$1:$D$4762,2))","v":"Nicht verfügbar!"},null,null,null,null,0,null,{"$f":"IF($G1131=\"\",\"\",VLOOKUP($G1131,'AFM-Artikel'!$A$1:$D$4762,3))","v":0}]
["Zusatzkabel-2",{"$f":"IF($G1132=\"\",\"\",VLOOKUP($G1132,'AFM-Artikel'!$A$1:$D$4762,2))","v":"Nicht verfügbar!"},null,null,null,null,0,null,{"$f":"IF($G1132=\"\",\"\",VLOOKUP($G1132,'AFM-Artikel'!$A$1:$D$4762,3))","v":0}]
["Zusatzkabel-Audio",{"$f":"IF($G1133=\"\",\"\",VLOOKUP($G1133,'AFM-Artikel'!$A$1:$D$4762,2))","v":"Nicht verfügbar!"},null,null,null,null,0,null,{"$f":"IF($G1133=\"\",\"\",VLOOKUP($G1133,'AFM-Artikel'!$A$1:$D$4762,3))","v":0}]
[]
[]
[]
[]
[]
[null,"AL1140_"]
["12p-MiniCon","Auswählen!","AFM","DB",null,{"$f":"IF(Konfigurator!X$72=B1141,1,IF(Konfigurator!X$72=B1142,2,IF(Konfigurator!X$72=B1143,3,IF(Konfigurator!X$72=B1144,4,IF(Konfigurator!X$72=B1145,5,IF(Konfigurator!X$72=B1146,6,IF(Konfigurator!X$72=B1147,7,IF(Konfigurator!X$72=B1148,8,))))))))+IF(Konfigurator!X$72=B1149,9)+IF(Konfigurator!X$72=B1150,10)+IF(Konfigurator!X$72=E1140,0)","v":0},"Art.Nr.","TE","Liste","Kabel"]
[null,{"$f":"IF(ISNA(VLOOKUP(G1141,'AFM-Artikel'!$A$1:$D$4762,4,FALSE)),\"-\",VLOOKUP(G1141,'AFM-Artikel'!$A$1:$D$4762,4,FALSE))","v":"lötbar"},null,null,null,1,5737,4,{"$f":"IF($G1141=\"\",\"\",VLOOKUP($G1141,'AFM-Artikel'!$A$1:$D$4762,3))","v":60.921000000000006},"N"]
[null,{"$f":"IF(ISNA(VLOOKUP(G1142,'AFM-Artikel'!$A$1:$D$4762,4,FALSE)),\"-\",VLOOKUP(G1142,'AFM-Artikel'!$A$1:$D$4762,4,FALSE))","v":"12p.MiniCon-St. 30cm"},null,null,null,2,5706,4,{"$f":"IF($G1142=\"\",\"\",VLOOKUP($G1142,'AFM-Artikel'!$A$1:$D$4762,3))","v":107.7405},"J"]
[null,{"$f":"IF(ISNA(VLOOKUP(G1143,'AFM-Artikel'!$A$1:$D$4762,4,FALSE)),\"-\",VLOOKUP(G1143,'AFM-Artikel'!$A$1:$D$4762,4,FALSE))","v":"RJ45-Ku.+2xAderendh. 30cm"},null,null,null,3,5695,4,{"$f":"IF($G1143=\"\",\"\",VLOOKUP($G1143,'AFM-Artikel'!$A$1:$D$4762,3))","v":84.65100000000001},"J"]
[null,{"$f":"IF(ISNA(VLOOKUP(G1144,'AFM-Artikel'!$A$1:$D$4762,4,FALSE)),\"-\",VLOOKUP(G1144,'AFM-Artikel'!$A$1:$D$4762,4,FALSE))","v":"RJ45-St. 30cm"},null,null,null,4,5802,4,{"$f":"IF($G1144=\"\",\"\",VLOOKUP($G1144,'AFM-Artikel'!$A$1:$D$4762,3))","v":86.047500000000014},"J"]
[null,{"$f":"IF(ISNA(VLOOKUP(G1145,'AFM-Artikel'!$A$1:$D$4762,4,FALSE)),\"-\",VLOOKUP(G1145,'AFM-Artikel'!$A$1:$D$4762,4,FALSE))","v":"-"},null,null,null,5,1,null,{"$f":"IF($G1145=\"\",\"\",VLOOKUP($G1145,'AFM-Artikel'!$A$1:$D$4762,3))","v":0}]
[null,{"$f":"IF(ISNA(VLOOKUP(G1146,'AFM-Artikel'!$A$1:$D$4762,4,FALSE)),\"-\",VLOOKUP(G1146,'AFM-Artikel'!$A$1:$D$4762,4,FALSE))","v":"-"},null,null,null,6,1,null,{"$f":"IF($G1146=\"\",\"\",VLOOKUP($G1146,'AFM-Artikel'!$A$1:$D$4762,3))","v":0}]
[null,{"$f":"IF(ISNA(VLOOKUP(G1147,'AFM-Artikel'!$A$1:$D$4762,4,FALSE)),\"-\",VLOOKUP(G1147,'AFM-Artikel'!$A$1:$D$4762,4,FALSE))","v":"-"},null,null,null,7,1,null,{"$f":"IF($G1147=\"\",\"\",VLOOKUP($G1147,'AFM-Artikel'!$A$1:$D$4762,3))","v":0}]
[null,{"$f":"IF(ISNA(VLOOKUP(G1148,'AFM-Artikel'!$A$1:$D$4762,4,FALSE)),\"-\",VLOOKUP(G1148,'AFM-Artikel'!$A$1:$D$4762,4,FALSE))","v":"-"},null,null,null,8,1,null,{"$f":"IF($G1148=\"\",\"\",VLOOKUP($G1148,'AFM-Artikel'!$A$1:$D$4762,3))","v":0}]
[null,{"$f":"IF(ISNA(VLOOKUP(G1149,'AFM-Artikel'!$A$1:$D$4762,4,FALSE)),\"-\",VLOOKUP(G1149,'AFM-Artikel'!$A$1:$D$4762,4,FALSE))","v":"-"},null,null,null,9,1,null,{"$f":"IF($G1149=\"\",\"\",VLOOKUP($G1149,'AFM-Artikel'!$A$1:$D$4762,3))","v":0}]
[null,{"$f":"IF(ISNA(VLOOKUP(G1150,'AFM-Artikel'!$A$1:$D$4762,4,FALSE)),\"-\",VLOOKUP(G1150,'AFM-Artikel'!$A$1:$D$4762,4,FALSE))","v":"-"},null,null,null,10,1,null,{"$f":"IF($G1150=\"\",\"\",VLOOKUP($G1150,'AFM-Artikel'!$A$1:$D$4762,3))","v":0}]
["Zusatzkabel-1",{"$f":"IF($G1151=\"\",\"\",VLOOKUP($G1151,'AFM-Artikel'!$A$1:$D$4762,2))","v":"zusätzliche Kabellänge Cat.5+Strom"},null,null,null,null,5306,null,{"$f":"IF($G1151=\"\",\"\",VLOOKUP($G1151,'AFM-Artikel'!$A$1:$D$4762,3))","v":8.6415000000000006}]
["Zusatzkabel-2",{"$f":"IF($G1152=\"\",\"\",VLOOKUP($G1152,'AFM-Artikel'!$A$1:$D$4762,2))","v":"Nicht verfügbar!"},null,null,null,null,0,null,{"$f":"IF($G1152=\"\",\"\",VLOOKUP($G1152,'AFM-Artikel'!$A$1:$D$4762,3))","v":0}]
["Zusatzkabel-Audio",{"$f":"IF($G1153=\"\",\"\",VLOOKUP($G1153,'AFM-Artikel'!$A$1:$D$4762,2))","v":"Nicht verfügbar!"},null,null,null,null,0,null,{"$f":"IF($G1153=\"\",\"\",VLOOKUP($G1153,'AFM-Artikel'!$A$1:$D$4762,3))","v":0}]
[]
[]
[]
[]
[]
[null,"AL1160_"]
["Taster rot","Auswählen!","AFM","DB",null,{"$f":"IF(Konfigurator!B$82=B1161,1,IF(Konfigurator!B$82=B1162,2,IF(Konfigurator!B$82=B1163,3,IF(Konfigurator!B$82=B1164,4,IF(Konfigurator!B$82=B1165,5,IF(Konfigurator!B$82=B1166,6,IF(Konfigurator!B$82=B1167,7,IF(Konfigurator!B$82=B1168,8,))))))))+IF(Konfigurator!B$82=B1169,9)+IF(Konfigurator!B$82=B1170,10)+IF(Konfigurator!B$82=E1160,0)","v":0},"Art.Nr.","TE","Liste","Kabel"]
[null,{"$f":"IF(ISNA(VLOOKUP(G1161,'AFM-Artikel'!$A$1:$D$4762,4,FALSE)),\"-\",VLOOKUP(G1161,'AFM-Artikel'!$A$1:$D$4762,4,FALSE))","v":"lötbar"},null,null,null,1,5744,4,{"$f":"IF($G1161=\"\",\"\",VLOOKUP($G1161,'AFM-Artikel'!$A$1:$D$4762,3))","v":23.772000000000002},"N"]
[null,{"$f":"IF(ISNA(VLOOKUP(G1162,'AFM-Artikel'!$A$1:$D$4762,4,FALSE)),\"-\",VLOOKUP(G1162,'AFM-Artikel'!$A$1:$D$4762,4,FALSE))","v":"offen 30cm"},null,null,null,2,5746,4,{"$f":"IF($G1162=\"\",\"\",VLOOKUP($G1162,'AFM-Artikel'!$A$1:$D$4762,3))","v":29.116500000000002},"J"]
[null,{"$f":"IF(ISNA(VLOOKUP(G1163,'AFM-Artikel'!$A$1:$D$4762,4,FALSE)),\"-\",VLOOKUP(G1163,'AFM-Artikel'!$A$1:$D$4762,4,FALSE))","v":"-"},null,null,null,3,1,null,{"$f":"IF($G1163=\"\",\"\",VLOOKUP($G1163,'AFM-Artikel'!$A$1:$D$4762,3))","v":0}]
[null,{"$f":"IF(ISNA(VLOOKUP(G1164,'AFM-Artikel'!$A$1:$D$4762,4,FALSE)),\"-\",VLOOKUP(G1164,'AFM-Artikel'!$A$1:$D$4762,4,FALSE))","v":"-"},null,null,null,4,1,null,{"$f":"IF($G1164=\"\",\"\",VLOOKUP($G1164,'AFM-Artikel'!$A$1:$D$4762,3))","v":0}]
[null,{"$f":"IF(ISNA(VLOOKUP(G1165,'AFM-Artikel'!$A$1:$D$4762,4,FALSE)),\"-\",VLOOKUP(G1165,'AFM-Artikel'!$A$1:$D$4762,4,FALSE))","v":"-"},null,null,null,5,1,null,{"$f":"IF($G1165=\"\",\"\",VLOOKUP($G1165,'AFM-Artikel'!$A$1:$D$4762,3))","v":0}]
[null,{"$f":"IF(ISNA(VLOOKUP(G1166,'AFM-Artikel'!$A$1:$D$4762,4,FALSE)),\"-\",VLOOKUP(G1166,'AFM-Artikel'!$A$1:$D$4762,4,FALSE))","v":"-"},null,null,null,6,1,null,{"$f":"IF($G1166=\"\",\"\",VLOOKUP($G1166,'AFM-Artikel'!$A$1:$D$4762,3))","v":0}]
[null,{"$f":"IF(ISNA(VLOOKUP(G1167,'AFM-Artikel'!$A$1:$D$4762,4,FALSE)),\"-\",VLOOKUP(G1167,'AFM-Artikel'!$A$1:$D$4762,4,FALSE))","v":"-"},null,null,null,7,1,null,{"$f":"IF($G1167=\"\",\"\",VLOOKUP($G1167,'AFM-Artikel'!$A$1:$D$4762,3))","v":0}]
[null,{"$f":"IF(ISNA(VLOOKUP(G1168,'AFM-Artikel'!$A$1:$D$4762,4,FALSE)),\"-\",VLOOKUP(G1168,'AFM-Artikel'!$A$1:$D$4762,4,FALSE))","v":"-"},null,null,null,8,1,null,{"$f":"IF($G1168=\"\",\"\",VLOOKUP($G1168,'AFM-Artikel'!$A$1:$D$4762,3))","v":0}]
[null,{"$f":"IF(ISNA(VLOOKUP(G1169,'AFM-Artikel'!$A$1:$D$4762,4,FALSE)),\"-\",VLOOKUP(G1169,'AFM-Artikel'!$A$1:$D$4762,4,FALSE))","v":"-"},null,null,null,9,1,null,{"$f":"IF($G1169=\"\",\"\",VLOOKUP($G1169,'AFM-Artikel'!$A$1:$D$4762,3))","v":0}]
[null,{"$f":"IF(ISNA(VLOOKUP(G1170,'AFM-Artikel'!$A$1:$D$4762,4,FALSE)),\"-\",VLOOKUP(G1170,'AFM-Artikel'!$A$1:$D$4762,4,FALSE))","v":"-"},null,null,null,10,1,null,{"$f":"IF($G1170=\"\",\"\",VLOOKUP($G1170,'AFM-Artikel'!$A$1:$D$4762,3))","v":0}]
["Zusatzkabel-1",{"$f":"IF($G1171=\"\",\"\",VLOOKUP($G1171,'AFM-Artikel'!$A$1:$D$4762,2))","v":"zusätzliche Kabellänge 4pol-Steuerleitung"},null,null,null,null,5315,null,{"$f":"IF($G1171=\"\",\"\",VLOOKUP($G1171,'AFM-Artikel'!$A$1:$D$4762,3))","v":1.2075}]
["Zusatzkabel-2",{"$f":"IF($G1172=\"\",\"\",VLOOKUP($G1172,'AFM-Artikel'!$A$1:$D$4762,2))","v":"Nicht verfügbar!"},null,null,null,null,0,null,{"$f":"IF($G1172=\"\",\"\",VLOOKUP($G1172,'AFM-Artikel'!$A$1:$D$4762,3))","v":0}]
["Zusatzkabel-Audio",{"$f":"IF($G1173=\"\",\"\",VLOOKUP($G1173,'AFM-Artikel'!$A$1:$D$4762,2))","v":"Nicht verfügbar!"},null,null,null,null,0,null,{"$f":"IF($G1173=\"\",\"\",VLOOKUP($G1173,'AFM-Artikel'!$A$1:$D$4762,3))","v":0}]
[]
[]
[]
[]
[]
[null,"AL1180_"]
["Taster grün","Auswählen!","AFM","DB",null,{"$f":"IF(Konfigurator!D$82=B1181,1,IF(Konfigurator!D$82=B1182,2,IF(Konfigurator!D$82=B1183,3,IF(Konfigurator!D$82=B1184,4,IF(Konfigurator!D$82=B1185,5,IF(Konfigurator!D$82=B1186,6,IF(Konfigurator!D$82=B1187,7,IF(Konfigurator!D$82=B1188,8,))))))))+IF(Konfigurator!D$82=B1189,9)+IF(Konfigurator!D$82=B1190,10)+IF(Konfigurator!D$82=E1180,0)","v":0},"Art.Nr.","TE","Liste","Kabel"]
[null,{"$f":"IF(ISNA(VLOOKUP(G1181,'AFM-Artikel'!$A$1:$D$4762,4,FALSE)),\"-\",VLOOKUP(G1181,'AFM-Artikel'!$A$1:$D$4762,4,FALSE))","v":"lötbar"},null,null,null,1,5745,4,{"$f":"IF($G1181=\"\",\"\",VLOOKUP($G1181,'AFM-Artikel'!$A$1:$D$4762,3))","v":23.772000000000002},"N"]
[null,{"$f":"IF(ISNA(VLOOKUP(G1182,'AFM-Artikel'!$A$1:$D$4762,4,FALSE)),\"-\",VLOOKUP(G1182,'AFM-Artikel'!$A$1:$D$4762,4,FALSE))","v":"offen 30cm"},null,null,null,2,5747,4,{"$f":"IF($G1182=\"\",\"\",VLOOKUP($G1182,'AFM-Artikel'!$A$1:$D$4762,3))","v":29.116500000000002},"J"]
[null,{"$f":"IF(ISNA(VLOOKUP(G1183,'AFM-Artikel'!$A$1:$D$4762,4,FALSE)),\"-\",VLOOKUP(G1183,'AFM-Artikel'!$A$1:$D$4762,4,FALSE))","v":"-"},null,null,null,3,1,null,{"$f":"IF($G1183=\"\",\"\",VLOOKUP($G1183,'AFM-Artikel'!$A$1:$D$4762,3))","v":0}]
[null,{"$f":"IF(ISNA(VLOOKUP(G1184,'AFM-Artikel'!$A$1:$D$4762,4,FALSE)),\"-\",VLOOKUP(G1184,'AFM-Artikel'!$A$1:$D$4762,4,FALSE))","v":"-"},null,null,null,4,1,null,{"$f":"IF($G1184=\"\",\"\",VLOOKUP($G1184,'AFM-Artikel'!$A$1:$D$4762,3))","v":0}]
[null,{"$f":"IF(ISNA(VLOOKUP(G1185,'AFM-Artikel'!$A$1:$D$4762,4,FALSE)),\"-\",VLOOKUP(G1185,'AFM-Artikel'!$A$1:$D$4762,4,FALSE))","v":"-"},null,null,null,5,1,null,{"$f":"IF($G1185=\"\",\"\",VLOOKUP($G1185,'AFM-Artikel'!$A$1:$D$4762,3))","v":0}]
[null,{"$f":"IF(ISNA(VLOOKUP(G1186,'AFM-Artikel'!$A$1:$D$4762,4,FALSE)),\"-\",VLOOKUP(G1186,'AFM-Artikel'!$A$1:$D$4762,4,FALSE))","v":"-"},null,null,null,6,1,null,{"$f":"IF($G1186=\"\",\"\",VLOOKUP($G1186,'AFM-Artikel'!$A$1:$D$4762,3))","v":0}]
[null,{"$f":"IF(ISNA(VLOOKUP(G1187,'AFM-Artikel'!$A$1:$D$4762,4,FALSE)),\"-\",VLOOKUP(G1187,'AFM-Artikel'!$A$1:$D$4762,4,FALSE))","v":"-"},null,null,null,7,1,null,{"$f":"IF($G1187=\"\",\"\",VLOOKUP($G1187,'AFM-Artikel'!$A$1:$D$4762,3))","v":0}]
[null,{"$f":"IF(ISNA(VLOOKUP(G1188,'AFM-Artikel'!$A$1:$D$4762,4,FALSE)),\"-\",VLOOKUP(G1188,'AFM-Artikel'!$A$1:$D$4762,4,FALSE))","v":"-"},null,null,null,8,1,null,{"$f":"IF($G1188=\"\",\"\",VLOOKUP($G1188,'AFM-Artikel'!$A$1:$D$4762,3))","v":0}]
[null,{"$f":"IF(ISNA(VLOOKUP(G1189,'AFM-Artikel'!$A$1:$D$4762,4,FALSE)),\"-\",VLOOKUP(G1189,'AFM-Artikel'!$A$1:$D$4762,4,FALSE))","v":"-"},null,null,null,9,1,null,{"$f":"IF($G1189=\"\",\"\",VLOOKUP($G1189,'AFM-Artikel'!$A$1:$D$4762,3))","v":0}]
[null,{"$f":"IF(ISNA(VLOOKUP(G1190,'AFM-Artikel'!$A$1:$D$4762,4,FALSE)),\"-\",VLOOKUP(G1190,'AFM-Artikel'!$A$1:$D$4762,4,FALSE))","v":"-"},null,null,null,10,1,null,{"$f":"IF($G1190=\"\",\"\",VLOOKUP($G1190,'AFM-Artikel'!$A$1:$D$4762,3))","v":0}]
["Zusatzkabel-1",{"$f":"IF($G1191=\"\",\"\",VLOOKUP($G1191,'AFM-Artikel'!$A$1:$D$4762,2))","v":"zusätzliche Kabellänge 4pol-Steuerleitung"},null,null,null,null,5315,null,{"$f":"IF($G1191=\"\",\"\",VLOOKUP($G1191,'AFM-Artikel'!$A$1:$D$4762,3))","v":1.2075}]
["Zusatzkabel-2",{"$f":"IF($G1192=\"\",\"\",VLOOKUP($G1192,'AFM-Artikel'!$A$1:$D$4762,2))","v":"Nicht verfügbar!"},null,null,null,null,0,null,{"$f":"IF($G1192=\"\",\"\",VLOOKUP($G1192,'AFM-Artikel'!$A$1:$D$4762,3))","v":0}]
["Zusatzkabel-Audio",{"$f":"IF($G1193=\"\",\"\",VLOOKUP($G1193,'AFM-Artikel'!$A$1:$D$4762,2))","v":"Nicht verfügbar!"},null,null,null,null,0,null,{"$f":"IF($G1193=\"\",\"\",VLOOKUP($G1193,'AFM-Artikel'!$A$1:$D$4762,3))","v":0}]
[]
[]
[]
[]
[]
[null,"AL1200_"]
["Schalter rot","Auswählen!","AFM","DB",null,{"$f":"IF(Konfigurator!F$82=B1201,1,IF(Konfigurator!F$82=B1202,2,IF(Konfigurator!F$82=B1203,3,IF(Konfigurator!F$82=B1204,4,IF(Konfigurator!F$82=B1205,5,IF(Konfigurator!F$82=B1206,6,IF(Konfigurator!F$82=B1207,7,IF(Konfigurator!F$82=B1208,8,))))))))+IF(Konfigurator!F$82=B1209,9)+IF(Konfigurator!F$82=B1210,10)+IF(Konfigurator!F$82=E1200,0)","v":0},"Art.Nr.","TE","Liste","Kabel"]
[null,{"$f":"IF(ISNA(VLOOKUP(G1201,'AFM-Artikel'!$A$1:$D$4762,4,FALSE)),\"-\",VLOOKUP(G1201,'AFM-Artikel'!$A$1:$D$4762,4,FALSE))","v":"lötbar"},null,null,null,1,5748,4,{"$f":"IF($G1201=\"\",\"\",VLOOKUP($G1201,'AFM-Artikel'!$A$1:$D$4762,3))","v":23.772000000000002},"N"]
[null,{"$f":"IF(ISNA(VLOOKUP(G1202,'AFM-Artikel'!$A$1:$D$4762,4,FALSE)),\"-\",VLOOKUP(G1202,'AFM-Artikel'!$A$1:$D$4762,4,FALSE))","v":"offen 30cm"},null,null,null,2,5750,4,{"$f":"IF($G1202=\"\",\"\",VLOOKUP($G1202,'AFM-Artikel'!$A$1:$D$4762,3))","v":29.116500000000002},"J"]
[null,{"$f":"IF(ISNA(VLOOKUP(G1203,'AFM-Artikel'!$A$1:$D$4762,4,FALSE)),\"-\",VLOOKUP(G1203,'AFM-Artikel'!$A$1:$D$4762,4,FALSE))","v":"-"},null,null,null,3,1,null,{"$f":"IF($G1203=\"\",\"\",VLOOKUP($G1203,'AFM-Artikel'!$A$1:$D$4762,3))","v":0}]
[null,{"$f":"IF(ISNA(VLOOKUP(G1204,'AFM-Artikel'!$A$1:$D$4762,4,FALSE)),\"-\",VLOOKUP(G1204,'AFM-Artikel'!$A$1:$D$4762,4,FALSE))","v":"-"},null,null,null,4,1,null,{"$f":"IF($G1204=\"\",\"\",VLOOKUP($G1204,'AFM-Artikel'!$A$1:$D$4762,3))","v":0}]
[null,{"$f":"IF(ISNA(VLOOKUP(G1205,'AFM-Artikel'!$A$1:$D$4762,4,FALSE)),\"-\",VLOOKUP(G1205,'AFM-Artikel'!$A$1:$D$4762,4,FALSE))","v":"-"},null,null,null,5,1,null,{"$f":"IF($G1205=\"\",\"\",VLOOKUP($G1205,'AFM-Artikel'!$A$1:$D$4762,3))","v":0}]
[null,{"$f":"IF(ISNA(VLOOKUP(G1206,'AFM-Artikel'!$A$1:$D$4762,4,FALSE)),\"-\",VLOOKUP(G1206,'AFM-Artikel'!$A$1:$D$4762,4,FALSE))","v":"-"},null,null,null,6,1,null,{"$f":"IF($G1206=\"\",\"\",VLOOKUP($G1206,'AFM-Artikel'!$A$1:$D$4762,3))","v":0}]
[null,{"$f":"IF(ISNA(VLOOKUP(G1207,'AFM-Artikel'!$A$1:$D$4762,4,FALSE)),\"-\",VLOOKUP(G1207,'AFM-Artikel'!$A$1:$D$4762,4,FALSE))","v":"-"},null,null,null,7,1,null,{"$f":"IF($G1207=\"\",\"\",VLOOKUP($G1207,'AFM-Artikel'!$A$1:$D$4762,3))","v":0}]
[null,{"$f":"IF(ISNA(VLOOKUP(G1208,'AFM-Artikel'!$A$1:$D$4762,4,FALSE)),\"-\",VLOOKUP(G1208,'AFM-Artikel'!$A$1:$D$4762,4,FALSE))","v":"-"},null,null,null,8,1,null,{"$f":"IF($G1208=\"\",\"\",VLOOKUP($G1208,'AFM-Artikel'!$A$1:$D$4762,3))","v":0}]
[null,{"$f":"IF(ISNA(VLOOKUP(G1209,'AFM-Artikel'!$A$1:$D$4762,4,FALSE)),\"-\",VLOOKUP(G1209,'AFM-Artikel'!$A$1:$D$4762,4,FALSE))","v":"-"},null,null,null,9,1,null,{"$f":"IF($G1209=\"\",\"\",VLOOKUP($G1209,'AFM-Artikel'!$A$1:$D$4762,3))","v":0}]
[null,{"$f":"IF(ISNA(VLOOKUP(G1210,'AFM-Artikel'!$A$1:$D$4762,4,FALSE)),\"-\",VLOOKUP(G1210,'AFM-Artikel'!$A$1:$D$4762,4,FALSE))","v":"-"},null,null,null,10,1,null,{"$f":"IF($G1210=\"\",\"\",VLOOKUP($G1210,'AFM-Artikel'!$A$1:$D$4762,3))","v":0}]
["Zusatzkabel-1",{"$f":"IF($G1211=\"\",\"\",VLOOKUP($G1211,'AFM-Artikel'!$A$1:$D$4762,2))","v":"zusätzliche Kabellänge 4pol-Steuerleitung"},null,null,null,null,5315,null,{"$f":"IF($G1211=\"\",\"\",VLOOKUP($G1211,'AFM-Artikel'!$A$1:$D$4762,3))","v":1.2075}]
["Zusatzkabel-2",{"$f":"IF($G1212=\"\",\"\",VLOOKUP($G1212,'AFM-Artikel'!$A$1:$D$4762,2))","v":"Nicht verfügbar!"},null,null,null,null,0,null,{"$f":"IF($G1212=\"\",\"\",VLOOKUP($G1212,'AFM-Artikel'!$A$1:$D$4762,3))","v":0}]
["Zusatzkabel-Audio",{"$f":"IF($G1213=\"\",\"\",VLOOKUP($G1213,'AFM-Artikel'!$A$1:$D$4762,2))","v":"Nicht verfügbar!"},null,null,null,null,0,null,{"$f":"IF($G1213=\"\",\"\",VLOOKUP($G1213,'AFM-Artikel'!$A$1:$D$4762,3))","v":0}]
[]
[]
[]
[]
[]
[null,"AL1220_"]
["Schalter grün","Auswählen!","AFM","DB",null,{"$f":"IF(Konfigurator!H$82=B1221,1,IF(Konfigurator!H$82=B1222,2,IF(Konfigurator!H$82=B1223,3,IF(Konfigurator!H$82=B1224,4,IF(Konfigurator!H$82=B1225,5,IF(Konfigurator!H$82=B1226,6,IF(Konfigurator!H$82=B1227,7,IF(Konfigurator!H$82=B1228,8,))))))))+IF(Konfigurator!H$82=B1229,9)+IF(Konfigurator!H$82=B1230,10)+IF(Konfigurator!H$82=E1220,0)","v":0},"Art.Nr.","TE","Liste","Kabel"]
[null,{"$f":"IF(ISNA(VLOOKUP(G1221,'AFM-Artikel'!$A$1:$D$4762,4,FALSE)),\"-\",VLOOKUP(G1221,'AFM-Artikel'!$A$1:$D$4762,4,FALSE))","v":"lötbar"},null,null,null,1,5749,4,{"$f":"IF($G1221=\"\",\"\",VLOOKUP($G1221,'AFM-Artikel'!$A$1:$D$4762,3))","v":23.772000000000002},"N"]
[null,{"$f":"IF(ISNA(VLOOKUP(G1222,'AFM-Artikel'!$A$1:$D$4762,4,FALSE)),\"-\",VLOOKUP(G1222,'AFM-Artikel'!$A$1:$D$4762,4,FALSE))","v":"offen 30cm"},null,null,null,2,5751,4,{"$f":"IF($G1222=\"\",\"\",VLOOKUP($G1222,'AFM-Artikel'!$A$1:$D$4762,3))","v":29.116500000000002},"J"]
[null,{"$f":"IF(ISNA(VLOOKUP(G1223,'AFM-Artikel'!$A$1:$D$4762,4,FALSE)),\"-\",VLOOKUP(G1223,'AFM-Artikel'!$A$1:$D$4762,4,FALSE))","v":"-"},null,null,null,3,1,null,{"$f":"IF($G1223=\"\",\"\",VLOOKUP($G1223,'AFM-Artikel'!$A$1:$D$4762,3))","v":0}]
[null,{"$f":"IF(ISNA(VLOOKUP(G1224,'AFM-Artikel'!$A$1:$D$4762,4,FALSE)),\"-\",VLOOKUP(G1224,'AFM-Artikel'!$A$1:$D$4762,4,FALSE))","v":"-"},null,null,null,4,1,null,{"$f":"IF($G1224=\"\",\"\",VLOOKUP($G1224,'AFM-Artikel'!$A$1:$D$4762,3))","v":0}]
[null,{"$f":"IF(ISNA(VLOOKUP(G1225,'AFM-Artikel'!$A$1:$D$4762,4,FALSE)),\"-\",VLOOKUP(G1225,'AFM-Artikel'!$A$1:$D$4762,4,FALSE))","v":"-"},null,null,null,5,1,null,{"$f":"IF($G1225=\"\",\"\",VLOOKUP($G1225,'AFM-Artikel'!$A$1:$D$4762,3))","v":0}]
[null,{"$f":"IF(ISNA(VLOOKUP(G1226,'AFM-Artikel'!$A$1:$D$4762,4,FALSE)),\"-\",VLOOKUP(G1226,'AFM-Artikel'!$A$1:$D$4762,4,FALSE))","v":"-"},null,null,null,6,1,null,{"$f":"IF($G1226=\"\",\"\",VLOOKUP($G1226,'AFM-Artikel'!$A$1:$D$4762,3))","v":0}]
[null,{"$f":"IF(ISNA(VLOOKUP(G1227,'AFM-Artikel'!$A$1:$D$4762,4,FALSE)),\"-\",VLOOKUP(G1227,'AFM-Artikel'!$A$1:$D$4762,4,FALSE))","v":"-"},null,null,null,7,1,null,{"$f":"IF($G1227=\"\",\"\",VLOOKUP($G1227,'AFM-Artikel'!$A$1:$D$4762,3))","v":0}]
[null,{"$f":"IF(ISNA(VLOOKUP(G1228,'AFM-Artikel'!$A$1:$D$4762,4,FALSE)),\"-\",VLOOKUP(G1228,'AFM-Artikel'!$A$1:$D$4762,4,FALSE))","v":"-"},null,null,null,8,1,null,{"$f":"IF($G1228=\"\",\"\",VLOOKUP($G1228,'AFM-Artikel'!$A$1:$D$4762,3))","v":0}]
[null,{"$f":"IF(ISNA(VLOOKUP(G1229,'AFM-Artikel'!$A$1:$D$4762,4,FALSE)),\"-\",VLOOKUP(G1229,'AFM-Artikel'!$A$1:$D$4762,4,FALSE))","v":"-"},null,null,null,9,1,null,{"$f":"IF($G1229=\"\",\"\",VLOOKUP($G1229,'AFM-Artikel'!$A$1:$D$4762,3))","v":0}]
[null,{"$f":"IF(ISNA(VLOOKUP(G1230,'AFM-Artikel'!$A$1:$D$4762,4,FALSE)),\"-\",VLOOKUP(G1230,'AFM-Artikel'!$A$1:$D$4762,4,FALSE))","v":"-"},null,null,null,10,1,null,{"$f":"IF($G1230=\"\",\"\",VLOOKUP($G1230,'AFM-Artikel'!$A$1:$D$4762,3))","v":0}]
["Zusatzkabel-1",{"$f":"IF($G1231=\"\",\"\",VLOOKUP($G1231,'AFM-Artikel'!$A$1:$D$4762,2))","v":"zusätzliche Kabellänge 4pol-Steuerleitung"},null,null,null,null,5315,null,{"$f":"IF($G1231=\"\",\"\",VLOOKUP($G1231,'AFM-Artikel'!$A$1:$D$4762,3))","v":1.2075}]
["Zusatzkabel-2",{"$f":"IF($G1232=\"\",\"\",VLOOKUP($G1232,'AFM-Artikel'!$A$1:$D$4762,2))","v":"Nicht verfügbar!"},null,null,null,null,0,null,{"$f":"IF($G1232=\"\",\"\",VLOOKUP($G1232,'AFM-Artikel'!$A$1:$D$4762,3))","v":0}]
["Zusatzkabel-Audio",{"$f":"IF($G1233=\"\",\"\",VLOOKUP($G1233,'AFM-Artikel'!$A$1:$D$4762,2))","v":"Nicht verfügbar!"},null,null,null,null,0,null,{"$f":"IF($G1233=\"\",\"\",VLOOKUP($G1233,'AFM-Artikel'!$A$1:$D$4762,3))","v":0}]
[]
[]
[]
[]
[]
[null,"AL1240_"]
["Taster Chrom","Auswählen!","AFM","DB",null,{"$f":"IF(Konfigurator!J$82=B1241,1,IF(Konfigurator!J$82=B1242,2,IF(Konfigurator!J$82=B1243,3,IF(Konfigurator!J$82=B1244,4,IF(Konfigurator!J$82=B1245,5,IF(Konfigurator!J$82=B1246,6,IF(Konfigurator!J$82=B1247,7,IF(Konfigurator!J$82=B1248,8,))))))))+IF(Konfigurator!J$82=B1249,9)+IF(Konfigurator!J$82=B1250,10)+IF(Konfigurator!J$82=E1240,0)","v":0},"Art.Nr.","TE","Liste","Kabel"]
[null,{"$f":"IF(ISNA(VLOOKUP(G1241,'AFM-Artikel'!$A$1:$D$4762,4,FALSE)),\"-\",VLOOKUP(G1241,'AFM-Artikel'!$A$1:$D$4762,4,FALSE))","v":"lötbar"},null,null,null,1,5765,4,{"$f":"IF($G1241=\"\",\"\",VLOOKUP($G1241,'AFM-Artikel'!$A$1:$D$4762,3))","v":30.450000000000003},"N"]
[null,{"$f":"IF(ISNA(VLOOKUP(G1242,'AFM-Artikel'!$A$1:$D$4762,4,FALSE)),\"-\",VLOOKUP(G1242,'AFM-Artikel'!$A$1:$D$4762,4,FALSE))","v":"offen 30cm"},null,null,null,2,5766,4,{"$f":"IF($G1242=\"\",\"\",VLOOKUP($G1242,'AFM-Artikel'!$A$1:$D$4762,3))","v":35.983500000000006},"J"]
[null,{"$f":"IF(ISNA(VLOOKUP(G1243,'AFM-Artikel'!$A$1:$D$4762,4,FALSE)),\"-\",VLOOKUP(G1243,'AFM-Artikel'!$A$1:$D$4762,4,FALSE))","v":"-"},null,null,null,3,1,null,{"$f":"IF($G1243=\"\",\"\",VLOOKUP($G1243,'AFM-Artikel'!$A$1:$D$4762,3))","v":0}]
[null,{"$f":"IF(ISNA(VLOOKUP(G1244,'AFM-Artikel'!$A$1:$D$4762,4,FALSE)),\"-\",VLOOKUP(G1244,'AFM-Artikel'!$A$1:$D$4762,4,FALSE))","v":"-"},null,null,null,4,1,null,{"$f":"IF($G1244=\"\",\"\",VLOOKUP($G1244,'AFM-Artikel'!$A$1:$D$4762,3))","v":0}]
[null,{"$f":"IF(ISNA(VLOOKUP(G1245,'AFM-Artikel'!$A$1:$D$4762,4,FALSE)),\"-\",VLOOKUP(G1245,'AFM-Artikel'!$A$1:$D$4762,4,FALSE))","v":"-"},null,null,null,5,1,null,{"$f":"IF($G1245=\"\",\"\",VLOOKUP($G1245,'AFM-Artikel'!$A$1:$D$4762,3))","v":0}]
[null,{"$f":"IF(ISNA(VLOOKUP(G1246,'AFM-Artikel'!$A$1:$D$4762,4,FALSE)),\"-\",VLOOKUP(G1246,'AFM-Artikel'!$A$1:$D$4762,4,FALSE))","v":"-"},null,null,null,6,1,null,{"$f":"IF($G1246=\"\",\"\",VLOOKUP($G1246,'AFM-Artikel'!$A$1:$D$4762,3))","v":0}]
[null,{"$f":"IF(ISNA(VLOOKUP(G1247,'AFM-Artikel'!$A$1:$D$4762,4,FALSE)),\"-\",VLOOKUP(G1247,'AFM-Artikel'!$A$1:$D$4762,4,FALSE))","v":"-"},null,null,null,7,1,null,{"$f":"IF($G1247=\"\",\"\",VLOOKUP($G1247,'AFM-Artikel'!$A$1:$D$4762,3))","v":0}]
[null,{"$f":"IF(ISNA(VLOOKUP(G1248,'AFM-Artikel'!$A$1:$D$4762,4,FALSE)),\"-\",VLOOKUP(G1248,'AFM-Artikel'!$A$1:$D$4762,4,FALSE))","v":"-"},null,null,null,8,1,null,{"$f":"IF($G1248=\"\",\"\",VLOOKUP($G1248,'AFM-Artikel'!$A$1:$D$4762,3))","v":0}]
[null,{"$f":"IF(ISNA(VLOOKUP(G1249,'AFM-Artikel'!$A$1:$D$4762,4,FALSE)),\"-\",VLOOKUP(G1249,'AFM-Artikel'!$A$1:$D$4762,4,FALSE))","v":"-"},null,null,null,9,1,null,{"$f":"IF($G1249=\"\",\"\",VLOOKUP($G1249,'AFM-Artikel'!$A$1:$D$4762,3))","v":0}]
[null,{"$f":"IF(ISNA(VLOOKUP(G1250,'AFM-Artikel'!$A$1:$D$4762,4,FALSE)),\"-\",VLOOKUP(G1250,'AFM-Artikel'!$A$1:$D$4762,4,FALSE))","v":"-"},null,null,null,10,1,null,{"$f":"IF($G1250=\"\",\"\",VLOOKUP($G1250,'AFM-Artikel'!$A$1:$D$4762,3))","v":0}]
["Zusatzkabel-1",{"$f":"IF($G1251=\"\",\"\",VLOOKUP($G1251,'AFM-Artikel'!$A$1:$D$4762,2))","v":"zusätzliche Kabellänge 4pol-Steuerleitung"},null,null,null,null,5315,null,{"$f":"IF($G1251=\"\",\"\",VLOOKUP($G1251,'AFM-Artikel'!$A$1:$D$4762,3))","v":1.2075}]
["Zusatzkabel-2",{"$f":"IF($G1252=\"\",\"\",VLOOKUP($G1252,'AFM-Artikel'!$A$1:$D$4762,2))","v":"Nicht verfügbar!"},null,null,null,null,0,null,{"$f":"IF($G1252=\"\",\"\",VLOOKUP($G1252,'AFM-Artikel'!$A$1:$D$4762,3))","v":0}]
["Zusatzkabel-Audio",{"$f":"IF($G1253=\"\",\"\",VLOOKUP($G1253,'AFM-Artikel'!$A$1:$D$4762,2))","v":"Nicht verfügbar!"},null,null,null,null,0,null,{"$f":"IF($G1253=\"\",\"\",VLOOKUP($G1253,'AFM-Artikel'!$A$1:$D$4762,3))","v":0}]
[]
[]
[]
[]
[]
[null,"AL1260_"]
["Taster Chr. LED","Auswählen!","AFM","DB",null,{"$f":"IF(Konfigurator!L$82=B1261,1,IF(Konfigurator!L$82=B1262,2,IF(Konfigurator!L$82=B1263,3,IF(Konfigurator!L$82=B1264,4,IF(Konfigurator!L$82=B1265,5,IF(Konfigurator!L$82=B1266,6,IF(Konfigurator!L$82=B1267,7,IF(Konfigurator!L$82=B1268,8,))))))))+IF(Konfigurator!L$82=B1269,9)+IF(Konfigurator!L$82=B1270,10)+IF(Konfigurator!L$82=E1260,0)","v":0},"Art.Nr.","TE","Liste","Kabel"]
[null,{"$f":"IF(ISNA(VLOOKUP(G1261,'AFM-Artikel'!$A$1:$D$4762,4,FALSE)),\"-\",VLOOKUP(G1261,'AFM-Artikel'!$A$1:$D$4762,4,FALSE))","v":"lötbar"},null,null,null,1,5794,4,{"$f":"IF($G1261=\"\",\"\",VLOOKUP($G1261,'AFM-Artikel'!$A$1:$D$4762,3))","v":38.860500000000002},"N"]
[null,{"$f":"IF(ISNA(VLOOKUP(G1262,'AFM-Artikel'!$A$1:$D$4762,4,FALSE)),\"-\",VLOOKUP(G1262,'AFM-Artikel'!$A$1:$D$4762,4,FALSE))","v":"offen 30cm"},null,null,null,2,5795,4,{"$f":"IF($G1262=\"\",\"\",VLOOKUP($G1262,'AFM-Artikel'!$A$1:$D$4762,3))","v":45.622500000000002},"J"]
[null,{"$f":"IF(ISNA(VLOOKUP(G1263,'AFM-Artikel'!$A$1:$D$4762,4,FALSE)),\"-\",VLOOKUP(G1263,'AFM-Artikel'!$A$1:$D$4762,4,FALSE))","v":"-"},null,null,null,3,1,null,{"$f":"IF($G1263=\"\",\"\",VLOOKUP($G1263,'AFM-Artikel'!$A$1:$D$4762,3))","v":0}]
[null,{"$f":"IF(ISNA(VLOOKUP(G1264,'AFM-Artikel'!$A$1:$D$4762,4,FALSE)),\"-\",VLOOKUP(G1264,'AFM-Artikel'!$A$1:$D$4762,4,FALSE))","v":"-"},null,null,null,4,1,null,{"$f":"IF($G1264=\"\",\"\",VLOOKUP($G1264,'AFM-Artikel'!$A$1:$D$4762,3))","v":0}]
[null,{"$f":"IF(ISNA(VLOOKUP(G1265,'AFM-Artikel'!$A$1:$D$4762,4,FALSE)),\"-\",VLOOKUP(G1265,'AFM-Artikel'!$A$1:$D$4762,4,FALSE))","v":"-"},null,null,null,5,1,null,{"$f":"IF($G1265=\"\",\"\",VLOOKUP($G1265,'AFM-Artikel'!$A$1:$D$4762,3))","v":0}]
[null,{"$f":"IF(ISNA(VLOOKUP(G1266,'AFM-Artikel'!$A$1:$D$4762,4,FALSE)),\"-\",VLOOKUP(G1266,'AFM-Artikel'!$A$1:$D$4762,4,FALSE))","v":"-"},null,null,null,6,1,null,{"$f":"IF($G1266=\"\",\"\",VLOOKUP($G1266,'AFM-Artikel'!$A$1:$D$4762,3))","v":0}]
[null,{"$f":"IF(ISNA(VLOOKUP(G1267,'AFM-Artikel'!$A$1:$D$4762,4,FALSE)),\"-\",VLOOKUP(G1267,'AFM-Artikel'!$A$1:$D$4762,4,FALSE))","v":"-"},null,null,null,7,1,null,{"$f":"IF($G1267=\"\",\"\",VLOOKUP($G1267,'AFM-Artikel'!$A$1:$D$4762,3))","v":0}]
[null,{"$f":"IF(ISNA(VLOOKUP(G1268,'AFM-Artikel'!$A$1:$D$4762,4,FALSE)),\"-\",VLOOKUP(G1268,'AFM-Artikel'!$A$1:$D$4762,4,FALSE))","v":"-"},null,null,null,8,1,null,{"$f":"IF($G1268=\"\",\"\",VLOOKUP($G1268,'AFM-Artikel'!$A$1:$D$4762,3))","v":0}]
[null,{"$f":"IF(ISNA(VLOOKUP(G1269,'AFM-Artikel'!$A$1:$D$4762,4,FALSE)),\"-\",VLOOKUP(G1269,'AFM-Artikel'!$A$1:$D$4762,4,FALSE))","v":"-"},null,null,null,9,1,null,{"$f":"IF($G1269=\"\",\"\",VLOOKUP($G1269,'AFM-Artikel'!$A$1:$D$4762,3))","v":0}]
[null,{"$f":"IF(ISNA(VLOOKUP(G1270,'AFM-Artikel'!$A$1:$D$4762,4,FALSE)),\"-\",VLOOKUP(G1270,'AFM-Artikel'!$A$1:$D$4762,4,FALSE))","v":"-"},null,null,null,10,1,null,{"$f":"IF($G1270=\"\",\"\",VLOOKUP($G1270,'AFM-Artikel'!$A$1:$D$4762,3))","v":0}]
["Zusatzkabel-1",{"$f":"IF($G1271=\"\",\"\",VLOOKUP($G1271,'AFM-Artikel'!$A$1:$D$4762,2))","v":"zusätzliche Kabellänge 4pol-Steuerleitung"},null,null,null,null,5315,null,{"$f":"IF($G1271=\"\",\"\",VLOOKUP($G1271,'AFM-Artikel'!$A$1:$D$4762,3))","v":1.2075}]
["Zusatzkabel-2",{"$f":"IF($G1272=\"\",\"\",VLOOKUP($G1272,'AFM-Artikel'!$A$1:$D$4762,2))","v":"Nicht verfügbar!"},null,null,null,null,0,null,{"$f":"IF($G1272=\"\",\"\",VLOOKUP($G1272,'AFM-Artikel'!$A$1:$D$4762,3))","v":0}]
["Zusatzkabel-Audio",{"$f":"IF($G1273=\"\",\"\",VLOOKUP($G1273,'AFM-Artikel'!$A$1:$D$4762,2))","v":"Nicht verfügbar!"},null,null,null,null,0,null,{"$f":"IF($G1273=\"\",\"\",VLOOKUP($G1273,'AFM-Artikel'!$A$1:$D$4762,3))","v":0}]
[]
[]
[]
[]
[]
[null,"AL1280_"]
["Taster 18x18","Auswählen!","AFM","DB",null,{"$f":"IF(Konfigurator!N$82=B1281,1,IF(Konfigurator!N$82=B1282,2,IF(Konfigurator!N$82=B1283,3,IF(Konfigurator!N$82=B1284,4,IF(Konfigurator!N$82=B1285,5,IF(Konfigurator!N$82=B1286,6,IF(Konfigurator!N$82=B1287,7,IF(Konfigurator!N$82=B1288,8,))))))))+IF(Konfigurator!N$82=B1289,9)+IF(Konfigurator!N$82=B1290,10)+IF(Konfigurator!N$82=E1280,0)","v":0},"Art.Nr.","TE","Liste","Kabel"]
[null,{"$f":"IF(ISNA(VLOOKUP(G1281,'AFM-Artikel'!$A$1:$D$4762,4,FALSE)),\"-\",VLOOKUP(G1281,'AFM-Artikel'!$A$1:$D$4762,4,FALSE))","v":"lötbar"},null,null,null,1,5782,4,{"$f":"IF($G1281=\"\",\"\",VLOOKUP($G1281,'AFM-Artikel'!$A$1:$D$4762,3))","v":42.546000000000006},"N"]
[null,{"$f":"IF(ISNA(VLOOKUP(G1282,'AFM-Artikel'!$A$1:$D$4762,4,FALSE)),\"-\",VLOOKUP(G1282,'AFM-Artikel'!$A$1:$D$4762,4,FALSE))","v":"offen 30cm"},null,null,null,2,5783,4,{"$f":"IF($G1282=\"\",\"\",VLOOKUP($G1282,'AFM-Artikel'!$A$1:$D$4762,3))","v":52.374000000000002},"J"]
[null,{"$f":"IF(ISNA(VLOOKUP(G1283,'AFM-Artikel'!$A$1:$D$4762,4,FALSE)),\"-\",VLOOKUP(G1283,'AFM-Artikel'!$A$1:$D$4762,4,FALSE))","v":"-"},null,null,null,3,1,null,{"$f":"IF($G1283=\"\",\"\",VLOOKUP($G1283,'AFM-Artikel'!$A$1:$D$4762,3))","v":0}]
[null,{"$f":"IF(ISNA(VLOOKUP(G1284,'AFM-Artikel'!$A$1:$D$4762,4,FALSE)),\"-\",VLOOKUP(G1284,'AFM-Artikel'!$A$1:$D$4762,4,FALSE))","v":"-"},null,null,null,4,1,null,{"$f":"IF($G1284=\"\",\"\",VLOOKUP($G1284,'AFM-Artikel'!$A$1:$D$4762,3))","v":0}]
[null,{"$f":"IF(ISNA(VLOOKUP(G1285,'AFM-Artikel'!$A$1:$D$4762,4,FALSE)),\"-\",VLOOKUP(G1285,'AFM-Artikel'!$A$1:$D$4762,4,FALSE))","v":"-"},null,null,null,5,1,null,{"$f":"IF($G1285=\"\",\"\",VLOOKUP($G1285,'AFM-Artikel'!$A$1:$D$4762,3))","v":0}]
[null,{"$f":"IF(ISNA(VLOOKUP(G1286,'AFM-Artikel'!$A$1:$D$4762,4,FALSE)),\"-\",VLOOKUP(G1286,'AFM-Artikel'!$A$1:$D$4762,4,FALSE))","v":"-"},null,null,null,6,1,null,{"$f":"IF($G1286=\"\",\"\",VLOOKUP($G1286,'AFM-Artikel'!$A$1:$D$4762,3))","v":0}]
[null,{"$f":"IF(ISNA(VLOOKUP(G1287,'AFM-Artikel'!$A$1:$D$4762,4,FALSE)),\"-\",VLOOKUP(G1287,'AFM-Artikel'!$A$1:$D$4762,4,FALSE))","v":"-"},null,null,null,7,1,null,{"$f":"IF($G1287=\"\",\"\",VLOOKUP($G1287,'AFM-Artikel'!$A$1:$D$4762,3))","v":0}]
[null,{"$f":"IF(ISNA(VLOOKUP(G1288,'AFM-Artikel'!$A$1:$D$4762,4,FALSE)),\"-\",VLOOKUP(G1288,'AFM-Artikel'!$A$1:$D$4762,4,FALSE))","v":"-"},null,null,null,8,1,null,{"$f":"IF($G1288=\"\",\"\",VLOOKUP($G1288,'AFM-Artikel'!$A$1:$D$4762,3))","v":0}]
[null,{"$f":"IF(ISNA(VLOOKUP(G1289,'AFM-Artikel'!$A$1:$D$4762,4,FALSE)),\"-\",VLOOKUP(G1289,'AFM-Artikel'!$A$1:$D$4762,4,FALSE))","v":"-"},null,null,null,9,1,null,{"$f":"IF($G1289=\"\",\"\",VLOOKUP($G1289,'AFM-Artikel'!$A$1:$D$4762,3))","v":0}]
[null,{"$f":"IF(ISNA(VLOOKUP(G1290,'AFM-Artikel'!$A$1:$D$4762,4,FALSE)),\"-\",VLOOKUP(G1290,'AFM-Artikel'!$A$1:$D$4762,4,FALSE))","v":"-"},null,null,null,10,1,null,{"$f":"IF($G1290=\"\",\"\",VLOOKUP($G1290,'AFM-Artikel'!$A$1:$D$4762,3))","v":0}]
["Zusatzkabel-1",{"$f":"IF($G1291=\"\",\"\",VLOOKUP($G1291,'AFM-Artikel'!$A$1:$D$4762,2))","v":"zusätzliche Kabellänge 4pol-Steuerleitung"},null,null,null,null,5315,null,{"$f":"IF($G1291=\"\",\"\",VLOOKUP($G1291,'AFM-Artikel'!$A$1:$D$4762,3))","v":1.2075}]
["Beschriftung",{"$f":"IF($G1292=\"\",\"\",VLOOKUP($G1292,'AFM-Artikel'!$A$1:$D$4762,2))","v":"AFM  Beschriftung Taster 18x18 und 24x18"},null,null,null,null,5557,null,{"$f":"IF($G1292=\"\",\"\",VLOOKUP($G1292,'AFM-Artikel'!$A$1:$D$4762,3))","v":11.991},{"$f":"IF(Konfigurator!O84=\"Ja\",\"J\",\"N\")","v":"J"}]
["Zusatzkabel-Audio",{"$f":"IF($G1293=\"\",\"\",VLOOKUP($G1293,'AFM-Artikel'!$A$1:$D$4762,2))","v":"Nicht verfügbar!"},null,null,null,null,0,null,{"$f":"IF($G1293=\"\",\"\",VLOOKUP($G1293,'AFM-Artikel'!$A$1:$D$4762,3))","v":0}]
[]
[]
[]
[]
[]
[null,"AL1300_"]
["Taster 24x18","Auswählen!","AFM","DB",null,{"$f":"IF(Konfigurator!P$82=B1301,1,IF(Konfigurator!P$82=B1302,2,IF(Konfigurator!P$82=B1303,3,IF(Konfigurator!P$82=B1304,4,IF(Konfigurator!P$82=B1305,5,IF(Konfigurator!P$82=B1306,6,IF(Konfigurator!P$82=B1307,7,IF(Konfigurator!P$82=B1308,8,))))))))+IF(Konfigurator!P$82=B1309,9)+IF(Konfigurator!P$82=B1310,10)+IF(Konfigurator!P$82=E1300,0)","v":0},"Art.Nr.","TE","Liste","Kabel"]
[null,{"$f":"IF(ISNA(VLOOKUP(G1301,'AFM-Artikel'!$A$1:$D$4762,4,FALSE)),\"-\",VLOOKUP(G1301,'AFM-Artikel'!$A$1:$D$4762,4,FALSE))","v":"lötbar"},null,null,null,1,5784,8,{"$f":"IF($G1301=\"\",\"\",VLOOKUP($G1301,'AFM-Artikel'!$A$1:$D$4762,3))","v":43.827000000000005},"N"]
[null,{"$f":"IF(ISNA(VLOOKUP(G1302,'AFM-Artikel'!$A$1:$D$4762,4,FALSE)),\"-\",VLOOKUP(G1302,'AFM-Artikel'!$A$1:$D$4762,4,FALSE))","v":"offen 30cm"},null,null,null,2,5785,8,{"$f":"IF($G1302=\"\",\"\",VLOOKUP($G1302,'AFM-Artikel'!$A$1:$D$4762,3))","v":53.665500000000002},"J"]
[null,{"$f":"IF(ISNA(VLOOKUP(G1303,'AFM-Artikel'!$A$1:$D$4762,4,FALSE)),\"-\",VLOOKUP(G1303,'AFM-Artikel'!$A$1:$D$4762,4,FALSE))","v":"-"},null,null,null,3,1,null,{"$f":"IF($G1303=\"\",\"\",VLOOKUP($G1303,'AFM-Artikel'!$A$1:$D$4762,3))","v":0}]
[null,{"$f":"IF(ISNA(VLOOKUP(G1304,'AFM-Artikel'!$A$1:$D$4762,4,FALSE)),\"-\",VLOOKUP(G1304,'AFM-Artikel'!$A$1:$D$4762,4,FALSE))","v":"-"},null,null,null,4,1,null,{"$f":"IF($G1304=\"\",\"\",VLOOKUP($G1304,'AFM-Artikel'!$A$1:$D$4762,3))","v":0}]
[null,{"$f":"IF(ISNA(VLOOKUP(G1305,'AFM-Artikel'!$A$1:$D$4762,4,FALSE)),\"-\",VLOOKUP(G1305,'AFM-Artikel'!$A$1:$D$4762,4,FALSE))","v":"-"},null,null,null,5,1,null,{"$f":"IF($G1305=\"\",\"\",VLOOKUP($G1305,'AFM-Artikel'!$A$1:$D$4762,3))","v":0}]
[null,{"$f":"IF(ISNA(VLOOKUP(G1306,'AFM-Artikel'!$A$1:$D$4762,4,FALSE)),\"-\",VLOOKUP(G1306,'AFM-Artikel'!$A$1:$D$4762,4,FALSE))","v":"-"},null,null,null,6,1,null,{"$f":"IF($G1306=\"\",\"\",VLOOKUP($G1306,'AFM-Artikel'!$A$1:$D$4762,3))","v":0}]
[null,{"$f":"IF(ISNA(VLOOKUP(G1307,'AFM-Artikel'!$A$1:$D$4762,4,FALSE)),\"-\",VLOOKUP(G1307,'AFM-Artikel'!$A$1:$D$4762,4,FALSE))","v":"-"},null,null,null,7,1,null,{"$f":"IF($G1307=\"\",\"\",VLOOKUP($G1307,'AFM-Artikel'!$A$1:$D$4762,3))","v":0}]
[null,{"$f":"IF(ISNA(VLOOKUP(G1308,'AFM-Artikel'!$A$1:$D$4762,4,FALSE)),\"-\",VLOOKUP(G1308,'AFM-Artikel'!$A$1:$D$4762,4,FALSE))","v":"-"},null,null,null,8,1,null,{"$f":"IF($G1308=\"\",\"\",VLOOKUP($G1308,'AFM-Artikel'!$A$1:$D$4762,3))","v":0}]
[null,{"$f":"IF(ISNA(VLOOKUP(G1309,'AFM-Artikel'!$A$1:$D$4762,4,FALSE)),\"-\",VLOOKUP(G1309,'AFM-Artikel'!$A$1:$D$4762,4,FALSE))","v":"-"},null,null,null,9,1,null,{"$f":"IF($G1309=\"\",\"\",VLOOKUP($G1309,'AFM-Artikel'!$A$1:$D$4762,3))","v":0}]
[null,{"$f":"IF(ISNA(VLOOKUP(G1310,'AFM-Artikel'!$A$1:$D$4762,4,FALSE)),\"-\",VLOOKUP(G1310,'AFM-Artikel'!$A$1:$D$4762,4,FALSE))","v":"-"},null,null,null,10,1,null,{"$f":"IF($G1310=\"\",\"\",VLOOKUP($G1310,'AFM-Artikel'!$A$1:$D$4762,3))","v":0}]
["Zusatzkabel-1",{"$f":"IF($G1311=\"\",\"\",VLOOKUP($G1311,'AFM-Artikel'!$A$1:$D$4762,2))","v":"zusätzliche Kabellänge 4pol-Steuerleitung"},null,null,null,null,5315,null,{"$f":"IF($G1311=\"\",\"\",VLOOKUP($G1311,'AFM-Artikel'!$A$1:$D$4762,3))","v":1.2075}]
["Beschriftung",{"$f":"IF($G1312=\"\",\"\",VLOOKUP($G1312,'AFM-Artikel'!$A$1:$D$4762,2))","v":"AFM  Beschriftung Taster 18x18 und 24x18"},null,null,null,null,5557,null,{"$f":"IF($G1312=\"\",\"\",VLOOKUP($G1312,'AFM-Artikel'!$A$1:$D$4762,3))","v":11.991},{"$f":"IF(Konfigurator!Q84=\"Ja\",\"J\",\"N\")","v":"J"}]
["Zusatzkabel-Audio",{"$f":"IF($G1313=\"\",\"\",VLOOKUP($G1313,'AFM-Artikel'!$A$1:$D$4762,2))","v":"Nicht verfügbar!"},null,null,null,null,0,null,{"$f":"IF($G1313=\"\",\"\",VLOOKUP($G1313,'AFM-Artikel'!$A$1:$D$4762,3))","v":0}]
[]
[]
[]
[]
[]
[null,"AL1320_"]
["Frei 1320","Auswählen!","AFM","DB",null,{"$f":"IF(Konfigurator!R$82=B1321,1,IF(Konfigurator!R$82=B1322,2,IF(Konfigurator!R$82=B1323,3,IF(Konfigurator!R$82=B1324,4,IF(Konfigurator!R$82=B1325,5,IF(Konfigurator!R$82=B1326,6,IF(Konfigurator!R$82=B1327,7,IF(Konfigurator!R$82=B1328,8,))))))))+IF(Konfigurator!R$82=B1329,9)+IF(Konfigurator!R$82=B1330,10)+IF(Konfigurator!R$82=E1320,0)","v":0},"Art.Nr.","TE","Liste","Kabel"]
[null,{"$f":"IF(ISNA(VLOOKUP(G1321,'AFM-Artikel'!$A$1:$D$4762,4,FALSE)),\"-\",VLOOKUP(G1321,'AFM-Artikel'!$A$1:$D$4762,4,FALSE))","v":"-"},null,null,null,1,11321,null,{"$f":"IF($G1321=\"\",\"\",VLOOKUP($G1321,'AFM-Artikel'!$A$1:$D$4762,3))","v":62.464500000000008}]
[null,{"$f":"IF(ISNA(VLOOKUP(G1322,'AFM-Artikel'!$A$1:$D$4762,4,FALSE)),\"-\",VLOOKUP(G1322,'AFM-Artikel'!$A$1:$D$4762,4,FALSE))","v":"-"},null,null,null,2,11322,null,{"$f":"IF($G1322=\"\",\"\",VLOOKUP($G1322,'AFM-Artikel'!$A$1:$D$4762,3))","v":62.464500000000008}]
[null,{"$f":"IF(ISNA(VLOOKUP(G1323,'AFM-Artikel'!$A$1:$D$4762,4,FALSE)),\"-\",VLOOKUP(G1323,'AFM-Artikel'!$A$1:$D$4762,4,FALSE))","v":"-"},null,null,null,3,11323,null,{"$f":"IF($G1323=\"\",\"\",VLOOKUP($G1323,'AFM-Artikel'!$A$1:$D$4762,3))","v":62.464500000000008}]
[null,{"$f":"IF(ISNA(VLOOKUP(G1324,'AFM-Artikel'!$A$1:$D$4762,4,FALSE)),\"-\",VLOOKUP(G1324,'AFM-Artikel'!$A$1:$D$4762,4,FALSE))","v":"-"},null,null,null,4,11324,null,{"$f":"IF($G1324=\"\",\"\",VLOOKUP($G1324,'AFM-Artikel'!$A$1:$D$4762,3))","v":62.464500000000008}]
[null,{"$f":"IF(ISNA(VLOOKUP(G1325,'AFM-Artikel'!$A$1:$D$4762,4,FALSE)),\"-\",VLOOKUP(G1325,'AFM-Artikel'!$A$1:$D$4762,4,FALSE))","v":"-"},null,null,null,5,11325,null,{"$f":"IF($G1325=\"\",\"\",VLOOKUP($G1325,'AFM-Artikel'!$A$1:$D$4762,3))","v":62.464500000000008}]
[null,{"$f":"IF(ISNA(VLOOKUP(G1326,'AFM-Artikel'!$A$1:$D$4762,4,FALSE)),\"-\",VLOOKUP(G1326,'AFM-Artikel'!$A$1:$D$4762,4,FALSE))","v":"-"},null,null,null,6,11326,null,{"$f":"IF($G1326=\"\",\"\",VLOOKUP($G1326,'AFM-Artikel'!$A$1:$D$4762,3))","v":62.464500000000008}]
[null,{"$f":"IF(ISNA(VLOOKUP(G1327,'AFM-Artikel'!$A$1:$D$4762,4,FALSE)),\"-\",VLOOKUP(G1327,'AFM-Artikel'!$A$1:$D$4762,4,FALSE))","v":"-"},null,null,null,7,11327,null,{"$f":"IF($G1327=\"\",\"\",VLOOKUP($G1327,'AFM-Artikel'!$A$1:$D$4762,3))","v":62.464500000000008}]
[null,{"$f":"IF(ISNA(VLOOKUP(G1328,'AFM-Artikel'!$A$1:$D$4762,4,FALSE)),\"-\",VLOOKUP(G1328,'AFM-Artikel'!$A$1:$D$4762,4,FALSE))","v":"-"},null,null,null,8,11328,null,{"$f":"IF($G1328=\"\",\"\",VLOOKUP($G1328,'AFM-Artikel'!$A$1:$D$4762,3))","v":62.464500000000008}]
[null,{"$f":"IF(ISNA(VLOOKUP(G1329,'AFM-Artikel'!$A$1:$D$4762,4,FALSE)),\"-\",VLOOKUP(G1329,'AFM-Artikel'!$A$1:$D$4762,4,FALSE))","v":"-"},null,null,null,9,11329,null,{"$f":"IF($G1329=\"\",\"\",VLOOKUP($G1329,'AFM-Artikel'!$A$1:$D$4762,3))","v":62.464500000000008}]
[null,{"$f":"IF(ISNA(VLOOKUP(G1330,'AFM-Artikel'!$A$1:$D$4762,4,FALSE)),\"-\",VLOOKUP(G1330,'AFM-Artikel'!$A$1:$D$4762,4,FALSE))","v":"-"},null,null,null,10,11330,null,{"$f":"IF($G1330=\"\",\"\",VLOOKUP($G1330,'AFM-Artikel'!$A$1:$D$4762,3))","v":62.464500000000008}]
["Zusatzkabel-1",{"$f":"IF($G1331=\"\",\"\",VLOOKUP($G1331,'AFM-Artikel'!$A$1:$D$4762,2))","v":"Kabel 12p.Neutrik/Cat.5 Stecker 2,5m"},null,null,null,null,11331,null,{"$f":"IF($G1331=\"\",\"\",VLOOKUP($G1331,'AFM-Artikel'!$A$1:$D$4762,3))","v":62.464500000000008}]
["Zusatzkabel-2",{"$f":"IF($G1332=\"\",\"\",VLOOKUP($G1332,'AFM-Artikel'!$A$1:$D$4762,2))","v":"Kabel 12p.Neutrik/Cat.5 Stecker 2,5m"},null,null,null,null,11332,null,{"$f":"IF($G1332=\"\",\"\",VLOOKUP($G1332,'AFM-Artikel'!$A$1:$D$4762,3))","v":62.464500000000008}]
["Zusatzkabel-Audio",{"$f":"IF($G1333=\"\",\"\",VLOOKUP($G1333,'AFM-Artikel'!$A$1:$D$4762,2))","v":"Kabel 12p.Neutrik/Cat.5 Stecker 2,5m"},null,null,null,null,11333,null,{"$f":"IF($G1333=\"\",\"\",VLOOKUP($G1333,'AFM-Artikel'!$A$1:$D$4762,3))","v":62.464500000000008}]
[]
[]
[]
[]
[]
[null,"AL1340_"]
["Frei 1340","Auswählen!","AFM","DB",null,{"$f":"IF(Konfigurator!T$82=B1341,1,IF(Konfigurator!T$82=B1342,2,IF(Konfigurator!T$82=B1343,3,IF(Konfigurator!T$82=B1344,4,IF(Konfigurator!T$82=B1345,5,IF(Konfigurator!T$82=B1346,6,IF(Konfigurator!T$82=B1347,7,IF(Konfigurator!T$82=B1348,8,))))))))+IF(Konfigurator!T$82=B1349,9)+IF(Konfigurator!T$82=B1350,10)+IF(Konfigurator!T$82=E1340,0)","v":0},"Art.Nr.","TE","Liste","Kabel"]
[null,{"$f":"IF(ISNA(VLOOKUP(G1341,'AFM-Artikel'!$A$1:$D$4762,4,FALSE)),\"-\",VLOOKUP(G1341,'AFM-Artikel'!$A$1:$D$4762,4,FALSE))","v":"-"},null,null,null,1,11341,4,{"$f":"IF($G1341=\"\",\"\",VLOOKUP($G1341,'AFM-Artikel'!$A$1:$D$4762,3))","v":62.464500000000008},"N"]
[null,{"$f":"IF(ISNA(VLOOKUP(G1342,'AFM-Artikel'!$A$1:$D$4762,4,FALSE)),\"-\",VLOOKUP(G1342,'AFM-Artikel'!$A$1:$D$4762,4,FALSE))","v":"-"},null,null,null,2,11342,4,{"$f":"IF($G1342=\"\",\"\",VLOOKUP($G1342,'AFM-Artikel'!$A$1:$D$4762,3))","v":62.464500000000008},"J"]
[null,{"$f":"IF(ISNA(VLOOKUP(G1343,'AFM-Artikel'!$A$1:$D$4762,4,FALSE)),\"-\",VLOOKUP(G1343,'AFM-Artikel'!$A$1:$D$4762,4,FALSE))","v":"-"},null,null,null,3,11343,null,{"$f":"IF($G1343=\"\",\"\",VLOOKUP($G1343,'AFM-Artikel'!$A$1:$D$4762,3))","v":62.464500000000008}]
[null,{"$f":"IF(ISNA(VLOOKUP(G1344,'AFM-Artikel'!$A$1:$D$4762,4,FALSE)),\"-\",VLOOKUP(G1344,'AFM-Artikel'!$A$1:$D$4762,4,FALSE))","v":"-"},null,null,null,4,11344,null,{"$f":"IF($G1344=\"\",\"\",VLOOKUP($G1344,'AFM-Artikel'!$A$1:$D$4762,3))","v":62.464500000000008}]
[null,{"$f":"IF(ISNA(VLOOKUP(G1345,'AFM-Artikel'!$A$1:$D$4762,4,FALSE)),\"-\",VLOOKUP(G1345,'AFM-Artikel'!$A$1:$D$4762,4,FALSE))","v":"-"},null,null,null,5,11345,null,{"$f":"IF($G1345=\"\",\"\",VLOOKUP($G1345,'AFM-Artikel'!$A$1:$D$4762,3))","v":62.464500000000008}]
[null,{"$f":"IF(ISNA(VLOOKUP(G1346,'AFM-Artikel'!$A$1:$D$4762,4,FALSE)),\"-\",VLOOKUP(G1346,'AFM-Artikel'!$A$1:$D$4762,4,FALSE))","v":"-"},null,null,null,6,11346,null,{"$f":"IF($G1346=\"\",\"\",VLOOKUP($G1346,'AFM-Artikel'!$A$1:$D$4762,3))","v":62.464500000000008}]
[null,{"$f":"IF(ISNA(VLOOKUP(G1347,'AFM-Artikel'!$A$1:$D$4762,4,FALSE)),\"-\",VLOOKUP(G1347,'AFM-Artikel'!$A$1:$D$4762,4,FALSE))","v":"-"},null,null,null,7,11347,null,{"$f":"IF($G1347=\"\",\"\",VLOOKUP($G1347,'AFM-Artikel'!$A$1:$D$4762,3))","v":62.464500000000008}]
[null,{"$f":"IF(ISNA(VLOOKUP(G1348,'AFM-Artikel'!$A$1:$D$4762,4,FALSE)),\"-\",VLOOKUP(G1348,'AFM-Artikel'!$A$1:$D$4762,4,FALSE))","v":"-"},null,null,null,8,11348,null,{"$f":"IF($G1348=\"\",\"\",VLOOKUP($G1348,'AFM-Artikel'!$A$1:$D$4762,3))","v":62.464500000000008}]
[null,{"$f":"IF(ISNA(VLOOKUP(G1349,'AFM-Artikel'!$A$1:$D$4762,4,FALSE)),\"-\",VLOOKUP(G1349,'AFM-Artikel'!$A$1:$D$4762,4,FALSE))","v":"-"},null,null,null,9,11349,null,{"$f":"IF($G1349=\"\",\"\",VLOOKUP($G1349,'AFM-Artikel'!$A$1:$D$4762,3))","v":62.464500000000008}]
[null,{"$f":"IF(ISNA(VLOOKUP(G1350,'AFM-Artikel'!$A$1:$D$4762,4,FALSE)),\"-\",VLOOKUP(G1350,'AFM-Artikel'!$A$1:$D$4762,4,FALSE))","v":"-"},null,null,null,10,11350,null,{"$f":"IF($G1350=\"\",\"\",VLOOKUP($G1350,'AFM-Artikel'!$A$1:$D$4762,3))","v":62.464500000000008}]
["Zusatzkabel-1",{"$f":"IF($G1351=\"\",\"\",VLOOKUP($G1351,'AFM-Artikel'!$A$1:$D$4762,2))","v":"Kabel 12p.Neutrik/Cat.5 Stecker 2,5m"},null,null,null,null,11351,null,{"$f":"IF($G1351=\"\",\"\",VLOOKUP($G1351,'AFM-Artikel'!$A$1:$D$4762,3))","v":62.464500000000008}]
["Zusatzkabel-2",{"$f":"IF($G1352=\"\",\"\",VLOOKUP($G1352,'AFM-Artikel'!$A$1:$D$4762,2))","v":"Kabel 12p.Neutrik/Cat.5 Stecker 2,5m"},null,null,null,null,11352,null,{"$f":"IF($G1352=\"\",\"\",VLOOKUP($G1352,'AFM-Artikel'!$A$1:$D$4762,3))","v":62.464500000000008}]
["Zusatzkabel-Audio",{"$f":"IF($G1353=\"\",\"\",VLOOKUP($G1353,'AFM-Artikel'!$A$1:$D$4762,2))","v":"Kabel 12p.Neutrik/Cat.5 Stecker 2,5m"},null,null,null,null,11353,null,{"$f":"IF($G1353=\"\",\"\",VLOOKUP($G1353,'AFM-Artikel'!$A$1:$D$4762,3))","v":62.464500000000008}]
[]
[]
[]
[]
[]
[null,"AL1360_"]
["Frei 1360","Auswählen!","AFM","DB",null,{"$f":"IF(Konfigurator!V$82=B1361,1,IF(Konfigurator!V$82=B1362,2,IF(Konfigurator!V$82=B1363,3,IF(Konfigurator!V$82=B1364,4,IF(Konfigurator!V$82=B1365,5,IF(Konfigurator!V$82=B1366,6,IF(Konfigurator!V$82=B1367,7,IF(Konfigurator!V$82=B1368,8,))))))))+IF(Konfigurator!V$82=B1369,9)+IF(Konfigurator!V$82=B1370,10)+IF(Konfigurator!V$82=E1360,0)","v":0},"Art.Nr.","TE","Liste","Kabel"]
[null,{"$f":"IF(ISNA(VLOOKUP(G1361,'AFM-Artikel'!$A$1:$D$4762,4,FALSE)),\"-\",VLOOKUP(G1361,'AFM-Artikel'!$A$1:$D$4762,4,FALSE))","v":"-"},null,null,null,1,11361,4,{"$f":"IF($G1361=\"\",\"\",VLOOKUP($G1361,'AFM-Artikel'!$A$1:$D$4762,3))","v":62.464500000000008},"N"]
[null,{"$f":"IF(ISNA(VLOOKUP(G1362,'AFM-Artikel'!$A$1:$D$4762,4,FALSE)),\"-\",VLOOKUP(G1362,'AFM-Artikel'!$A$1:$D$4762,4,FALSE))","v":"-"},null,null,null,2,11362,4,{"$f":"IF($G1362=\"\",\"\",VLOOKUP($G1362,'AFM-Artikel'!$A$1:$D$4762,3))","v":62.464500000000008},"J"]
[null,{"$f":"IF(ISNA(VLOOKUP(G1363,'AFM-Artikel'!$A$1:$D$4762,4,FALSE)),\"-\",VLOOKUP(G1363,'AFM-Artikel'!$A$1:$D$4762,4,FALSE))","v":"-"},null,null,null,3,11363,null,{"$f":"IF($G1363=\"\",\"\",VLOOKUP($G1363,'AFM-Artikel'!$A$1:$D$4762,3))","v":62.464500000000008}]
[null,{"$f":"IF(ISNA(VLOOKUP(G1364,'AFM-Artikel'!$A$1:$D$4762,4,FALSE)),\"-\",VLOOKUP(G1364,'AFM-Artikel'!$A$1:$D$4762,4,FALSE))","v":"-"},null,null,null,4,11364,null,{"$f":"IF($G1364=\"\",\"\",VLOOKUP($G1364,'AFM-Artikel'!$A$1:$D$4762,3))","v":62.464500000000008}]
[null,{"$f":"IF(ISNA(VLOOKUP(G1365,'AFM-Artikel'!$A$1:$D$4762,4,FALSE)),\"-\",VLOOKUP(G1365,'AFM-Artikel'!$A$1:$D$4762,4,FALSE))","v":"-"},null,null,null,5,11365,null,{"$f":"IF($G1365=\"\",\"\",VLOOKUP($G1365,'AFM-Artikel'!$A$1:$D$4762,3))","v":62.464500000000008}]
[null,{"$f":"IF(ISNA(VLOOKUP(G1366,'AFM-Artikel'!$A$1:$D$4762,4,FALSE)),\"-\",VLOOKUP(G1366,'AFM-Artikel'!$A$1:$D$4762,4,FALSE))","v":"-"},null,null,null,6,11366,null,{"$f":"IF($G1366=\"\",\"\",VLOOKUP($G1366,'AFM-Artikel'!$A$1:$D$4762,3))","v":62.464500000000008}]
[null,{"$f":"IF(ISNA(VLOOKUP(G1367,'AFM-Artikel'!$A$1:$D$4762,4,FALSE)),\"-\",VLOOKUP(G1367,'AFM-Artikel'!$A$1:$D$4762,4,FALSE))","v":"-"},null,null,null,7,11367,null,{"$f":"IF($G1367=\"\",\"\",VLOOKUP($G1367,'AFM-Artikel'!$A$1:$D$4762,3))","v":62.464500000000008}]
[null,{"$f":"IF(ISNA(VLOOKUP(G1368,'AFM-Artikel'!$A$1:$D$4762,4,FALSE)),\"-\",VLOOKUP(G1368,'AFM-Artikel'!$A$1:$D$4762,4,FALSE))","v":"-"},null,null,null,8,11368,null,{"$f":"IF($G1368=\"\",\"\",VLOOKUP($G1368,'AFM-Artikel'!$A$1:$D$4762,3))","v":62.464500000000008}]
[null,{"$f":"IF(ISNA(VLOOKUP(G1369,'AFM-Artikel'!$A$1:$D$4762,4,FALSE)),\"-\",VLOOKUP(G1369,'AFM-Artikel'!$A$1:$D$4762,4,FALSE))","v":"-"},null,null,null,9,11369,null,{"$f":"IF($G1369=\"\",\"\",VLOOKUP($G1369,'AFM-Artikel'!$A$1:$D$4762,3))","v":62.464500000000008}]
[null,{"$f":"IF(ISNA(VLOOKUP(G1370,'AFM-Artikel'!$A$1:$D$4762,4,FALSE)),\"-\",VLOOKUP(G1370,'AFM-Artikel'!$A$1:$D$4762,4,FALSE))","v":"-"},null,null,null,10,11370,null,{"$f":"IF($G1370=\"\",\"\",VLOOKUP($G1370,'AFM-Artikel'!$A$1:$D$4762,3))","v":62.464500000000008}]
["Zusatzkabel-1",{"$f":"IF($G1371=\"\",\"\",VLOOKUP($G1371,'AFM-Artikel'!$A$1:$D$4762,2))","v":"Kabel 12p.Neutrik/Cat.5 Stecker 2,5m"},null,null,null,null,11371,null,{"$f":"IF($G1371=\"\",\"\",VLOOKUP($G1371,'AFM-Artikel'!$A$1:$D$4762,3))","v":62.464500000000008}]
["Zusatzkabel-2",{"$f":"IF($G1372=\"\",\"\",VLOOKUP($G1372,'AFM-Artikel'!$A$1:$D$4762,2))","v":"Kabel 12p.Neutrik/Cat.5 Stecker 2,5m"},null,null,null,null,11372,null,{"$f":"IF($G1372=\"\",\"\",VLOOKUP($G1372,'AFM-Artikel'!$A$1:$D$4762,3))","v":62.464500000000008}]
["Zusatzkabel-Audio",{"$f":"IF($G1373=\"\",\"\",VLOOKUP($G1373,'AFM-Artikel'!$A$1:$D$4762,2))","v":"Kabel 12p.Neutrik/Cat.5 Stecker 2,5m"},null,null,null,null,11373,null,{"$f":"IF($G1373=\"\",\"\",VLOOKUP($G1373,'AFM-Artikel'!$A$1:$D$4762,3))","v":62.464500000000008}]
[]
[]
[]
[]
[]
[null,"AL1380_"]
["Frei 1380","Auswählen!","AFM","DB",null,{"$f":"IF(Konfigurator!X$82=B1381,1,IF(Konfigurator!X$82=B1382,2,IF(Konfigurator!X$82=B1383,3,IF(Konfigurator!X$82=B1384,4,IF(Konfigurator!X$82=B1385,5,IF(Konfigurator!X$82=B1386,6,IF(Konfigurator!X$82=B1387,7,IF(Konfigurator!X$82=B1388,8,))))))))+IF(Konfigurator!X$82=B1389,9)+IF(Konfigurator!X$82=B1390,10)+IF(Konfigurator!X$82=E1380,0)","v":0},"Art.Nr.","TE","Liste","Kabel"]
[null,{"$f":"IF(ISNA(VLOOKUP(G1381,'AFM-Artikel'!$A$1:$D$4762,4,FALSE)),\"-\",VLOOKUP(G1381,'AFM-Artikel'!$A$1:$D$4762,4,FALSE))","v":"-"},null,null,null,1,11381,4,{"$f":"IF($G1381=\"\",\"\",VLOOKUP($G1381,'AFM-Artikel'!$A$1:$D$4762,3))","v":62.464500000000008},"N"]
[null,{"$f":"IF(ISNA(VLOOKUP(G1382,'AFM-Artikel'!$A$1:$D$4762,4,FALSE)),\"-\",VLOOKUP(G1382,'AFM-Artikel'!$A$1:$D$4762,4,FALSE))","v":"-"},null,null,null,2,11382,4,{"$f":"IF($G1382=\"\",\"\",VLOOKUP($G1382,'AFM-Artikel'!$A$1:$D$4762,3))","v":62.464500000000008},"J"]
[null,{"$f":"IF(ISNA(VLOOKUP(G1383,'AFM-Artikel'!$A$1:$D$4762,4,FALSE)),\"-\",VLOOKUP(G1383,'AFM-Artikel'!$A$1:$D$4762,4,FALSE))","v":"-"},null,null,null,3,11383,null,{"$f":"IF($G1383=\"\",\"\",VLOOKUP($G1383,'AFM-Artikel'!$A$1:$D$4762,3))","v":62.464500000000008}]
[null,{"$f":"IF(ISNA(VLOOKUP(G1384,'AFM-Artikel'!$A$1:$D$4762,4,FALSE)),\"-\",VLOOKUP(G1384,'AFM-Artikel'!$A$1:$D$4762,4,FALSE))","v":"-"},null,null,null,4,11384,null,{"$f":"IF($G1384=\"\",\"\",VLOOKUP($G1384,'AFM-Artikel'!$A$1:$D$4762,3))","v":62.464500000000008}]
[null,{"$f":"IF(ISNA(VLOOKUP(G1385,'AFM-Artikel'!$A$1:$D$4762,4,FALSE)),\"-\",VLOOKUP(G1385,'AFM-Artikel'!$A$1:$D$4762,4,FALSE))","v":"-"},null,null,null,5,11385,null,{"$f":"IF($G1385=\"\",\"\",VLOOKUP($G1385,'AFM-Artikel'!$A$1:$D$4762,3))","v":62.464500000000008}]
[null,{"$f":"IF(ISNA(VLOOKUP(G1386,'AFM-Artikel'!$A$1:$D$4762,4,FALSE)),\"-\",VLOOKUP(G1386,'AFM-Artikel'!$A$1:$D$4762,4,FALSE))","v":"-"},null,null,null,6,11386,null,{"$f":"IF($G1386=\"\",\"\",VLOOKUP($G1386,'AFM-Artikel'!$A$1:$D$4762,3))","v":62.464500000000008}]
[null,{"$f":"IF(ISNA(VLOOKUP(G1387,'AFM-Artikel'!$A$1:$D$4762,4,FALSE)),\"-\",VLOOKUP(G1387,'AFM-Artikel'!$A$1:$D$4762,4,FALSE))","v":"-"},null,null,null,7,11387,null,{"$f":"IF($G1387=\"\",\"\",VLOOKUP($G1387,'AFM-Artikel'!$A$1:$D$4762,3))","v":62.464500000000008}]
[null,{"$f":"IF(ISNA(VLOOKUP(G1388,'AFM-Artikel'!$A$1:$D$4762,4,FALSE)),\"-\",VLOOKUP(G1388,'AFM-Artikel'!$A$1:$D$4762,4,FALSE))","v":"-"},null,null,null,8,11388,null,{"$f":"IF($G1388=\"\",\"\",VLOOKUP($G1388,'AFM-Artikel'!$A$1:$D$4762,3))","v":62.464500000000008}]
[null,{"$f":"IF(ISNA(VLOOKUP(G1389,'AFM-Artikel'!$A$1:$D$4762,4,FALSE)),\"-\",VLOOKUP(G1389,'AFM-Artikel'!$A$1:$D$4762,4,FALSE))","v":"-"},null,null,null,9,11389,null,{"$f":"IF($G1389=\"\",\"\",VLOOKUP($G1389,'AFM-Artikel'!$A$1:$D$4762,3))","v":62.464500000000008}]
[null,{"$f":"IF(ISNA(VLOOKUP(G1390,'AFM-Artikel'!$A$1:$D$4762,4,FALSE)),\"-\",VLOOKUP(G1390,'AFM-Artikel'!$A$1:$D$4762,4,FALSE))","v":"-"},null,null,null,10,11390,null,{"$f":"IF($G1390=\"\",\"\",VLOOKUP($G1390,'AFM-Artikel'!$A$1:$D$4762,3))","v":62.464500000000008}]
["Zusatzkabel-1",{"$f":"IF($G1391=\"\",\"\",VLOOKUP($G1391,'AFM-Artikel'!$A$1:$D$4762,2))","v":"Kabel 12p.Neutrik/Cat.5 Stecker 2,5m"},null,null,null,null,11391,null,{"$f":"IF($G1391=\"\",\"\",VLOOKUP($G1391,'AFM-Artikel'!$A$1:$D$4762,3))","v":62.464500000000008}]
["Zusatzkabel-2",{"$f":"IF($G1392=\"\",\"\",VLOOKUP($G1392,'AFM-Artikel'!$A$1:$D$4762,2))","v":"Kabel 12p.Neutrik/Cat.5 Stecker 2,5m"},null,null,null,null,11392,null,{"$f":"IF($G1392=\"\",\"\",VLOOKUP($G1392,'AFM-Artikel'!$A$1:$D$4762,3))","v":62.464500000000008}]
["Zusatzkabel-Audio",{"$f":"IF($G1393=\"\",\"\",VLOOKUP($G1393,'AFM-Artikel'!$A$1:$D$4762,2))","v":"Kabel 12p.Neutrik/Cat.5 Stecker 2,5m"},null,null,null,null,11393,null,{"$f":"IF($G1393=\"\",\"\",VLOOKUP($G1393,'AFM-Artikel'!$A$1:$D$4762,3))","v":62.464500000000008}]
[]
[]
[]
[]
[]
[null,"AL1400_"]
["Frei 1400","Auswählen!","AFM","DB",null,{"$f":"IF(Konfigurator!B$92=B1401,1,IF(Konfigurator!B$92=B1402,2,IF(Konfigurator!B$92=B1403,3,IF(Konfigurator!B$92=B1404,4,IF(Konfigurator!B$92=B1405,5,IF(Konfigurator!B$92=B1406,6,IF(Konfigurator!B$92=B1407,7,IF(Konfigurator!B$92=B1408,8,))))))))+IF(Konfigurator!B$92=B1409,9)+IF(Konfigurator!B$92=B1410,10)+IF(Konfigurator!B$92=E1400,0)","v":0},"Art.Nr.","TE","Liste","Kabel"]
[null,{"$f":"IF(ISNA(VLOOKUP(G1401,'AFM-Artikel'!$A$1:$D$4762,4,FALSE)),\"-\",VLOOKUP(G1401,'AFM-Artikel'!$A$1:$D$4762,4,FALSE))","v":"-"},null,null,null,1,11401,4,{"$f":"IF($G1401=\"\",\"\",VLOOKUP($G1401,'AFM-Artikel'!$A$1:$D$4762,3))","v":62.464500000000008},"N"]
[null,{"$f":"IF(ISNA(VLOOKUP(G1402,'AFM-Artikel'!$A$1:$D$4762,4,FALSE)),\"-\",VLOOKUP(G1402,'AFM-Artikel'!$A$1:$D$4762,4,FALSE))","v":"-"},null,null,null,2,11402,4,{"$f":"IF($G1402=\"\",\"\",VLOOKUP($G1402,'AFM-Artikel'!$A$1:$D$4762,3))","v":62.464500000000008},"J"]
[null,{"$f":"IF(ISNA(VLOOKUP(G1403,'AFM-Artikel'!$A$1:$D$4762,4,FALSE)),\"-\",VLOOKUP(G1403,'AFM-Artikel'!$A$1:$D$4762,4,FALSE))","v":"-"},null,null,null,3,11403,null,{"$f":"IF($G1403=\"\",\"\",VLOOKUP($G1403,'AFM-Artikel'!$A$1:$D$4762,3))","v":62.464500000000008}]
[null,{"$f":"IF(ISNA(VLOOKUP(G1404,'AFM-Artikel'!$A$1:$D$4762,4,FALSE)),\"-\",VLOOKUP(G1404,'AFM-Artikel'!$A$1:$D$4762,4,FALSE))","v":"-"},null,null,null,4,11404,null,{"$f":"IF($G1404=\"\",\"\",VLOOKUP($G1404,'AFM-Artikel'!$A$1:$D$4762,3))","v":62.464500000000008}]
[null,{"$f":"IF(ISNA(VLOOKUP(G1405,'AFM-Artikel'!$A$1:$D$4762,4,FALSE)),\"-\",VLOOKUP(G1405,'AFM-Artikel'!$A$1:$D$4762,4,FALSE))","v":"-"},null,null,null,5,11405,null,{"$f":"IF($G1405=\"\",\"\",VLOOKUP($G1405,'AFM-Artikel'!$A$1:$D$4762,3))","v":62.464500000000008}]
[null,{"$f":"IF(ISNA(VLOOKUP(G1406,'AFM-Artikel'!$A$1:$D$4762,4,FALSE)),\"-\",VLOOKUP(G1406,'AFM-Artikel'!$A$1:$D$4762,4,FALSE))","v":"-"},null,null,null,6,11406,null,{"$f":"IF($G1406=\"\",\"\",VLOOKUP($G1406,'AFM-Artikel'!$A$1:$D$4762,3))","v":62.464500000000008}]
[null,{"$f":"IF(ISNA(VLOOKUP(G1407,'AFM-Artikel'!$A$1:$D$4762,4,FALSE)),\"-\",VLOOKUP(G1407,'AFM-Artikel'!$A$1:$D$4762,4,FALSE))","v":"-"},null,null,null,7,11407,null,{"$f":"IF($G1407=\"\",\"\",VLOOKUP($G1407,'AFM-Artikel'!$A$1:$D$4762,3))","v":62.464500000000008}]
[null,{"$f":"IF(ISNA(VLOOKUP(G1408,'AFM-Artikel'!$A$1:$D$4762,4,FALSE)),\"-\",VLOOKUP(G1408,'AFM-Artikel'!$A$1:$D$4762,4,FALSE))","v":"-"},null,null,null,8,11408,null,{"$f":"IF($G1408=\"\",\"\",VLOOKUP($G1408,'AFM-Artikel'!$A$1:$D$4762,3))","v":62.464500000000008}]
[null,{"$f":"IF(ISNA(VLOOKUP(G1409,'AFM-Artikel'!$A$1:$D$4762,4,FALSE)),\"-\",VLOOKUP(G1409,'AFM-Artikel'!$A$1:$D$4762,4,FALSE))","v":"-"},null,null,null,9,11409,null,{"$f":"IF($G1409=\"\",\"\",VLOOKUP($G1409,'AFM-Artikel'!$A$1:$D$4762,3))","v":62.464500000000008}]
[null,{"$f":"IF(ISNA(VLOOKUP(G1410,'AFM-Artikel'!$A$1:$D$4762,4,FALSE)),\"-\",VLOOKUP(G1410,'AFM-Artikel'!$A$1:$D$4762,4,FALSE))","v":"-"},null,null,null,10,11410,null,{"$f":"IF($G1410=\"\",\"\",VLOOKUP($G1410,'AFM-Artikel'!$A$1:$D$4762,3))","v":62.464500000000008}]
["Zusatzkabel-1",{"$f":"IF($G1411=\"\",\"\",VLOOKUP($G1411,'AFM-Artikel'!$A$1:$D$4762,2))","v":"Kabel 12p.Neutrik/Cat.5 Stecker 2,5m"},null,null,null,null,11411,null,{"$f":"IF($G1411=\"\",\"\",VLOOKUP($G1411,'AFM-Artikel'!$A$1:$D$4762,3))","v":62.464500000000008}]
["Zusatzkabel-2",{"$f":"IF($G1412=\"\",\"\",VLOOKUP($G1412,'AFM-Artikel'!$A$1:$D$4762,2))","v":"Kabel 12p.Neutrik/Cat.5 Stecker 2,5m"},null,null,null,null,11412,null,{"$f":"IF($G1412=\"\",\"\",VLOOKUP($G1412,'AFM-Artikel'!$A$1:$D$4762,3))","v":62.464500000000008}]
["Zusatzkabel-Audio",{"$f":"IF($G1413=\"\",\"\",VLOOKUP($G1413,'AFM-Artikel'!$A$1:$D$4762,2))","v":"Kabel 12p.Neutrik/Cat.5 Stecker 2,5m"},null,null,null,null,11413,null,{"$f":"IF($G1413=\"\",\"\",VLOOKUP($G1413,'AFM-Artikel'!$A$1:$D$4762,3))","v":62.464500000000008}]
[]
[]
[]
[]
[]
[null,"AL1420_"]
["Frei 1420","Auswählen!","AFM","DB",null,{"$f":"IF(Konfigurator!D$92=B1421,1,IF(Konfigurator!D$92=B1422,2,IF(Konfigurator!D$92=B1423,3,IF(Konfigurator!D$92=B1424,4,IF(Konfigurator!D$92=B1425,5,IF(Konfigurator!D$92=B1426,6,IF(Konfigurator!D$92=B1427,7,IF(Konfigurator!D$92=B1428,8,))))))))+IF(Konfigurator!D$92=B1429,9)+IF(Konfigurator!D$92=B1430,10)+IF(Konfigurator!D$92=E1420,0)","v":0},"Art.Nr.","TE","Liste","Kabel"]
[null,{"$f":"IF(ISNA(VLOOKUP(G1421,'AFM-Artikel'!$A$1:$D$4762,4,FALSE)),\"-\",VLOOKUP(G1421,'AFM-Artikel'!$A$1:$D$4762,4,FALSE))","v":"-"},null,null,null,1,11421,8,{"$f":"IF($G1421=\"\",\"\",VLOOKUP($G1421,'AFM-Artikel'!$A$1:$D$4762,3))","v":62.464500000000008},"N"]
[null,{"$f":"IF(ISNA(VLOOKUP(G1422,'AFM-Artikel'!$A$1:$D$4762,4,FALSE)),\"-\",VLOOKUP(G1422,'AFM-Artikel'!$A$1:$D$4762,4,FALSE))","v":"-"},null,null,null,2,11422,8,{"$f":"IF($G1422=\"\",\"\",VLOOKUP($G1422,'AFM-Artikel'!$A$1:$D$4762,3))","v":62.464500000000008},"J"]
[null,{"$f":"IF(ISNA(VLOOKUP(G1423,'AFM-Artikel'!$A$1:$D$4762,4,FALSE)),\"-\",VLOOKUP(G1423,'AFM-Artikel'!$A$1:$D$4762,4,FALSE))","v":"-"},null,null,null,3,11423,8,{"$f":"IF($G1423=\"\",\"\",VLOOKUP($G1423,'AFM-Artikel'!$A$1:$D$4762,3))","v":62.464500000000008}]
[null,{"$f":"IF(ISNA(VLOOKUP(G1424,'AFM-Artikel'!$A$1:$D$4762,4,FALSE)),\"-\",VLOOKUP(G1424,'AFM-Artikel'!$A$1:$D$4762,4,FALSE))","v":"-"},null,null,null,4,11424,8,{"$f":"IF($G1424=\"\",\"\",VLOOKUP($G1424,'AFM-Artikel'!$A$1:$D$4762,3))","v":62.464500000000008}]
[null,{"$f":"IF(ISNA(VLOOKUP(G1425,'AFM-Artikel'!$A$1:$D$4762,4,FALSE)),\"-\",VLOOKUP(G1425,'AFM-Artikel'!$A$1:$D$4762,4,FALSE))","v":"-"},null,null,null,5,11425,8,{"$f":"IF($G1425=\"\",\"\",VLOOKUP($G1425,'AFM-Artikel'!$A$1:$D$4762,3))","v":62.464500000000008}]
[null,{"$f":"IF(ISNA(VLOOKUP(G1426,'AFM-Artikel'!$A$1:$D$4762,4,FALSE)),\"-\",VLOOKUP(G1426,'AFM-Artikel'!$A$1:$D$4762,4,FALSE))","v":"-"},null,null,null,6,11426,8,{"$f":"IF($G1426=\"\",\"\",VLOOKUP($G1426,'AFM-Artikel'!$A$1:$D$4762,3))","v":62.464500000000008}]
[null,{"$f":"IF(ISNA(VLOOKUP(G1427,'AFM-Artikel'!$A$1:$D$4762,4,FALSE)),\"-\",VLOOKUP(G1427,'AFM-Artikel'!$A$1:$D$4762,4,FALSE))","v":"-"},null,null,null,7,11427,8,{"$f":"IF($G1427=\"\",\"\",VLOOKUP($G1427,'AFM-Artikel'!$A$1:$D$4762,3))","v":62.464500000000008}]
[null,{"$f":"IF(ISNA(VLOOKUP(G1428,'AFM-Artikel'!$A$1:$D$4762,4,FALSE)),\"-\",VLOOKUP(G1428,'AFM-Artikel'!$A$1:$D$4762,4,FALSE))","v":"-"},null,null,null,8,11428,8,{"$f":"IF($G1428=\"\",\"\",VLOOKUP($G1428,'AFM-Artikel'!$A$1:$D$4762,3))","v":62.464500000000008}]
[null,{"$f":"IF(ISNA(VLOOKUP(G1429,'AFM-Artikel'!$A$1:$D$4762,4,FALSE)),\"-\",VLOOKUP(G1429,'AFM-Artikel'!$A$1:$D$4762,4,FALSE))","v":"-"},null,null,null,9,11429,8,{"$f":"IF($G1429=\"\",\"\",VLOOKUP($G1429,'AFM-Artikel'!$A$1:$D$4762,3))","v":62.464500000000008}]
[null,{"$f":"IF(ISNA(VLOOKUP(G1430,'AFM-Artikel'!$A$1:$D$4762,4,FALSE)),\"-\",VLOOKUP(G1430,'AFM-Artikel'!$A$1:$D$4762,4,FALSE))","v":"-"},null,null,null,10,11430,8,{"$f":"IF($G1430=\"\",\"\",VLOOKUP($G1430,'AFM-Artikel'!$A$1:$D$4762,3))","v":62.464500000000008}]
["Zusatzkabel-1",{"$f":"IF($G1431=\"\",\"\",VLOOKUP($G1431,'AFM-Artikel'!$A$1:$D$4762,2))","v":"Kabel 12p.Neutrik/Cat.5 Stecker 2,5m"},null,null,null,null,11431,null,{"$f":"IF($G1431=\"\",\"\",VLOOKUP($G1431,'AFM-Artikel'!$A$1:$D$4762,3))","v":62.464500000000008}]
["Zusatzkabel-2",{"$f":"IF($G1432=\"\",\"\",VLOOKUP($G1432,'AFM-Artikel'!$A$1:$D$4762,2))","v":"Kabel 12p.Neutrik/Cat.5 Stecker 2,5m"},null,null,null,null,11432,null,{"$f":"IF($G1432=\"\",\"\",VLOOKUP($G1432,'AFM-Artikel'!$A$1:$D$4762,3))","v":62.464500000000008}]
["Zusatzkabel-Audio",{"$f":"IF($G1433=\"\",\"\",VLOOKUP($G1433,'AFM-Artikel'!$A$1:$D$4762,2))","v":"Kabel 12p.Neutrik/Cat.5 Stecker 2,5m"},null,null,null,null,11433,null,{"$f":"IF($G1433=\"\",\"\",VLOOKUP($G1433,'AFM-Artikel'!$A$1:$D$4762,3))","v":62.464500000000008}]
[]
[]
[]
[]
[]
[null,"AL1440_"]
["Durchf. RU","Auswählen!","AFM","DB",null,{"$f":"IF(Konfigurator!F$92=B1441,1,IF(Konfigurator!F$92=B1442,2,IF(Konfigurator!F$92=B1443,3,IF(Konfigurator!F$92=B1444,4,IF(Konfigurator!F$92=B1445,5,IF(Konfigurator!F$92=B1446,6,IF(Konfigurator!F$92=B1447,7,IF(Konfigurator!F$92=B1448,8,))))))))+IF(Konfigurator!F$92=B1449,9)+IF(Konfigurator!F$92=B1450,10)+IF(Konfigurator!F$92=E1440,0)","v":1},"Art.Nr.","TE","Liste","Kabel"]
[null,{"$f":"IF(ISNA(VLOOKUP(G1441,'AFM-Artikel'!$A$1:$D$4762,4,FALSE)),\"-\",VLOOKUP(G1441,'AFM-Artikel'!$A$1:$D$4762,4,FALSE))","v":"Durchf. Ende Ru"},null,null,null,1,5724,4,{"$f":"IF($G1441=\"\",\"\",VLOOKUP($G1441,'AFM-Artikel'!$A$1:$D$4762,3))","v":7.5810000000000004},"N"]
[null,{"$f":"IF(ISNA(VLOOKUP(G1442,'AFM-Artikel'!$A$1:$D$4762,4,FALSE)),\"-\",VLOOKUP(G1442,'AFM-Artikel'!$A$1:$D$4762,4,FALSE))","v":"-"},null,null,null,2,1,null,{"$f":"IF($G1442=\"\",\"\",VLOOKUP($G1442,'AFM-Artikel'!$A$1:$D$4762,3))","v":0}]
[null,{"$f":"IF(ISNA(VLOOKUP(G1443,'AFM-Artikel'!$A$1:$D$4762,4,FALSE)),\"-\",VLOOKUP(G1443,'AFM-Artikel'!$A$1:$D$4762,4,FALSE))","v":"-"},null,null,null,3,1,null,{"$f":"IF($G1443=\"\",\"\",VLOOKUP($G1443,'AFM-Artikel'!$A$1:$D$4762,3))","v":0}]
[null,{"$f":"IF(ISNA(VLOOKUP(G1444,'AFM-Artikel'!$A$1:$D$4762,4,FALSE)),\"-\",VLOOKUP(G1444,'AFM-Artikel'!$A$1:$D$4762,4,FALSE))","v":"-"},null,null,null,4,1,null,{"$f":"IF($G1444=\"\",\"\",VLOOKUP($G1444,'AFM-Artikel'!$A$1:$D$4762,3))","v":0}]
[null,{"$f":"IF(ISNA(VLOOKUP(G1445,'AFM-Artikel'!$A$1:$D$4762,4,FALSE)),\"-\",VLOOKUP(G1445,'AFM-Artikel'!$A$1:$D$4762,4,FALSE))","v":"-"},null,null,null,5,1,null,{"$f":"IF($G1445=\"\",\"\",VLOOKUP($G1445,'AFM-Artikel'!$A$1:$D$4762,3))","v":0}]
[null,{"$f":"IF(ISNA(VLOOKUP(G1446,'AFM-Artikel'!$A$1:$D$4762,4,FALSE)),\"-\",VLOOKUP(G1446,'AFM-Artikel'!$A$1:$D$4762,4,FALSE))","v":"-"},null,null,null,6,1,null,{"$f":"IF($G1446=\"\",\"\",VLOOKUP($G1446,'AFM-Artikel'!$A$1:$D$4762,3))","v":0}]
[null,{"$f":"IF(ISNA(VLOOKUP(G1447,'AFM-Artikel'!$A$1:$D$4762,4,FALSE)),\"-\",VLOOKUP(G1447,'AFM-Artikel'!$A$1:$D$4762,4,FALSE))","v":"-"},null,null,null,7,1,null,{"$f":"IF($G1447=\"\",\"\",VLOOKUP($G1447,'AFM-Artikel'!$A$1:$D$4762,3))","v":0}]
[null,{"$f":"IF(ISNA(VLOOKUP(G1448,'AFM-Artikel'!$A$1:$D$4762,4,FALSE)),\"-\",VLOOKUP(G1448,'AFM-Artikel'!$A$1:$D$4762,4,FALSE))","v":"-"},null,null,null,8,1,null,{"$f":"IF($G1448=\"\",\"\",VLOOKUP($G1448,'AFM-Artikel'!$A$1:$D$4762,3))","v":0}]
[null,{"$f":"IF(ISNA(VLOOKUP(G1449,'AFM-Artikel'!$A$1:$D$4762,4,FALSE)),\"-\",VLOOKUP(G1449,'AFM-Artikel'!$A$1:$D$4762,4,FALSE))","v":"-"},null,null,null,9,1,null,{"$f":"IF($G1449=\"\",\"\",VLOOKUP($G1449,'AFM-Artikel'!$A$1:$D$4762,3))","v":0}]
[null,{"$f":"IF(ISNA(VLOOKUP(G1450,'AFM-Artikel'!$A$1:$D$4762,4,FALSE)),\"-\",VLOOKUP(G1450,'AFM-Artikel'!$A$1:$D$4762,4,FALSE))","v":"-"},null,null,null,10,1,null,{"$f":"IF($G1450=\"\",\"\",VLOOKUP($G1450,'AFM-Artikel'!$A$1:$D$4762,3))","v":0}]
["Zusatzkabel-1",{"$f":"IF($G1451=\"\",\"\",VLOOKUP($G1451,'AFM-Artikel'!$A$1:$D$4762,2))","v":"Nicht verfügbar!"},null,null,null,null,0,null,{"$f":"IF($G1451=\"\",\"\",VLOOKUP($G1451,'AFM-Artikel'!$A$1:$D$4762,3))","v":0}]
["Zusatzkabel-2",{"$f":"IF($G1452=\"\",\"\",VLOOKUP($G1452,'AFM-Artikel'!$A$1:$D$4762,2))","v":"Nicht verfügbar!"},null,null,null,null,0,null,{"$f":"IF($G1452=\"\",\"\",VLOOKUP($G1452,'AFM-Artikel'!$A$1:$D$4762,3))","v":0}]
["Zusatzkabel-Audio",{"$f":"IF($G1453=\"\",\"\",VLOOKUP($G1453,'AFM-Artikel'!$A$1:$D$4762,2))","v":"Nicht verfügbar!"},null,null,null,null,0,null,{"$f":"IF($G1453=\"\",\"\",VLOOKUP($G1453,'AFM-Artikel'!$A$1:$D$4762,3))","v":0}]
[]
[]
[]
[]
[]
[null,"AL1460_"]
["Durchf. LU/RO","Auswählen!","AFM","DB",null,{"$f":"IF(Konfigurator!H$92=B1461,1,IF(Konfigurator!H$92=B1462,2,IF(Konfigurator!H$92=B1463,3,IF(Konfigurator!H$92=B1464,4,IF(Konfigurator!H$92=B1465,5,IF(Konfigurator!H$92=B1466,6,IF(Konfigurator!H$92=B1467,7,IF(Konfigurator!H$92=B1468,8,))))))))+IF(Konfigurator!H$92=B1469,9)+IF(Konfigurator!H$92=B1470,10)+IF(Konfigurator!H$92=E1460,0)","v":1},"Art.Nr.","TE","Liste","Kabel"]
[null,{"$f":"IF(ISNA(VLOOKUP(G1461,'AFM-Artikel'!$A$1:$D$4762,4,FALSE)),\"-\",VLOOKUP(G1461,'AFM-Artikel'!$A$1:$D$4762,4,FALSE))","v":"Durchf. Mitte Lu/Ro"},null,null,null,1,5721,4,{"$f":"IF($G1461=\"\",\"\",VLOOKUP($G1461,'AFM-Artikel'!$A$1:$D$4762,3))","v":7.5810000000000004},"N"]
[null,{"$f":"IF(ISNA(VLOOKUP(G1462,'AFM-Artikel'!$A$1:$D$4762,4,FALSE)),\"-\",VLOOKUP(G1462,'AFM-Artikel'!$A$1:$D$4762,4,FALSE))","v":"-"},null,null,null,2,1,null,{"$f":"IF($G1462=\"\",\"\",VLOOKUP($G1462,'AFM-Artikel'!$A$1:$D$4762,3))","v":0}]
[null,{"$f":"IF(ISNA(VLOOKUP(G1463,'AFM-Artikel'!$A$1:$D$4762,4,FALSE)),\"-\",VLOOKUP(G1463,'AFM-Artikel'!$A$1:$D$4762,4,FALSE))","v":"-"},null,null,null,3,1,null,{"$f":"IF($G1463=\"\",\"\",VLOOKUP($G1463,'AFM-Artikel'!$A$1:$D$4762,3))","v":0}]
[null,{"$f":"IF(ISNA(VLOOKUP(G1464,'AFM-Artikel'!$A$1:$D$4762,4,FALSE)),\"-\",VLOOKUP(G1464,'AFM-Artikel'!$A$1:$D$4762,4,FALSE))","v":"-"},null,null,null,4,1,null,{"$f":"IF($G1464=\"\",\"\",VLOOKUP($G1464,'AFM-Artikel'!$A$1:$D$4762,3))","v":0}]
[null,{"$f":"IF(ISNA(VLOOKUP(G1465,'AFM-Artikel'!$A$1:$D$4762,4,FALSE)),\"-\",VLOOKUP(G1465,'AFM-Artikel'!$A$1:$D$4762,4,FALSE))","v":"-"},null,null,null,5,1,null,{"$f":"IF($G1465=\"\",\"\",VLOOKUP($G1465,'AFM-Artikel'!$A$1:$D$4762,3))","v":0}]
[null,{"$f":"IF(ISNA(VLOOKUP(G1466,'AFM-Artikel'!$A$1:$D$4762,4,FALSE)),\"-\",VLOOKUP(G1466,'AFM-Artikel'!$A$1:$D$4762,4,FALSE))","v":"-"},null,null,null,6,1,null,{"$f":"IF($G1466=\"\",\"\",VLOOKUP($G1466,'AFM-Artikel'!$A$1:$D$4762,3))","v":0}]
[null,{"$f":"IF(ISNA(VLOOKUP(G1467,'AFM-Artikel'!$A$1:$D$4762,4,FALSE)),\"-\",VLOOKUP(G1467,'AFM-Artikel'!$A$1:$D$4762,4,FALSE))","v":"-"},null,null,null,7,1,null,{"$f":"IF($G1467=\"\",\"\",VLOOKUP($G1467,'AFM-Artikel'!$A$1:$D$4762,3))","v":0}]
[null,{"$f":"IF(ISNA(VLOOKUP(G1468,'AFM-Artikel'!$A$1:$D$4762,4,FALSE)),\"-\",VLOOKUP(G1468,'AFM-Artikel'!$A$1:$D$4762,4,FALSE))","v":"-"},null,null,null,8,1,null,{"$f":"IF($G1468=\"\",\"\",VLOOKUP($G1468,'AFM-Artikel'!$A$1:$D$4762,3))","v":0}]
[null,{"$f":"IF(ISNA(VLOOKUP(G1469,'AFM-Artikel'!$A$1:$D$4762,4,FALSE)),\"-\",VLOOKUP(G1469,'AFM-Artikel'!$A$1:$D$4762,4,FALSE))","v":"-"},null,null,null,9,1,null,{"$f":"IF($G1469=\"\",\"\",VLOOKUP($G1469,'AFM-Artikel'!$A$1:$D$4762,3))","v":0}]
[null,{"$f":"IF(ISNA(VLOOKUP(G1470,'AFM-Artikel'!$A$1:$D$4762,4,FALSE)),\"-\",VLOOKUP(G1470,'AFM-Artikel'!$A$1:$D$4762,4,FALSE))","v":"-"},null,null,null,10,1,null,{"$f":"IF($G1470=\"\",\"\",VLOOKUP($G1470,'AFM-Artikel'!$A$1:$D$4762,3))","v":0}]
["Zusatzkabel-1",{"$f":"IF($G1471=\"\",\"\",VLOOKUP($G1471,'AFM-Artikel'!$A$1:$D$4762,2))","v":"Nicht verfügbar!"},null,null,null,null,0,null,{"$f":"IF($G1471=\"\",\"\",VLOOKUP($G1471,'AFM-Artikel'!$A$1:$D$4762,3))","v":0}]
["Zusatzkabel-2",{"$f":"IF($G1472=\"\",\"\",VLOOKUP($G1472,'AFM-Artikel'!$A$1:$D$4762,2))","v":"Nicht verfügbar!"},null,null,null,null,0,null,{"$f":"IF($G1472=\"\",\"\",VLOOKUP($G1472,'AFM-Artikel'!$A$1:$D$4762,3))","v":0}]
["Zusatzkabel-Audio",{"$f":"IF($G1473=\"\",\"\",VLOOKUP($G1473,'AFM-Artikel'!$A$1:$D$4762,2))","v":"Nicht verfügbar!"},null,null,null,null,0,null,{"$f":"IF($G1473=\"\",\"\",VLOOKUP($G1473,'AFM-Artikel'!$A$1:$D$4762,3))","v":0}]
[]
[]
[]
[]
[]
[null,"AL1480_"]
["Durchf. LO/RU","Auswählen!","AFM","DB",null,{"$f":"IF(Konfigurator!J$92=B1481,1,IF(Konfigurator!J$92=B1482,2,IF(Konfigurator!J$92=B1483,3,IF(Konfigurator!J$92=B1484,4,IF(Konfigurator!J$92=B1485,5,IF(Konfigurator!J$92=B1486,6,IF(Konfigurator!J$92=B1487,7,IF(Konfigurator!J$92=B1488,8,))))))))+IF(Konfigurator!J$92=B1489,9)+IF(Konfigurator!J$92=B1490,10)+IF(Konfigurator!J$92=E1480,0)","v":1},"Art.Nr.","TE","Liste","Kabel"]
[null,{"$f":"IF(ISNA(VLOOKUP(G1481,'AFM-Artikel'!$A$1:$D$4762,4,FALSE)),\"-\",VLOOKUP(G1481,'AFM-Artikel'!$A$1:$D$4762,4,FALSE))","v":"Durchf. Mitte Lo/Ru"},null,null,null,1,5722,4,{"$f":"IF($G1481=\"\",\"\",VLOOKUP($G1481,'AFM-Artikel'!$A$1:$D$4762,3))","v":7.5810000000000004},"N"]
[null,{"$f":"IF(ISNA(VLOOKUP(G1482,'AFM-Artikel'!$A$1:$D$4762,4,FALSE)),\"-\",VLOOKUP(G1482,'AFM-Artikel'!$A$1:$D$4762,4,FALSE))","v":"-"},null,null,null,2,1,null,{"$f":"IF($G1482=\"\",\"\",VLOOKUP($G1482,'AFM-Artikel'!$A$1:$D$4762,3))","v":0}]
[null,{"$f":"IF(ISNA(VLOOKUP(G1483,'AFM-Artikel'!$A$1:$D$4762,4,FALSE)),\"-\",VLOOKUP(G1483,'AFM-Artikel'!$A$1:$D$4762,4,FALSE))","v":"-"},null,null,null,3,1,null,{"$f":"IF($G1483=\"\",\"\",VLOOKUP($G1483,'AFM-Artikel'!$A$1:$D$4762,3))","v":0}]
[null,{"$f":"IF(ISNA(VLOOKUP(G1484,'AFM-Artikel'!$A$1:$D$4762,4,FALSE)),\"-\",VLOOKUP(G1484,'AFM-Artikel'!$A$1:$D$4762,4,FALSE))","v":"-"},null,null,null,4,1,null,{"$f":"IF($G1484=\"\",\"\",VLOOKUP($G1484,'AFM-Artikel'!$A$1:$D$4762,3))","v":0}]
[null,{"$f":"IF(ISNA(VLOOKUP(G1485,'AFM-Artikel'!$A$1:$D$4762,4,FALSE)),\"-\",VLOOKUP(G1485,'AFM-Artikel'!$A$1:$D$4762,4,FALSE))","v":"-"},null,null,null,5,1,null,{"$f":"IF($G1485=\"\",\"\",VLOOKUP($G1485,'AFM-Artikel'!$A$1:$D$4762,3))","v":0}]
[null,{"$f":"IF(ISNA(VLOOKUP(G1486,'AFM-Artikel'!$A$1:$D$4762,4,FALSE)),\"-\",VLOOKUP(G1486,'AFM-Artikel'!$A$1:$D$4762,4,FALSE))","v":"-"},null,null,null,6,1,null,{"$f":"IF($G1486=\"\",\"\",VLOOKUP($G1486,'AFM-Artikel'!$A$1:$D$4762,3))","v":0}]
[null,{"$f":"IF(ISNA(VLOOKUP(G1487,'AFM-Artikel'!$A$1:$D$4762,4,FALSE)),\"-\",VLOOKUP(G1487,'AFM-Artikel'!$A$1:$D$4762,4,FALSE))","v":"-"},null,null,null,7,1,null,{"$f":"IF($G1487=\"\",\"\",VLOOKUP($G1487,'AFM-Artikel'!$A$1:$D$4762,3))","v":0}]
[null,{"$f":"IF(ISNA(VLOOKUP(G1488,'AFM-Artikel'!$A$1:$D$4762,4,FALSE)),\"-\",VLOOKUP(G1488,'AFM-Artikel'!$A$1:$D$4762,4,FALSE))","v":"-"},null,null,null,8,1,null,{"$f":"IF($G1488=\"\",\"\",VLOOKUP($G1488,'AFM-Artikel'!$A$1:$D$4762,3))","v":0}]
[null,{"$f":"IF(ISNA(VLOOKUP(G1489,'AFM-Artikel'!$A$1:$D$4762,4,FALSE)),\"-\",VLOOKUP(G1489,'AFM-Artikel'!$A$1:$D$4762,4,FALSE))","v":"-"},null,null,null,9,1,null,{"$f":"IF($G1489=\"\",\"\",VLOOKUP($G1489,'AFM-Artikel'!$A$1:$D$4762,3))","v":0}]
[null,{"$f":"IF(ISNA(VLOOKUP(G1490,'AFM-Artikel'!$A$1:$D$4762,4,FALSE)),\"-\",VLOOKUP(G1490,'AFM-Artikel'!$A$1:$D$4762,4,FALSE))","v":"-"},null,null,null,10,1,null,{"$f":"IF($G1490=\"\",\"\",VLOOKUP($G1490,'AFM-Artikel'!$A$1:$D$4762,3))","v":0}]
["Zusatzkabel-1",{"$f":"IF($G1491=\"\",\"\",VLOOKUP($G1491,'AFM-Artikel'!$A$1:$D$4762,2))","v":"Nicht verfügbar!"},null,null,null,null,0,null,{"$f":"IF($G1491=\"\",\"\",VLOOKUP($G1491,'AFM-Artikel'!$A$1:$D$4762,3))","v":0}]
["Zusatzkabel-2",{"$f":"IF($G1492=\"\",\"\",VLOOKUP($G1492,'AFM-Artikel'!$A$1:$D$4762,2))","v":"Nicht verfügbar!"},null,null,null,null,0,null,{"$f":"IF($G1492=\"\",\"\",VLOOKUP($G1492,'AFM-Artikel'!$A$1:$D$4762,3))","v":0}]
["Zusatzkabel-Audio",{"$f":"IF($G1493=\"\",\"\",VLOOKUP($G1493,'AFM-Artikel'!$A$1:$D$4762,2))","v":"Nicht verfügbar!"},null,null,null,null,0,null,{"$f":"IF($G1493=\"\",\"\",VLOOKUP($G1493,'AFM-Artikel'!$A$1:$D$4762,3))","v":0}]
[]
[]
[]
[]
[]
[null,"AL1500_"]
["Durchf. LU","Auswählen!","AFM","DB",null,{"$f":"IF(Konfigurator!L$92=B1501,1,IF(Konfigurator!L$92=B1502,2,IF(Konfigurator!L$92=B1503,3,IF(Konfigurator!L$92=B1504,4,IF(Konfigurator!L$92=B1505,5,IF(Konfigurator!L$92=B1506,6,IF(Konfigurator!L$92=B1507,7,IF(Konfigurator!L$92=B1508,8,))))))))+IF(Konfigurator!L$92=B1509,9)+IF(Konfigurator!L$92=B1510,10)+IF(Konfigurator!L$92=E1500,0)","v":1},"Art.Nr.","TE","Liste","Kabel"]
[null,{"$f":"IF(ISNA(VLOOKUP(G1501,'AFM-Artikel'!$A$1:$D$4762,4,FALSE)),\"-\",VLOOKUP(G1501,'AFM-Artikel'!$A$1:$D$4762,4,FALSE))","v":"Durchf. Ende Lu"},null,null,null,1,5723,4,{"$f":"IF($G1501=\"\",\"\",VLOOKUP($G1501,'AFM-Artikel'!$A$1:$D$4762,3))","v":7.5810000000000004},"N"]
[null,{"$f":"IF(ISNA(VLOOKUP(G1502,'AFM-Artikel'!$A$1:$D$4762,4,FALSE)),\"-\",VLOOKUP(G1502,'AFM-Artikel'!$A$1:$D$4762,4,FALSE))","v":"-"},null,null,null,2,1,null,{"$f":"IF($G1502=\"\",\"\",VLOOKUP($G1502,'AFM-Artikel'!$A$1:$D$4762,3))","v":0}]
[null,{"$f":"IF(ISNA(VLOOKUP(G1503,'AFM-Artikel'!$A$1:$D$4762,4,FALSE)),\"-\",VLOOKUP(G1503,'AFM-Artikel'!$A$1:$D$4762,4,FALSE))","v":"-"},null,null,null,3,1,null,{"$f":"IF($G1503=\"\",\"\",VLOOKUP($G1503,'AFM-Artikel'!$A$1:$D$4762,3))","v":0}]
[null,{"$f":"IF(ISNA(VLOOKUP(G1504,'AFM-Artikel'!$A$1:$D$4762,4,FALSE)),\"-\",VLOOKUP(G1504,'AFM-Artikel'!$A$1:$D$4762,4,FALSE))","v":"-"},null,null,null,4,1,null,{"$f":"IF($G1504=\"\",\"\",VLOOKUP($G1504,'AFM-Artikel'!$A$1:$D$4762,3))","v":0}]
[null,{"$f":"IF(ISNA(VLOOKUP(G1505,'AFM-Artikel'!$A$1:$D$4762,4,FALSE)),\"-\",VLOOKUP(G1505,'AFM-Artikel'!$A$1:$D$4762,4,FALSE))","v":"-"},null,null,null,5,1,null,{"$f":"IF($G1505=\"\",\"\",VLOOKUP($G1505,'AFM-Artikel'!$A$1:$D$4762,3))","v":0}]
[null,{"$f":"IF(ISNA(VLOOKUP(G1506,'AFM-Artikel'!$A$1:$D$4762,4,FALSE)),\"-\",VLOOKUP(G1506,'AFM-Artikel'!$A$1:$D$4762,4,FALSE))","v":"-"},null,null,null,6,1,null,{"$f":"IF($G1506=\"\",\"\",VLOOKUP($G1506,'AFM-Artikel'!$A$1:$D$4762,3))","v":0}]
[null,{"$f":"IF(ISNA(VLOOKUP(G1507,'AFM-Artikel'!$A$1:$D$4762,4,FALSE)),\"-\",VLOOKUP(G1507,'AFM-Artikel'!$A$1:$D$4762,4,FALSE))","v":"-"},null,null,null,7,1,null,{"$f":"IF($G1507=\"\",\"\",VLOOKUP($G1507,'AFM-Artikel'!$A$1:$D$4762,3))","v":0}]
[null,{"$f":"IF(ISNA(VLOOKUP(G1508,'AFM-Artikel'!$A$1:$D$4762,4,FALSE)),\"-\",VLOOKUP(G1508,'AFM-Artikel'!$A$1:$D$4762,4,FALSE))","v":"-"},null,null,null,8,1,null,{"$f":"IF($G1508=\"\",\"\",VLOOKUP($G1508,'AFM-Artikel'!$A$1:$D$4762,3))","v":0}]
[null,{"$f":"IF(ISNA(VLOOKUP(G1509,'AFM-Artikel'!$A$1:$D$4762,4,FALSE)),\"-\",VLOOKUP(G1509,'AFM-Artikel'!$A$1:$D$4762,4,FALSE))","v":"-"},null,null,null,9,1,null,{"$f":"IF($G1509=\"\",\"\",VLOOKUP($G1509,'AFM-Artikel'!$A$1:$D$4762,3))","v":0}]
[null,{"$f":"IF(ISNA(VLOOKUP(G1510,'AFM-Artikel'!$A$1:$D$4762,4,FALSE)),\"-\",VLOOKUP(G1510,'AFM-Artikel'!$A$1:$D$4762,4,FALSE))","v":"-"},null,null,null,10,1,null,{"$f":"IF($G1510=\"\",\"\",VLOOKUP($G1510,'AFM-Artikel'!$A$1:$D$4762,3))","v":0}]
["Zusatzkabel-1",{"$f":"IF($G1511=\"\",\"\",VLOOKUP($G1511,'AFM-Artikel'!$A$1:$D$4762,2))","v":"Nicht verfügbar!"},null,null,null,null,0,null,{"$f":"IF($G1511=\"\",\"\",VLOOKUP($G1511,'AFM-Artikel'!$A$1:$D$4762,3))","v":0}]
["Zusatzkabel-2",{"$f":"IF($G1512=\"\",\"\",VLOOKUP($G1512,'AFM-Artikel'!$A$1:$D$4762,2))","v":"Nicht verfügbar!"},null,null,null,null,0,null,{"$f":"IF($G1512=\"\",\"\",VLOOKUP($G1512,'AFM-Artikel'!$A$1:$D$4762,3))","v":0}]
["Zusatzkabel-Audio",{"$f":"IF($G1513=\"\",\"\",VLOOKUP($G1513,'AFM-Artikel'!$A$1:$D$4762,2))","v":"Nicht verfügbar!"},null,null,null,null,0,null,{"$f":"IF($G1513=\"\",\"\",VLOOKUP($G1513,'AFM-Artikel'!$A$1:$D$4762,3))","v":0}]
[]
[]
[]
[]
[]
[null,"AL1520_"]
["Blindpl. 4TE","Auswählen!","AFM","DB",null,{"$f":"IF(Konfigurator!N$92=B1521,1,IF(Konfigurator!N$92=B1522,2,IF(Konfigurator!N$92=B1523,3,IF(Konfigurator!N$92=B1524,4,IF(Konfigurator!N$92=B1525,5,IF(Konfigurator!N$92=B1526,6,IF(Konfigurator!N$92=B1527,7,IF(Konfigurator!N$92=B1528,8,))))))))+IF(Konfigurator!N$92=B1529,9)+IF(Konfigurator!N$92=B1530,10)+IF(Konfigurator!N$92=E1520,0)","v":1},"Art.Nr.","TE","Liste","Kabel"]
[null,{"$f":"IF(ISNA(VLOOKUP(G1521,'AFM-Artikel'!$A$1:$D$4762,4,FALSE)),\"-\",VLOOKUP(G1521,'AFM-Artikel'!$A$1:$D$4762,4,FALSE))","v":"Blindplatte  4TE"},null,null,null,1,5600,4,{"$f":"IF($G1521=\"\",\"\",VLOOKUP($G1521,'AFM-Artikel'!$A$1:$D$4762,3))","v":5.3864999999999998},"N"]
[null,{"$f":"IF(ISNA(VLOOKUP(G1522,'AFM-Artikel'!$A$1:$D$4762,4,FALSE)),\"-\",VLOOKUP(G1522,'AFM-Artikel'!$A$1:$D$4762,4,FALSE))","v":"-"},null,null,null,2,1,null,{"$f":"IF($G1522=\"\",\"\",VLOOKUP($G1522,'AFM-Artikel'!$A$1:$D$4762,3))","v":0}]
[null,{"$f":"IF(ISNA(VLOOKUP(G1523,'AFM-Artikel'!$A$1:$D$4762,4,FALSE)),\"-\",VLOOKUP(G1523,'AFM-Artikel'!$A$1:$D$4762,4,FALSE))","v":"-"},null,null,null,3,1,null,{"$f":"IF($G1523=\"\",\"\",VLOOKUP($G1523,'AFM-Artikel'!$A$1:$D$4762,3))","v":0}]
[null,{"$f":"IF(ISNA(VLOOKUP(G1524,'AFM-Artikel'!$A$1:$D$4762,4,FALSE)),\"-\",VLOOKUP(G1524,'AFM-Artikel'!$A$1:$D$4762,4,FALSE))","v":"-"},null,null,null,4,1,null,{"$f":"IF($G1524=\"\",\"\",VLOOKUP($G1524,'AFM-Artikel'!$A$1:$D$4762,3))","v":0}]
[null,{"$f":"IF(ISNA(VLOOKUP(G1525,'AFM-Artikel'!$A$1:$D$4762,4,FALSE)),\"-\",VLOOKUP(G1525,'AFM-Artikel'!$A$1:$D$4762,4,FALSE))","v":"-"},null,null,null,5,1,null,{"$f":"IF($G1525=\"\",\"\",VLOOKUP($G1525,'AFM-Artikel'!$A$1:$D$4762,3))","v":0}]
[null,{"$f":"IF(ISNA(VLOOKUP(G1526,'AFM-Artikel'!$A$1:$D$4762,4,FALSE)),\"-\",VLOOKUP(G1526,'AFM-Artikel'!$A$1:$D$4762,4,FALSE))","v":"-"},null,null,null,6,1,null,{"$f":"IF($G1526=\"\",\"\",VLOOKUP($G1526,'AFM-Artikel'!$A$1:$D$4762,3))","v":0}]
[null,{"$f":"IF(ISNA(VLOOKUP(G1527,'AFM-Artikel'!$A$1:$D$4762,4,FALSE)),\"-\",VLOOKUP(G1527,'AFM-Artikel'!$A$1:$D$4762,4,FALSE))","v":"-"},null,null,null,7,1,null,{"$f":"IF($G1527=\"\",\"\",VLOOKUP($G1527,'AFM-Artikel'!$A$1:$D$4762,3))","v":0}]
[null,{"$f":"IF(ISNA(VLOOKUP(G1528,'AFM-Artikel'!$A$1:$D$4762,4,FALSE)),\"-\",VLOOKUP(G1528,'AFM-Artikel'!$A$1:$D$4762,4,FALSE))","v":"-"},null,null,null,8,1,null,{"$f":"IF($G1528=\"\",\"\",VLOOKUP($G1528,'AFM-Artikel'!$A$1:$D$4762,3))","v":0}]
[null,{"$f":"IF(ISNA(VLOOKUP(G1529,'AFM-Artikel'!$A$1:$D$4762,4,FALSE)),\"-\",VLOOKUP(G1529,'AFM-Artikel'!$A$1:$D$4762,4,FALSE))","v":"-"},null,null,null,9,1,null,{"$f":"IF($G1529=\"\",\"\",VLOOKUP($G1529,'AFM-Artikel'!$A$1:$D$4762,3))","v":0}]
[null,{"$f":"IF(ISNA(VLOOKUP(G1530,'AFM-Artikel'!$A$1:$D$4762,4,FALSE)),\"-\",VLOOKUP(G1530,'AFM-Artikel'!$A$1:$D$4762,4,FALSE))","v":"-"},null,null,null,10,1,null,{"$f":"IF($G1530=\"\",\"\",VLOOKUP($G1530,'AFM-Artikel'!$A$1:$D$4762,3))","v":0}]
["Zusatzkabel-1",{"$f":"IF($G1531=\"\",\"\",VLOOKUP($G1531,'AFM-Artikel'!$A$1:$D$4762,2))","v":"Nicht verfügbar!"},null,null,null,null,0,null,{"$f":"IF($G1531=\"\",\"\",VLOOKUP($G1531,'AFM-Artikel'!$A$1:$D$4762,3))","v":0}]
["Zusatzkabel-2",{"$f":"IF($G1532=\"\",\"\",VLOOKUP($G1532,'AFM-Artikel'!$A$1:$D$4762,2))","v":"Nicht verfügbar!"},null,null,null,null,0,null,{"$f":"IF($G1532=\"\",\"\",VLOOKUP($G1532,'AFM-Artikel'!$A$1:$D$4762,3))","v":0}]
["Zusatzkabel-Audio",{"$f":"IF($G1533=\"\",\"\",VLOOKUP($G1533,'AFM-Artikel'!$A$1:$D$4762,2))","v":"Nicht verfügbar!"},null,null,null,null,0,null,{"$f":"IF($G1533=\"\",\"\",VLOOKUP($G1533,'AFM-Artikel'!$A$1:$D$4762,3))","v":0}]
[]
[]
[]
[]
[]
[null,"AL1540_"]
["Blindpl. 8TE","Auswählen!","AFM","DB",null,{"$f":"IF(Konfigurator!P$92=B1541,1,IF(Konfigurator!P$92=B1542,2,IF(Konfigurator!P$92=B1543,3,IF(Konfigurator!P$92=B1544,4,IF(Konfigurator!P$92=B1545,5,IF(Konfigurator!P$92=B1546,6,IF(Konfigurator!P$92=B1547,7,IF(Konfigurator!P$92=B1548,8,))))))))+IF(Konfigurator!P$92=B1549,9)+IF(Konfigurator!P$92=B1550,10)+IF(Konfigurator!P$92=E1540,0)","v":1},"Art.Nr.","TE","Liste","Kabel"]
[null,{"$f":"IF(ISNA(VLOOKUP(G1541,'AFM-Artikel'!$A$1:$D$4762,4,FALSE)),\"-\",VLOOKUP(G1541,'AFM-Artikel'!$A$1:$D$4762,4,FALSE))","v":"Blindplatte  8TE"},null,null,null,1,5601,8,{"$f":"IF($G1541=\"\",\"\",VLOOKUP($G1541,'AFM-Artikel'!$A$1:$D$4762,3))","v":6.4889999999999999},"N"]
[null,{"$f":"IF(ISNA(VLOOKUP(G1542,'AFM-Artikel'!$A$1:$D$4762,4,FALSE)),\"-\",VLOOKUP(G1542,'AFM-Artikel'!$A$1:$D$4762,4,FALSE))","v":"-"},null,null,null,2,1,null,{"$f":"IF($G1542=\"\",\"\",VLOOKUP($G1542,'AFM-Artikel'!$A$1:$D$4762,3))","v":0}]
[null,{"$f":"IF(ISNA(VLOOKUP(G1543,'AFM-Artikel'!$A$1:$D$4762,4,FALSE)),\"-\",VLOOKUP(G1543,'AFM-Artikel'!$A$1:$D$4762,4,FALSE))","v":"-"},null,null,null,3,1,null,{"$f":"IF($G1543=\"\",\"\",VLOOKUP($G1543,'AFM-Artikel'!$A$1:$D$4762,3))","v":0}]
[null,{"$f":"IF(ISNA(VLOOKUP(G1544,'AFM-Artikel'!$A$1:$D$4762,4,FALSE)),\"-\",VLOOKUP(G1544,'AFM-Artikel'!$A$1:$D$4762,4,FALSE))","v":"-"},null,null,null,4,1,null,{"$f":"IF($G1544=\"\",\"\",VLOOKUP($G1544,'AFM-Artikel'!$A$1:$D$4762,3))","v":0}]
[null,{"$f":"IF(ISNA(VLOOKUP(G1545,'AFM-Artikel'!$A$1:$D$4762,4,FALSE)),\"-\",VLOOKUP(G1545,'AFM-Artikel'!$A$1:$D$4762,4,FALSE))","v":"-"},null,null,null,5,1,null,{"$f":"IF($G1545=\"\",\"\",VLOOKUP($G1545,'AFM-Artikel'!$A$1:$D$4762,3))","v":0}]
[null,{"$f":"IF(ISNA(VLOOKUP(G1546,'AFM-Artikel'!$A$1:$D$4762,4,FALSE)),\"-\",VLOOKUP(G1546,'AFM-Artikel'!$A$1:$D$4762,4,FALSE))","v":"-"},null,null,null,6,1,null,{"$f":"IF($G1546=\"\",\"\",VLOOKUP($G1546,'AFM-Artikel'!$A$1:$D$4762,3))","v":0}]
[null,{"$f":"IF(ISNA(VLOOKUP(G1547,'AFM-Artikel'!$A$1:$D$4762,4,FALSE)),\"-\",VLOOKUP(G1547,'AFM-Artikel'!$A$1:$D$4762,4,FALSE))","v":"-"},null,null,null,7,1,null,{"$f":"IF($G1547=\"\",\"\",VLOOKUP($G1547,'AFM-Artikel'!$A$1:$D$4762,3))","v":0}]
[null,{"$f":"IF(ISNA(VLOOKUP(G1548,'AFM-Artikel'!$A$1:$D$4762,4,FALSE)),\"-\",VLOOKUP(G1548,'AFM-Artikel'!$A$1:$D$4762,4,FALSE))","v":"-"},null,null,null,8,1,null,{"$f":"IF($G1548=\"\",\"\",VLOOKUP($G1548,'AFM-Artikel'!$A$1:$D$4762,3))","v":0}]
[null,{"$f":"IF(ISNA(VLOOKUP(G1549,'AFM-Artikel'!$A$1:$D$4762,4,FALSE)),\"-\",VLOOKUP(G1549,'AFM-Artikel'!$A$1:$D$4762,4,FALSE))","v":"-"},null,null,null,9,1,null,{"$f":"IF($G1549=\"\",\"\",VLOOKUP($G1549,'AFM-Artikel'!$A$1:$D$4762,3))","v":0}]
[null,{"$f":"IF(ISNA(VLOOKUP(G1550,'AFM-Artikel'!$A$1:$D$4762,4,FALSE)),\"-\",VLOOKUP(G1550,'AFM-Artikel'!$A$1:$D$4762,4,FALSE))","v":"-"},null,null,null,10,1,null,{"$f":"IF($G1550=\"\",\"\",VLOOKUP($G1550,'AFM-Artikel'!$A$1:$D$4762,3))","v":0}]
["Zusatzkabel-1",{"$f":"IF($G1551=\"\",\"\",VLOOKUP($G1551,'AFM-Artikel'!$A$1:$D$4762,2))","v":"Nicht verfügbar!"},null,null,null,null,0,null,{"$f":"IF($G1551=\"\",\"\",VLOOKUP($G1551,'AFM-Artikel'!$A$1:$D$4762,3))","v":0}]
["Zusatzkabel-2",{"$f":"IF($G1552=\"\",\"\",VLOOKUP($G1552,'AFM-Artikel'!$A$1:$D$4762,2))","v":"Nicht verfügbar!"},null,null,null,null,0,null,{"$f":"IF($G1552=\"\",\"\",VLOOKUP($G1552,'AFM-Artikel'!$A$1:$D$4762,3))","v":0}]
["Zusatzkabel-Audio",{"$f":"IF($G1553=\"\",\"\",VLOOKUP($G1553,'AFM-Artikel'!$A$1:$D$4762,2))","v":"Nicht verfügbar!"},null,null,null,null,0,null,{"$f":"IF($G1553=\"\",\"\",VLOOKUP($G1553,'AFM-Artikel'!$A$1:$D$4762,3))","v":0}]
[]
[]
[]
[]
[]
[null,"AL1560_"]
["Blindpl. 12TE","Auswählen!","AFM","DB",null,{"$f":"IF(Konfigurator!R$92=B1561,1,IF(Konfigurator!R$92=B1562,2,IF(Konfigurator!R$92=B1563,3,IF(Konfigurator!R$92=B1564,4,IF(Konfigurator!R$92=B1565,5,IF(Konfigurator!R$92=B1566,6,IF(Konfigurator!R$92=B1567,7,IF(Konfigurator!R$92=B1568,8,))))))))+IF(Konfigurator!R$92=B1569,9)+IF(Konfigurator!R$92=B1570,10)+IF(Konfigurator!R$92=E1560,0)","v":1},"Art.Nr.","TE","Liste","Kabel"]
[null,{"$f":"IF(ISNA(VLOOKUP(G1561,'AFM-Artikel'!$A$1:$D$4762,4,FALSE)),\"-\",VLOOKUP(G1561,'AFM-Artikel'!$A$1:$D$4762,4,FALSE))","v":"Blindplatte 12TE"},null,null,null,1,5602,12,{"$f":"IF($G1561=\"\",\"\",VLOOKUP($G1561,'AFM-Artikel'!$A$1:$D$4762,3))","v":7.5810000000000004},"N"]
[null,{"$f":"IF(ISNA(VLOOKUP(G1562,'AFM-Artikel'!$A$1:$D$4762,4,FALSE)),\"-\",VLOOKUP(G1562,'AFM-Artikel'!$A$1:$D$4762,4,FALSE))","v":"-"},null,null,null,2,1,null,{"$f":"IF($G1562=\"\",\"\",VLOOKUP($G1562,'AFM-Artikel'!$A$1:$D$4762,3))","v":0}]
[null,{"$f":"IF(ISNA(VLOOKUP(G1563,'AFM-Artikel'!$A$1:$D$4762,4,FALSE)),\"-\",VLOOKUP(G1563,'AFM-Artikel'!$A$1:$D$4762,4,FALSE))","v":"-"},null,null,null,3,1,null,{"$f":"IF($G1563=\"\",\"\",VLOOKUP($G1563,'AFM-Artikel'!$A$1:$D$4762,3))","v":0}]
[null,{"$f":"IF(ISNA(VLOOKUP(G1564,'AFM-Artikel'!$A$1:$D$4762,4,FALSE)),\"-\",VLOOKUP(G1564,'AFM-Artikel'!$A$1:$D$4762,4,FALSE))","v":"-"},null,null,null,4,1,null,{"$f":"IF($G1564=\"\",\"\",VLOOKUP($G1564,'AFM-Artikel'!$A$1:$D$4762,3))","v":0}]
[null,{"$f":"IF(ISNA(VLOOKUP(G1565,'AFM-Artikel'!$A$1:$D$4762,4,FALSE)),\"-\",VLOOKUP(G1565,'AFM-Artikel'!$A$1:$D$4762,4,FALSE))","v":"-"},null,null,null,5,1,null,{"$f":"IF($G1565=\"\",\"\",VLOOKUP($G1565,'AFM-Artikel'!$A$1:$D$4762,3))","v":0}]
[null,{"$f":"IF(ISNA(VLOOKUP(G1566,'AFM-Artikel'!$A$1:$D$4762,4,FALSE)),\"-\",VLOOKUP(G1566,'AFM-Artikel'!$A$1:$D$4762,4,FALSE))","v":"-"},null,null,null,6,1,null,{"$f":"IF($G1566=\"\",\"\",VLOOKUP($G1566,'AFM-Artikel'!$A$1:$D$4762,3))","v":0}]
[null,{"$f":"IF(ISNA(VLOOKUP(G1567,'AFM-Artikel'!$A$1:$D$4762,4,FALSE)),\"-\",VLOOKUP(G1567,'AFM-Artikel'!$A$1:$D$4762,4,FALSE))","v":"-"},null,null,null,7,1,null,{"$f":"IF($G1567=\"\",\"\",VLOOKUP($G1567,'AFM-Artikel'!$A$1:$D$4762,3))","v":0}]
[null,{"$f":"IF(ISNA(VLOOKUP(G1568,'AFM-Artikel'!$A$1:$D$4762,4,FALSE)),\"-\",VLOOKUP(G1568,'AFM-Artikel'!$A$1:$D$4762,4,FALSE))","v":"-"},null,null,null,8,1,null,{"$f":"IF($G1568=\"\",\"\",VLOOKUP($G1568,'AFM-Artikel'!$A$1:$D$4762,3))","v":0}]
[null,{"$f":"IF(ISNA(VLOOKUP(G1569,'AFM-Artikel'!$A$1:$D$4762,4,FALSE)),\"-\",VLOOKUP(G1569,'AFM-Artikel'!$A$1:$D$4762,4,FALSE))","v":"-"},null,null,null,9,1,null,{"$f":"IF($G1569=\"\",\"\",VLOOKUP($G1569,'AFM-Artikel'!$A$1:$D$4762,3))","v":0}]
[null,{"$f":"IF(ISNA(VLOOKUP(G1570,'AFM-Artikel'!$A$1:$D$4762,4,FALSE)),\"-\",VLOOKUP(G1570,'AFM-Artikel'!$A$1:$D$4762,4,FALSE))","v":"-"},null,null,null,10,1,null,{"$f":"IF($G1570=\"\",\"\",VLOOKUP($G1570,'AFM-Artikel'!$A$1:$D$4762,3))","v":0}]
["Zusatzkabel-1",{"$f":"IF($G1571=\"\",\"\",VLOOKUP($G1571,'AFM-Artikel'!$A$1:$D$4762,2))","v":"Nicht verfügbar!"},null,null,null,null,0,null,{"$f":"IF($G1571=\"\",\"\",VLOOKUP($G1571,'AFM-Artikel'!$A$1:$D$4762,3))","v":0}]
["Zusatzkabel-2",{"$f":"IF($G1572=\"\",\"\",VLOOKUP($G1572,'AFM-Artikel'!$A$1:$D$4762,2))","v":"Nicht verfügbar!"},null,null,null,null,0,null,{"$f":"IF($G1572=\"\",\"\",VLOOKUP($G1572,'AFM-Artikel'!$A$1:$D$4762,3))","v":0}]
["Zusatzkabel-Audio",{"$f":"IF($G1573=\"\",\"\",VLOOKUP($G1573,'AFM-Artikel'!$A$1:$D$4762,2))","v":"Nicht verfügbar!"},null,null,null,null,0,null,{"$f":"IF($G1573=\"\",\"\",VLOOKUP($G1573,'AFM-Artikel'!$A$1:$D$4762,3))","v":0}]
[]
[]
[]
[]
[]
[null,"AL1580_"]
["Frei 1580","Auswählen!","AFM","DB",null,{"$f":"IF(Konfigurator!T$92=B1581,1,IF(Konfigurator!T$92=B1582,2,IF(Konfigurator!T$92=B1583,3,IF(Konfigurator!T$92=B1584,4,IF(Konfigurator!T$92=B1585,5,IF(Konfigurator!T$92=B1586,6,IF(Konfigurator!T$92=B1587,7,IF(Konfigurator!T$92=B1588,8,))))))))+IF(Konfigurator!T$92=B1589,9)+IF(Konfigurator!T$92=B1590,10)+IF(Konfigurator!T$92=E1580,0)","v":0},"Art.Nr.","TE","Liste","Kabel"]
[null,{"$f":"IF(ISNA(VLOOKUP(G1581,'AFM-Artikel'!$A$1:$D$4762,4,FALSE)),\"-\",VLOOKUP(G1581,'AFM-Artikel'!$A$1:$D$4762,4,FALSE))","v":"-"},null,null,null,1,1,null,{"$f":"IF($G1581=\"\",\"\",VLOOKUP($G1581,'AFM-Artikel'!$A$1:$D$4762,3))","v":0}]
[null,{"$f":"IF(ISNA(VLOOKUP(G1582,'AFM-Artikel'!$A$1:$D$4762,4,FALSE)),\"-\",VLOOKUP(G1582,'AFM-Artikel'!$A$1:$D$4762,4,FALSE))","v":"-"},null,null,null,2,1,null,{"$f":"IF($G1582=\"\",\"\",VLOOKUP($G1582,'AFM-Artikel'!$A$1:$D$4762,3))","v":0}]
[null,{"$f":"IF(ISNA(VLOOKUP(G1583,'AFM-Artikel'!$A$1:$D$4762,4,FALSE)),\"-\",VLOOKUP(G1583,'AFM-Artikel'!$A$1:$D$4762,4,FALSE))","v":"-"},null,null,null,3,1,null,{"$f":"IF($G1583=\"\",\"\",VLOOKUP($G1583,'AFM-Artikel'!$A$1:$D$4762,3))","v":0}]
[null,{"$f":"IF(ISNA(VLOOKUP(G1584,'AFM-Artikel'!$A$1:$D$4762,4,FALSE)),\"-\",VLOOKUP(G1584,'AFM-Artikel'!$A$1:$D$4762,4,FALSE))","v":"-"},null,null,null,4,1,null,{"$f":"IF($G1584=\"\",\"\",VLOOKUP($G1584,'AFM-Artikel'!$A$1:$D$4762,3))","v":0}]
[null,{"$f":"IF(ISNA(VLOOKUP(G1585,'AFM-Artikel'!$A$1:$D$4762,4,FALSE)),\"-\",VLOOKUP(G1585,'AFM-Artikel'!$A$1:$D$4762,4,FALSE))","v":"-"},null,null,null,5,1,null,{"$f":"IF($G1585=\"\",\"\",VLOOKUP($G1585,'AFM-Artikel'!$A$1:$D$4762,3))","v":0}]
[null,{"$f":"IF(ISNA(VLOOKUP(G1586,'AFM-Artikel'!$A$1:$D$4762,4,FALSE)),\"-\",VLOOKUP(G1586,'AFM-Artikel'!$A$1:$D$4762,4,FALSE))","v":"-"},null,null,null,6,1,null,{"$f":"IF($G1586=\"\",\"\",VLOOKUP($G1586,'AFM-Artikel'!$A$1:$D$4762,3))","v":0}]
[null,{"$f":"IF(ISNA(VLOOKUP(G1587,'AFM-Artikel'!$A$1:$D$4762,4,FALSE)),\"-\",VLOOKUP(G1587,'AFM-Artikel'!$A$1:$D$4762,4,FALSE))","v":"-"},null,null,null,7,1,null,{"$f":"IF($G1587=\"\",\"\",VLOOKUP($G1587,'AFM-Artikel'!$A$1:$D$4762,3))","v":0}]
[null,{"$f":"IF(ISNA(VLOOKUP(G1588,'AFM-Artikel'!$A$1:$D$4762,4,FALSE)),\"-\",VLOOKUP(G1588,'AFM-Artikel'!$A$1:$D$4762,4,FALSE))","v":"-"},null,null,null,8,1,null,{"$f":"IF($G1588=\"\",\"\",VLOOKUP($G1588,'AFM-Artikel'!$A$1:$D$4762,3))","v":0}]
[null,{"$f":"IF(ISNA(VLOOKUP(G1589,'AFM-Artikel'!$A$1:$D$4762,4,FALSE)),\"-\",VLOOKUP(G1589,'AFM-Artikel'!$A$1:$D$4762,4,FALSE))","v":"-"},null,null,null,9,1,null,{"$f":"IF($G1589=\"\",\"\",VLOOKUP($G1589,'AFM-Artikel'!$A$1:$D$4762,3))","v":0}]
[null,{"$f":"IF(ISNA(VLOOKUP(G1590,'AFM-Artikel'!$A$1:$D$4762,4,FALSE)),\"-\",VLOOKUP(G1590,'AFM-Artikel'!$A$1:$D$4762,4,FALSE))","v":"-"},null,null,null,10,1,null,{"$f":"IF($G1590=\"\",\"\",VLOOKUP($G1590,'AFM-Artikel'!$A$1:$D$4762,3))","v":0}]
["Zusatzkabel-1",{"$f":"IF($G1591=\"\",\"\",VLOOKUP($G1591,'AFM-Artikel'!$A$1:$D$4762,2))","v":"Nicht verfügbar!"},null,null,null,null,0,null,{"$f":"IF($G1591=\"\",\"\",VLOOKUP($G1591,'AFM-Artikel'!$A$1:$D$4762,3))","v":0}]
["Zusatzkabel-2",{"$f":"IF($G1592=\"\",\"\",VLOOKUP($G1592,'AFM-Artikel'!$A$1:$D$4762,2))","v":"Nicht verfügbar!"},null,null,null,null,0,null,{"$f":"IF($G1592=\"\",\"\",VLOOKUP($G1592,'AFM-Artikel'!$A$1:$D$4762,3))","v":0}]
["Zusatzkabel-Audio",{"$f":"IF($G1593=\"\",\"\",VLOOKUP($G1593,'AFM-Artikel'!$A$1:$D$4762,2))","v":"Nicht verfügbar!"},null,null,null,null,0,null,{"$f":"IF($G1593=\"\",\"\",VLOOKUP($G1593,'AFM-Artikel'!$A$1:$D$4762,3))","v":0}]
[]
[]
[]
[]
[]
[null,"AL1600_"]
["Blindpl. 16TE","Auswählen!","AFM","DB",null,{"$f":"IF(Konfigurator!V$92=B1601,1,IF(Konfigurator!V$92=B1602,2,IF(Konfigurator!V$92=B1603,3,IF(Konfigurator!V$92=B1604,4,IF(Konfigurator!V$92=B1605,5,IF(Konfigurator!V$92=B1606,6,IF(Konfigurator!V$92=B1607,7,IF(Konfigurator!V$92=B1608,8,))))))))+IF(Konfigurator!V$92=B1609,9)+IF(Konfigurator!V$92=B1610,10)+IF(Konfigurator!V$92=E1600,0)","v":1},"Art.Nr.","TE","Liste","Kabel"]
[null,{"$f":"IF(ISNA(VLOOKUP(G1601,'AFM-Artikel'!$A$1:$D$4762,4,FALSE)),\"-\",VLOOKUP(G1601,'AFM-Artikel'!$A$1:$D$4762,4,FALSE))","v":"Blindplatte 16TE"},null,null,null,1,5604,16,{"$f":"IF($G1601=\"\",\"\",VLOOKUP($G1601,'AFM-Artikel'!$A$1:$D$4762,3))","v":8.6835000000000004},"N"]
[null,{"$f":"IF(ISNA(VLOOKUP(G1602,'AFM-Artikel'!$A$1:$D$4762,4,FALSE)),\"-\",VLOOKUP(G1602,'AFM-Artikel'!$A$1:$D$4762,4,FALSE))","v":"-"},null,null,null,2,1,null,{"$f":"IF($G1602=\"\",\"\",VLOOKUP($G1602,'AFM-Artikel'!$A$1:$D$4762,3))","v":0}]
[null,{"$f":"IF(ISNA(VLOOKUP(G1603,'AFM-Artikel'!$A$1:$D$4762,4,FALSE)),\"-\",VLOOKUP(G1603,'AFM-Artikel'!$A$1:$D$4762,4,FALSE))","v":"-"},null,null,null,3,1,null,{"$f":"IF($G1603=\"\",\"\",VLOOKUP($G1603,'AFM-Artikel'!$A$1:$D$4762,3))","v":0}]
[null,{"$f":"IF(ISNA(VLOOKUP(G1604,'AFM-Artikel'!$A$1:$D$4762,4,FALSE)),\"-\",VLOOKUP(G1604,'AFM-Artikel'!$A$1:$D$4762,4,FALSE))","v":"-"},null,null,null,4,1,null,{"$f":"IF($G1604=\"\",\"\",VLOOKUP($G1604,'AFM-Artikel'!$A$1:$D$4762,3))","v":0}]
[null,{"$f":"IF(ISNA(VLOOKUP(G1605,'AFM-Artikel'!$A$1:$D$4762,4,FALSE)),\"-\",VLOOKUP(G1605,'AFM-Artikel'!$A$1:$D$4762,4,FALSE))","v":"-"},null,null,null,5,1,null,{"$f":"IF($G1605=\"\",\"\",VLOOKUP($G1605,'AFM-Artikel'!$A$1:$D$4762,3))","v":0}]
[null,{"$f":"IF(ISNA(VLOOKUP(G1606,'AFM-Artikel'!$A$1:$D$4762,4,FALSE)),\"-\",VLOOKUP(G1606,'AFM-Artikel'!$A$1:$D$4762,4,FALSE))","v":"-"},null,null,null,6,1,null,{"$f":"IF($G1606=\"\",\"\",VLOOKUP($G1606,'AFM-Artikel'!$A$1:$D$4762,3))","v":0}]
[null,{"$f":"IF(ISNA(VLOOKUP(G1607,'AFM-Artikel'!$A$1:$D$4762,4,FALSE)),\"-\",VLOOKUP(G1607,'AFM-Artikel'!$A$1:$D$4762,4,FALSE))","v":"-"},null,null,null,7,1,null,{"$f":"IF($G1607=\"\",\"\",VLOOKUP($G1607,'AFM-Artikel'!$A$1:$D$4762,3))","v":0}]
[null,{"$f":"IF(ISNA(VLOOKUP(G1608,'AFM-Artikel'!$A$1:$D$4762,4,FALSE)),\"-\",VLOOKUP(G1608,'AFM-Artikel'!$A$1:$D$4762,4,FALSE))","v":"-"},null,null,null,8,1,null,{"$f":"IF($G1608=\"\",\"\",VLOOKUP($G1608,'AFM-Artikel'!$A$1:$D$4762,3))","v":0}]
[null,{"$f":"IF(ISNA(VLOOKUP(G1609,'AFM-Artikel'!$A$1:$D$4762,4,FALSE)),\"-\",VLOOKUP(G1609,'AFM-Artikel'!$A$1:$D$4762,4,FALSE))","v":"-"},null,null,null,9,1,null,{"$f":"IF($G1609=\"\",\"\",VLOOKUP($G1609,'AFM-Artikel'!$A$1:$D$4762,3))","v":0}]
[null,{"$f":"IF(ISNA(VLOOKUP(G1610,'AFM-Artikel'!$A$1:$D$4762,4,FALSE)),\"-\",VLOOKUP(G1610,'AFM-Artikel'!$A$1:$D$4762,4,FALSE))","v":"-"},null,null,null,10,1,null,{"$f":"IF($G1610=\"\",\"\",VLOOKUP($G1610,'AFM-Artikel'!$A$1:$D$4762,3))","v":0}]
["Zusatzkabel-1",{"$f":"IF($G1611=\"\",\"\",VLOOKUP($G1611,'AFM-Artikel'!$A$1:$D$4762,2))","v":"Nicht verfügbar!"},null,null,null,null,0,null,{"$f":"IF($G1611=\"\",\"\",VLOOKUP($G1611,'AFM-Artikel'!$A$1:$D$4762,3))","v":0}]
["Zusatzkabel-2",{"$f":"IF($G1612=\"\",\"\",VLOOKUP($G1612,'AFM-Artikel'!$A$1:$D$4762,2))","v":"Nicht verfügbar!"},null,null,null,null,0,null,{"$f":"IF($G1612=\"\",\"\",VLOOKUP($G1612,'AFM-Artikel'!$A$1:$D$4762,3))","v":0}]
["Zusatzkabel-Audio",{"$f":"IF($G1613=\"\",\"\",VLOOKUP($G1613,'AFM-Artikel'!$A$1:$D$4762,2))","v":"Nicht verfügbar!"},null,null,null,null,0,null,{"$f":"IF($G1613=\"\",\"\",VLOOKUP($G1613,'AFM-Artikel'!$A$1:$D$4762,3))","v":0}]
[]
[]
[]
[]
[]
[null,"AL1620_"]
["Frei 1620","Auswählen!","AFM","DB",null,{"$f":"IF(Konfigurator!X$92=B1621,1,IF(Konfigurator!X$92=B1622,2,IF(Konfigurator!X$92=B1623,3,IF(Konfigurator!X$92=B1624,4,IF(Konfigurator!X$92=B1625,5,IF(Konfigurator!X$92=B1626,6,IF(Konfigurator!X$92=B1627,7,IF(Konfigurator!X$92=B1628,8,))))))))+IF(Konfigurator!X$92=B1629,9)+IF(Konfigurator!X$92=B1630,10)+IF(Konfigurator!X$92=E1620,0)","v":0},"Art.Nr.","TE","Liste","Kabel"]
[null,{"$f":"IF(ISNA(VLOOKUP(G1621,'AFM-Artikel'!$A$1:$D$4762,4,FALSE)),\"-\",VLOOKUP(G1621,'AFM-Artikel'!$A$1:$D$4762,4,FALSE))","v":"-"},null,null,null,1,1,null,{"$f":"IF($G1621=\"\",\"\",VLOOKUP($G1621,'AFM-Artikel'!$A$1:$D$4762,3))","v":0}]
[null,{"$f":"IF(ISNA(VLOOKUP(G1622,'AFM-Artikel'!$A$1:$D$4762,4,FALSE)),\"-\",VLOOKUP(G1622,'AFM-Artikel'!$A$1:$D$4762,4,FALSE))","v":"-"},null,null,null,2,1,null,{"$f":"IF($G1622=\"\",\"\",VLOOKUP($G1622,'AFM-Artikel'!$A$1:$D$4762,3))","v":0}]
[null,{"$f":"IF(ISNA(VLOOKUP(G1623,'AFM-Artikel'!$A$1:$D$4762,4,FALSE)),\"-\",VLOOKUP(G1623,'AFM-Artikel'!$A$1:$D$4762,4,FALSE))","v":"-"},null,null,null,3,1,null,{"$f":"IF($G1623=\"\",\"\",VLOOKUP($G1623,'AFM-Artikel'!$A$1:$D$4762,3))","v":0}]
[null,{"$f":"IF(ISNA(VLOOKUP(G1624,'AFM-Artikel'!$A$1:$D$4762,4,FALSE)),\"-\",VLOOKUP(G1624,'AFM-Artikel'!$A$1:$D$4762,4,FALSE))","v":"-"},null,null,null,4,1,null,{"$f":"IF($G1624=\"\",\"\",VLOOKUP($G1624,'AFM-Artikel'!$A$1:$D$4762,3))","v":0}]
[null,{"$f":"IF(ISNA(VLOOKUP(G1625,'AFM-Artikel'!$A$1:$D$4762,4,FALSE)),\"-\",VLOOKUP(G1625,'AFM-Artikel'!$A$1:$D$4762,4,FALSE))","v":"-"},null,null,null,5,1,null,{"$f":"IF($G1625=\"\",\"\",VLOOKUP($G1625,'AFM-Artikel'!$A$1:$D$4762,3))","v":0}]
[null,{"$f":"IF(ISNA(VLOOKUP(G1626,'AFM-Artikel'!$A$1:$D$4762,4,FALSE)),\"-\",VLOOKUP(G1626,'AFM-Artikel'!$A$1:$D$4762,4,FALSE))","v":"-"},null,null,null,6,1,null,{"$f":"IF($G1626=\"\",\"\",VLOOKUP($G1626,'AFM-Artikel'!$A$1:$D$4762,3))","v":0}]
[null,{"$f":"IF(ISNA(VLOOKUP(G1627,'AFM-Artikel'!$A$1:$D$4762,4,FALSE)),\"-\",VLOOKUP(G1627,'AFM-Artikel'!$A$1:$D$4762,4,FALSE))","v":"-"},null,null,null,7,1,null,{"$f":"IF($G1627=\"\",\"\",VLOOKUP($G1627,'AFM-Artikel'!$A$1:$D$4762,3))","v":0}]
[null,{"$f":"IF(ISNA(VLOOKUP(G1628,'AFM-Artikel'!$A$1:$D$4762,4,FALSE)),\"-\",VLOOKUP(G1628,'AFM-Artikel'!$A$1:$D$4762,4,FALSE))","v":"-"},null,null,null,8,1,null,{"$f":"IF($G1628=\"\",\"\",VLOOKUP($G1628,'AFM-Artikel'!$A$1:$D$4762,3))","v":0}]
[null,{"$f":"IF(ISNA(VLOOKUP(G1629,'AFM-Artikel'!$A$1:$D$4762,4,FALSE)),\"-\",VLOOKUP(G1629,'AFM-Artikel'!$A$1:$D$4762,4,FALSE))","v":"-"},null,null,null,9,1,null,{"$f":"IF($G1629=\"\",\"\",VLOOKUP($G1629,'AFM-Artikel'!$A$1:$D$4762,3))","v":0}]
[null,{"$f":"IF(ISNA(VLOOKUP(G1630,'AFM-Artikel'!$A$1:$D$4762,4,FALSE)),\"-\",VLOOKUP(G1630,'AFM-Artikel'!$A$1:$D$4762,4,FALSE))","v":"-"},null,null,null,10,1,null,{"$f":"IF($G1630=\"\",\"\",VLOOKUP($G1630,'AFM-Artikel'!$A$1:$D$4762,3))","v":0}]
["Zusatzkabel-1",{"$f":"IF($G1631=\"\",\"\",VLOOKUP($G1631,'AFM-Artikel'!$A$1:$D$4762,2))","v":"Nicht verfügbar!"},null,null,null,null,0,null,{"$f":"IF($G1631=\"\",\"\",VLOOKUP($G1631,'AFM-Artikel'!$A$1:$D$4762,3))","v":0}]
["Zusatzkabel-2",{"$f":"IF($G1632=\"\",\"\",VLOOKUP($G1632,'AFM-Artikel'!$A$1:$D$4762,2))","v":"Nicht verfügbar!"},null,null,null,null,0,null,{"$f":"IF($G1632=\"\",\"\",VLOOKUP($G1632,'AFM-Artikel'!$A$1:$D$4762,3))","v":0}]
["Zusatzkabel-Audio",{"$f":"IF($G1633=\"\",\"\",VLOOKUP($G1633,'AFM-Artikel'!$A$1:$D$4762,2))","v":"Nicht verfügbar!"},null,null,null,null,0,null,{"$f":"IF($G1633=\"\",\"\",VLOOKUP($G1633,'AFM-Artikel'!$A$1:$D$4762,3))","v":0}]

{"sheet":"AFM-Artikel","index":3,"n_rows":1566,"n_cols":4,"rows_kept":1566,"cut":false,"hidden":false,"merged":[]}
[0,"Nicht verfügbar!",0,"Modulex-Text"]
[1031,"Befestigungssatz Sub-D",0.63,"Befestigungssatz Sub-D"]
[1032,"Buchsenleiste HD 15pol",0.74549999999999994,"Buchsenleiste HD 15pol"]
[1033,"Stiftleiste HD 15pol",0.69300000000000006,"Stiftleiste HD 15pol"]
[1034,"Buchsenleiste Sub-D 15pol",0.74549999999999994,"Buchsenleiste Sub-D 15pol"]
[1035,"Buchsenleiste Sub-D 37pol",1.5645,"Buchsenleiste Sub-D 37pol"]
[1036,"Buchsenleiste Sub-D 50pol",3.5595000000000003,"Buchsenleiste Sub-D 50pol"]
[1037,"Buchsenleiste Sub-D 25pol",0.88200000000000001,"Buchsenleiste Sub-D 25pol"]
[1038,"Buchsenleiste Sub-D 9pol",0.55650000000000011,"Buchsenleiste Sub-D 9pol"]
[1039,"Stiftleiste Sub-D 50pol",3.444,"Stiftleiste Sub-D 50pol"]
[1040,"Stiftleiste Sub-D 37pol",1.7429999999999999,"Stiftleiste Sub-D 37pol"]
[1041,"Stiftleiste Sub-D 25pol",0.88200000000000001,"Stiftleiste Sub-D 25pol"]
[1042,"Stiftleiste Sub-D 15pol",0.69300000000000006,"Stiftleiste Sub-D 15pol"]
[1043,"Stiftleiste Sub-D  9pol",0.504,"Stiftleiste Sub-D  9pol"]
[1055,"Sub-D Metallhaube   9pol EVE",5.9850000000000003,"Sub-D Metallhaube   9pol EVE"]
[1062,"Knickschutztülle Helavia Cinch",0.47250000000000003,"Knickschutztülle Helavia Cinch"]
[1063,"Sub-D Metallhaube  9pol 10mm Typ A",3.2444999999999999,"Sub-D Metallhaube  9pol 10mm Typ A"]
[1064,"Einbaubuchse Cinch rot",3.2444999999999999,"Einbaubuchse Cinch rot"]
[1065,"Einbaubuchse Cinch gelb",3.2444999999999999,"Einbaubuchse Cinch gelb"]
[1066,"Einbaubuchse Cinch grün",3.2444999999999999,"Einbaubuchse Cinch grün"]
[1067,"Einbaubuchse Cinch blau",3.2444999999999999,"Einbaubuchse Cinch blau"]
[1068,"Einbaubuchse Cinch schwarz",3.2444999999999999,"Einbaubuchse Cinch schwarz"]
[1069,"Stecker Cinch schwarz Neutrik",2.8560000000000003,"Stecker Cinch schwarz Neutrik"]
[1070,"Stecker Cinch rot Neutrik",2.8560000000000003,"Stecker Cinch rot Neutrik"]
[1071,"Stecker Cinch gelb Neutrik",2.8560000000000003,"Stecker Cinch gelb Neutrik"]
[1072,"Einbaubuchse XLR 3pol",8.1270000000000007,"Einbaubuchse XLR 3pol"]
[1073,"Einbaustecker XLR 3pol",7.5075000000000003,"Einbaustecker XLR 3pol"]
[1074,"Stecker XLR 3pol",6.1740000000000004,"Stecker XLR 3pol"]
[1075,"Kupplung XLR 3pol",7.3395000000000001,"Kupplung XLR 3pol"]
[1076,"Einbaubuchse RJ45-EtherCon, schneid-klemm, Neutrik",20.506500000000003,"RJ45-EtherCon Schneid-Klemm, Neutrik"]
[1077,"Stecker RJ45 Ethercon, Neutrik",6.9825000000000008,"RJ45-EtherCon, Neutrik"]
[1079,"Gender Changer VGA-Ku./Ku.",4.5045000000000002,"Gender Changer VGA-Ku./Ku."]
[1080,"Gender Changer VGA-St./St.",4.1370000000000005,"Gender Changer VGA-St./St."]
[1081,"Gender Changer 9pol-St./St.",3.8850000000000002,"Gender Changer 9pol-St./St."]
[1082,"Gender Changer 9pol-Ku./Ku.",3.8850000000000002,"Gender Changer 9pol-Ku./Ku."]
[1083,"Gender Changer 9pol-St./Bu.",4.5045000000000002,"Gender Changer 9pol-St./Bu."]
[1084,"Gender Changer 15pol-Ku./Ku.",4.5465,"Gender Changer 15pol-Ku./Ku."]
[1085,"Gender Changer 9pol-St./Bu. Nullmodem",10.227,"Gender Changer 9po-St./Bu. Nullmodem"]
[1086,"Einbaubuchse 3,5 Klinke stereo",1.5329999999999999,"Einbaubuchse 3,5 Klinke stereo"]
[1087,"Einbaubuchse 3,5 Klinke 4pol",8.599499999999999,"Einbaubuchse 3,5 Klinke 4pol"]
[1088,"Stecker DVI 24+5",8.2635000000000005,"Stecker DVI 24+5"]
[1089,"Stecker Speakon 2pol",6.5834999999999999,"Stecker Speakon 2pol"]
[1090,"Stecker XLR 4pol",8.3685000000000009,"Stecker XLR 4pol"]
[1091,"Stecker XLR 5pol",13.6395,"Stecker XLR 5pol"]
[1092,"Stecker XLR 6pol",16.401,"Stecker XLR 6pol"]
[1093,"Stecker XLR 7pol",19.572000000000003,"Stecker XLR 7pol"]
[1094,"Kupplung XLR 4pol",11.004000000000001,"Kupplung XLR 4pol"]
[1095,"Kupplung XLR 5pol",16.443000000000001,"Kupplung XLR 5pol"]
[1096,"Kupplung XLR 6pol",19.162500000000001,"Kupplung XLR 6pol"]
[1097,"Kupplung XLR 7pol",22.280999999999999,"Kupplung XLR 7pol"]
[1098,"Einbaustecker XLR 4pol",9.4500000000000011,"Einbaustecker XLR 4pol"]
[1099,"Einbaustecker XLR 5pol",14.080500000000001,"Einbaustecker XLR 5pol"]
[1100,"Einbaustecker XLR 6pol",19.236000000000001,"Einbaustecker XLR 6pol"]
[1101,"Einbaustecker XLR 7pol",24.276000000000003,"Einbaustecker XLR 7pol"]
[1102,"Einbaubuchse XLR 4pol",11.770500000000002,"Einbaubuchse XLR 4pol"]
[1103,"Einbaubuchse XLR 5pol",17.986499999999999,"Einbaubuchse XLR 5pol"]
[1104,"Einbaubuchse XLR 6pol",24.076499999999999,"Einbaubuchse XLR 6pol"]
[1105,"Einbaubuchse XLR 7pol",29.106000000000002,"Einbaubuchse XLR 7pol"]
[1108,"Einbaubuchse 2,5 Klinke stereo",3.1710000000000003,"Einbaubuchse 2,5 Klinke stereo"]
[1109,"Schrumpfschlauchbox 1,6mm sw",23.247,"Schrumpfschlauchbox 1,6mm sw"]
[1110,"Schrumpfschlauchbox 2,4mm sw",23.247,"Schrumpfschlauchbox 2,4mm sw"]
[1111,"Schrumpfschlauchbox 3,2mm sw",23.247,"Schrumpfschlauchbox 3,2mm sw"]
[1112,"Schrumpfschlauchbox 4,8mm sw",23.247,"Schrumpfschlauchbox 4,8mm sw"]
[1113,"Schrumpfschlauchbox 6,4mm sw",23.247,"Schrumpfschlauchbox 6,4mm sw"]
[1114,"Schrumpfschlauchbox 9,5mm sw",23.247,"Schrumpfschlauchbox 9,5mm sw"]
[1115,"Schrumpfschlauchbox 12,7mm sw",23.247,"Schrumpfschlauchbox 12,7mm sw"]
[1116,"Schrumpfschlauchbox 16,0mm sw",23.247,"Schrumpfschlauchbox 16,0mm sw"]
[1117,"Schrumpfschlauchbox 19,0mm sw",23.247,"Schrumpfschlauchbox 19,0mm sw"]
[1118,"Schrumpfschlauchbox 25,4mm sw",23.247,"Schrumpfschlauchbox 25,4mm sw"]
[1119,"Schrumpfschlauchbox 3,2mm trans",23.247,"Schrumpfschlauchbox 3,2mm trans"]
[1120,"Schrumpfschlauchbox 6,4mm trans",23.247,"Schrumpfschlauchbox 6,4mm trans"]
[1121,"Schrumpfschlauchbox 9,5mm trans",23.247,"Schrumpfschlauchbox 9,5mm trans"]
[1122,"Schrumpfschlauchbox 12,7mm tran",23.247,"Schrumpfschlauchbox 12,7mm tran"]
[1123,"Einbaubuchse 2,5 Klinke mono",3.1710000000000003,"Einbaubuchse 2,5 Klinke mono"]
[1124,"Knickschutz für XLR Ethercon Stecker (NE8MC) gelb",0.66150000000000009,"Knickschutz für XLR Ethercon Stecker (NE8MC) gelb"]
[1125,"Knickschutz für XLR Ethercon Stecker (NE8MC) blau",0.66150000000000009,"Knickschutz für XLR Ethercon Stecker (NE8MC) blau"]
[1126,"Knickschutz für XLR Ethercon Stecker (NE8MC) viol.",0.66150000000000009,"Knickschutz für XLR Ethercon Stecker (NE8MC) viol."]
[1127,"Stecker, RJ45 EtherCon, Neutrik, Crimpversion",6.9825000000000008,"Stecker, RJ45 EtherCon, Neutrik, Crimpversion"]
[1128,"Mutter M12x0,75",1.1864999999999999,"Mutter M12x0,75"]
[1134,"Einbaubuchse 4pin-Mini-DIN rückseitig steckbar",20.307000000000002,"Einbaubuchse 4pin-Mini-DIN rückseitig steckbar"]
[1135,"Kabeltülle Braun N-BXX-1",1.5960000000000001,"Kabeltülle Braun N-BXX-1"]
[1136,"Kabeltülle Rot N-BXX-2",1.5960000000000001,"Kabeltülle Rot N-BXX-2"]
[1137,"Kabeltülle Orange N-BXX-3",1.5960000000000001,"Kabeltülle Orange N-BXX-3"]
[1138,"Kabeltülle Gelb N-BXX-4",1.5960000000000001,"Kabeltülle Gelb N-BXX-4"]
[1139,"Kabeltülle Grün N-BXX-5",1.5960000000000001,"Kabeltülle Grün N-BXX-5"]
[1140,"Kabeltülle Blau N-BXX-6",1.5960000000000001,"Kabeltülle Blau N-BXX-6"]
[1141,"Kabeltülle Violett N-BXX-7",1.5960000000000001,"Kabeltülle Violett N-BXX-7"]
[1142,"Kabeltülle Grau N-BXX-8",1.5960000000000001,"Kabeltülle Grau N-BXX-8"]
[1145,"Stecker BNC-Ku./Cinch-St.",1.5015000000000001,"Stecker BNC-Ku./Cinch-St."]
[1146,"Stecker BNC-St./Cinch-Ku.",1.6275000000000002,"Stecker BNC-St./Cinch-Ku."]
[1151,"Isolierdurchführung BNC rot",0.65100000000000002,"Isolierdurchführung BNC rot"]
[1152,"Isolierdurchführung BNC grün",0.65100000000000002,"Isolierdurchführung BNC grün"]
[1153,"Isolierdurchführung BNC blau",0.65100000000000002,"Isolierdurchführung BNC blau"]
[1154,"Isolierdurchführung BNC schwarz",0.65100000000000002,"Isolierdurchführung BNC schwarz"]
[1155,"Isolierdurchführung BNC weiß",0.65100000000000002,"Isolierdurchführung BNC weiß"]
[1156,"Isolierdurchführung BNC gelb",0.65100000000000002,"Isolierdurchführung BNC gelb"]
[1172,"Stecker 4pin-Mini-DIN hh",4.4520000000000008,"Stecker 4pin-Mini-DIN hh"]
[1173,"Kupplung 6pin-Mini-DIN hh",4.9874999999999998,"Kupplung 6pin-Mini-DIN hh"]
[1174,"Stecker 6pin-Mini-DIN hh",4.7565000000000008,"Stecker 6pin-Mini-DIN hh"]
[1175,"Kupplung 4pin-Mini-DIN hh",4.6829999999999998,"Kupplung 4pin-Mini-DIN hh"]
[1176,"Stecker 4pin-Mini-DIN ls",3.8220000000000005,"Stecker 4pin-Mini-DIN ls"]
[1177,"Stecker Cinch gelb ls",2.7404999999999999,"Stecker Cinch gelb ls"]
[1178,"Stecker Cinch rot ls",2.7404999999999999,"Stecker Cinch rot ls"]
[1179,"Stecker Cinch schwarz ls",2.7404999999999999,"Stecker Cinch schwarz ls"]
[1180,"Kupplung Cinch gelb ls",2.6460000000000004,"Kupplung Cinch gelb ls"]
[1181,"Kupplung Cinch rot ls",2.6460000000000004,"Kupplung Cinch rot ls"]
[1182,"Kupplung Cinch schwarz ls",2.6460000000000004,"Kupplung Cinch schwarz ls"]
[1184,"Einbaubuchse XLR 3pol schwarz-g",9.8595000000000006,"Einbaubuchse XLR 3pol schwarz-g"]
[1188,"Sub-D Metallhaube  9pol Typ H",5.4390000000000001,"Sub-D Metallhaube  9pol Typ H"]
[1189,"Stecker 3pin-Mini-DIN Kunststoffausführung",3.9060000000000006,"Stecker 4pin-Mini-DIN Kunststoffausführung"]
[1194,"Crimpzange RG 179 S",49.969500000000004,"Crimpzange RG 179 S"]
[1195,"Crimpzange RG 59 S",45.979500000000002,"Crimpzange RG 59 S"]
[1196,"Einbaubuchse BNC/BNC S",4.5885000000000007,"Einbaubuchse BNC/BNC S"]
[1197,"Kupplung BNC 6mm S",2.5305000000000004,"Kupplung BNC 6mm S"]
[1198,"Stecker BNC Verbinder S",2.9819999999999998,"Stecker BNC Verbinder S"]
[1199,"Kupplung BNC 3mm S",3.0030000000000001,"Kupplung BNC 3mm S"]
[1200,"Stecker BNC 3mm Typ S",2.1524999999999999,"Stecker BNC 3mm Typ S"]
[1201,"Einbaubuchse BNC unisoliert S",3.3705000000000003,"Einbaubuchse BNC unisoliert S"]
[1202,"Knickschutztülle 6mm weiß S",0.441,"Knickschutztülle 6mm weiß S"]
[1203,"Knickschutztülle 6mm blau S",0.441,"Knickschutztülle 6mm blau S"]
[1204,"Knickschutztülle 6mm grün S",0.441,"Knickschutztülle 6mm grün S"]
[1205,"Knickschutztülle 6mm gelb S",0.441,"Knickschutztülle 6mm gelb S"]
[1206,"Knickschutztülle 6mm grau S",0.441,"Knickschutztülle 6mm grau S"]
[1207,"Knickschutztülle 6mm orange S",0.441,"Knickschutztülle 6mm orange S"]
[1208,"Knickschutztülle 6mm rot S",0.441,"Knickschutztülle 6mm rot S"]
[1209,"Knickschutztülle 6mm schwarz S",0.441,"Knickschutztülle 6mm schwarz S"]
[1210,"Stecker BNC 6mm S",1.6275000000000002,"Stecker BNC 6mm S"]
[1211,"Knickschutztülle 3mm rot S",0.441,"Knickschutztülle 3mm rot S"]
[1212,"Knickschutztülle 3mm weiß S",0.441,"Knickschutztülle 3mm weiß S"]
[1213,"Knickschutztülle 3mm blau S",0.441,"Knickschutztülle 3mm blau S"]
[1214,"Knickschutztülle 3mm grün S",0.441,"Knickschutztülle 3mm grün S"]
[1215,"Knickschutztülle 3mm grau S",0.441,"Knickschutztülle 3mm grau S"]
[1216,"Knickschutztülle 3mm orange S",0.441,"Knickschutztülle 3mm orange S"]
[1217,"Knickschutztülle 3mm gelb S",0.441,"Knickschutztülle 3mm gelb S"]
[1218,"Knickschutztülle 3mm schwarz S",0.441,"Knickschutztülle 3mm schwarz S"]
[1219,"Stecker 12pol Minicon",32.203500000000005,"Stecker 12pol Minicon"]
[1220,"Einbaubuchse 12pol Minicon",38.734500000000004,"Einbaubuchse 12pol Minicon"]
[1222,"Einbaubuchse Speakon 4pol",3.6960000000000002,"Einbaubuchse Speakon 4pol"]
[1223,"Stecker Speakon 4pol",9.4500000000000011,"Stecker Speakon 4pol"]
[1225,"Sub-D Metallhaube 15pol EVE",10.962,"Sub-D Metallhaube 15pol EVE"]
[1226,"Sub-D Metallhaube 25pol EVE",11.7285,"Sub-D Metallhaube 25pol EVE"]
[1227,"Sub-D Metallhaube 37pol EVE",14.007,"Sub-D Metallhaube 37pol EVE"]
[1228,"Sub-D Metallhaube  9pol 45° EVG",11.077500000000001,"Sub-D Metallhaube  9pol 45° EVG"]
[1229,"Sub-D Metallhaube 50pol FCT kurze Haube",15.592500000000001,"Sub-D Metallhaube 50pol FCT kurze Haube"]
[1230,"Sub-D Rändelschraube lang FCT",1.6275000000000002,"Sub-D Rändelschraube lang FCT"]
[1231,"Isolierdurchführung BNC/BNC schwarz",0.65100000000000002,"Isolierdurchführung BNC/BNC schwarz"]
[1232,"Einbaubuchse Cinch/Cinch Rot S",5.7959999999999994,"Einbaubuchse Cinch/Cinch Rot S"]
[1233,"Einbaubuchse Cinch/Cinch, schwarz S",5.7959999999999994,"Einbaubuchse Cinch/Cinch Schw S"]
[1234,"Einbaubuchse Cinch/Cinch Gelb S",5.7959999999999994,"Einbaubuchse Cinch/Cinch Gelb S"]
[1242,"Isolierdurchführung BNC/BNC rot",0.65100000000000002,"Isolierdurchführung BNC/BNC rot"]
[1243,"Isolierdurchführung BNC/BNC grün",0.65100000000000002,"Isolierdurchführung BNC/BNC grün"]
[1244,"Isolierdurchführung BNC/BNC blau",0.65100000000000002,"Isolierdurchführung BNC/BNC blau"]
[1245,"Isolierdurchführung BNC/BNC weiß",0.65100000000000002,"Isolierdurchführung BNC/BNC weiß"]
[1246,"Isolierdurchführung BNC/BNC gelb",0.65100000000000002,"Isolierdurchführung BNC/BNC gelb"]
[1249,"Sub-D Metallhaube 50pol FCT lange Haube",15.592500000000001,"Sub-D Metallhaube 50pol FCT lange Haube"]
[1251,"Koaxkontakt Stift FCT Mischk.",10.815000000000001,"Koaxkontakt Stift FCT Mischk."]
[1259,"Stecker BNC 4,5mm S",2.8665000000000003,"Stecker BNC 4,5mm S"]
[1260,"Knickschutztülle 4,5mm, rot S",0.441,"Knickschutztülle 4,5mm rot S"]
[1261,"Knickschutztülle 4,5mm, grün S",0.441,"Knickschutztülle 4,5mm grün S"]
[1262,"Knickschutztülle 4,5mm, blau S",0.441,"Knickschutztülle 4,5mm blau S"]
[1263,"Knickschutztülle 4,5mm, schwarz S",0.441,"Knickschutztülle 4,5mm schwar S"]
[1264,"Knickschutztülle 4,5mm, weiß S",0.441,"Knickschutztülle 4,5mm weiß S"]
[1265,"Crimpzange Typ S 3; 4,5 und 6mm",49.969500000000004,"Crimpzange Typ S 3; 4,5 und 6mm"]
[1267,"Kupplung Klinke 3,5mm stereo Metall vergoldet",1.7010000000000003,"Kupplung Klinke 3,5mm stereo Metall vergoldet"]
[1268,"Stecker 26pol Hirose",51.922500000000007,"Stecker 26pol Hirose"]
[1269,"Kupplung 26pol Hirose",51.922500000000007,"Kupplung 26pol Hirose"]
[1270,"Stecker Scart",0.93450000000000011,"Stecker Scart"]
[1271,"Einbaubuchse PowerCon blau",6.1319999999999997,"Einbaubuchse PowerCon blau"]
[1273,"Schrumpfschlauchbox 1,6mm trans",23.247,"Schrumpfschlauchbox 1,6mm trans"]
[1274,"Schrumpfschlauchbox 2,4mm trans",23.247,"Schrumpfschlauchbox 2,4mm trans"]
[1275,"Schrumpfschlauchbox 4,8mm trans",23.247,"Schrumpfschlauchbox 4,8mm trans"]
[1276,"Schrumpfschlauchbox 16,0mm tran",23.247,"Schrumpfschlauchbox 16,0mm tran"]
[1277,"Schrumpfschlauchbox 19,0mm tran",23.247,"Schrumpfschlauchbox 19,0mm tran"]
[1278,"Schrumpfschlauchbox 25,4mm tran",23.247,"Schrumpfschlauchbox 25,4mm tran"]
[1285,"Stecker Klinke 3,5mm stereo abg",1.7429999999999999,"Stecker Klinke 3,5mm stereo abg"]
[1322,"Abisolierwerkzeug RG59",16.2225,"Abisolierwerkzeug RG59"]
[1323,"Abisolierwerkzeug 0,6/2,8",33.043500000000002,"Abisolierwerkzeug 0,6/2,8"]
[1324,"Scart-Adapter 3xCinch+Hosiden S",8.1585000000000001,"Scart-Adapter 3xCinch+Hosiden S"]
[1325,"Einbaubuchse USB Neutrik",9.302999999999999,"Einbaubuchse USB Neutrik"]
[1347,"Stecker BNC 6mm abgewinkelt S",5.0715000000000003,"Stecker BNC 6mm abgewinkelt S"]
[1348,"Stecker BNC 3mm abgewinkelt S",5.3760000000000003,"Stecker BNC 3mm abgewinkelt S"]
[1349,"Mittel-Pin BNC-Stecker 3mm",0.66150000000000009,"Mittel-Pin BNC-Stecker 3mm"]
[1350,"Mittel Pin BNC-Kupplung 3mm",0.71400000000000008,"Mittel Pin BNC-Kupplung 3mm"]
[1356,"Kupplung Mini-XLR 3pol",17.8185,"Kupplung Mini-XLR 3pol"]
[1358,"Stecker Klinke 6,3mm mono met",1.8690000000000002,"Stecker Klinke 6,3mm mono met"]
[1359,"Stecker Klinke 6,3mm stereo met",1.9110000000000003,"Stecker Klinke 6,3mm stereo met"]
[1360,"Kupplung Klinke 6,3mm mono Metall vergoldet",3.4545000000000003,"Kupplung Klinke 6,3mm mono Metall vergoldet"]
[1361,"Kupplung Klinke 6,3mm stereo Metall vergoldet",2.4779999999999998,"Kupplung Klinke 6,3mm stereo Metall vergoldet"]
[1362,"Stecker Klinke 3,5mm mono met",1.1025,"Stecker Klinke 3,5mm mono met"]
[1363,"Kupplung Klinke 3,5mm mono Metall vergoldet",1.5015000000000001,"Kupplung Klinke 3,5mm mono Metall vergoldet"]
[1364,"Stecker Klinke 2,5mm mono met",1.7010000000000003,"Stecker Klinke 2,5mm mono met"]
[1365,"Kupplung Klinke 2,5mm mono Metall vergoldet",0.93450000000000011,"Kupplung Klinke 2,5mm mono Metall vergoldet"]
[1366,"Stecker Klinke 2,5mm stereo met",1.1025,"Stecker Klinke 2,5mm stereo met"]
[1367,"Kupplung Klinke 2,5mm stereo Metall vergoldet",1.1760000000000002,"Kupplung Klinke 2,5mm stereo Metall vergoldet"]
[1368,"Stecker Klinke 6,3mm mono abg",1.008,"Stecker Klinke 6,3mm mono abg"]
[1379,"Stecker Mini-XLR 3pol",17.8185,"Stecker Mini-XLR 3pol"]
[1393,"Blindabdeckung XLR D-Bohrung",1.5435000000000001,"Blindabdeckung XLR D-Bohrung"]
[1412,"Stecker Klinke 3,5mm NYS231L",1.7010000000000003,"Stecker Klinke 3,5mm NYS231L"]
[1413,"Stecker Klinke 3,5mm NYS231",1.7010000000000003,"Stecker Klinke 3,5mm NYS231"]
[1414,"Kupplung Klinke 3,5mm NYS240",1.7010000000000003,"Kupplung Klinke 3,5mm NYS240"]
[1415,"Gender Changer VGA-St./Ku.",4.1370000000000005,"Gender Changer VGA-St./Ku."]
[1422,"Kupplung Klinke 3,5mm NYS240L",1.7010000000000003,"Kupplung Klinke 3,5mm NYS240L"]
[1427,"Stecker 7pol Hirose",31.174500000000002,"Stecker 7pol Hirose"]
[1442,"Einbaubuchse PowerCon grau",6.1319999999999997,"Einbaubuchse PowerCon grau"]
[1446,"Stecker XLR 3pol abgewinkelt",13.524000000000001,"Stecker XLR 3pol abgewinkelt"]
[1447,"Kupplung XLR 3pol abgewinkelt",15.592500000000001,"Kupplung XLR 3pol abgewinkelt"]
[1459,"Stecker BNC 9mm Telegärtner",8.0850000000000009,"Stecker BNC 9mm Telegärtner"]
[1465,"Adapter DVI-Kuppl./VGA-Stecker",5.4809999999999999,"Adapter DVI-Kuppl./VGA-Stecker"]
[1466,"Adapter DVI-Kuppl./DVI-Stecker",8.7569999999999997,"Adapter DVI-Kuppl./DVI-Stecker"]
[1467,"Adapter HDMI-Kuppl./DVI-Stecker",8.4525000000000006,"Adapter HDMI-Kuppl./DVI-Stecker"]
[1468,"Adapter HDMI-Steck./DVI-Kuppl.",8.4525000000000006,"Adapter HDMI-Steck./DVI-Kuppl."]
[1469,"Adapter DVI-Stecker/VGA-Kuppl.",5.4809999999999999,"Adapter DVI-Stecker/VGA-Kuppl."]
[1470,"Stecker XLR 4pol abgewinkelt",18.059999999999999,"Stecker XLR 4pol abgewinkelt"]
[1471,"Kupplung XLR 4pol abgewinkelt",23.1,"Kupplung XLR 4pol abgewinkelt"]
[1472,"Stecker PowerCon blau",13.429499999999999,"Stecker PowerCon blau"]
[1473,"Stecker PowerCon grau",13.429499999999999,"Stecker PowerCon grau"]
[1474,"Isoliertülle D-Gehäuse",3.3705000000000003,"Isoliertülle D-Gehäuse"]
[1483,"Gender Changer 3,5-Klinke-Bu-Bu",18.406500000000001,"Gender Changer 3,5-Klinke-Bu-Bu"]
[1488,"Crimpzange Typ R ohne Einsatz",150.70650000000001,"Crimpzange Typ R ohne Einsatz"]
[1489,"Crimpeinsatz Typ R BNC 3,4.5,6",241.56300000000002,"Crimpeinsatz Typ R BNC 3,4.5,6"]
[1500,"Adapter HDMI Winkel Stecker/Buchse",10.668000000000001,"Adapter HDMI Winkel Stecker/Buchse"]
[1508,"Crimphülse BNC 3mm",0.66150000000000009,"Crimphülse BNC 3mm"]
[1509,"Mittel Pin BNC-Stecker 4,5mm",0.66150000000000009,"Mittel Pin BNC-Stecker 4,5mm"]
[1522,"Stecker Klinke 3,5mm 4polig Metall vergoldet",8.7255000000000003,"Stecker Klinke 3,5mm 4polig Metall vergoldet"]
[1523,"Kupplung Klinke 3,5mm 4polig Metall vergoldet",9.7334999999999994,"Kupplung Klinke 3,5mm 4polig Metall vergoldet"]
[1525,"Cinch-Verbinder Bu./Bu.",2.1524999999999999,"Cinch-Verbinder Bu./Bu."]
[1533,"Adapter DVI-Kuppl./DisplayPort-Stecker",32.024999999999999,"Adapter DVI-Kuppl./DisplayPort-Stecker"]
[1534,"Adapter DisplayPort-Buchse/DisplayPort-Buchse",29.988,"Adapter DisplayPort-Buchse/DisplayPort-Buchse"]
[1535,"Adapter DisplayPort-Stecker/HDMI-Kupplung",30.827999999999999,"Adapter DisplayPort-Stecker/HDMI-Kupplung"]
[1538,"Stecker XLR 5pol abgewinkelt",21.388500000000001,"Stecker XLR 5pol abgewinkelt"]
[1543,"Adapter HDMI-Kupplung/HDMI-Kupplung",8.4525000000000006,"Adapter HDMI-Kupplung/HDMI-Kupplung"]
[1547,"Adapter USB A-Buchse/B-Stecker",3.3705000000000003,"Adapter USB A-Buchse/B-Stecker"]
[1549,"Stecker BNC 50 Ohm RG58",1.6275000000000002,"Stecker BNC 50 Ohm RG58"]
[1550,"Stecker Speakon 4pol abgewinkelt",14.574000000000002,"Stecker Speakon 4pol abgewinkelt"]
[1560,"Einbaubuchse BNC/BNC HD-SDI",20.926500000000001,"Einbaubuchse BNC/BNC HD-SDI"]
[1574,"Adapter USB A-Stecker/B-Buchse",3.3705000000000003,"Adapter USB A-Stecker/B-Buchse"]
[1575,"Adapter USB B-Buchse/B-Buchse",3.3705000000000003,"Adapter USB B-Buchse/B-Buchse"]
[1576,"Stecker Klinke 3,5mm NYS231BG, schwarz",2.6355,"Stecker Klinke 3,5mm NYS231BG, schwarz"]
[1577,"Kupplung Klinke 3,5mm NYS240BG, schwarz",2.6355,"Kupplung Klinke 3,5mm NYS240BG, schwarz"]
[1579,"Stecker Cinch rot abgewinkelt",2.7404999999999999,"Stecker Cinch rot abgewinkelt"]
[1580,"Stecker Cinch schwarz abgewinkelt",2.7404999999999999,"Stecker Cinch schwarz abgewinkelt"]
[1581,"Stecker Kaltgeräte gerade",8.6939999999999991,"Stecker Kaltgeräte gerade"]
[1582,"Stecker Kaltgeräte rechts",8.6939999999999991,"Stecker Kaltgeräte rechts"]
[1583,"Adapter DVI-I Stecker/DVI-I Kupplung, abgewinkelt",23.498999999999999,"Adapter DVI-I Stecker/DVI-I Kupplung, abgewinkelt"]
[1588,"Adapter HDMI-Ku./HDMI-Ku. 360°",23.551500000000001,"XXXXX"]
[1590,"Stecker 8pin-Mini-DIN hh",4.7565000000000008,"XXXXX"]
[1597,"Adapter Mini DisplayPort-Stecker/HDMI-Kupplung",41.233500000000006,"XXXXX"]
[1598,"Adapter Mini DisplayPort-Stecker/VGA-Kupplung",54.222000000000001,"XXXXX"]
[1599,"Adapter Mini DisplayPort-Stecker/DVI-Kupplung",33.831000000000003,"XXXXX"]
[1600,"Stecker HDMI crimpbar AWG24",9.5759999999999987,"XXXXX"]
[1601,"Crimpzange HDMI",210.21,"XXXXX"]
[1602,"Adapter HDMI-Kupplung/DVI-Kupplung",8.4525000000000006,"XXXXX"]
[1603,"Adapter USB B-Stecker/B-Stecker",3.3705000000000003,"XXXXX"]
[1611,"Adapter DVI-I Stecker/DVI-I Kuppl., 90° nach unten",31.080000000000002,"Adapter DVI-I Stecker/DVI-I Kuppl., 90° nach unten"]
[1612,"Adapter HDMI-Kuppl./DVI-Stecker 180°",16.821000000000002,"Adapter HDMI-Kuppl./DVI-Stecker 180°"]
[1613,"Adapter HDMI Winkel Stecker/Buchse runter",10.668000000000001,"Adapter HDMI Winkel Stecker/Buchse runter"]
[1627,"Kabeltülle Weiss N-BXX-9",1.5960000000000001,"Kabeltülle Weiss N-BXX-9"]
[1629,"Spiralschlauch PE 3",40.677000000000007,"Spiralschlauch PE 3"]
[1630,"Spiralschlauch PE 6",42.378,"Spiralschlauch PE 6"]
[1631,"Spiralschlauch PE 22",124.78200000000001,"Spiralschlauch PE 22"]
[1635,"Einbaubuchse Cinch in D-Bohrung, schwarz",9.7545000000000002,"Einbaubuchse Cinch in D-Bohrung, schwarz"]
[1636,"Einbaubuchse Cinch in D-Bohrung, rot",9.7545000000000002,"Einbaubuchse Cinch in D-Bohrung, rot"]
[1640,"Adapter VGA Winkel Stecker/Buchse rauf",11.487,"Adapter VGA Winkel Stecker/Buchse rauf"]
[1641,"Adapter VGA Winkel Stecker/Buchse runter",11.487,"Adapter VGA Winkel Stecker/Buchse runter"]
[1642,"Kantenschutzprofil 0,8-1,0mm natur",73.258499999999998,"Kantenschutzprofil 0,8-1,0mm natur"]
[1646,"ABDECKKAPPE SC/SC BUCHSE",2.3205,"ABDECKKAPPE SC/SC BUCHSE"]
[1650,"Federleiste 4pol für Rafi Taster",2.9295,"Federleiste 4pol für Rafi Taster"]
[3000,"Video-Audio-Umschalter 6/1",214.5675,"Video-Audio-Umschalter 6/1"]
[3003,"DVI-Extender Single Link",324.97500000000002,"DVI-Extender Single Link"]
[3004,"USB Line Extender Cat.5",29.977500000000003,"USB Line Extender Cat.5"]
[3005,"USB Repeater 2.0, 5m",29.977500000000003,"USB Repeater 2.0"]
[3007,"HDMI-Repeater bis 60m Kabellänge",99.9285,"HDMI-Repeater bis 60m Kabellänge"]
[3008,"DVI-Repeater bis 60m Kabellänge",107.7405,"DVI-Repeater bis 60m Kabellänge"]
[3009,"Kabel USB-A-St./USB-A-Ku. 10m",51.849000000000004,"XXXXX"]
[3010,"Kabel USB-A-St./USB-A-Ku. 15m",70.255499999999998,"XXXXX"]
[3011,"Kabel USB-A-St./USB-A-Ku. 20m",105.29400000000001,"XXXXX"]
[3012,"HDMI- Tester 19pins + Schirm",167.874,"XXXXX"]
[3013,"HDMI-Repeater bis 80m Kabellänge",107.7405,"HDMI-Repeater bis 80m Kabellänge"]
[3014,"HDMI- Tester 2teilig",167.874,"HDMI- Tester 2teilig"]
[4001,"BNC-Kabel  0,5m",6.6465000000000005,"BNC-Kabel  0,5m"]
[4002,"BNC-Kabel  1,0m",7.2135000000000007,"BNC-Kabel  1,0m"]
[4003,"BNC-Kabel  2,0m",8.1165000000000003,"BNC-Kabel  2,0m"]
[4004,"BNC-Kabel  3,0m",10.5,"BNC-Kabel  3,0m"]
[4005,"BNC-Kabel  5,0m",12.116999999999999,"BNC-Kabel  5,0m"]
[4006,"BNC-Kabel  7,5m",14.217000000000001,"BNC-Kabel  7,5m"]
[4007,"BNC-Kabel 10m",16.369500000000002,"BNC-Kabel 10m"]
[4008,"BNC-Kabel 15m",21.892500000000002,"BNC-Kabel 15m"]
[4009,"BNC-Kabel 20m",31.006500000000003,"BNC-Kabel 20m"]
[4010,"Kabel 2xBNC-St./2xBNC-St.  0,5m",21.084,"2xBNC-St./2xBNC-St.  0,5m"]
[4011,"Kabel 2xBNC-St./2xBNC-St.  1m",22.2075,"2xBNC-St./2xBNC-St.  1m"]
[4012,"Kabel 2xBNC-St./2xBNC-St.  2m",24.465000000000003,"2xBNC-St./2xBNC-St.  2m"]
[4013,"Kabel 2xBNC-St./2xBNC-St.  3m",26.701499999999999,"2xBNC-St./2xBNC-St.  3m"]
[4014,"Kabel 2xBNC-St./2xBNC-St.  5m",31.195500000000003,"2xBNC-St./2xBNC-St.  5m"]
[4015,"Kabel 2xBNC-St./2xBNC-St.  7,5m",36.813000000000002,"2xBNC-St./2xBNC-St.  7,5m"]
[4016,"Kabel 2xBNC-St./2xBNC-St. 10m",42.409500000000001,"2xBNC-St./2xBNC-St. 10m"]
[4017,"Kabel 2xBNC-St./2xBNC-St. 15m",53.644500000000008,"2xBNC-St./2xBNC-St. 15m"]
[4018,"Kabel 2xBNC-St./2xBNC-St. 20m",64.879500000000007,"2xBNC-St./2xBNC-St. 20m"]
[4019,"Kabel 3xBNC-St./3xBNC-St. 0,5m",31.363500000000002,"3xBNC-St./3xBNC-St. 0,5m"]
[4020,"Kabel 3xBNC-St./3xBNC-St. 1m",32.76,"3xBNC-St./3xBNC-St. 1m"]
[4021,"Kabel 3xBNC-St./3xBNC-St. 2m",35.563499999999998,"3xBNC-St./3xBNC-St. 2m"]
[4022,"Kabel 3xBNC-St./3xBNC-St. 3m",38.377499999999998,"3xBNC-St./3xBNC-St. 3m"]
[4023,"Kabel 3xBNC-St./3xBNC-St. 5m",43.994999999999997,"3xBNC-St./3xBNC-St. 5m"]
[4024,"Kabel 3xBNC-St./3xBNC-St. 7,5m",51.009,"3xBNC-St./3xBNC-St. 7,5m"]
[4025,"Kabel 3xBNC-St./3xBNC-St. 10m",58.023000000000003,"3xBNC-St./3xBNC-St. 10m"]
[4026,"Kabel 3xBNC-St./3xBNC-St. 15m",72.061499999999995,"3xBNC-St./3xBNC-St. 15m"]
[4027,"Kabel 3xBNC-St./3xBNC-St. 20m",86.089500000000001,"3xBNC-St./3xBNC-St. 20m"]
[4028,"Kabel 4xBNC-St./4xBNC-St.  0,5m",41.947500000000005,"4xBNC-St./4xBNC-St.  0,5m"]
[4029,"Kabel 4xBNC-St./4xBNC-St.  1m",43.974000000000004,"4xBNC-St./4xBNC-St.  1m"]
[4030,"Kabel 4xBNC-St./4xBNC-St.  2m",48.027000000000001,"4xBNC-St./4xBNC-St.  2m"]
[4031,"Kabel 4xBNC-St./4xBNC-St.  3m",52.069500000000005,"4xBNC-St./4xBNC-St.  3m"]
[4032,"Kabel 4xBNC-St./4xBNC-St.  5m",60.144000000000005,"4xBNC-St./4xBNC-St.  5m"]
[4033,"Kabel 4xBNC-St./4xBNC-St.  7,5m",70.255499999999998,"4xBNC-St./4xBNC-St.  7,5m"]
[4034,"Kabel 4xBNC-St./4xBNC-St. 10m",80.356500000000011,"4xBNC-St./4xBNC-St. 10m"]
[4035,"Kabel 4xBNC-St./4xBNC-St. 15m",100.5585,"4xBNC-St./4xBNC-St. 15m"]
[4036,"Kabel 4xBNC-St./4xBNC-St. 20m",120.76050000000001,"4xBNC-St./4xBNC-St. 20m"]
[4037,"Kabel 5xBNC-St./5xBNC-St.  0,5m",51.9435,"5xBNC-St./5xBNC-St.  0,5m"]
[4038,"Kabel 5xBNC-St./5xBNC-St.  1m",53.97,"5xBNC-St./5xBNC-St.  1m"]
[4039,"Kabel 5xBNC-St./5xBNC-St.  2m",58.002000000000002,"5xBNC-St./5xBNC-St.  2m"]
[4040,"Kabel 5xBNC-St./5xBNC-St.  3m",62.044500000000006,"5xBNC-St./5xBNC-St.  3m"]
[4041,"Kabel 5xBNC-St./5xBNC-St.  5m",70.14,"5xBNC-St./5xBNC-St.  5m"]
[4042,"Kabel 5xBNC-St./5xBNC-St.  7,5m",80.230500000000006,"5xBNC-St./5xBNC-St.  7,5m"]
[4043,"Kabel 5xBNC-St./5xBNC-St. 10m",90.342000000000013,"5xBNC-St./5xBNC-St. 10m"]
[4044,"Kabel 5xBNC-St./5xBNC-St. 15m",110.54400000000001,"5xBNC-St./5xBNC-St. 15m"]
[4045,"Kabel 5xBNC-St./5xBNC-St. 20m",130.74600000000001,"5xBNC-St./5xBNC-St. 20m"]
[4046,"Kabel BNC-St./Cinch-St. 0,5m",7.6545000000000005,"BNC-St./Cinch-St. 0,5m"]
[4047,"Kabel BNC-St./Cinch-St. 1m",8.19,"BNC-St./Cinch-St. 1m"]
[4048,"Kabel BNC-St./Cinch-St. 2m",9.1140000000000008,"BNC-St./Cinch-St. 2m"]
[4049,"Kabel BNC-St./Cinch-St. 3m",11.487,"BNC-St./Cinch-St. 3m"]
[4050,"Kabel BNC-St./Cinch-St. 5m",13.114500000000001,"BNC-St./Cinch-St. 5m"]
[4051,"Kabel BNC-St./Cinch-St. 7,5m",15.214500000000001,"BNC-St./Cinch-St. 7,5m"]
[4052,"Kabel BNC-St./Cinch-St. 10m",17.367000000000001,"BNC-St./Cinch-St. 10m"]
[4053,"Kabel BNC-St./Cinch-St. 15m",22.89,"BNC-St./Cinch-St. 15m"]
[4054,"Kabel BNC-St./Cinch-St. 20m",32.004000000000005,"BNC-St./Cinch-St. 20m"]
[4055,"Kabel BNC-S.2xCinch-S.dito 0,5m",27.604500000000002,"BNC-S.2xCinch-S.dito 0,5m"]
[4056,"Kabel BNC-S.2xCinch-S.dito 1m",29.001000000000001,"BNC-S.2xCinch-S.dito 1m"]
[4057,"Kabel BNC-S.2xCinch-S.dito 2m",31.804500000000001,"BNC-S.2xCinch-S.dito 2m"]
[4058,"Kabel BNC-S.2xCinch-S.dito 3m",34.618499999999997,"BNC-S.2xCinch-S.dito 3m"]
[4059,"Kabel BNC-S.2xCinch-S.dito 5m",40.214999999999996,"BNC-S.2xCinch-S.dito 5m"]
[4060,"Kabel BNC-S.2xCinch-S.dito 7,5m",47.228999999999999,"BNC-S.2xCinch-S.dito 7,5m"]
[4061,"Kabel BNC-S.2xCinch-S.dito 10m",54.253500000000003,"BNC-S.2xCinch-S.dito 10m"]
[4062,"Kabel BNC-S.2xCinch-S.dito 15m",68.281500000000008,"BNC-S.2xCinch-S.dito 15m"]
[4063,"Kabel BNC-S.2xCinch-S.dito 20m",82.3095,"BNC-S.2xCinch-S.dito 20m"]
[4064,"Kabel Cinch-St./Cinch-St.  0,5m",9.355500000000001,"Cinch-St./Cinch-St.0,5m"]
[4065,"Kabel Cinch-St./Cinch-St. 1m",10.0905,"Cinch-St./Cinch-St.1m"]
[4066,"Kabel Cinch-St./Cinch-St. 2m",11.602500000000001,"Cinch-St./Cinch-St.2m"]
[4067,"Kabel Cinch-St./Cinch-St. 3m",13.0725,"Cinch-St./Cinch-St.3m"]
[4068,"Kabel Cinch-St./Cinch-St. 5m",16.075500000000002,"Cinch-St./Cinch-St.5m"]
[4069,"Kabel Cinch-St./Cinch-St. 7,5m",19.792500000000004,"Cinch-St./Cinch-St.7,5m"]
[4070,"Kabel Cinch-St./Cinch-St.10m",23.5305,"Cinch-St./Cinch-St.10m"]
[4071,"Kabel Cinch-St./Cinch-St.15m",30.975000000000001,"Cinch-St./Cinch-St.15m"]
[4072,"Kabel Cinch-St./Cinch-St.20m",38.43,"Cinch-St./Cinch-St.20m"]
[4073,"Kabel 2xCinch-St./dito    0,5m",18.322500000000002,"2xCinch-St./dito 0,5m"]
[4074,"Kabel 2xCinch-St./dito    1m",19.446000000000002,"2xCinch-St./dito 1m"]
[4075,"Kabel 2xCinch-St./dito   2m",21.693000000000001,"2xCinch-St./dito 2m"]
[4076,"Kabel 2xCinch-St./dito  3m",23.94,"2xCinch-St./dito 3m"]
[4077,"Kabel 2xCinch-St./dito  5m",28.413,"2xCinch-St./dito 5m"]
[4078,"Kabel 2xCinch-St./dito  7,5m",34.041000000000004,"2xCinch-St./dito 7,5m"]
[4079,"Kabel 2xCinch-St./dito 10m",39.658500000000004,"2xCinch-St./dito 10m"]
[4080,"Kabel 2xCinch-St./dito 15m",50.893500000000003,"2xCinch-St./dito 15m"]
[4081,"Kabel 2xCinch-St./dito 20m",62.107500000000002,"2xCinch-St./dito 20m"]
[4082,"Kabel 3xCinch-St./dito   0,5m",27.205500000000001,"3xCinch-St./dito 0,5m"]
[4083,"Kabel 3xCinch-St./dito   1m",28.602,"3xCinch-St./dito 1m"]
[4084,"Kabel 3xCinch-St./dito   2m",31.416000000000004,"3xCinch-St./dito 2m"]
[4085,"Kabel 3xCinch-St./dito  3m",34.219500000000004,"3xCinch-St./dito 3m"]
[4086,"Kabel 3xCinch-St./dito  5m",39.836999999999996,"3xCinch-St./dito 5m"]
[4087,"Kabel 3xCinch-St./dito  7,5m",46.850999999999999,"3xCinch-St./dito 7,5m"]
[4088,"Kabel 3xCinch-St./dito 10m",53.865000000000002,"3xCinch-St./dito 10m"]
[4089,"Kabel 3xCinch-St./dito 15m",67.893000000000001,"3xCinch-St./dito 15m"]
[4090,"Kabel 3xCinch-St./dito 20m",81.9315,"3xCinch-St./dito 20m"]
[4091,"Kabel 3,5 St.KlinkeSt/dito   0,5m",10.752000000000001,"3,5 St.KlinkeSt/dito 0,5m"]
[4092,"Kabel 3,5 St.KlinkeSt/dito  1m",11.140499999999999,"3,5 St.KlinkeSt/dito  1m"]
[4093,"Kabel 3,5 St.KlinkeSt/dito  2m",11.875500000000001,"3,5 St.KlinkeSt/dito  2m"]
[4094,"Kabel 3,5 St.KlinkeSt/dito  3m",12.6105,"3,5 St.KlinkeSt/dito  3m"]
[4095,"Kabel 3,5 St.KlinkeSt/dito  5m",14.112,"3,5 St.KlinkeSt/dito  5m"]
[4096,"Kabel 3,5 St.KlinkeSt/dito  7,5m",15.970500000000001,"3,5 St.KlinkeSt/dito 7,5m"]
[4097,"Kabel 3,5 St.KlinkeSt/dito 10m",17.850000000000001,"3,5 St.KlinkeSt/dito 10m"]
[4098,"Kabel 3,5 St.KlinkeSt/dito 15m",21.567,"3,5 St.KlinkeSt/dito 15m"]
[4099,"Kabel 3,5 St.KlinkeSt/dito 20m",25.305000000000003,"3,5 St.KlinkeSt/dito 20m"]
[4100,"Kabel 3,5 St.KlinkeSt/2xCinch-Stecker   0,5m",14.91,"3,5 St.KlinkeSt/2xCinch-Stecker   0,5m"]
[4101,"Kabel 3,5 St.KlinkeSt/2xCinch-Stecker   1m",16.0335,"3,5 St.KlinkeSt/2xCinch-Stecker   1m"]
[4102,"Kabel 3,5 St.KlinkeSt/2xCinch-Stecker   2m",18.291000000000004,"3,5 St.KlinkeSt/2xCinch-Stecker   2m"]
[4103,"Kabel 3,5 St.KlinkeSt/2xCinch-Stecker  3m",20.5275,"3,5 St.KlinkeSt/2xCinch-Stecker  3m"]
[4104,"Kabel 3,5 St.KlinkeSt/2xCinch-Stecker  5m",25.0215,"3,5 St.KlinkeSt/2xCinch-Stecker  5m"]
[4105,"Kabel 3,5 St.KlinkeSt/2xCinch-Stecker  7,5m",30.618000000000002,"3,5 St.KlinkeSt/2xCinch-Stecker  7,5m"]
[4106,"Kabel 3,5 St.KlinkeSt/2xCinch-Stecker 10m",36.235500000000002,"3,5 St.KlinkeSt/2xCinch-Stecker 10m"]
[4107,"Kabel 3,5 St.KlinkeSt/2xCinch-Stecker 15m",47.470500000000001,"3,5 St.KlinkeSt/2xCinch-Stecker 15m"]
[4108,"Kabel 3,5 St.KlinkeSt/2xCinch-Stecker 20m",58.6845,"3,5 St.KlinkeSt/2xCinch-Stecker 20m"]
[4109,"Kabel VGA-St./VGA-St.  0,5m",44.247,"VGA-St./VGA-St.  0,5m"]
[4110,"Kabel VGA-St./VGA-St.  1,0m",45.454500000000003,"VGA-St./VGA-St.  1,0m"]
[4111,"Kabel VGA-St./VGA-St.  2m",47.785499999999999,"VGA-St./VGA-St.  2m"]
[4112,"Kabel VGA-St./VGA-St.  3m",50.148000000000003,"VGA-St./VGA-St.  3m"]
[4113,"Kabel VGA-St./VGA-St.  5m",54.894000000000005,"VGA-St./VGA-St.  5m"]
[4114,"Kabel VGA-St./VGA-St.  7,5m",60.742500000000007,"VGA-St./VGA-St.  7,5m"]
[4115,"Kabel VGA-St./VGA-St. 10m",66.664500000000004,"VGA-St./VGA-St. 10m"]
[4116,"Kabel VGA-St./VGA-St. 15m",78.445499999999996,"VGA-St./VGA-St. 15m"]
[4117,"Kabel VGA-St./VGA-St. 20m",90.226500000000016,"VGA-St./VGA-St. 20m"]
[4118,"Kabel VGA-St./VGA-St. 25m",102.018,"VGA-St./VGA-St. 25m"]
[4119,"Kabel VGA-St./VGA-Ku.  0,5m",45.307499999999997,"VGA-St./VGA-Ku.  0,5m"]
[4120,"Kabel VGA-St./VGA-Ku.  1m",45.454500000000003,"VGA-St./VGA-Ku.  1m"]
[4121,"Kabel VGA-St./VGA-Ku.  2m",47.785499999999999,"VGA-St./VGA-Ku.  2m"]
[4122,"Kabel VGA-St./VGA-Ku.  3,0m",50.148000000000003,"VGA-St./VGA-Ku.  3,0m"]
[4123,"Kabel VGA-St./VGA-Ku.  5m",54.894000000000005,"VGA-St./VGA-Ku.  5m"]
[4124,"Kabel VGA-St./VGA-Ku.  7,5m",60.742500000000007,"VGA-St./VGA-Ku.  7,5m"]
[4125,"Kabel VGA-St./VGA-Ku. 10m",66.664500000000004,"VGA-St./VGA-Ku. 10m"]
[4126,"Kabel VGA-St./VGA-Ku. 15m",78.445499999999996,"VGA-St./VGA-Ku. 15m"]
[4127,"Kabel VGA-St./VGA-Ku. 20m",90.226500000000016,"VGA-St./VGA-Ku. 20m"]
[4128,"Kabel VGA-St./5xBNC-St.  1m",48.856500000000004,"VGA-St./5xBNC-St.  1m"]
[4129,"Kabel VGA-St./5xBNC-St.  2m",51.219000000000001,"VGA-St./5xBNC-St.  2m"]
[4130,"Kabel VGA-St./5xBNC-St.  3m",53.581500000000005,"VGA-St./5xBNC-St.  3m"]
[4131,"Kabel VGA-St./5xBNC-St.  5m",58.285499999999999,"VGA-St./5xBNC-St.  5m"]
[4132,"Kabel VGA-St./5xBNC-St.  7,5m",64.176000000000002,"VGA-St./5xBNC-St.  7,5m"]
[4133,"Kabel VGA-St./5xBNC-St. 10m",70.087500000000006,"VGA-St./5xBNC-St. 10m"]
[4134,"Kabel VGA-St./5xBNC-St. 15m",81.85799999999999,"VGA-St./5xBNC-St. 15m"]
[4135,"Kabel VGA-St./5xBNC-St. 20m",93.649500000000003,"VGA-St./5xBNC-St. 20m"]
[4136,"Kabel VGA-St./5xBNC-Ku. 0,2m Standard",30.66,"VGA-St./5xBNC-Ku. 0,2m Standard"]
[4137,"Kabel VGA-St./5xBNC-Ku. 1m",61.299000000000007,"VGA-St./5xBNC-Ku. 1m"]
[4138,"Kabel VGA-St./5xBNC-Ku. 2m",69.320999999999998,"VGA-St./5xBNC-Ku. 2m"]
[4139,"Kabel 4p.-MD-St./2xBNC-Ku. 0,2m",25.945500000000003,"4p.-MD-St./2xBNC-Ku. 0,2m"]
[4140,"Kabel 4p.-MD-St./2xBNC-Ku. 1m",27.7515,"4p.-MD-St./2xBNC-Ku. 1m"]
[4141,"Kabel 4p.-MD-St./2xBNC-Ku. 2m",29.977500000000003,"4p.-MD-St./2xBNC-Ku. 2m"]
[4142,"Kabel 3p.XLR-St./3p.XLR-Ku.0,5m",21.966000000000001,"3p.XLR-St./3p.XLR-Ku.0,5m"]
[4143,"Kabel 3p.XLR-St./3p.XLR-Ku. 1m",22.6905,"3p.XLR-St./3p.XLR-Ku. 1m"]
[4144,"Kabel 3p.XLR-St./3p.XLR-Ku. 2m",24.139499999999998,"3p.XLR-St./3p.XLR-Ku. 2m"]
[4145,"Kabel 3p.XLR-St./3p.XLR-Ku. 3m",25.599,"3p.XLR-St./3p.XLR-Ku. 3m"]
[4146,"Kabel 3p.XLR-St./3p.XLR-Ku. 5m",28.5075,"3p.XLR-St./3p.XLR-Ku. 5m"]
[4147,"Kabel 3p.XLR-St./3p.XLR-Ku.7,5m",32.140500000000003,"3p.XLR-St./3p.XLR-Ku.7,5m"]
[4148,"Kabel 3p.XLR-St./3p.XLR-Ku.10m",35.783999999999999,"3p.XLR-St./3p.XLR-Ku.10m"]
[4149,"Kabel 3p.XLR-St./3p.XLR-Ku.15m",43.050000000000004,"3p.XLR-St./3p.XLR-Ku.15m"]
[4150,"Kabel 3p.XLR-St./3p.XLR-Ku.20m",50.326500000000003,"3p.XLR-St./3p.XLR-Ku.20m"]
[4151,"Kabel 3p.XLR-St./3p.XLR-Ku.25m",57.582000000000008,"3p.XLR-St./3p.XLR-Ku.25m"]
[4152,"Kabel VGA-Ku.o.G/5xBNC-Ku. 0,4m",31.584,"VGA-Ku.o.G/5xBNC-Ku. 0,4m"]
[4153,"Kabel 4p.-MD-St./4p-MD-St.   0,5m",23.4255,"4p.-MD-St./4p-MD-St.   0,5m"]
[4154,"Kabel 4p.-MD-St./4p-MD-St.   1m",24.548999999999999,"4p.-MD-St./4p-MD-St.   1m"]
[4155,"Kabel 4p.-MD-St./4p-MD-St.  2m",26.775000000000002,"4p.-MD-St./4p-MD-St.  2m"]
[4156,"Kabel 4p.-MD-St./4p-MD-St.  3m",29.043000000000003,"4p.-MD-St./4p-MD-St.  3m"]
[4157,"Kabel 4p.-MD-St./4p-MD-St.  5m",33.516000000000005,"4p.-MD-St./4p-MD-St.  5m"]
[4158,"Kabel 4p.-MD-St./4p-MD-St.  7,5m",39.133500000000005,"4p.-MD-St./4p-MD-St.  7,5m"]
[4159,"Kabel 4p.-MD-St./4p-MD-St. 10m",44.750999999999998,"4p.-MD-St./4p-MD-St. 10m"]
[4160,"Kabel 4p.-MD-St./4p-MD-St. 15m",55.964999999999996,"4p.-MD-St./4p-MD-St. 15m"]
[4161,"Kabel 4p.-MD-St./4p-MD-St. 20m",67.2,"4p.-MD-St./4p-MD-St. 20m"]
[4162,"Kabel 4p.-MD-St./4p-MD-St. 25m",78.435000000000002,"4p.-MD-St./4p-MD-St. 25m"]
[4163,"Kabel 4p.-MD-St./2xBNC-Ku. 0,5m",26.628,"4p.-MD-St./2xBNC-Ku. 0,5m"]
[4164,"Kabel VGA-St./5xBNC-Ku. 0,5m",59.283000000000001,"VGA-St./5xBNC-Ku. 0,5m"]
[4165,"Kabel VGA-St./VGA-Ku. 25m",102.018,"VGA-St./VGA-Ku. 25m"]
[4166,"Kabel 9p.-St./9p-St. 0,5m",27.520500000000002,"9p.-St./9p-St. 0,5m"]
[4167,"Kabel 9p.-St./9p-St. 1m",28.202999999999999,"9p.-St./9p-St. 1m"]
[4168,"Kabel 9p.-St./9p-St. 2m",29.568000000000001,"9p.-St./9p-St. 2m"]
[4169,"Kabel 9p.-St./9p-St. 3m",30.922499999999999,"9p.-St./9p-St. 3m"]
[4170,"Kabel 9p.-St./9p-St. 5m",33.631500000000003,"9p.-St./9p-St. 5m"]
[4171,"Kabel 9p.-St./9p-St. 7,5m",37.022999999999996,"9p.-St./9p-St. 7,5m"]
[4172,"Kabel 9p.-St./9p-St. 10m",40.435499999999998,"9p.-St./9p-St. 10m"]
[4173,"Kabel 9p.-St./9p-St. 15m",47.218499999999999,"9p.-St./9p-St. 15m"]
[4174,"Kabel 9p.-St./9p-St. 20m",54.0015,"9p.-St./9p-St. 20m"]
[4175,"Kabel 9p.-St./9p-St. 25m",60.805500000000002,"9p.-St./9p-St. 25m"]
[4176,"Kabel 9p.-St./9p-Ku. 0,5m",27.520500000000002,"9p.-St./9p-Ku. 0,5m"]
[4177,"Kabel 9p.-St./9p-Ku. 1m",28.202999999999999,"9p.-St./9p-Ku. 1m"]
[4178,"Kabel 9p.-St./9p-Ku. 2m",29.568000000000001,"9p.-St./9p-Ku. 2m"]
[4179,"Kabel 9p.-St./9p-Ku. 3m",30.922499999999999,"9p.-St./9p-Ku. 3m"]
[4180,"Kabel 9p.-St./9p-Ku. 5m",33.631500000000003,"9p.-St./9p-Ku. 5m"]
[4181,"Kabel 9p.-St./9p-Ku. 7,5m",37.022999999999996,"9p.-St./9p-Ku. 7,5m"]
[4182,"Kabel 9p.-St./9p-Ku. 10m",40.435499999999998,"9p.-St./9p-Ku. 10m"]
[4183,"Kabel 9p.-St./9p-Ku. 15m",47.218499999999999,"9p.-St./9p-Ku. 15m"]
[4184,"Kabel 9p.-St./9p-Ku. 20m",54.0015,"9p.-St./9p-Ku. 20m"]
[4185,"Kabel 9p.-St./9p-Ku. 25m",60.805500000000002,"9p.-St./9p-Ku. 25m"]
[4186,"Kabel VGA-Ku./5xBNC-St.  0,2m",47.796000000000006,"VGA-Ku./5xBNC-St.  0,2m"]
[4187,"Kabel VGA-St./5xBNC-Ku. 0,2m",56.542500000000004,"VGA-St./5xBNC-Ku. 0,2m"]
[4188,"Kabel 4p.-MD-St./2xBNC-St. 0,2m",21.588000000000001,"4p.-MD-St./2xBNC-St. 0,2m"]
[4189,"Kabel 4p.-MD-St./2xBNC-St. 0,5m",22.270500000000002,"4p.-MD-St./2xBNC-St. 0,5m"]
[4190,"Kabel 4p.-MD-St./2xBNC-St. 1m",23.383500000000002,"4p.-MD-St./2xBNC-St. 1m"]
[4191,"Kabel 4p.-MD-St./2xBNC-St. 2m",25.62,"4p.-MD-St./2xBNC-St. 2m"]
[4192,"Kabel 4p.-MD-St./2xBNC-St. 3m",27.856500000000004,"4p.-MD-St./2xBNC-St. 3m"]
[4193,"Kabel 4p.-MD-St./2xBNC-St. 5m",32.350499999999997,"4p.-MD-St./2xBNC-St. 5m"]
[4194,"Kabel 4p.-MD-St./2xBNC-St. 7,5m",37.978500000000004,"4p.-MD-St./2xBNC-St. 7,5m"]
[4195,"Kabel 4p.-MD-St./2xBNC-St. 10m",43.596000000000004,"4p.-MD-St./2xBNC-St. 10m"]
[4196,"Kabel 4p.-MD-St./2xBNC-St. 15m",54.799500000000002,"4p.-MD-St./2xBNC-St. 15m"]
[4197,"Kabel 4p.-MD-St./2xBNC-St. 20m",66.045000000000002,"4p.-MD-St./2xBNC-St. 20m"]
[4198,"Kabel 4p.-MD-St./4p-MD-Ku. 15m",55.964999999999996,"4p.-MD-St./4p-MD-Ku. 15m"]
[4199,"Kabel 6p.-MD-St./6p-MD-Ku. 1m",27.363,"6p.-MD-St./6p-MD-Ku. 1m"]
[4200,"Kabel 6p.-MD-St./6p-MD-Ku. 2m",28.7805,"6p.-MD-St./6p-MD-Ku. 2m"]
[4201,"Kabel 6p.-MD-St./6p-MD-Ku. 3m",30.208500000000001,"6p.-MD-St./6p-MD-Ku. 3m"]
[4202,"Kabel 6p.-MD-St./6p-MD-Ku. 5m",33.043500000000002,"6p.-MD-St./6p-MD-Ku. 5m"]
[4203,"Kabel 6p.-MD-St./6p-MD-Ku. 7,5m",36.613500000000002,"6p.-MD-St./6p-MD-Ku. 7,5m"]
[4204,"Kabel 6p.-MD-St./6p-MD-Ku. 10m",40.162500000000001,"6p.-MD-St./6p-MD-Ku. 10m"]
[4205,"Kabel 6p.-MD-St./6p-MD-Ku. 15m",47.271000000000008,"6p.-MD-St./6p-MD-Ku. 15m"]
[4206,"Kabel 6p.-MD-St./6p-MD-Ku. 20m",54.39,"6p.-MD-St./6p-MD-Ku. 20m"]
[4207,"Kabel 4p.-MD-Ku./2xBNC-Ku. 1m",27.7515,"4p.-MD-Ku./2xBNC-Ku. 1m"]
[4208,"Kabel 5xBNC-St./5xBNC-St.  4m",66.097500000000011,"5xBNC-St./5xBNC-St.  4m"]
[4209,"Kabel 4xBNC-St./4xBNC-St.  4m",56.101500000000001,"4xBNC-St./4xBNC-St.  4m"]
[4210,"Kabel 2xBNC-St./2xBNC-St.  4m",28.959,"2xBNC-St./2xBNC-St.  4m"]
[4211,"Kabel 4p.-MD-St./2xBNC-St. 6m",34.608000000000004,"4p.-MD-St./2xBNC-St. 6m"]
[4212,"Kabel 4p.-MD-Ku./2xBNC-St. 0,2m",21.588000000000001,"4p.-MD-Ku./2xBNC-St. 0,2m"]
[4213,"Kabel Kat.5e  0,25m S/FTP  grau",1.8795000000000002,"Kat.5e  0,25m S/FTP  grau"]
[4214,"Kabel Kat.5e  0,5m S/FTP  grau",2.0790000000000002,"Kat.5e  0,5m S/FTP  grau"]
[4215,"Kabel Kat.5e  1m S/FTP  grau",2.52,"Kat.5e  1m S/FTP  grau"]
[4216,"Kabel Kat.5e  2m S/FTP  grau",3.444,"Kat.5e  2m S/FTP  grau"]
[4217,"Kabel Kat.5e  3m S/FTP  grau",4.5255000000000001,"Kat.5e  3m S/FTP  grau"]
[4218,"Kabel Kat.5e  5m S/FTP  grau",6.2055000000000007,"Kat.5e  5m S/FTP  grau"]
[4219,"Kabel Kat.5e  7,5m S/FTP  grau",9.4919999999999991,"Kat.5e  7,5m S/FTP  grau"]
[4220,"Kabel Kat.5e 10m S/FTP  grau",11.13,"Kat.5e 10m S/FTP  grau"]
[4221,"Kabel Kat.5e 15m S/FTP  grau",15.6555,"Kat.5e 15m S/FTP  grau"]
[4222,"Kabel Kat.5e 20m S/FTP  grau",20.212500000000002,"Kat.5e 20m S/FTP  grau"]
[4223,"Kabel Kat.5e 30m S/FTP  grau",29.631,"Kat.5e 30m S/FTP  grau"]
[4224,"Kabel Kat.5e 40m S/FTP  grau",38.6295,"Kat.5e 40m S/FTP  grau"]
[4225,"Kabel Kat.5e 50m S/FTP  grau",49.045500000000004,"Kat.5e 50m S/FTP  grau"]
[4226,"Kabel Kat.6  0,5m S/STP  grau",4.5255000000000001,"Kat.6  0,5m S/STP  grau"]
[4227,"Kabel Kat.6  1m S/STP  grau",5.3655000000000008,"Kat.6  1m S/STP  grau"]
[4228,"Kabel Kat.6  2m S/STP  grau",7.4130000000000003,"Kat.6  2m S/STP  grau"]
[4229,"Kabel Kat.6  3m S/STP  grau",9.4919999999999991,"Kat.6  3m S/STP  grau"]
[4230,"Kabel Kat.6  5m S/STP  grau",13.209000000000001,"Kat.6  5m S/STP  grau"]
[4231,"Kabel Kat.6  7m S/STP  grau",18.144000000000002,"Kat.6  7m S/STP  grau"]
[4232,"Kabel Kat.6 10m S/STP  grau",23.016000000000002,"Kat.6 10m S/STP  grau"]
[4233,"Kabel Kat.6 15m S/STP  grau",33.022500000000001,"Kat.6 15m S/STP  grau"]
[4234,"Kabel Kat.6 20m S/STP  grau",47.4495,"Kat.6 20m S/STP  grau"]
[4235,"Kabel Kat.6 30m S/STP  grau",63.451500000000003,"Kat.6 30m S/STP  grau"]
[4236,"Kabel Kat.6 40m S/STP  grau",93.880499999999998,"Kat.6 40m S/STP  grau"]
[4237,"Kabel Kat.6 50m S/STP  grau",116.29800000000002,"Kat.6 50m S/STP  grau"]
[4238,"Kabel Kat.6  0,25m S/STP  grau",4.1265000000000001,"Kat.6  0,25m S/STP  grau"]
[4239,"Kabel VGA-St./VGA-Ku.  0,3m Superflex",44.425500000000007,"VGA-St./VGA-Ku.  0,3m Superflex"]
[4242,"Kabel VGA-Ku./VGA-Ku.  0,3m",44.425500000000007,"VGA-Ku./VGA-Ku.  0,3m"]
[4243,"Kabel VGA-Ku./VGA-Ku. 0,5m",45.317999999999998,"VGA-Ku./VGA-Ku. 0,5m"]
[4244,"Kabel VGA-Ku./VGA-Ku. 1m",47.544000000000004,"VGA-Ku./VGA-Ku. 1m"]
[4245,"Kabel DVI 24+1 St./St.  2m",23.2575,"DVI 24+1 St./St.  2m"]
[4246,"Kabel DVI 24+1 St./St.  3m",28.738500000000002,"DVI 24+1 St./St.  3m"]
[4247,"Kabel DVI 24+1 St./St.  5m",37.359000000000002,"DVI 24+1 St./St.  5m"]
[4248,"Kabel DVI 24+1 St./St. 10m",61.089000000000006,"DVI 24+1 St./St. 10m"]
[4250,"Kabel DVI 24+1 St./Ku. 10m",61.089000000000006,"DVI 24+1 St./Ku. 10m"]
[4251,"Kabel 3p.XLR-St./Cinch-St. 0,5m",15.183000000000002,"3p.XLR-St./Cinch-St. 0,5m"]
[4252,"Kabel 3p.XLR-St./Cinch-St. 1m",15.907500000000001,"3p.XLR-St./Cinch-St. 1m"]
[4253,"Kabel 3p.XLR-St./Cinch-St. 2m",17.367000000000001,"3p.XLR-St./Cinch-St. 2m"]
[4254,"Kabel 3p.XLR-St./Cinch-St. 3m",18.805500000000002,"3p.XLR-St./Cinch-St. 3m"]
[4255,"Kabel 3p.XLR-St./Cinch-St. 5m",21.724500000000003,"3p.XLR-St./Cinch-St. 5m"]
[4256,"Kabel 3p.XLR-St./Cinch-St. 7,5m",25.357499999999998,"3p.XLR-St./Cinch-St. 7,5m"]
[4257,"Kabel 3p.XLR-St./Cinch-St. 10m",28.990500000000001,"3p.XLR-St./Cinch-St. 10m"]
[4258,"Kabel 3p.XLR-St./Cinch-St. 15m",36.267000000000003,"3p.XLR-St./Cinch-St. 15m"]
[4259,"Kabel 3p.XLR-St./Cinch-St. 20m",43.533000000000001,"3p.XLR-St./Cinch-St. 20m"]
[4260,"Kabel 3p.XLR-St./Cinch-St. 25m",50.799000000000007,"3p.XLR-St./Cinch-St. 25m"]
[4261,"Kabel 3p.XLR-Ku./Cinch-St. 0,5m",16.1175,"3p.XLR-Ku./Cinch-St. 0,5m"]
[4262,"Kabel 3p.XLR-Ku./Cinch-St. 1m",16.841999999999999,"3p.XLR-Ku./Cinch-St. 1m"]
[4263,"Kabel 3p.XLR-Ku./Cinch-St. 2m",18.291000000000004,"3p.XLR-Ku./Cinch-St. 2m"]
[4264,"Kabel 3p.XLR-Ku./Cinch-St. 3m",19.740000000000002,"3p.XLR-Ku./Cinch-St. 3m"]
[4265,"Kabel 3p.XLR-Ku./Cinch-St. 5m",22.658999999999999,"3p.XLR-Ku./Cinch-St. 5m"]
[4266,"Kabel 3p.XLR-Ku./Cinch-St. 7,5m",26.292000000000002,"3p.XLR-Ku./Cinch-St. 7,5m"]
[4267,"Kabel 3p.XLR-Ku./Cinch-St. 10m",29.935500000000005,"3p.XLR-Ku./Cinch-St. 10m"]
[4268,"Kabel 3p.XLR-Ku./Cinch-St. 15m",37.201500000000003,"3p.XLR-Ku./Cinch-St. 15m"]
[4269,"Kabel 3p.XLR-Ku./Cinch-St. 20m",44.467500000000001,"3p.XLR-Ku./Cinch-St. 20m"]
[4270,"Kabel 3p.XLR-Ku./Cinch-St. 25m",51.733500000000006,"3p.XLR-Ku./Cinch-St. 25m"]
[4271,"Kabel VGA-St./VGA-Ku. 12m",71.368499999999997,"VGA-St./VGA-Ku. 12m"]
[4272,"Kabel DVI St./5xBNC-Ku. 0,2m",56.542500000000004,"DVI St./5xBNC-Ku. 0,2m"]
[4273,"Kabel DVI St./5xBNC-Ku. 0,5m",59.283000000000001,"DVI St./5xBNC-Ku. 0,5m"]
[4274,"Kabel DVI 24+5 St./VGA-St. 2m Standardqualität",16.821000000000002,"DVI 24+5 St./VGA-St. 2m Standardqualität"]
[4275,"Kabel DVI 24+1 St./Ku.  2m",23.824500000000004,"DVI 24+1 St./Ku.  2m"]
[4276,"Kabel DVI 24+1 St./Ku.  3m",26.827500000000001,"DVI 24+1 St./Ku.  3m"]
[4277,"Kabel DVI 24+1 St./Ku.  5m",39.039000000000001,"DVI 24+1 St./Ku.  5m"]
[4279,"Kabel VGA-St./VGA-Ku. 13m",100.968,"VGA-St./VGA-Ku. 13m"]
[4280,"Kabel DVI St./5xBNC-Ku. 1m",61.173000000000002,"DVI St./5xBNC-Ku. 1m"]
[4281,"Kabel DVI St./5xBNC-Ku. 2m",64.900500000000008,"DVI St./5xBNC-Ku. 2m"]
[4282,"Kabel 4p.-MD-St./2xBNC-St. 4m",30.114000000000001,"4p.-MD-St./2xBNC-St. 4m"]
[4283,"Kabel 4p.-MD-St./4p-MD-St.  1,5m",25.672499999999999,"4p.-MD-St./4p-MD-St.  1,5m"]
[4285,"Kabel VGA-St./VGA-Ku.  8m",61.939500000000002,"VGA-St./VGA-Ku.  8m"]
[4286,"Kabel VGA-St./VGA-St. 13m",73.720500000000001,"VGA-St./VGA-St. 13m"]
[4287,"Kabel VGA-St./VGA-Ku.  2,5m",48.972000000000001,"VGA-St./VGA-Ku.  2,5m"]
[4288,"Kabel VGA-St./VGA-Ku. 17m",118.77600000000001,"VGA-St./VGA-Ku. 17m"]
[4289,"Kabel VGA-St./VGA-Ku.  6,5m",72.03,"VGA-St./VGA-Ku.  6,5m"]
[4290,"Kabel VGA-St./3xBNC-Ku. 0,3m",43.774499999999996,"VGA-St./3xBNC-Ku. 0,3m"]
[4291,"Kabel 26pin-St./26pin-Ku. 10m",455.721,"26pin-St./26pin-Ku. 10m"]
[4292,"Kabel 26pin-St./26pin-Ku. 20m",611.64599999999996,"26pin-St./26pin-Ku. 20m"]
[4293,"Kabel 26pin-St./26pin-Ku. 25m",689.59800000000007,"26pin-St./26pin-Ku. 25m"]
[4294,"Kabel 26pin-St./26pin-Ku. 50m",1079.3370000000002,"26pin-St./26pin-Ku. 50m"]
[4295,"Kabel 26pin-St./26pin-Ku. 100m",1858.8990000000001,"26pin-St./26pin-Ku. 100m"]
[4296,"Kabel Option Klinke für VGA spiral/spiral",14.8995,"Option Klinke für VGA spiral/spiral"]
[4298,"Kabel 4p.-MD-St./2xBNC-St. 2,5m",26.743500000000001,"4p.-MD-St./2xBNC-St. 2,5m"]
[4299,"Kabel VGA-St./5xBNC-St.  2,5m",52.395000000000003,"VGA-St./5xBNC-St.  2,5m"]
[4300,"Kabel 4p.-MD-St./2xBNC-Ku. 1,5m",28.8645,"4p.-MD-St./2xBNC-Ku. 1,5m"]
[4301,"Kabel VGA-St./VGA-Ku.  4m",60.900000000000006,"VGA-St./VGA-Ku.  4m"]
[4302,"Kabel VGA-St./5xBNC-St.  4m",55.923000000000002,"VGA-St./5xBNC-St.  4m"]
[4303,"Kabel VGA-St./VGA-St. 12m",71.368499999999997,"VGA-St./VGA-St. 12m"]
[4305,"Kabel VGA-Ku./5xBNC-Ku.  0,2m",56.542500000000004,"VGA-Ku./5xBNC-Ku.  0,2m"]
[4306,"Kabel Option abgewinkelter VGA",5.5020000000000007,"Option abgewinkelter VGA"]
[4307,"Kabel 3,5 St.KlinkeSt/dito 25m",29.032499999999999,"3,5 St.KlinkeSt/dito 25m"]
[4308,"Kabel VGA-St./5xBNC-St. 30m",180.07500000000002,"VGA-St./5xBNC-St. 30m"]
[4309,"Kabel 5xBNC-St./5xBNC-St. 30m",171.16049999999998,"5xBNC-St./5xBNC-St. 30m"]
[4310,"Kabel VGA-Ku./5xBNC-St.  0,5m",49.14,"VGA-Ku./5xBNC-St.  0,5m"]
[4311,"Kabel VGA-St./VGA-St. 40m",137.36099999999999,"VGA-St./VGA-St. 40m"]
[4312,"Kabel 3xCinch-St./dito 25m",95.959500000000006,"3xCinch-St./dito 25m"]
[4313,"Kabel VGA-St./5xBNC-St.   0,3m",47.796000000000006,"VGA-St./5xBNC-St.   0,3m"]
[4314,"Kabel VGA-St./3xBNC-St. 0,3m",37.222500000000004,"VGA-St./3xBNC-St. 0,3m"]
[4315,"Kabel VGA-St./VGA-Ku. 50m",265.69200000000001,"VGA-St./VGA-Ku. 50m"]
[4316,"Kabel VGA-St./VGA-St. 50m",160.93350000000001,"VGA-St./VGA-St. 50m"]
[4317,"Kabel VGA-St./VGA-St. 18m",85.522500000000008,"VGA-St./VGA-St. 18m"]
[4318,"Kabel VGA-St./3xCinch-St. 0,5m",35.847000000000001,"VGA-St./3xCinch-St. 0,5m"]
[4319,"Kabel VGA-St./3xCinch-St. 3m",42.861000000000004,"VGA-St./3xCinch-St. 3m"]
[4320,"Kabel Scart-St./Scart-St. 5m",22.05,"Scart-St./Scart-St. 5m"]
[4321,"BNC-Kabel dünn  1,0m",11.1195,"BNC-Kabel dünn  1,0m"]
[4322,"Kabel 5xBNC-St./5xBNC-St. 25m",150.94800000000001,"5xBNC-St./5xBNC-St. 25m"]
[4323,"Kabel 4p.-MD-St./4p-MD-St. 30m",89.638500000000008,"4p.-MD-St./4p-MD-St. 30m"]
[4324,"BNC-Kabel dünn  1,5m",11.6655,"BNC-Kabel dünn  1,5m"]
[4325,"BNC-Kabel dünn  2m",12.222000000000001,"BNC-Kabel dünn  2m"]
[4326,"Kabel Scart-St./S-Video+2xCin 2",47.575500000000005,"Scart-St./S-Video+2xCin 2"]
[4327,"Kabel BNC-St./SMB-Ku. 2m",19.918499999999998,"BNC-St./SMB-Ku. 2m"]
[4328,"Kabel BNC-St./SMB-Ku.4m",22.176000000000002,"BNC-St./SMB-Ku.4m"]
[4329,"Kabel BNC-St./SMB-Ku.5m",23.289000000000001,"BNC-St./SMB-Ku.5m"]
[4330,"Kabel BNC-St./SMB-Ku.7,5m",26.103000000000002,"BNC-St./SMB-Ku.7,5m"]
[4331,"Kabel BNC-St./SMB-Ku.10m",28.906500000000001,"BNC-St./SMB-Ku.10m"]
[4332,"BNC-Kabel dünn  5m",15.603,"BNC-Kabel dünn  5m"]
[4333,"BNC-Kabel dünn 10m",21.220500000000001,"BNC-Kabel dünn 10m"]
[4334,"Kabel VGA-St./VGA-St.  4m",51.954000000000001,"VGA-St./VGA-St.  4m"]
[4335,"Kabel 4p.-MD-Ku./2xBNC-Ku. 0,2m",25.945500000000003,"4p.-MD-Ku./2xBNC-Ku. 0,2m"]
[4336,"Kabel Scart-St./Scart-St. 3m",17.010000000000002,"Scart-St./Scart-St. 3m"]
[4337,"Kabel Scart-St./BNC+2xCin 3m IN",36.550500000000007,"Scart-St./BNC+2xCin 3m IN"]
[4338,"Kabel Scart-St./BNC+2xCin 5m IN",42.167999999999999,"Scart-St./BNC+2xCin 5m IN"]
[4339,"Kabel Scart-St./4xBNC-St. 3mIN",43.207500000000003,"Scart-St./4xBNC-St. 3mIN"]
[4340,"Kabel Scart-St./4xBNC-St. 3mOUT",43.207500000000003,"Scart-St./4xBNC-St. 3mOUT"]
[4341,"Kabel BNC-St./SMB-Ku.8m",26.659500000000001,"BNC-St./SMB-Ku.8m"]
[4342,"Kabel BNC-St./SMB-Ku. 1,5m",19.362000000000002,"BNC-St./SMB-Ku. 1,5m"]
[4343,"Kabel Option Klinke für VGA spiral/glatt10",14.8995,"Option Klinke für VGA spiral/glatt10"]
[4344,"Kabel Scart-St./Scart-St. 10m",44.887500000000003,"Scart-St./Scart-St. 10m"]
[4345,"Kabel 3xCinch-St./dito 30m",109.98750000000001,"3xCinch-St./dito 30m"]
[4346,"Kabel 3,5 St.KlinkeSt/dito 30m",32.76,"3,5 St.KlinkeSt/dito 30m"]
[4347,"Kabel Scart-St./BNC+2xCin 1,5IN",32.340000000000003,"Scart-St./BNC+2xCin 1,5IN"]
[4348,"Kabel Option Klinke für VGA glatt30/glatt30",14.8995,"Option Klinke für VGA glatt30/glatt30"]
[4349,"Kabel VGA-St./VGA-St.  1,0m Superflex",47.544000000000004,"VGA-St./VGA-St.  1,0m Superflex"]
[4350,"Kabel VGA-St./VGA-St.  2m Superflex",51.996000000000002,"VGA-St./VGA-St.  2m Superflex"]
[4351,"Kabel VGA-St./VGA-St.  3m Superflex",56.448,"VGA-St./VGA-St.  3m Superflex"]
[4352,"Kabel VGA-St./VGA-St.  5m Superflex",65.352000000000004,"VGA-St./VGA-St.  5m Superflex"]
[4353,"Kabel VGA-St./VGA-St.  7,5m Superflex",76.482000000000014,"VGA-St./VGA-St.  7,5m Superflex"]
[4354,"Kabel VGA-St./VGA-St. 10m Superflex",87.611999999999995,"VGA-St./VGA-St. 10m Superflex"]
[4355,"Kabel VGA-St./VGA-St. 15m Superflex",109.872,"VGA-St./VGA-St. 15m Superflex"]
[4356,"Kabel VGA-St./VGA-St. 20m Superflex",132.13200000000001,"VGA-St./VGA-St. 20m Superflex"]
[4357,"Kabel VGA-St./VGA-St. 25m Superflex",154.392,"VGA-St./VGA-St. 25m Superflex"]
[4358,"Kabel VGA-St./VGA-Ku.  1m Superflex",47.544000000000004,"VGA-St./VGA-Ku.  1m Superflex"]
[4359,"Kabel VGA-St./VGA-Ku.  2m Superflex",51.996000000000002,"VGA-St./VGA-Ku.  2m Superflex"]
[4360,"Kabel VGA-St./VGA-Ku.  3,0m Superflex",56.448,"VGA-St./VGA-Ku.  3,0m Superflex"]
[4361,"Kabel VGA-St./VGA-Ku.  5m Superflex",65.352000000000004,"VGA-St./VGA-Ku.  5m Superflex"]
[4362,"Kabel VGA-St./VGA-Ku.  7,5m Superflex",76.482000000000014,"VGA-St./VGA-Ku.  7,5m Superflex"]
[4363,"Kabel VGA-St./VGA-Ku. 10m Superflex",87.611999999999995,"VGA-St./VGA-Ku. 10m Superflex"]
[4364,"Kabel VGA-St./VGA-Ku. 15m Superflex",109.872,"VGA-St./VGA-Ku. 15m Superflex"]
[4365,"Kabel VGA-St./VGA-Ku. 20m Superflex",132.13200000000001,"VGA-St./VGA-Ku. 20m Superflex"]
[4366,"Kabel VGA-St./VGA-Ku. 25m Superflex",154.392,"VGA-St./VGA-Ku. 25m Superflex"]
[4367,"Kabel 3p.XLR-St./3p.XLR-Mini-Ku.7m",34.723500000000001,"3p.XLR-St./3p.XLR-M-Ku.7m"]
[4369,"Kabel VGA-St./VGA-St.  4m Superflex",60.889500000000005,"VGA-St./VGA-St.  4m Superflex"]
[4373,"Kabel DVI St./5xBNC-St. 2m",58.138500000000001,"DVI St./5xBNC-St. 2m"]
[4375,"Kabel VGA-St./VGA-St.  8m Superflex",78.697500000000005,"VGA-St./VGA-St.  8m Superflex"]
[4376,"Kabel 6p.-MD-St./6p-MD-Ku. 0,5m",26.649000000000001,"6p.-MD-St./6p-MD-Ku. 0,5m"]
[4377,"Kabel BNC-St./SMB-Ku. 3m",21.042000000000002,"BNC-St./SMB-Ku. 3m"]
[4378,"Kabel SMB-Ku./SMB-Ku. 0,36m",25.766999999999999,"SMB-Ku./SMB-Ku. 0,36m"]
[4379,"BNC-Kabel dünn  3,0m",13.356000000000002,"BNC-Kabel dünn  3,0m"]
[4380,"Kabel 2xCinch-St./dito  3m lowco",11.529000000000002,"2xCinch-St./dito 3m lowco"]
[4381,"Kabel 3,5 St.KlinkeSt/Ku. 20m",25.305000000000003,"3,5 St.KlinkeSt/KlKu. 20m"]
[4382,"Kabel DVI 24+1 St./St.  1,5m",22.417500000000004,"DVI 24+1 St./St.  1,5m"]
[4386,"Kabel VGA-St./5xBNC-St.  1m Superflex",50.956500000000005,"VGA-St./5xBNC-St.  1m Superflex"]
[4387,"Kabel VGA-St./5xBNC-St.  2m Superflex",55.408500000000004,"VGA-St./5xBNC-St.  2m Superflex"]
[4388,"Kabel VGA-St./5xBNC-St.  3m Superflex",59.860500000000002,"VGA-St./5xBNC-St.  3m Superflex"]
[4389,"Kabel VGA-St./5xBNC-St.  5m Superflex",68.764499999999998,"VGA-St./5xBNC-St.  5m Superflex"]
[4390,"Kabel VGA-St./5xBNC-St.  7,5m Superflex",79.905000000000001,"VGA-St./5xBNC-St.  7,5m Superflex"]
[4391,"Kabel VGA-St./5xBNC-St. 10m Superflex",91.024500000000003,"VGA-St./5xBNC-St. 10m Superflex"]
[4392,"Kabel VGA-St./5xBNC-St. 15m Superflex",113.28450000000001,"VGA-St./5xBNC-St. 15m Superflex"]
[4393,"Kabel VGA-St./5xBNC-St. 20m Superflex",135.55500000000001,"VGA-St./5xBNC-St. 20m Superflex"]
[4394,"Kabel VGA-St./5xBNC-St. 25m Superflex",157.81500000000003,"VGA-St./5xBNC-St. 25m Superflex"]
[4400,"Kabel VGA-St./VGA-St.  0,5m Superflex",45.307499999999997,"VGA-St./VGA-St.  0,5m Superflex"]
[4402,"Kabel 2xCinch-St./dito 25m",73.3215,"2xCinch-St./dito 25m"]
[4403,"Kabel 26pin-St./26pin-Ku. 200m",3417.9915000000001,"26pin-St./26pin-Ku. 200m"]
[4404,"Kabel 26pin-St./26pin-Ku. 300m",4977.0525000000007,"26pin-St./26pin-Ku. 300m"]
[4405,"Kabel BNC-St./SMB-Ku. 2,5m",20.485500000000002,"BNC-St./SMB-Ku. 2,5m"]
[4406,"Kabel 9p.-St./offen 10m",27.636000000000003,"9p.-St./offen 10m"]
[4407,"Kabel VGA-St./VGA-Ku.  6m Superflex",69.804000000000002,"VGA-St./VGA-Ku.  6m Superflex"]
[4408,"Kabel 9p.-St./offen 15m",34.755000000000003,"9p.-St./offen 15m"]
[4409,"Kabel 9p.-St./offen 20m",41.853000000000002,"9p.-St./offen 20m"]
[4410,"Kabel 9p.-Ku./offen 10m",27.636000000000003,"9p.-Ku./offen 10m"]
[4411,"Kabel 9p.-Ku./offen 15m",34.755000000000003,"9p.-Ku./offen 15m"]
[4412,"Kabel 9p.-Ku./offen 20m",41.853000000000002,"9p.-Ku./offen 20m"]
[4413,"Kabel VGA-St./VGA-St.  1,5m Superflex",49.759500000000003,"VGA-St./VGA-St.  1,5m Superflex"]
[4415,"Kabel 4p.-MD-St./3xCin.-St. 15m",114.89100000000001,"4p.-MD-St./3xCin.-St. 15m"]
[4416,"Kabel VGA-St./offen 10m Superflex",66.066000000000003,"VGA-St./offen 10m Superflex"]
[4417,"Kabel VGA-St./offen 15m Superflex",88.336500000000001,"VGA-St./offen 15m Superflex"]
[4418,"Kabel VGA-St./offen 20m Superflex",110.59650000000001,"VGA-St./offen 20m Superflex"]
[4419,"Kabel Cinch-St./offen 10m",19.215,"Cinch-St./offen 10m"]
[4420,"Kabel Cinch-St./offen 15m",26.691000000000003,"Cinch-St./offen 15m"]
[4421,"Kabel Cinch-St./offen 20m",34.146000000000008,"Cinch-St./offen 20m"]
[4422,"Kabel 8p.-MD-St /offen 10m",36.497999999999998,"8p.-MD-St /offen 10m"]
[4423,"Kabel 8p.-MD-St /offen 15m",43.606500000000004,"8p.-MD-St /offen 15m"]
[4424,"Kabel 8p.-MD-St /offen 20m",50.714999999999996,"8p.-MD-St /offen 20m"]
[4426,"Kabel 4p.-MD-St./3xCin.-St. 10m",92.631,"4p.-MD-St./3xCin.-St. 10m"]
[4427,"Kabel 2xCinch-St./dito 30m",84.546000000000006,"2xCinch-St./dito 30m"]
[4428,"Kabel Option Klinke für VGA glatt30/glatt60",14.8995,"Option Klinke für VGA glatt30/glatt60"]
[4429,"Kabel VGA-St./VGA-St. 30m Superflex",176.65200000000002,"VGA-St./VGA-St. 30m Superflex"]
[4430,"Kabel VGA-St./VGA-St.  6m Superflex",69.793500000000009,"VGA-St./VGA-St.  6m Superflex"]
[4431,"Kabel VGA-St./5xBNC-St.  6m Superflex",73.216500000000011,"VGA-St./5xBNC-St.  6m Superflex"]
[4432,"Kabel 5xBNC-St./5xBNC-St.  1m Superflex",54.39,"5xBNC-St./5xBNC-St.  1m Superflex"]
[4433,"Kabel 5xBNC-St./5xBNC-St.  2m Superflex",58.821000000000005,"5xBNC-St./5xBNC-St.  2m Superflex"]
[4434,"Kabel 5xBNC-St./5xBNC-St.  3m Superflex",63.283500000000004,"5xBNC-St./5xBNC-St.  3m Superflex"]
[4435,"Kabel 5xBNC-St./5xBNC-St.  5m Superflex",72.1875,"5xBNC-St./5xBNC-St.  5m Superflex"]
[4436,"Kabel 5xBNC-St./5xBNC-St.  7,5 Superflex",83.317499999999995,"5xBNC-St./5xBNC-St.  7,5 Superflex"]
[4437,"Kabel 5xBNC-St./5xBNC-St. 10m Superflex",94.447500000000005,"5xBNC-St./5xBNC-St. 10mSu"]
[4438,"Kabel 5xBNC-St./5xBNC-St. 15m Superflex",116.70750000000001,"5xBNC-St./5xBNC-St. 15mSu"]
[4439,"Kabel 5xBNC-St./5xBNC-St. 20m Superflex",138.9675,"5xBNC-St./5xBNC-St. 20mSu"]
[4440,"Kabel 5xBNC-St./5xBNC-St. 25m Superflex",161.238,"5xBNC-St./5xBNC-St. 25mSu"]
[4441,"Kabel DVI St./5xBNC-St. 1m",55.775999999999996,"DVI St./5xBNC-St. 1m"]
[4442,"Kabel 3xCinch-St./dito  1,5m",30.009,"3xCinch-St./dito 1,5m"]
[4443,"Kabel VGA-Ku.o.G/VGA-Ku.o.G. 1m Superflex",51.996000000000002,"VGA-Ku.o.G/VGA-Ku.o.G. 1m Superflex"]
[4444,"Kabel 26pin-St./26pin-Ku. 150m",2638.4400000000005,"26pin-St./26pin-Ku. 150m"]
[4445,"Kabel VGA-St./5xBNC-Wink-St. 2m",86.908500000000004,"VGA-St./5xBNC-Wink-St. 2m"]
[4446,"Kabel VGA-St./3xCinch-St. 2,5m",41.454000000000001,"VGA-St./3xCinch-St. 2,5m"]
[4447,"Kabel DVI St./5xBNC-St. 5m",65.215500000000006,"DVI St./5xBNC-St. 5m"]
[4448,"Kabel HDMI-St./DVI 18+1 St. 10m",75.67349999999999,"HDMI-St./DVI 18+1 St. 10m"]
[4449,"Kabel 3,5 St.KlinkeSt/2xCinch-Stecker  6m",27.2685,"3,5 St.KlinkeSt/2xCinch-Stecker  6m"]
[4450,"Kabel VGA-St./5xBNC-Wink-St. 5m",102.04950000000001,"VGA-St./5xBNC-Wink-St. 5m"]
[4451,"Kabel HDMI-St./HDMI-St. 1m",18.931500000000003,1]
[4452,"Kabel HDMI-St./HDMI-St. 2m",23.730000000000004,2]
[4453,"Kabel HDMI-St./HDMI-St. 3m",30.460500000000003,3]
[4454,"Kabel HDMI-St./HDMI-St. 5m",42.63,5]
[4455,"Kabel HDMI-St./HDMI-St. 10m",59.335500000000003,10]
[4456,"Kabel HDMI-St./HDMI-St. 15m AWG24",143.64000000000001,15]
[4457,"Kabel HDMI-St./HDMI-St. 20m AWG24",182.02800000000002,20]
[4458,"Kabel HDMI-St./HDMI-St. 25m AWG24",220.3845,25]
[4459,"Kabel HDMI-St./HDMI-St. 30m AWG24",259.53900000000004,30]
[4461,"Kabel VGA-St./5xBNC-St.  8m Superflex",82.120499999999993,"VGA-St./5xBNC-St.  8m Superflex"]
[4462,"Kabel VGA-St./VGA-St. 18m Superflex",123.22800000000001,"VGA-St./VGA-St. 18m Superflex"]
[4463,"Kabel VGA-St./VGA-St.  2,5m Superflex",54.211500000000008,"VGA-St./VGA-St.  2,5m Superflex"]
[4464,"Kabel VGA-St./5xBNC-Ku. 5m Superflex",82.676999999999992,"VGA-St./5xBNC-Ku. 5m Superflex"]
[4465,"BNC-Kabel dünn  2,5m",12.7995,"BNC-Kabel dünn  2,5m"]
[4466,"Kabel VGA-St./5xBNC-St. 12m Superflex",99.9285,"VGA-St./5xBNC-St. 12m Superflex"]
[4469,"BNC-Kabel 25m",45.464999999999996,"BNC-Kabel 25m"]
[4470,"BNC-Kabel 30m",52.92,"BNC-Kabel 30m"]
[4471,"BNC-Kabel 35m",60.375,"BNC-Kabel 35m"]
[4472,"BNC-Kabel 40m",67.851000000000013,"BNC-Kabel 40m"]
[4473,"Kabel 3xCinch-St./dito 35m",124.0155,"3xCinch-St./dito 35m"]
[4474,"Kabel 3xCinch-St./dito 40m",138.04349999999999,"3xCinch-St./dito 40m"]
[4475,"Kabel 4p.-MD-St./4p-MD-St. 35m",100.87349999999999,"4p.-MD-St./4p-MD-St. 35m"]
[4476,"Kabel 4p.-MD-St./4p-MD-St. 40m",112.08750000000001,"4p.-MD-St./4p-MD-St. 40m"]
[4477,"Kabel DVI 24+5 St./St.  2m",28.581,"DVI 24+5 St./St.  2m"]
[4478,"Kabel DVI 24+5 St./St.  3m",32.024999999999999,"DVI 24+5 St./St.  3m"]
[4479,"Kabel DVI 24+5 St./St.  5m",42.042000000000002,"DVI 24+5 St./St.  5m"]
[4480,"Kabel DVI 24+5 St./St. 10m",76.061999999999998,"DVI 24+5 St./St. 10m"]
[4481,"Kabel DVI 24+5 St./VGA-St. 3m Standardqualität",20.558999999999997,"DVI 24+5 St./VGA-St. 3m Standardqualität"]
[4482,"Kabel DVI 24+5 St./VGA-St. 5m Standardqualität",25.924500000000002,"DVI 24+5 St./VGA-St. 5m Standardqualität"]
[4483,"Kabel BNC-St./SMB-Ku.6m",24.412500000000001,"BNC-St./SMB-Ku.6m"]
[4484,"Kabel VGA-St./5xBNC-St. 18m Superflex",126.6405,"VGA-St./5xBNC-St. 18m Superflex"]
[4485,"Kabel VGA-St./VGA-St. 12m Superflex",96.516000000000005,"VGA-St./VGA-St. 12m Superflex"]
[4486,"BNC-Kabel dünn  0,5m",10.542,"BNC-Kabel dünn  0,5m"]
[4487,"Kabel VGA-St./VGA-St. 11m",69.006,"VGA-St./VGA-St. 11m"]
[4488,"Kabel VGA-St./VGA-St.  1,5m",46.62,"VGA-St./VGA-St.  1,5m"]
[4490,"Kabel 26pin-St./26pin-Ku. 20m J",611.64599999999996,"26pin-St./26pin-Ku. 20m J"]
[4491,"Kabel 26pin-St./26pin-Ku. 50m J",1079.3370000000002,"26pin-St./26pin-Ku. 50m J"]
[4492,"Kabel 26pin-St./26pin-Ku. 100mJ",1858.8990000000001,"26pin-St./26pin-Ku. 100mJ"]
[4493,"Kabel 26pin-St./26pin-Ku. 20m H",611.64599999999996,"26pin-St./26pin-Ku. 20m H"]
[4494,"Kabel 26pin-St./26pin-Ku. 50m H",1079.3370000000002,"26pin-St./26pin-Ku. 50m H"]
[4495,"Kabel 26pin-St./26pin-Ku. 100mH",1858.8990000000001,"26pin-St./26pin-Ku. 100mH"]
[4497,"Kabel HDMI-St./DVI 18+1 St.  2m",17.650500000000001,"HDMI-St./DVI 18+1 St.  2m"]
[4498,"Kabel Cinch-St./Cinch-St. 4m",14.563499999999999,"Cinch-St./Cinch-St.4m"]
[4499,"Kabel 4p.-MD-St./4p-MD-St.  4m",31.279499999999999,"4p.-MD-St./4p-MD-St.  4m"]
[4500,"Kabel 9p.-St./9p-Ku. 4m",32.529000000000003,"9p.-St./9p-Ku. 4m"]
[4501,"Kabel VGA-St./VGA-St.  9m Superflex",83.160000000000011,"VGA-St./VGA-St.  9m Superflex"]
[4502,"Kabel VGA-St./VGA-St. 11m Superflex",92.064000000000007,"VGA-St./VGA-St. 11m Superflex"]
[4503,"Kabel VGA-St./VGA-St. 13m Superflex",100.968,"VGA-St./VGA-St. 13m Superflex"]
[4504,"Kabel 9p.-Ku./9p-Ku. 10m",40.435499999999998,"9p.-Ku./9p-Ku. 10m"]
[4505,"Kabel 9p.-Ku./9p-Ku. 7,5m",37.022999999999996,"9p.-Ku./9p-Ku. 7,5m"]
[4506,"Kabel 9p.-Ku./9p-Ku. 1m",28.202999999999999,"9p.-Ku./9p-Ku. 1m"]
[4507,"Kabel 3,5 St.KlinkeSt/Ku. 15m",21.567,"3,5 St.KlinkeSt/KlKu. 15m"]
[4509,"Kabel VGA-St./VGA-St. 35m Superflex",198.91200000000001,"VGA-St./VGA-St. 35m Superflex"]
[4510,"Kabel VGA-Ku./5xBNC-St. 10m Superflex",91.024500000000003,"VGA-Ku./5xBNC-St. 10m Superflex"]
[4511,"Kabel HDMI-St./DVI 18+1 St.  5m",27.027000000000001,"HDMI-St./DVI 18+1 St.  5m"]
[4512,"Kabel DVI St./5xBNC-St. 0,5m",54.6,"DVI St./5xBNC-St. 0,5m"]
[4513,"Kabel DVI 24+5 St./VGA-St.  2,5m",61.131,"DVI 24+5 St./VGA-St.  2,5m"]
[4514,"Kabel DVI 24+5 St./VGA-St.  5m",72.260999999999996,"DVI 24+5 St./VGA-St.  5m"]
[4515,"Kabel DVI 24+5 St./VGA-St. 10m",94.521000000000001,"DVI 24+5 St./VGA-St. 10m"]
[4516,"Kabel DVI 24+5 St./VGA-St. 15m",116.78100000000001,"DVI 24+5 St./VGA-St. 15m"]
[4517,"Kabel DVI 24+5 St./VGA-St. 20m",139.041,"DVI 24+5 St./VGA-St. 20m"]
[4518,"Kabel 5xBNC-St/dito 25m 0,6/2,8",246.36150000000001,"5xBNC-St/dito 25m 0,6/2,8"]
[4519,"Kabel 4p.-MD-St./4p-MD-Ku. 10m",44.750999999999998,"4p.-MD-St./4p-MD-Ku. 10m"]
[4520,"Kabel Cinch-St./Cinch-Ku. 10m",23.5305,"Cinch-St./Cinch-Ku.10m"]
[4521,"Kabel 3,5 St.KlinkeSt/2xCinch-Kupplung  0,2m",14.238000000000001,"3,5 St.KlinkeSt/2xCinch-Kupplung  0,2m"]
[4522,"Kabel VGA-St./VGA-Ku. 12m Superflex",96.516000000000005,"VGA-St./VGA-Ku. 12m Superflex"]
[4523,"Kabel DVI 24+1 St./St. 10m AWG24",102.9,"DVI 24+1 St./St. 10m AWG24"]
[4524,"Kabel DVI 24+1 St./St. 15m AWG24",150.40200000000002,"DVI 24+1 St./St. 15m AWG24"]
[4525,"Kabel DVI 24+1 St./St. 20m AWG24",190.44900000000001,"DVI 24+1 St./St. 20m AWG24"]
[4526,"Kabel 2xCinch-St./dito  2,5m",22.826999999999998,"2xCinch-St./dito 2,5m"]
[4527,"Kabel 3,5 St.KlinkeSt/2xCinch-Stecker  2,5m",19.404,"3,5 St.KlinkeSt/2xCinch-Stecker  2,5m"]
[4528,"Kabel DVI St./5xBNC-St. 3m",60.500999999999998,"DVI St./5xBNC-St. 3m"]
[4529,"Kabel 3xCinch-St./dito  2,5m",32.823,"3xCinch-St./dito 2,5m"]
[4530,"Kabel VGA-St./5xBNC-St. 14m Superflex",108.83250000000001,"VGA-St./5xBNC-St. 14m Superflex"]
[4531,"Kabel VGA-St./5xBNC-St. 16m Superflex",117.73650000000001,"VGA-St./5xBNC-St. 16m Superflex"]
[4532,"Kabel HDMI-St./DVI 18+1 St.  3m",25.0215,"HDMI-St./DVI 18+1 St.  3m"]
[4533,"Kabel 26pin-St./26pin-Ku. 5m",377.75849999999997,"26pin-St./26pin-Ku. 5m"]
[4534,"Kabel SMB-Ku./SMB-Ku. 1m",26.491500000000002,"SMB-Ku./SMB-Ku. 1m"]
[4535,"Kabel DVI St.24+5/3xCinch-St. 2,5m",48.384,"DVI St./3xCinch-St. 2,5m"]
[4536,"Kabel VGA-St./5xBNC-St.  0,5m Superflex",49.14,"VGA-St./5xBNC-St.  0,5m Superflex"]
[4537,"BNC-Kabel 50m",82.11,"BNC-Kabel 50m"]
[4538,"Kabel DVI 24+5 St./VGA-St.  8m",85.617000000000004,"DVI 24+5 St./VGA-St.  8m"]
[4539,"Kabel SMB-Ku./SMB-Ku. 5m",30.975000000000001,"SMB-Ku./SMB-Ku. 5m"]
[4540,"BNC-Kabel dünn  3,5m",13.923,"BNC-Kabel dünn  3,5m"]
[4541,"BNC-Kabel dünn  4m",14.468999999999999,"BNC-Kabel dünn  4m"]
[4542,"Kabel VGA-St./VGA-St. 50m Superflex",265.71300000000002,"VGA-St./VGA-St. 50m Superflex"]
[4543,"Kabel 3,5 St.KlinkeSt/dito 50m",49.087499999999999,"3,5 St.KlinkeSt/dito 50m"]
[4544,"Kabel 3,5 St.KlinkeSt/dito 60m",56.553000000000004,"3,5 St.KlinkeSt/dito 60m"]
[4545,"Kabel VGA-St./VGA-St. 40m Superflex",221.1825,"VGA-St./VGA-St. 40m Superflex"]
[4546,"Kabel VGA-Ku.oG/VGA-Ku. 0,4m Superflex",40.4985,"VGA-Ku.oG/VGA-Ku. 0,4m Superflex"]
[4547,"Kabel VGA-Ku.oG/VGA-St. 0,4m Superflex",40.4985,"VGA-Ku.oG/VGA-St. 0,4m Superflex"]
[4548,"Kabel 3,5 St.KlinkeSt/dito 35m",36.834000000000003,"3,5 St.KlinkeSt/dito 35m"]
[4550,"Kabel VGA-St./VGA-St. 17m Superflex",118.77600000000001,"VGA-St./VGA-St. 17m Superflex"]
[4551,"Kabel 3,5 St.KlinkeSt/2xCinch-Stecker 35m",92.893500000000003,"3,5 St.KlinkeSt/2xCinch-Stecker 35m"]
[4552,"Kabel BNC-St./SMB-Ku.20m",40.131,"BNC-St./SMB-Ku.20m"]
[4553,"Kabel HDMI-St./HDMI-St. 7,5m",50.883000000000003,7.5]
[4559,"BNC-Kabel dünn  4,5m",15.036000000000001,"BNC-Kabel dünn  4,5m"]
[4560,"Kabel BNC-St./SMB-Ku. 1m",18.794999999999998,"BNC-St./SMB-Ku. 1m"]
[4561,"Kabel BNC-St./SMB-Ku.4,5m",22.722000000000001,"BNC-St./SMB-Ku.4,5m"]
[4562,"Kabel SMB-Ku./SMB-Ku. 7m",33.222000000000001,"SMB-Ku./SMB-Ku. 7m"]
[4567,"Kabel DisplayPort St./St. 10m",55.009500000000003,"DisplayPort St./St. 10m"]
[4568,"Kabel DVI 24+1 St./St.   1m",21.483000000000001,"DVI 24+1 St./St.   1m"]
[4569,"Kabel USB-A-St./USB-A-Ku. 1,8m",8.0010000000000012,"USB-A-St./USB-A-Ku. 1,8m"]
[4570,"BNC-Kabel  2,5m",9.3134999999999994,"BNC-Kabel  2,5m"]
[4571,"Kabel Mini-VGA-St/St.. + Klinke-St./St. 3m 15/15",31.983000000000001,"Mini-VGA-St/St.. + Klinke-St./St. 3m 15/15"]
[4572,"Kabel VGA-St./VGA-St. 19m Superflex",127.67999999999999,"VGA-St./VGA-St. 19m Superflex"]
[4573,"Kabel VGA-St./VGA-St. 23m Superflex",145.488,"VGA-St./VGA-St. 23m Superflex"]
[4574,"Kabel VGA-St./5xBNC-Ku.3m Superflex",73.77300000000001,"VGA-St./5xBNC-Ku.3m Superflex"]
[4575,"Kabel Mini-VGA-St/St. + Klinke-St./St. 1m 20/60",21.8505,"Mini-VGA-St/St. + Klinke-St./St. 1m 20/60"]
[4576,"Kabel DVI 24+5 St./VGA-St.  7,5m",83.401500000000013,"DVI 24+5 St./VGA-St.  7,5m"]
[4577,"Kabel HDMI-St./DVI-Ku. 0,2m",19.929000000000002,"HDMI-St./DVI-Ku. 0,2m"]
[4578,"Kabel SMB-Ku./SMB-Ku. 2m",27.615000000000002,"SMB-Ku./SMB-Ku. 2m"]
[4579,"Kabel USB-A-St./USB-A-St. 5m",8.0010000000000012,"USB-A-St./USB-A-St. 5m"]
[4580,"Kabel VGA-Ku./offen 10m Superflex",66.066000000000003,"VGA-Ku./offen 10m Superflex"]
[4581,"Kabel VGA-Ku./offen 15m Superflex",88.336500000000001,"VGA-Ku./offen 15m Superflex"]
[4582,"Kabel VGA-Ku./offen 20m Superflex",110.59650000000001,"VGA-Ku./offen 20m Superflex"]
[4583,"Kabel HDMI-St./DVI 18+1 St.  1m",14.175000000000001,"HDMI-St./DVI 18+1 St.  1m"]
[4584,"Kabel DVI 24+5 St./VGA-St.  0,5m",52.227000000000004,"DVI 24+5 St./VGA-St.  0,5m"]
[4585,"Kabel HDMI-St./HDMI-St. 0,5m",16.295999999999999,0.5]
[4586,"Kabel 8p.-MD-St /9p.-Sub-D-Ku 0,2m",35.994,"8p.-MD-St /9p.-Sub-D-Ku 0,2m"]
[4587,"Kabel Mini-VGA-St/St.. + Klinke-St./St. 2m 15/15",22.8795,"Mini-VGA-St/St.. + Klinke-St./St. 2m 15/15"]
[4588,"Kabel VGA-St./VGA-St. 45m Superflex",243.4425,"VGA-St./VGA-St. 45m Superflex"]
[4589,"Kabel VGA-St./5xBNC-St. 45m Superflex",246.86550000000003,"VGA-St./5xBNC-St. 45m Superflex"]
[4590,"Kabel 4p.-MD-St./4p-MD-St. 45m",123.32250000000001,"4p.-MD-St./4p-MD-St. 45m"]
[4591,"BNC-Kabel 45m",76.3035,"BNC-Kabel 45m"]
[4592,"Kabel Kat.5e St./Ku.  5m grau",5.9745000000000008,"Kat.5e St./Ku.  5m grau"]
[4593,"Kabel DisplayPort St./St.  2m",27.195,"DisplayPort St./St.  2m"]
[4594,"Kabel 9p.-Ku./offen 25m",48.961500000000008,"9p.-Ku./offen 25m"]
[4595,"Kabel Cinch-St./Cinch-St.25m",46.021500000000003,"Cinch-St./Cinch-St.25m"]
[4596,"Kabel Cinch-St./Cinch-St.30m",53.508000000000003,"Cinch-St./Cinch-St.30m"]
[4597,"Kabel Cinch-St./Cinch-St.35m",60.994500000000009,"Cinch-St./Cinch-St.35m"]
[4598,"Kabel Cinch-St./Cinch-St.40m",68.470500000000001,"Cinch-St./Cinch-St.40m"]
[4599,"Kabel Cinch-St./Cinch-St.45m",75.957000000000008,"Cinch-St./Cinch-St.45m"]
[4600,"Kabel Cinch-St./Cinch-St.50m",83.432999999999993,"Cinch-St./Cinch-St.50m"]
[4601,"Kabel 26pin-St./26pin-Ku. 30m",767.35050000000001,"26pin-St./26pin-Ku. 30m"]
[4602,"Kabel Kat.5e  3m FTP  schwarz",8.463000000000001,"Kat.5e  3m FTP  schwarz"]
[4603,"Kabel Kat.5e 10m FTP  schwarz",19.572000000000003,"Kat.5e 10m FTP  schwarz"]
[4604,"Kabel Option Klinke für VGA glatt10/glatt10",14.8995,"Option Klinke für VGA glatt10/glatt10"]
[4605,"Kabel 3,5 St.KlinkeSt/dito  1,5m",11.518500000000001,"3,5 St.KlinkeSt/dito  1,5m"]
[4606,"Kabel VGA-St./5xBNC-St.  1,5m Superflex",53.182499999999997,"VGA-St./5xBNC-St.  1,5m Superflex"]
[4612,"Kabel HDMI-St./HDMI-St. 1,5m",21.325499999999998,1.5]
[4613,"Kabel DVI 24+1 St./St.  7,5m",51.649500000000003,"DVI 24+1 St./St.  7,5m"]
[4614,"Kabel 3,5 St.KlinkeSt/Ku. 5m",14.112,"3,5 St.KlinkeSt/KlKu. 5m"]
[4615,"Kabel Option Klinke für VGA spiral/glatt St.-Ku.",14.8995,"Option Klinke für VGA spiral/glatt St.-Ku."]
[4616,"Kabel VGA-St./5xBNC-Ku.1,5m Superflex",64.995000000000005,"VGA-St./5xBNC-Ku.1,5m Superflex"]
[4617,"Kabel DVI 24+1 St./St.   0,5m",19.0365,"DVI 24+1 St./St.   0,5m"]
[4618,"Kabel Mini-VGA-Audio-LAN 1m",45.013500000000001,"Mini-VGA-Audio-LAN 1m"]
[4619,"Kabel Mini-VGA-Audio-LAN 2m",62.023500000000006,"Mini-VGA-Audio-LAN 2m"]
[4620,"Kabel Mini-VGA-Audio-LAN 3m",72.198000000000008,"Mini-VGA-Audio-LAN 3m"]
[4621,"Kabel 3,5 St.KlinkeSt/Ku. 6m",14.889000000000001,"3,5 St.KlinkeSt/KlKu. 6m"]
[4622,"Kabel 3p.XLR-St./3p.XLR-Ku.7m",31.909500000000001,"3p.XLR-St./3p.XLR-Ku.7m"]
[4623,"Kabel HDMI-Einbaubuchse/HDMI-Ku., 25cm, rund",25.189499999999999,"HDMI-Einbaubuchse/HDMI-Ku., 25cm, rund"]
[4624,"Kabel HDMI-St./DisplayPort-Stecker 1m",39.679499999999997,"HDMI-St./DisplayPort-Stecker 1m"]
[4625,"Kabel HDMI-St./DisplayPort-Stecker 2m",46.399499999999996,"HDMI-St./DisplayPort-Stecker 2m"]
[4626,"Kabel HDMI-St./DisplayPort-Stecker 3m",55.807499999999997,"HDMI-St./DisplayPort-Stecker 3m"]
[4627,"Kabel HDMI-St./DisplayPort-Stecker 5m",66.25500000000001,"HDMI-St./DisplayPort-Stecker 5m"]
[4628,"Kabel 2xCinch-St./dito   1,5m",20.569500000000001,"2xCinch-St./dito 1,5m"]
[4629,"Kabel 3,5 St.KlinkeKu/2xCinch-Stecker  0,2m",14.238000000000001,"3,5 St.KlinkeKu/2xCinch-Stecker  0,2m"]
[4630,"Kabel DVI 24+1 St./DisplayPort-St.  1m",37.726500000000001,"DVI 24+1 St./DisplayPort-St.  1m"]
[4631,"Kabel DVI 24+1 St./DisplayPort-St.  2m",49.654499999999999,"DVI 24+1 St./DisplayPort-St.  2m"]
[4632,"Kabel 2xCinch-St./dito 35m",95.770499999999998,"2xCinch-St./dito 35m"]
[4633,"Kabel DVI 24+5 St./VGA-Kupplung +DVI 24+1-Kupplung",33.610500000000002,"DVI 24+5 St./VGA-Kupplung +DVI 24+1-Kupplung"]
[4634,"Kabel HDMI-Einbaubuchse/HDMI-Ku., 25cm, rechteckig",25.189499999999999,"HDMI-Einbaubuchse/HDMI-Ku., 25cm, rechteckig"]
[4635,"Kabel HDMI-St./DVI 18+1 St. 7,5m",48.961500000000008,"HDMI-St./DVI 18+1 St. 7,5m"]
[4636,"BNC-Kabel dünn 12m",23.457000000000001,"BNC-Kabel dünn 12m"]
[4637,"BNC-Kabel dünn 18m",30.1875,"BNC-Kabel dünn 18m"]
[4638,"Kabel DVI-I Ku. 24+5 / DVI-I Ku. 24+5,  0,3m",36.025500000000001,"DVI-I Ku. 24+5 / DVI-I Ku. 24+5,  0,3m"]
[4639,"Kabel USB-A-St./USB-A-St. 1m",8.0010000000000012,"USB-A-St./USB-A-St. 1m"]
[4640,"Kabel DisplayPort Stecker/Kupplung  1m",12.0015,"DisplayPort St./Ku.  1m"]
[4641,"Kabel DisplayPort St./St.  1m",22.533000000000001,"DisplayPort St./St.  1m"]
[4642,"Kabel DisplayPort St./St.  3m",29.641500000000001,"DisplayPort St./St.  3m"]
[4643,"Kabel DisplayPort St./St.  5m",34.713000000000001,"DisplayPort St./St.  5m"]
[4644,"Kabel DisplayPort St./St.  7,5m",42.829500000000003,"DisplayPort St./St.  7m"]
[4645,"Kabel DVI 24+1 St./DisplayPort-St.  3m",66.423000000000002,"DVI 24+1 St./DisplayPort-St.  3m"]
[4646,"Kabel VGA-St./VGA-St. 14m Superflex",105.42000000000002,"VGA-St./VGA-St. 14m Superflex"]
[4647,"Kabel VGA-St./VGA-St. 19m Superflex",127.67999999999999,"VGA-St./VGA-St. 19m Superflex"]
[4648,"Kabel DisplayPort-St./HDMI-Ku. 0,15m",29.8935,"DisplayPort-St./HDMI-Ku. 0,15m"]
[4650,"Kabel 3,5 St.KlinkeSt/Ku. 10m",17.850000000000001,"3,5 St.KlinkeSt/KlKu. 10m"]
[4651,"Kabel 3,5 St.KlinkeSt/dito 12m",19.362000000000002,"3,5 St.KlinkeSt/dito 12m"]
[4652,"Kabel 3p.XLR-St./3p.XLR-Ku.30m",65.352000000000004,"3p.XLR-St./3p.XLR-Ku.30m"]
[4653,"Kabel VGA-St./VGA-St.  2m Halogenfrei",58.044000000000004,"VGA-St./VGA-St.  2m Halogenfrei"]
[4654,"Kabel VGA-St./VGA-St.  3m Halogenfrei",65.530500000000004,"VGA-St./VGA-St.  3m Halogenfrei"]
[4655,"Kabel VGA-St./VGA-St.  5m Halogenfrei",80.492999999999995,"VGA-St./VGA-St.  5m Halogenfrei"]
[4656,"Kabel VGA-St./VGA-St. 10m Halogenfrei",117.91500000000001,"VGA-St./VGA-St. 10m Halogenfrei"]
[4657,"Kabel VGA-St./VGA-St. 15m Halogenfrei",155.32650000000001,"VGA-St./VGA-St. 15m Halogenfrei"]
[4658,"Kabel VGA-St./VGA-St. 20m Halogenfrei",192.74850000000001,"VGA-St./VGA-St. 20m Halogenfrei"]
[4659,"Kabel VGA-St./VGA-St. 25m Halogenfrei",230.16,"VGA-St./VGA-St. 25m Halogenfrei"]
[4660,"Kabel 3xBNC-St.+2xCin-St./5xCin-St. 1,5m",44.058,"Kabel 3xBNC-St.+2xCin-St./5xCin-St. 1,5m"]
[4661,"Kabel Scart-St./4xBNC-St.+2xCin-St. 1,5mOUT",55.545000000000002,"Kabel Scart-St./4xBNC-St.+2xCin-St. 1,5mOUT"]
[4662,"Kabel Scart-St./4xBNC-St.+2xCin-St. 1,5mIN",55.545000000000002,"Kabel Scart-St./4xBNC-St.+2xCin-St. 1,5mIN"]
[4663,"Kabel HDMI-St./HDMI-St. 5m Halogenfrei",127.83750000000001,"Kabel HDMI-St./HDMI-St. 5m Halogenfrei"]
[4664,"Kabel HDMI-St./HDMI-St. 10m Halogenfrei",183.9495,"Kabel HDMI-St./HDMI-St. 10m Halogenfrei"]
[4665,"Kabel HDMI-St./HDMI-St. 15m Halogenfrei",240.072,"Kabel HDMI-St./HDMI-St. 15m Halogenfrei"]
[4666,"Kabel HDMI-St./HDMI-St. 20m Halogenfrei",296.226,"Kabel HDMI-St./HDMI-St. 20m Halogenfrei"]
[4667,"Kabel HDMI-St./HDMI-St. 25m Halogenfrei",352.32750000000004,"Kabel HDMI-St./HDMI-St. 25m Halogenfrei"]
[4668,"Kabel HDMI-St./HDMI-St. 30m Halogenfrei",408.43950000000001,"Kabel HDMI-St./HDMI-St. 30m Halogenfrei"]
[4669,"Kabel HDMI-St./HDMI-St. 3m Halogenfrei",105.36749999999999,"Kabel HDMI-St./HDMI-St. 3m Halogenfrei"]
[4670,"Kabel HDMI-St./HDMI-St. 2m Halogenfrei",94.153500000000008,"Kabel HDMI-St./HDMI-St. 2m Halogenfrei"]
[4671,"Kabel VGA-St./VGA-St. 16m Superflex",114.324,"Kabel VGA-St./VGA-St. 16m Superflex"]
[4672,"Kabel USB-A-St./USB-A-St. 2m",8.0010000000000012,"Kabel USB-A-St./USB-A-St. 2m"]
[4674,"Kabel USB-A-St./USB-B-St. 1m",8.0010000000000012,"Kabel USB-A-St./USB-B-St. 1m"]
[4675,"Kabel 5xBNC-St./5xBNC-St. 30m Superflex",182.95200000000003,"Kabel 5xBNC-St./5xBNC-St. 30m Superflex"]
[4676,"Kabel DVI 24+1 St., offenes Ende, 10m, AWG24",120.14100000000001,"Kabel DVI 24+1 St., offenes Ende, 10m, AWG24"]
[4677,"Kabel DVI 24+1 St., offenes Ende, 15m, AWG24",165.9735,"Kabel DVI 24+1 St., offenes Ende, 15m, AWG24"]
[4678,"Kabel DVI 24+1 St., offenes Ende, 20m, AWG24",211.81649999999999,"Kabel DVI 24+1 St., offenes Ende, 20m, AWG24"]
[4679,"Kabel DVI 24+1 St., offenes Ende, 25m, AWG24",257.63850000000002,"Kabel DVI 24+1 St., offenes Ende, 25m, AWG24"]
[4680,"Kabel HDMI-St., offenes Ende 10m Halogenfrei",148.10250000000002,"Kabel HDMI-St., offenes Ende 10m Halogenfrei"]
[4681,"Kabel HDMI-St., offenes Ende 15m Halogenfrei",204.2355,"Kabel HDMI-St., offenes Ende 15m Halogenfrei"]
[4682,"Kabel HDMI-St., offenes Ende 20m Halogenfrei",260.358,"Kabel HDMI-St., offenes Ende 20m Halogenfrei"]
[4683,"Kabel HDMI-St., offenes Ende 25m Halogenfrei",316.49100000000004,"Kabel HDMI-St., offenes Ende 25m Halogenfrei"]
[4684,"Kabel HDMI-St./HDMI-St. 2m AWG24 HK",82.004999999999995,"Kabel HDMI-St./HDMI-St. 2m AWG24 HK"]
[4685,"Kabel HDMI-St./HDMI-St. 3m AWG24 HK",91.171500000000009,"Kabel HDMI-St./HDMI-St. 3m AWG24 HK"]
[4686,"Kabel HDMI-St./HDMI-St. 5m AWG24 HK",109.494,"Kabel HDMI-St./HDMI-St. 5m AWG24 HK"]
[4687,"Kabel HDMI-St./HDMI-St. 10m AWG24 HK",155.33700000000002,"Kabel HDMI-St./HDMI-St. 10m AWG24 HK"]
[4688,"Kabel HDMI-St./HDMI-St. 15m AWG24 HK",201.1695,"Kabel HDMI-St./HDMI-St. 15m AWG24 HK"]
[4689,"Kabel HDMI-St./HDMI-St. 20m AWG24 HK",247.01250000000002,"Kabel HDMI-St./HDMI-St. 20m AWG24 HK"]
[4690,"Kabel HDMI-St./HDMI-St. 25m AWG24 HK",292.84499999999997,"Kabel HDMI-St./HDMI-St. 25m AWG24 HK"]
[4691,"Kabel HDMI-St./HDMI-St. 30m AWG24 HK",338.68800000000005,"Kabel HDMI-St./HDMI-St. 30m AWG24 HK"]
[4692,"Kabel HDMI-St./offenes Ende 10m AWG24 1.4 Ethernet",123.501,"Kabel HDMI-St./offenes Ende 10m AWG24 1.4 Ethernet"]
[4693,"Kabel HDMI-St./offenes Ende 15m AWG24 1.4 Ethernet",169.34400000000002,"Kabel HDMI-St./offenes Ende 15m AWG24 1.4 Ethernet"]
[4694,"Kabel HDMI-St./offenes Ende 20m AWG24 1.4 Ethernet",215.1765,"Kabel HDMI-St./offenes Ende 20m AWG24 1.4 Ethernet"]
[4695,"Kabel HDMI-St./offenes Ende 25m AWG24 1.4 Ethernet",261.01949999999999,"Kabel HDMI-St./offenes Ende 25m AWG24 1.4 Ethernet"]
[4696,"Kabel DisplayPort St./St.  1,5m",24.601500000000001,"Kabel DisplayPort St./St.  1,5m"]
[4697,"Kabel HDMI-St./HDMI-St. 35m AWG24 HK",384.49950000000001,"Kabel HDMI-St./HDMI-St. 35m AWG24 HK"]
[4698,"Kabel HDMI-St./HDMI-Ku. 5m",42.63,5]
[4699,"Kabel DVI 24+5 St./VGA-St.  1m",54.463499999999996,"Kabel DVI 24+5 St./VGA-St.  1m"]
[4700,"Kabel HDMI-St./HDMI-Ku. 3m",33.841499999999996,3]
[4701,"Kabel HDMI-St./HDMI-Ku. 1m",31.206,1]
[4702,"Kabel 3,5 St.KlinkeSt/2xCinch-Stecker 30m",81.154500000000013,"Kabel 3,5 St.KlinkeSt/2xCinch-Stecker 30m"]
[4703,"Kabel HDMI-St./Mini-HDMI-St. 2m",19.215,"Kabel HDMI-St./Mini-HDMI-St. 2m"]
[4704,"Kabel HDMI-St./Mini-HDMI-St. 3m",20.8215,"Kabel HDMI-St./Mini-HDMI-St. 3m"]
[4705,"BNC-Kabel  0,5m 50 Ohm",9.9960000000000004,"BNC-Kabel  0,5m 50 Ohm"]
[4706,"BNC-Kabel  1,0m 50 Ohm",10.836,"BNC-Kabel  1,0m 50 Ohm"]
[4707,"BNC-Kabel  3,0m 50 Ohm",14.2065,"BNC-Kabel  3,0m 50 Ohm"]
[4708,"BNC-Kabel  5,0m 50 Ohm",17.576999999999998,"BNC-Kabel  5,0m 50 Ohm"]
[4709,"BNC-Kabel  10,0m 50 Ohm",25.987500000000001,"BNC-Kabel  10,0m 50 Ohm"]
[4712,"Kabel DVI 24+1 St./DisplayPort-St.  Länge: 5m",81.700500000000005,"Kabel DVI 24+1 St./DisplayPort-St.  Länge: 5m"]
[4713,"Kabel HDMI-St./Mini-HDMI-St. Länge: 5m",30.827999999999999,"Kabel HDMI-St./Mini-HDMI-St. Länge: 5m"]
[4714,"Kabel HDMI-St./HDMI-St. aktiv Länge: 25m",240.29250000000002,"Kabel HDMI-St./HDMI-St. aktiv Länge: 25m"]
[4715,"Kabel HDMI-St./HDMI-St. 1m AWG24 HK",72.83850000000001,"Kabel HDMI-St./HDMI-St. 1m AWG24 HK"]
[4716,"Kabel HDMI-St./HDMI-St. 7,5m AWG24 HK",132.41550000000001,"Kabel HDMI-St./HDMI-St. 7,5m AWG24 HK"]
[4717,"Kabel HDMI-St./HDMI-St. 1m Halogenfrei",82.929000000000002,"Kabel HDMI-St./HDMI-St. 1m Halogenfrei"]
[4718,"Kabel HDMI-St./HDMI-St. 7,5m Halogenfrei",155.92500000000001,"Kabel HDMI-St./HDMI-St. 7,5m Halogenfrei"]
[4719,"Kabel HDMI-St./HDMI-St. 4m AWG24 HK",100.3275,"Kabel HDMI-St./HDMI-St. 4m AWG24 HK"]
[4720,"Kabel VGA-St./VGA-St. 22m Superflex",141.036,"Kabel VGA-St./VGA-St. 22m Superflex"]
[4721,"Kabel DVI 18+1 St./St. 25m AWG24",286.09350000000006,"Kabel DVI 18+1 St./St. 25m AWG24"]
[4722,"Kabel DVI 18+1 St./St. 30m AWG24",331.92600000000004,"Kabel DVI 18+1 St./St. 30m AWG24"]
[4723,"Kabel DVI 18+1 St./St. 35m AWG24",377.76900000000001,"Kabel DVI 18+1 St./St. 35m AWG24"]
[4724,"Kabel HDMI-St./HDMI-Ku. 7,5m",33.841499999999996,7.5]
[4725,"Kabel USB-A-St./USB-B-St. 1,8m",8.0010000000000012,"Kabel USB-A-St./USB-B-St. 1,8m"]
[4726,"BNC-Kabel dünn  0,25m",10.269,"BNC-Kabel dünn  0,25m"]
[4727,"Kabel DVI-Stecker auf VGA-Stecker +HDMI-Stecker 2m",127.1865,"Kabel DVI-Stecker auf VGA-Stecker +HDMI-Stecker 2m"]
[4728,"Kabel DVI 24+5 St./VGA-St.  3m",63.357000000000006,"Kabel DVI 24+5 St./VGA-St.  3m"]
[4729,"Kabel HDMI-St./HDMI-St. 0,5m AWG24 HK",68.239499999999992,"Kabel HDMI-St./HDMI-St. 0,5m AWG24 HK"]
[4730,"Kabel 3,5-4pol Klinketecker/3,5-4pol-Kupplung  5m",43.606500000000004,"Kabel 3,5-4pol Klinketecker/3,5-4pol-Kupplung  5m"]
[4731,"Kabel VGA-St./VGA-Ku. 18m Superflex",123.22800000000001,"Kabel VGA-St./VGA-Ku. 18m Superflex"]
[4732,"Kabel VGA-St./VGA-Ku. 17m Superflex",118.77600000000001,"Kabel VGA-St./VGA-Ku. 17m Superflex"]
[4733,"Kabel HDMI-St./HDMI-St. 12m AWG24 HK",173.65949999999998,"Kabel HDMI-St./HDMI-St. 12m AWG24 HK"]
[4734,"Kabel Kat.6 25m S/STP  grau",55.450500000000005,"Kabel Kat.6 25m S/STP  grau"]
[4735,"Kabel DVI 24+1 St./St.  5m Halogenfrei",111.04800000000002,"Kabel DVI 24+1 St./St.  5m Halogenfrei"]
[4736,"Kabel DVI 24+1 St./St.  10m Halogenfrei",169.16550000000001,"Kabel DVI 24+1 St./St.  10m Halogenfrei"]
[4737,"Kabel DVI 24+1 St./St.  15m Halogenfrei",225.27750000000003,"Kabel DVI 24+1 St./St.  15m Halogenfrei"]
[4739,"HDMI Hybrid-Kabel St./St. 20m",387.17700000000002,"HDMI Hybrid-Kabel St./St. 20m"]
[4740,"Kabel VGA-St./5xBNC-Ku. + 6pol-XLR-Kupplung 0,5m",86.551500000000004,"Kabel VGA-St./5xBNC-Ku. + 6pol-XLR-Kupplung 0,5m"]
[4741,"Kabel HDMI-St./HDMI-St. 6m AWG24 HK",118.66050000000001,"Kabel HDMI-St./HDMI-St. 6m AWG24 HK"]
[4742,"Kabel 3,5-4pol Klinkentecker/3,5-4pol-Kupplung 7,5",46.389000000000003,"Kabel 3,5-4pol Klinkentecker/3,5-4pol-Kupplung 7,5"]
[4913,"Kabel HDMI-St./HDMI-Ku. 2m",31.962000000000003,2]
[5000,"AF GES9B schräg",82.456500000000005,"AF GES9B schräg"]
[5001,"AF GESB schräg",80.797499999999999,"AF GESB schräg"]
[5002,"AF Wandgehäuse 215x130x65, schwarz",104.4435,"AF Wandgehäuse 215x130x65, schwarz"]
[5003,"AF Wandgehäuse 160x95x45, schwarz",97.839000000000013,"AF Wandgehäuse 160x95x45, schwarz"]
[5004,"AF 19\"-1HE",64.858500000000006,"AF 19\"-1HE"]
[5005,"AF 19\"-2HE",75.852000000000004,"AF 19\"-2HE"]
[5006,"AF 19\"-3HE",85.753500000000003,"AF 19\"-3HE"]
[5007,"AF 19\"-4HE",95.644500000000008,"AF 19\"-4HE"]
[5008,"AF 19\"-5HE",106.63800000000001,"AF 19\"-5HE"]
[5009,"AF 19\"-6HE",116.52900000000001,"AF 19\"-6HE"]
[5010,"AF Gravur-Zeichen",0.54600000000000004,"AF Gravur-Zeichen"]
[5011,"AF Tischanschlussbox",203.38499999999999,"AF Tischanschlussbox"]
[5012,"AF Tischeinbaufeld edelstahl",318.81150000000002,"AF Tischeinbaufeld edelstahl"]
[5013,"AF GB3 schräg",82.456500000000005,"AF GB3 schräg"]
[5014,"AF GB2 schräg",80.797499999999999,"AF GB2 schräg"]
[5015,"AF GES9B gerade",82.456500000000005,"AF GES9B gerade"]
[5016,"AF Aluminiumplatte",10499.9895,"AF Aluminiumplatte"]
[5017,"AF Tischeinbaufeld rund",282.53399999999999,"AF Tischeinbaufeld rund"]
[5018,"AF Wandgehäuse 125x70x35, schwarz",82.456500000000005,"AF Wandgehäuse 125x70x35, schwarz"]
[5019,"AF Aluminiumplatte Schalterfläche",49.475999999999999,"AF Aluminiumplatte Schalterfläche"]
[5020,"AF  Tischeinbaufeld 315mm",335.30699999999996,"AF  Tischeinbaufeld 315mm"]
[5021,"AF Wandgehäuse 215x130x65, grau",104.4435,"AF Wandgehäuse 215x130x65,grau"]
[5022,"AF  Tischeinbaufeld 395mm",373.77900000000005,"AF  Tischeinbaufeld 395mm"]
[5023,"AF Wandgehäuse 160x95x45, grau",97.839000000000013,"AF Wandgehäuse 160x95x45, grau"]
[5024,"AF Wandgehäuse 125x70x35, grau",82.456500000000005,"AF Wandgehäuse 125x70x35, grau"]
[5100,"AF VGA-Buchse Lötanschluss",10.384500000000001,"AF VGA-Buchse Lötanschluss"]
[5101,"AF VGA-Buchse 5xBNC-Kupplung 30cm",59.724000000000004,"AF VGA-Buchse 5xBNC-Kupplung 30cm"]
[5102,"AF VGA-Buchse 5xBNC-Stecker 30cm",49.622999999999998,"AF VGA-Buchse 5xBNC-Stecker 30cm"]
[5103,"AF VGA-Buchse VGA-Kupplung 30cm",46.189500000000002,"AF VGA-Buchse VGA-Kupplung 30cm"]
[5104,"AF VGA-Buchse VGA-Stecker 30cm",46.189500000000002,"AF VGA-Buchse VGA-Stecker 30cm"]
[5105,"AF 3,5-Klinkenbuchse Lötanschluss",9.093,"AF 3,5-Klinkenbuchse Lötanschluss"]
[5106,"AF 3,5-Klinkenbuchse/Kupplung 30cm",18.4695,"AF 3,5-Klinkenbuchse/Kupplung 30cm"]
[5107,"AF 3,5-Klinkenbuchse/Stecker 30cm",18.4695,"AF 3,5-Klinkenbuchse/Stecker 30cm"]
[5108,"AF 3,5-Klinkenbuchse 2xCinch-Kupplung 30cm",20.664000000000001,"AF 3,5-Klinkenbuchse 2xCinch-Kupplung 30cm"]
[5109,"AF 3,5-Klinkenbuchse 2xCinch-Stecker 30cm",20.664000000000001,"AF 3,5-Klinkenbuchse 2xCinch-Stecker 30cm"]
[5110,"AF BNC-Bu. rot löt",12.641999999999999,"AF BNC-Bu. rot löt"]
[5111,"AF BNC-Bu. grün löt",12.641999999999999,"AF BNC-Bu. grün löt"]
[5112,"AF BNC-Bu. blau löt",12.641999999999999,"AF BNC-Bu. blau löt"]
[5113,"AF BNC-Bu. schwarz löt",12.641999999999999,"AF BNC-Bu. schwarz löt"]
[5114,"AF BNC-Bu. weiß löt",12.641999999999999,"AF BNC-Bu. weiß löt"]
[5115,"AF BNC-Bu. gelb löt",12.641999999999999,"AF BNC-Bu. gelb löt"]
[5116,"AF BNC-Bu. rot steckbar",13.7445,"AF BNC-Bu. rot steckbar"]
[5117,"AF BNC-Bu. grün steckbar",13.7445,"AF BNC-Bu. grün steckbar"]
[5118,"AF BNC-Bu. blau steckbar",13.7445,"AF BNC-Bu. blau steckbar"]
[5119,"AF BNC-Bu. schwarz steckbar",13.7445,"AF BNC-Bu. schwarz steckbar"]
[5120,"AF BNC-Bu. weiß steckbar",13.7445,"AF BNC-Bu. weiß steckbar"]
[5121,"AF BNC-Bu. gelb steckbar",13.7445,"AF BNC-Bu. gelb steckbar"]
[5122,"AF BNC-Bu. rot BNC-Ku. 30cm",20.779499999999999,"AF BNC-Bu. rot BNC-Ku. 30cm"]
[5123,"AF BNC-Bu. grün BNC-Ku. 30cm",20.779499999999999,"AF BNC-Bu. grün BNC-Ku. 30cm"]
[5124,"AF BNC-Bu. blau BNC-Ku. 30cm",20.779499999999999,"AF BNC-Bu. blau BNC-Ku. 30cm"]
[5125,"AF BNC-Bu. schwarz BNC-Ku. 30cm",20.779499999999999,"AF BNC-Bu. schwarz BNC-Ku. 30cm"]
[5126,"AF BNC-Bu. weiß BNC-Ku. 30cm",20.779499999999999,"AF BNC-Bu. weiß BNC-Ku. 30cm"]
[5127,"AF BNC-Bu. gelb BNC-Ku. 30cm",20.779499999999999,"AF BNC-Bu. gelb BNC-Ku. 30cm"]
[5128,"AF BNC-Bu. rot BNC-St. 30cm",19.131,"AF BNC-Bu. rot BNC-St. 30cm"]
[5129,"AF BNC-Bu. grün BNC-St. 30cm",19.131,"AF BNC-Bu. grün BNC-St. 30cm"]
[5130,"AF BNC-Bu. blau BNC-St. 30cm",19.131,"AF BNC-Bu. blau BNC-St. 30cm"]
[5131,"AF BNC-Bu. schwarz BNC-St. 30cm",19.131,"AF BNC-Bu. schwarz BNC-St. 30cm"]
[5132,"AF BNC-Bu. weiß  BNC-St. 30cm",19.131,"AF BNC-Bu. weiß  BNC-St. 30cm"]
[5133,"AF BNC-Bu. gelb  BNC-St. 30cm",19.131,"AF BNC-Bu. gelb  BNC-St. 30cm"]
[5134,"AF Cinch-Bu. rot löt",10.4475,"AF Cinch-Bu. rot löt"]
[5135,"AF Cinch-Bu. schwarz löt",10.4475,"AF Cinch-Bu. schwarz löt"]
[5136,"AF Cinch-Bu. gelb löt",10.4475,"AF Cinch-Bu. gelb löt"]
[5137,"AF Cinch-Bu. grün löt",10.4475,"AF Cinch-Bu. grün löt"]
[5138,"AF Cinch-Bu. blau löt",10.4475,"AF Cinch-Bu. blau löt"]
[5139,"AF Cinch-Bu. rot Cinch-Ku. 30cm",17.041500000000003,"AF Cinch-Bu. rot Cinch-Ku. 30cm"]
[5140,"AF Cinch-Bu. schwarz Cinch-Ku. 30cm",17.041500000000003,"AF Cinch-Bu. schwarz Cinch-Ku. 30cm"]
[5141,"AF Cinch-Bu. gelb Cinch-Ku. 30cm",17.041500000000003,"AF Cinch-Bu. gelb Cinch-Ku. 30cm"]
[5142,"AF Cinch-Bu. grün Cinch-Ku. 30cm",17.041500000000003,"AF Cinch-Bu. grün Cinch-Ku. 30cm"]
[5143,"AF Cinch-Bu. blau Cinch-Ku. 30cm",17.041500000000003,"AF Cinch-Bu. blau Cinch-Ku. 30cm"]
[5144,"AF Cinch-Bu. rot Cinch-St. 30cm",17.041500000000003,"AF Cinch-Bu. rot Cinch-St. 30cm"]
[5145,"AF Cinch-Bu. schwarz Cinch-St. 30cm",17.041500000000003,"AF Cinch-Bu. schwarz Cinch-St. 30cm"]
[5146,"AF Cinch-Bu. gelb Cinch-St. 30cm",17.041500000000003,"AF Cinch-Bu. gelb Cinch-St. 30cm"]
[5147,"AF Cinch-Bu. grün Cinch-St. 30cm",17.041500000000003,"AF Cinch-Bu. grün Cinch-St. 30cm"]
[5148,"AF Cinch-Bu. blau Cinch-St. 30cm",17.041500000000003,"AF Cinch-Bu. blau Cinch-St. 30cm"]
[5149,"AF Cinch-Bu. gelb BNC-Ku. 30cm",19.015499999999999,"AF Cinch-Bu. gelb BNC-Ku. 30cm"]
[5150,"AF Cinch-Bu. grün BNC-Ku. 30cm",19.015499999999999,"AF Cinch-Bu. grün BNC-Ku. 30cm"]
[5151,"AF Cinch-Bu. blau BNC-Ku. 30cm",19.015499999999999,"AF Cinch-Bu. blau BNC-Ku. 30cm"]
[5152,"AF Cinch-Bu. gelb BNC-St. 30cm",18.4695,"AF Cinch-Bu. gelb BNC-St. 30cm"]
[5153,"AF Cinch-Bu. grün BNC-St. 30cm",18.4695,"AF Cinch-Bu. grün BNC-St. 30cm"]
[5154,"AF Cinch-Bu. blau BNC-St. 30cm",18.4695,"AF Cinch-Bu. blau BNC-St. 30cm"]
[5155,"AF 4p.MD-Bu. löt",10.773,"AF 4p.MD-Bu. löt"]
[5156,"AF 4p.MD-Bu. 2xBNC-Ku. 30cm",29.137500000000003,"AF 4p.MD-Bu. 2xBNC-Ku. 30cm"]
[5157,"AF 4p.MD-Bu. 2xBNC-St. 30cm",28.360500000000002,"AF 4p.MD-Bu. 2xBNC-St. 30cm"]
[5158,"AF 4p.MD-Bu. 4p-MD-Ku. 30cm",29.137500000000003,"AF 4p.MD-Bu. 4p-MD-Ku. 30cm"]
[5159,"AF 4p.MD-Bu. 4p-MD-St. 30cm",29.137500000000003,"AF 4p.MD-Bu. 4p-MD-St. 30cm"]
[5160,"AF 9p.Sub-D-Bu. löt",10.227,"AF 9p.Sub-D-Bu. löt"]
[5161,"AF 9p.Sub-D-Bu. 9p.Sub-D-Bu.",12.537000000000001,"AF 9p.Sub-D-Bu. 9p.Sub-D-Bu."]
[5162,"AF 9p.Sub-D-Bu. 9p.Sub-D-St.",12.537000000000001,"AF 9p.Sub-D-Bu. 9p.Sub-D-St."]
[5163,"AF 9p.Sub-D-Bu 9p.Sub-D-Ku 30cm",32.4345,"AF 9p.Sub-D-Bu 9p.Sub-D-Ku 30cm"]
[5164,"AF 9p.Sub-D-Bu 9p.Sub-D-St 30cm",32.4345,"AF 9p.Sub-D-Bu 9p.Sub-D-St 30cm"]
[5165,"AF 9p.Sub-D-St. löt",10.227,"AF 9p.Sub-D-St. löt"]
[5166,"AF 9p.Sub-D-St. 9p.Sub-D-St.",12.537000000000001,"AF 9p.Sub-D-St. 9p.Sub-D-St."]
[5167,"AF 9p.Sub-D-St. 9p.Sub-D-Bu.",12.537000000000001,"AF 9p.Sub-D-St. 9p.Sub-D-Bu."]
[5168,"AF 9p.Sub-D-St 9p.Sub-D-Ku 30cm",32.4345,"AF 9p.Sub-D-St 9p.Sub-D-Ku 30cm"]
[5169,"AF 9p.Sub-D-St 9p.Sub-D-St 30cm",32.4345,"AF 9p.Sub-D-St 9p.Sub-D-St 30cm"]
[5170,"AF 3p.XLR-Bu. löt",11.4765,"AF 3p.XLR-Bu. löt"]
[5171,"AF 3p.XLR-Bu. 3p.XLR-Ku. 30cm",28.6755,"AF 3p.XLR-Bu. 3p.XLR-Ku. 30cm"]
[5172,"AF 3p.XLR-Bu. 3p.XLR-St. 30cm",27.730500000000003,"AF 3p.XLR-Bu. 3p.XLR-St. 30cm"]
[5173,"AF 3p.XLR-St. löt",11.4765,"AF 3p.XLR-St. löt"]
[5174,"AF 3p.XLR-St. 3p.XLR-Ku. 30cm",28.6755,"AF 3p.XLR-St. 3p.XLR-Ku. 30cm"]
[5175,"AF 3p.XLR-St. 3p.XLR-St. 30cm",27.730500000000003,"AF 3p.XLR-St. 3p.XLR-St. 30cm"]
[5176,"AF 4p.Speakon-Bu. löt",11.214,"AF 4p.Speakon-Bu. löt"]
[5177,"AF 4p.Speakon-Bu. Lüsterkl 30cm",21.819000000000003,"AF 4p.Speakon-Bu. Lüsterkl 30cm"]
[5178,"AF Cat.6-Buchse, schneid-klemm",12.641999999999999,"AF Cat.6-Buchse, schneid-klemm"]
[5179,"AF Cat.6-Buchse Cat.5-Kupplung 30cm",23.961000000000002,"AF Cat.6-Buchse Cat.5-Kupplung 30cm"]
[5181,"AF Cat.6-Buchse Cat.6-Stecker 30cm",24.738,"AF Cat.6-Buchse Cat.6-Stecker 30cm"]
[5182,"AF RJ45-Buchse/Buchse",12.641999999999999,"AF RJ45-Buchse/Buchse"]
[5183,"AF RJ45-Cat.5Buchse/Buchse ungeschirmt",12.641999999999999,"AF RJ45-Cat.5Buchse/Buchse ungeschirmt"]
[5184,"AF Cat.6 Buchse/Buchse, geschirmt",18.144000000000002,"AF Cat.6 Buchse/Buchse, geschirmt"]
[5185,"AF Schukosteckdose, Schraubanschluss",21.819000000000003,"AF Schukosteckdose, Schraubanschluss"]
[5186,"AF Schukosteckdose Stecker 3m",39.721499999999999,"AF Schukosteckdose Stecker 3m"]
[5187,"AF VGA-Buchse/Buchse",13.797000000000001,"AF VGA-Buchse/Buchse"]
[5188,"AF Cinch-Bu. rot steckbar",14.836500000000001,"AF Cinch-Bu. rot steckbar"]
[5189,"AF Cinch-Bu. schwarz steckbar",14.836500000000001,"AF Cinch-Bu. schwarz steckbar"]
[5190,"AF Cinch-Bu. gelb steckbar",14.836500000000001,"AF Cinch-Bu. gelb steckbar"]
[5191,"AF USB-Bu. Neutrik steckbar",17.661000000000001,"AF USB-Bu. Neutrik steckbar"]
[5192,"AF 4p.XLR-Bu. löt",14.112,"AF 4p.XLR-Bu. löt"]
[5193,"AF 4p.XLR-Bu. Lüsterklemme 30cm",28.413,"AF 4p.XLR-Bu. Lüsterklemme 30cm"]
[5194,"AF 4p.XLR-Bu. 4p.XLR-St. 30cm",40.246499999999997,"AF 4p.XLR-Bu. 4p.XLR-St. 30cm"]
[5195,"AF 12p.Minicon-Bu./RJ45-Ku. 2xA",85.344000000000008,"AF 12p.Minicon-Bu./RJ45-Ku. 2xA"]
[5196,"AF DVI-Buchse Lötanschluss",13.849500000000001,"AF DVI-Buchse Lötanschluss"]
[5197,"AF DVI-D-Buchse DVI-D-Stecker 30cm",58.926000000000002,"AF DVI-D-Buchse DVI-D-Stecker 30cm"]
[5198,"AF DVI-D-Buchse DVI-D-Kupplung 30cm",58.926000000000002,"AF DVI-D-Buchse DVI-D-Kupplung 30cm"]
[5199,"AF Powercon-Bu.blau, Eingang, Lötanschluss",11.4765,"AF Powercon-Bu.blau, Eingang, Lötanschluss"]
[5200,"AF Powercon-Bu.grau,Weitergabe, Lötanschluss",11.4765,"AF Powercon-Bu.grau,Weitergabe, Lötanschluss"]
[5201,"AF 3,5-Klinkenbuchse, steckbar",19.246499999999997,"AF 3,5-Klinkenbuchse, steckbar"]
[5202,"AF DVI-Buchse/DVI-Buchse",30.229500000000002,"AF DVI-Buchse/DVI-Buchse"]
[5203,"AF HDMI-Buchse/HDMI-Buchse",30.229500000000002,"AF HDMI-Buchse/HDMI-Buchse"]
[5204,"AF Cinch-Bu. rot BNC-Ku. 30cm",19.015499999999999,"AF Cinch-Bu. rot BNC-Ku. 30cm"]
[5205,"AF Cinch-Bu. rot BNC-St. 30cm",18.4695,"AF Cinch-Bu. rot BNC-St. 30cm"]
[5206,"AF 5p.XLR-Bu. löt",21.157499999999999,"AF 5p.XLR-Bu. löt"]
[5207,"AF 12p.-Minicon-Bu./St. 30cm",107.7405,"AF 12p.-Minicon-Bu./St. 30cm"]
[5208,"AF USB-A-Bu./löt",16.821000000000002,"AF USB-A-Bu./löt"]
[5209,"AF USB-A-Bu./USB-A-Bu.",23.5305,"AF USB-A-Bu./USB-A-Bu."]
[5210,"AF USB-A-Bu./USB-A-St. 30cm",26.606999999999999,"AF USB-A-Bu./USB-A-St. 30cm"]
[5211,"AF USB-A-Bu./USB-B-St. 30cm",26.606999999999999,"AF USB-A-Bu./USB-B-St. 30cm"]
[5212,"AF USB-B-Bu./löt",16.821000000000002,"AF USB-B-Bu./löt"]
[5213,"AF USB-B-Bu./USB-B-Bu.",23.5305,"AF USB-B-Bu./USB-B-Bu."]
[5214,"AF USB-B-Bu./USB-B-St. 30cm",26.606999999999999,"AF USB-B-Bu./USB-B-St. 30cm"]
[5215,"AF USB-B-Bu./USB-A-St. 30cm",26.606999999999999,"AF USB-B-Bu./USB-A-St. 30cm"]
[5216,"AF 4p.MD-Bu. steckbar",29.137500000000003,"AF 4p.MD-Bu. steckbar"]
[5217,"AF DVI-I-Buchse DVI-I-Stecker 30cm",69.478500000000011,"AF DVI-I-Buchse DVI-I-Stecker 30cm"]
[5218,"AF 6p.XLR-Bu. löt",27.258000000000003,"AF 6p.XLR-Bu. löt"]
[5219,"AF DisplayPort-Buchse/DisplayPort-Buchse",42.871499999999997,"AF DisplayPort-Buchse/DisplayPort-Buchse"]
[5220,"AF DisplayPort-Buchse/DisplayPort-Stecker 1m",50.127000000000002,"AF DisplayPort-Buchse/DisplayPort-Stecker 1m"]
[5221,"AF HDMI-Buchse/HDMI-Buchse 25cm",49.475999999999999,"AF HDMI-Buchse/HDMI-Buchse 25cm"]
[5222,"AF DVI-I-Buchse DVI-I-Kupplung 20cm",69.478500000000011,"AF DVI-I-Buchse DVI-I-Kupplung 20cm"]
[5223,"AF VGA-Buchse auf offenes Kabelende 30cm",35.511000000000003,"AF VGA-Buchse auf offenes Kabelende 30cm"]
[5224,"AF VGA-Stecker, Lötanschluss",10.384500000000001,"AF VGA-Stecker, Lötanschluss"]
[5225,"AF VGA-Stecker 5xBNC-Kupplung 30cm",59.724000000000004,"AF VGA-Stecker 5xBNC-Kupplung 30cm"]
[5226,"AF VGA-Stecker 5xBNC-Stecker 30cm",49.622999999999998,"AF VGA-Stecker 5xBNC-Stecker 30cm"]
[5227,"AF VGA-Stecker auf offenes Kabelende 30cm",35.511000000000003,"AF VGA-Stecker auf offenes Kabelende 30cm"]
[5228,"AF Cinch-Bu. schwarz BNC-St. 30cm",18.4695,"AF Cinch-Bu. schwarz BNC-St. 30cm"]
[5229,"AF Cinch-Bu. schwarz BNC-Ku. 30cm",19.015499999999999,"AF Cinch-Bu. schwarz BNC-Ku. 30cm"]
[5230,"AF Antenneneinbaustecker, Lötanschluss",16.159500000000001,"AF Antenneneinbaustecker, Lötanschluss"]
[5231,"AF Antenneneinbaubuchse, Lötanschluss",16.159500000000001,"AF Antenneneinbaubuchse, Lötanschluss"]
[5232,"AF Antennen-F Einbaubuchse, Lötanschluss",16.159500000000001,"AF Antennen-F Einbaubuchse, Lötanschluss"]
[5233,"AF Antennen-F Durchgangsverbinder",16.159500000000001,"AF Antennen-F Durchgangsverbinder"]
[5234,"AF RJ45-EtherCon schneid-klemm Neutrik",29.578500000000002,"AF RJ45-EtherCon schneid-klemm Neutrik"]
[5235,"AF USB-A-Bu./USB-B-Bu., steckbar",23.5305,"AF USB-A-Bu./USB-B-Bu., steckbar"]
[5236,"AF USB-A-Bu./USB-A-Ku. 30cm",26.606999999999999,"AF USB-A-Bu./USB-A-Ku. 30cm"]
[5237,"AF USB-B-Bu./USB-A-Bu., steckbar",23.5305,"AF USB-B-Bu./USB-A-Bu., steckbar"]
[5238,"AF USB-B-Bu./USB-A-Ku. 30cm",26.606999999999999,"AF USB-B-Bu./USB-A-Ku. 30cm"]
[5239,"AF Cat.6-Buchse Cat.6-Kupplung 30cm",28.665000000000003,"AF Cat.6-Buchse Cat.6-Kupplung 30cm"]
[5240,"AF 12p.-Minicon-Bu., Lötanschluss",60.921000000000006,"AF 12p.-Minicon-Bu., Lötanschluss"]
[5241,"AF Taster/LED, 2xSchließer, rot, lötbar",20.338500000000003,"AF Taster/LED, 2xSchließer, rot, lötbar"]
[5242,"AF Taster/LED, 2xSchließer, grün, Lötanschluss",20.338500000000003,"AF Taster/LED, 2xSchließer, grün, Lötanschluss"]
[5243,"AF Taster/LED, 2xSchließer, rot, 30cm, offen",25.9665,"AF Taster/LED, 2xSchließer, rot, 30cm, offen"]
[5244,"AF Taster/LED, 2xSchließer, grün, 30cm, offen",25.9665,"AF Taster/LED, 2xSchließer, grün, 30cm, offen"]
[5245,"AF Schalter/ LED, 2xSchließer, rot, Lötanschluss",20.338500000000003,"AF Schalter/ LED, 2xSchließer, rot, Lötanschluss"]
[5246,"AF Schalter/LED, 2xSchließer, grün, Lötanschluss",20.338500000000003,"AF Schalter/LED, 2xSchließer, grün, Lötanschluss"]
[5247,"AF Schalter/LED, 2xSchließer, rot, 30cm, offen",25.9665,"AF Schalter/LED, 2xSchließer, rot, 30cm, offen"]
[5248,"AF Schalter/LED, 2xSchließer, grün, 30cm, offen",25.9665,"AF Schalter/LED, 2xSchließer, grün, 30cm, offen"]
[5249,"AF Taster, 1xUmschalter, vernickelt, Lötanschluss",24.233999999999998,"AF Taster, 1xUmschalter, vernickelt, Lötanschluss"]
[5250,"AF Taster, 1xUmschalter, vernickelt, 30cm",29.862000000000002,"AF Taster, 1xUmschalter, vernickelt, 30cm"]
[5251,"AF Einbaudose Kaltgeräte, Steckanschluss",19.3935,"AF Einbaudose Kaltgeräte, Steckanschluss"]
[5252,"AF Einbaudose Kaltgeräte 3m",39.406500000000001,"AF Einbaudose Kaltgeräte 3m"]
[5253,"AF Einbaustecker Kaltgeräte, Steckanschluss",19.3935,"AF Einbaustecker Kaltgeräte, Steckanschluss"]
[5254,"AF Einbaustecker Kaltgeräte 3m",39.406500000000001,"AF Einbaustecker Kaltgeräte 3m"]
[5255,"AF HDMI-Bu./Bu. 360° drehbar",42,"AF HDMI-Bu./Bu. 360° drehbar"]
[5256,"AF Blindabdeckung XLR D-Bohrung",7.5285000000000002,"AF Blindabdeckung XLR D-Bohrung"]
[5257,"AF 5p.XLR-Bu. Lüsterklemme 30cm",36.109500000000004,"AF 5p.XLR-Bu. Lüsterklemme 30cm"]
[5258,"AF 6p.XLR-Bu. Lüsterklemme 30cm",46.378500000000003,"AF 6p.XLR-Bu. Lüsterklemme 30cm"]
[5259,"AF 7p.XLR-Bu. löt",33.348000000000006,"AF 7p.XLR-Bu. löt"]
[5260,"AF 7p.XLR-Bu. Lüsterklemme 30cm",54.012,"AF 7p.XLR-Bu. Lüsterklemme 30cm"]
[5261,"AF Taster, 1xEIN, 18x18mm, beschriftbar, lötbar",36.225000000000001,"AF Taster, 1xEIN, 18x18mm, beschriftbar, lötbar"]
[5262,"AF Taster, 1xEIN, 18x18mm, beschriftbar, 30cm",43.280999999999999,"AF Taster, 1xEIN, 18x18mm, beschriftbar, 30cm"]
[5263,"AF Taster, 1xEIN, 18x18mm, beschriftbar, 30cm",37.463999999999999,"AF Taster, 1xEIN, 18x18mm, beschriftbar, 30cm"]
[5264,"AF Taster, 1xEIN, 24x18mm, beschriftbar, 30cm",44.52,"AF Taster, 1xEIN, 24x18mm, beschriftbar, 30cm"]
[5265,"AF RJ12-Bu./RJ12-Bu.",23.992500000000003,"AF RJ12-Bu./RJ12-Bu."]
[5266,"AF RJ69-Bu./RJ69-Bu.",26.092500000000001,"AF RJ69-Bu./RJ69-Bu."]
[5267,"AF USB-A-3.0-Bu./USB-A-3.0-Bu.",34.240500000000004,"AF USB-A-3.0-Bu./USB-A-3.0-Bu."]
[5268,"AF HDMI-Bu./St. 30cm AWG24",89.207999999999998,"AF HDMI-Bu./St. 30cm AWG24"]
[5269,"AF HDMI-Bu./offenes Ende 30cm AWG24",53.361000000000004,"AF HDMI-Bu./offenes Ende 30cm AWG24"]
[5270,"AF Taster, 1xUm, LED-blau, Edelstahl, 18mm, Löt",37.1175,"AF Taster, 1xUm, LED-blau, Edelstahl, 18mm, Löt"]
[5271,"AF Taster, 1xUm, LED-blau, Edelstahl, 18mm, 30cm",43.575000000000003,"AF Taster, 1xUm, LED-blau, Edelstahl, 18mm, 30cm"]
[5272,"AF Taster, 1xUm, LED-blau, Edelstahl, 22mm, Löt",40.939500000000002,"AF Taster, 1xUm, LED-blau, Edelstahl, 22mm, Löt"]
[5273,"AF Taster, 1xUm, LED-blau, Edelstahl, 22mm, 30cm",47.407499999999999,"AF Taster, 1xUm, LED-blau, Edelstahl, 22mm, 30cm"]
[5274,"AF Taster, 1xUm, ohne LED, Edelstahl, 22mm, Löt",38.43,"AF Taster, 1xUm, ohne LED, Edelstahl, 22mm, Löt"]
[5275,"AF Taster, 1xUm, ohne LED, Edelstahl, 22mm, 30cm",44.898000000000003,"AF Taster, 1xUm, ohne LED, Edelstahl, 22mm, 30cm"]
[5300,"zusätzliche Kabellänge VGA-Kabel",5.0610000000000008,"zusätzliche Kabell. VGA-Kabel"]
[5301,"zusätzliche Kabellänge Audio 3mm",0.64049999999999996,"zusätzliche Kabellänge Audio 3mm"]
[5302,"zusätzliche Kabellänge Audio-stereo",2.2364999999999999,"zusätzliche Kabellänge Audio-stereo"]
[5303,"zusätzliche Kabellänge Video 3mm",0.54600000000000004,"zusätzliche Kabellänge Video 3mm"]
[5304,"zusätzliche Kabellänge S-Video",2.2364999999999999,"zusätzliche Kabellänge S-Video"]
[5305,"zusätzliche Kabellänge Cat.5",1.8690000000000002,"zusätzliche Kabellänge Cat.5"]
[5306,"zusätzliche Kabellänge Cat.5+Strom",8.6415000000000006,"zusätzliche Kabellänge Cat.5+Strom"]
[5307,"zusätzliche Kabellänge 8pol-Steuerleitung",1.4175000000000002,"zusätzliche Kabellänge 8pol-Steuerleitung"]
[5308,"zusätzliche Kabellänge Audio 6mm",1.3125,"zusätzliche Kabellänge Audio 6mm"]
[5309,"zusätzliche Kabellänge Speakon 4x2,5mm²",6.0690000000000008,"zusätzliche Kabellänge Speakon 4x2,5mm²"]
[5310,"zusätzliche Kabellänge Cat.6",2.0895000000000001,"zusätzliche Kabellänge Cat.6"]
[5311,"zusätzliche Kabellänge Netzkabel",1.5645,"zusätzliche Kabellänge Netzkabel"]
[5312,"zusätzliche Kabellänge USB",1.8690000000000002,"zusätzliche Kabellänge USB"]
[5313,"zusätzliche Kabellänge DVI-D",6.93,"zusätzliche Kabellänge DVI-D"]
[5314,"zusätzliche Kabellänge DVI-I",7.9590000000000005,"zusätzliche Kabellänge DVI-I"]
[5315,"zusätzliche Kabellänge 4pol-Steuerleitung",1.2075,"zusätzliche Kabellänge 4pol-Steuerleitung"]
[5316,"zusätzliche Kabellänge RGB-Mini-Kabel 3x3mm",3.5805000000000002,"zusätzliche Kabellänge RGB-Mini-Kabel"]
[5317,"zusätzliche Kabellänge 4pol-Flachbandleitung",1.2075,"zusätzliche Kabellänge 4pol-Flachbandleitung"]
[5318,"zusätzliche Kabellänge HDMI AWG24",9.166500000000001,"zusätzliche Kabellänge HDMI AWG24"]
[5319,"zusätzliche Kabellänge 10pol-Flachbandleitung",1.6800000000000002,"zusätzliche Kabellänge 10pol-Flachbandleitung"]
[5320,"zusätzliche Kabellänge DisplayPort",4.242,"zusätzliche Kabellänge DisplayPort"]
[5500,"AFM  Träger GB3 Ackermann 36TE",46.168500000000002,"Träger GB3 Ackermann 36TE"]
[5501,"AFM  Träger GB2 Ackermann 28TE",46.168500000000002,"Träger GB2 Ackermann 28TE"]
[5502,"AFM  Träger GB3/GBR3 Electraplan 36TE",46.168500000000002,"Träger GB3 Electraplan 36TE"]
[5503,"AFM  Träger GB2 Electraplan 28TE",46.168500000000002,"Träger GB2 Electraplan 28TE"]
[5504,"AFM  Träger PUK/Vergokan",51.670500000000004,"Träger PUK/Vergokan"]
[5505,"AFM  Träger GBV4 Electraplan 36TE",51.670500000000004,"Träger GBV4 Electraplan 36TE"]
[5506,"AFM  Träger GBV3 Electraplan 28TE",51.670500000000004,"Träger GBV3 Electraplan 36TE"]
[5507,"AFM  Träger GBR3 Electraplan 36TE",46.168500000000002,"Träger GBR3 Electraplan 36TE"]
[5510,"AFM  Wandkanal 24TE",30.786000000000001,"Wandkanal 24TE"]
[5511,"AFM  Wandkanal 36TE",38.482500000000002,"Wandkanal 36TE"]
[5512,"AFM  Wandkanal 48TE",47.271000000000008,"Wandkanal 48TE"]
[5513,"AFM  Wandkanal schräger Auslass 24TE",56.07,"XXXXX"]
[5519,"AFM  Träger 19\"-2HE 84TE RAL 9035",54.967500000000001,"Träger 19\" -2HE 84TE"]
[5520,"AFM  Tischeinbaufeld 28TE",318.81150000000002,"Tischeinbaufeld 28TE"]
[5521,"AFM  Loch für Tischeinbaufeld",3.0030000000000001,"Loch für Tischeinbaufeld"]
[5522,"AFM  Tischeinbaufeld 44TE",357.29399999999998,"Tischeinbaufeld 44TE"]
[5523,"AFM  Tischeinbaufeld Sonderlackierung",104.4435,"Tischeinbaufeld Sonderlackierung"]
[5524,"AFM  Tischeinbaufeld 28TE Option Alu gebürstet",179.886,"Tischeinbaufeld 28TE Option Alu gebürstet"]
[5525,"AFM  Tischeinbaufeld 28TE Option angefaste Außenkante",69.951000000000008,"Tischeinbaufeld 28TE Option angefast 45°"]
[5526,"AFM  Tischeinbaufeld 44TE Oberfläche Alu gebürstet",201.8415,"Tischeinbaufeld 44TE Oberfläche Alu gebürstet"]
[5527,"AFM  Tischeinbaufeld 44TE Option angefaste Außenkante",78.498000000000005,"Tischeinbaufeld 44TE Option angefast 45°"]
[5528,"AFM  Tischeinbaufeld 28TE Oberfläche Edelstahl",259.85399999999998,"Tischeinbaufeld 28TE Oberfläche Edelstahl"]
[5529,"AFM  Tischeinbaufeld 28TE Option LAN Switch",149.91900000000001,"Tischeinbaufeld 28TE Option LAN Switch"]
[5530,"AFM  Wandgehäuse 215mm 36TE sw",91.245000000000005,"Wandgehäuse 215mm 36TE sw"]
[5531,"AFM  Wandgehäuse 160mm 24TE sw",60.469500000000004,"Wandgehäuse 160mm 24TE sw"]
[5532,"AFM  Wandgehäuse 125mm 20TE sw",38.482500000000002,"Wandgehäuse 125mm 20TE sw"]
[5533,"AFM  Wandgehäuse 215mm 36TE gr",91.245000000000005,"Wandgehäuse 215mm 36TE gr"]
[5534,"AFM  Wandgehäuse 160mm 24TE gr",60.469500000000004,"Wandgehäuse 160mm 24TE gr"]
[5535,"AFM  Wandgehäuse 125mm 20TE gr",38.482500000000002,"Wandgehäuse 125mm 20TE gr"]
[5536,"AFM  Tischeinbaufeld 44TE Option LAN Switch",169.90050000000002,"Tischeinbaufeld 44TE Option LAN Switch"]
[5537,"AFM  Tischeinbaufeld 44TE Oberfläche Edelstahl",299.01900000000001,"XXXXX"]
[5538,"AFM  Option angefaste Außenkante 28TE/315",249.83700000000002,"Option angefaste Außenkante 28TE/315"]
[5539,"AFM  Option angefaste Außenkante 44TE/395",280.33950000000004,"Option angefaste Außenkante 44TE/395"]
[5540,"AF Tischeinbaufeld klein",0,"AF Tischeinbaufeld klein"]
[5550,"AFM  Montage & Beschriftung 36TE",13.188000000000001,"Montage & Beschriftung 36TE"]
[5551,"AFM  Montage & Beschriftung 24TE",8.7990000000000013,"Montage & Beschriftung 24TE"]
[5552,"AFM  Montage & Beschriftung 28TE",10.2585,"Montage & Beschriftung 28TE"]
[5553,"AFM  Montage & Beschriftung 20TE",7.3185000000000002,"Montage & Beschriftung 20TE"]
[5554,"AFM  Montage & Beschriftung 48TE",17.587500000000002,"Montage & Beschriftung 48TE"]
[5555,"AFM  Montage & Beschriftung 44TE",16.1175,"Montage & Beschriftung 44TE"]
[5556,"AFM  Montage & Beschriftung 84TE",29.137500000000003,"Montage & Beschriftung 84TE"]
[5557,"AFM  Beschriftung Taster 18x18 und 24x18",11.991,"Beschriftung Taster"]
[5600,"AFM  Blindplatte  4TE",5.3864999999999998,"Blindplatte  4TE"]
[5601,"AFM  Blindplatte  8TE",6.4889999999999999,"Blindplatte  8TE"]
[5602,"AFM  Blindplatte 12TE",7.5810000000000004,"Blindplatte 12TE"]
[5604,"AFM  Blindplatte 16TE",8.6835000000000004,"Blindplatte 16TE"]
[5607,"AFM VGA-Bu./löt",13.471500000000001,"lötbar"]
[5608,"AFM VGA-Bu./Bu.",18.858000000000001,"VGA-Bu. steckbar"]
[5609,"AFM VGA-Bu./5xBNC-Ku. 30cm",80.913000000000011,"5xBNC-Ku. 30cm"]
[5610,"AFM VGA-Bu./5xBNC-St. 30cm",75.411000000000001,"5xBNC-St. 30cm"]
[5611,"AFM VGA-Bu./VGA-St. 30cm",59.2515,"VGA-St. 30cm"]
[5612,"AFM VGA-Bu./VGA-Ku. 30cm",59.2515,"VGA-Ku. 30cm"]
[5613,"AFM DVI-Bu./löt 24+5",18.858000000000001,"lötbar 24+5"]
[5614,"AFM DVI-Bu./DVI-St. 30cm 24+1",71.179500000000004,"DVI-D-St. 30cm 24+1"]
[5615,"AFM DVI-D-Bu./DVI-D-Ku. 30cm 24+1",71.179500000000004,"DVI-D-Ku. 30cm 24+1"]
[5616,"AFM 3,5-Klinkenbu./löt",11.770500000000002,"lötbar"]
[5617,"AFM 3,5-Klinkenbu./3,5-Ku. 30cm",21.9345,"3,5-Kl.-Ku. 30cm"]
[5618,"AFM 3,5-Klinkenbu./3,5-St. 30cm",21.9345,"3,5-Kl.-St. 30cm"]
[5619,"AFM 3,5-Klinkenbu./2xC-Ku. 30cm",23.855999999999998,"2xCinch-Ku. 30cm"]
[5620,"AFM 3,5-Klinkenbu./2xC-St. 30cm",23.855999999999998,"2xCinch-St. 30cm"]
[5621,"AFM BNC-Bu.rot/löt",16.159500000000001,"lötbar"]
[5622,"AFM BNC-Bu.grün/löt",16.159500000000001,"lötbar"]
[5623,"AFM BNC-Bu.blau/löt",16.159500000000001,"lötbar"]
[5624,"AFM BNC-Bu.schwarz/löt",16.159500000000001,"lötbar"]
[5625,"AFM BNC-Bu.weiß/löt",16.159500000000001,"lötbar"]
[5626,"AFM BNC-Bu.gelb/löt",16.159500000000001,"lötbar"]
[5627,"AFM BNC-Bu.rot/BNC-Bu.",17.702999999999999,"BNC-Bu. steckbar"]
[5628,"AFM BNC-Bu.grün/BNC-Bu.",17.702999999999999,"BNC-Bu. steckbar"]
[5629,"AFM BNC-Bu.blau/BNC-Bu.",17.702999999999999,"BNC-Bu. steckbar"]
[5630,"AFM BNC-Bu.schwarz/BNC-Bu.",17.702999999999999,"BNC-Bu. steckbar"]
[5631,"AFM BNC-Bu.weiß/BNC-Bu.",17.702999999999999,"BNC-Bu. steckbar"]
[5632,"AFM BNC-Bu.gelb/BNC-Bu.",17.702999999999999,"BNC-Bu. steckbar"]
[5633,"AFM BNC-Bu.rot/BNC-Ku. 30cm",26.932500000000001,"BNC-Ku. 30cm"]
[5634,"AFM BNC-Bu.grün/BNC-Ku. 30cm",26.932500000000001,"BNC-Ku. 30cm"]
[5635,"AFM BNC-Bu.blau/BNC-Ku. 30cm",26.932500000000001,"BNC-Ku. 30cm"]
[5636,"AFM BNC-Bu.schwarz/BNC-Ku. 30cm",26.932500000000001,"BNC-Ku. 30cm"]
[5637,"AFM BNC-Bu.weiß/BNC-Ku. 30cm",26.932500000000001,"BNC-Ku. 30cm"]
[5638,"AFM BNC-Bu.gelb/BNC-Ku. 30cm",26.932500000000001,"BNC-Ku. 30cm"]
[5639,"AFM BNC-Bu.rot/BNC-St. 30cm",26.166000000000004,"BNC-St. 30cm"]
[5640,"AFM BNC-Bu.grün/BNC-St. 30cm",26.166000000000004,"BNC-St. 30cm"]
[5641,"AFM BNC-Bu.blau/BNC-St. 30cm",26.166000000000004,"BNC-St. 30cm"]
[5642,"AFM BNC-Bu.schwarz/BNC-St. 30cm",26.166000000000004,"BNC-St. 30cm"]
[5643,"AFM BNC-Bu.weiß/BNC-St. 30cm",26.166000000000004,"BNC-St. 30cm"]
[5644,"AFM BNC-Bu.gelb/BNC-St. 30cm",26.166000000000004,"BNC-St. 30cm"]
[5645,"AFM Cinch-Bu.schwarz/löt",12.316500000000001,"lötbar"]
[5646,"AFM Cinch-Bu.rot/löt",12.316500000000001,"lötbar"]
[5647,"AFM Cinch-Bu.gelb/löt",12.316500000000001,"lötbar"]
[5648,"AFM Cinch-Bu.grün/löt",12.316500000000001,"lötbar"]
[5649,"AFM Cinch-Bu.blau/löt",12.316500000000001,"lötbar"]
[5650,"AFM Cinch-Bu.schwarz/Cinch-Bu.",18.4695,"Cinch-Bu.steckbar"]
[5651,"AFM Cinch-Bu.rot/Cinch-Bu.",18.4695,"Cinch-Bu.steckbar"]
[5652,"AFM Cinch-Bu.gelb/Cinch-Bu.",18.4695,"Cinch-Bu.steckbar"]
[5653,"AFM Cinch-Bu.schwarz/C-Ku. 30cm",23.089500000000001,"Cinch-Ku. 30cm"]
[5654,"AFM Cinch-Bu.rot/C-Ku. 30cm",23.089500000000001,"Cinch-Ku. 30cm"]
[5655,"AFM Cinch-Bu.gelb/C-Ku. 30cm",23.089500000000001,"Cinch-Ku. 30cm"]
[5656,"AFM Cinch-Bu.grün/C-Ku. 30cm",23.089500000000001,"Cinch-Ku. 30cm"]
[5657,"AFM Cinch-Bu.blau/C-Ku. 30cm",23.089500000000001,"Cinch-Ku. 30cm"]
[5658,"AFM Cinch-Bu.schwarz/C-St. 30cm",23.089500000000001,"Cinch-St. 30cm"]
[5659,"AFM Cinch-Bu.rot/C-St. 30cm",23.089500000000001,"Cinch-St. 30cm"]
[5660,"AFM Cinch-Bu.gelb/C-St. 30cm",23.089500000000001,"Cinch-St. 30cm"]
[5661,"AFM Cinch-Bu.grün/C-St. 30cm",23.089500000000001,"Cinch-St. 30cm"]
[5662,"AFM Cinch-Bu.blau/C-St. 30cm",23.089500000000001,"Cinch-St. 30cm"]
[5663,"AFM Cinch-Bu.gelb/BNC-Ku. 30cm",24.622499999999999,"BNC-Ku. 30cm"]
[5664,"AFM Cinch-Bu.gelb/BNC-St. 30cm",22.428000000000001,"BNC-St. 30cm"]
[5665,"AFM 4p.-MD-Bu./löt",13.471500000000001,"lötbar"]
[5666,"AFM 4p.-MD-Bu./2xBNC-Ku. 30cm",40.015500000000003,"2xBNC-Ku. 30cm"]
[5667,"AFM 4p.-MD-Bu./2xBNC-St. 30cm",37.159500000000001,"2xBNC-St. 30cm"]
[5668,"AFM 4p.-MD-Bu./4p.-MD-Ku. 30cm",37.705500000000001,"4p.MD-Ku. 30cm"]
[5669,"AFM 4p.-MD-Bu./4p.-MD-St. 30cm",37.705500000000001,"4p.MD-St. 30cm"]
[5670,"AFM 9p.Sub-D-Bu./löt",12.6945,"lötbar"]
[5671,"AFM 9p.Sub-D-Bu./9p.Sub-D-Bu.",17.513999999999999,"9p.Sub-D-Bu. steckbar"]
[5672,"AFM 9p.Sub-D-Bu./9p.Sub-D-St.",17.513999999999999,"9p.Sub-D-St. steckbar"]
[5673,"AFM 9p.Sub-D-Bu./9p.-Ku. 30cm",46.725000000000001,"9p.Ku. 30cm"]
[5674,"AFM 9p.Sub-D-Bu./9p.-St. 30cm",46.725000000000001,"9p.St. 30cm"]
[5675,"AFM 9p.Sub-D-St./löt",12.6945,"lötbar"]
[5676,"AFM 9p.Sub-D-St./9p.Sub-D-St.",17.513999999999999,"9p.St. steckbar"]
[5677,"AFM 9p.Sub-D-St./9p.Sub-D-Bu.",17.513999999999999,"9p.Bu. steckbar"]
[5678,"AFM 9p.Sub-D-St./9p.-Ku. 30cm",46.725000000000001,"9p.Ku. 30cm"]
[5679,"AFM 9p.Sub-D-St./9p.-St. 30cm",46.725000000000001,"9p.St. 30cm"]
[5680,"AFM 3p.XLR-Bu./löt",16.275000000000002,"lötbar"]
[5681,"AFM 3pol-XLR-Bu./3pol-XLR-Ku. 30cm",34.628999999999998,"3p.XLR-Ku. 30cm"]
[5682,"AFM 3p.XLR-Bu./3p.XLR-St. 30cm",34.628999999999998,"3p.XLR-St. 30cm"]
[5683,"AFM 3p.XLR-St./löt",16.275000000000002,"lötbar"]
[5684,"AFM 3p.XLR-St./3p.XLR-Ku. 30cm",34.628999999999998,"3p.XLR-Ku. 30cm"]
[5685,"AFM 3p.XLR-St./3p.XLR-St. 30cm",34.628999999999998,"3p.XLR-St. 30cm"]
[5686,"AFM 4p.XLR-Bu./löt",18.4695,"lötbar"]
[5687,"AFM 4p.XLR-Bu./Lüsterkl. 30cm",30.786000000000001,"Lüsterklemme 30cm"]
[5688,"AFM 4p.Speakon-Bu./löt",12.925500000000001,"lötbar"]
[5689,"AFM 4p.Speakon-Bu./Lüsterkl. 30cm",24.391500000000001,"4pol-Lüsterkl. 30cm"]
["5690A","AFM USB-Bu./USB-Bu. (XLR)",21.9345,"USB-Bu. A/B drehbar"]
["5690B","AFM USB-Bu./USB-Bu. (XLR)",21.9345,"USB-Bu. B/A drehbar"]
[5691,"AFM RJ45-Cat.6-Bu./schneid-klem",17.157,"schneid-klemm"]
[5692,"AFM RJ45-Cat.6-Bu./Cat.6-St. 30cm",28.087500000000002,"Cat.6-St. 30cm"]
[5693,"AFM RJ45-Cat.6-Bu./Cat.5-Ku. 30cm",28.087500000000002,"Cat.5-Ku. 30cm"]
[5694,"AFM RJ45-Cat.6-Bu./RJ45-Cat.6-Bu.",20.391000000000002,"RJ45-Bu. steckbar"]
[5695,"AFM 12p.-Minicon-Bu./RJ45-Ku.+2xAderendhülse 30cm",84.65100000000001,"RJ45-Ku.+2xAderendh. 30cm"]
[5696,"AFM RJ45-Cat.6-Bu./Cat.6-Ku. 30cm",32.76,"Cat.6-Ku. 30cm"]
[5697,"AFM USB-A-Bu./löt",23.089500000000001,"lötbar"]
[5698,"AFM USB-A-Bu./USB-A-St. 30cm",29.137500000000003,"USB-A-St. 30cm"]
[5699,"AFM USB-A-Bu./USB-B-St. 30cm",29.137500000000003,"USB-B-St. 30cm"]
[5700,"AFM USB-A-Bu./USB-A-Bu.",21.9345,"USB-A-Bu."]
[5701,"AFM VGA-Bu.+Klinke 5xB+K 30cm",102.84750000000001,"5xBNC-Ku.+Kl.-Ku. 30cm"]
[5702,"AFM DVI-Bu./DVI-Bu. 24+5",42.325500000000005,"DVI-I-Bu.24+5 steckbar"]
[5703,"AFM DVI-Bu./DVI-St. 30cm 24+5",81.732000000000014,"DVI-I-St.24+5 30cm"]
[5704,"AFM 3,5-Klinkenbu./steckbar",21.9345,"3,5-Kl.-Bu. steckbar"]
[5705,"AFM VGA-Bu.+Klinke VGA-S+K 30cm",81.185999999999993,"VGA-St.+Kl.-St. 30cm"]
[5706,"AFM 12p.-Minicon-Bu./St. 30cm",107.7405,"12p.MiniCon-St. 30cm"]
[5707,"AFM 6p.XLR-Bu./löt",30.5655,"lötbar"]
[5708,"AFM 5p.XLR-Bu./Lüsterkl. 30cm",38.482500000000002,"Lüsterklemme 30cm"]
[5709,"AFM VGA-Bu.+Klinke steckbar",40.782000000000004,"VGA-Bu.+Kl. steckbar"]
[5710,"AFM 9p.Sub-D-St./offen 30cm",21.251999999999999,"lötbar"]
[5711,"AFM 5p.XLR-Bu./löt",19.277999999999999,"lötbar"]
[5712,"AFM VGA-Stecker/5xBNC-Kupplung 30cm",80.913000000000011,"5xBNC-Ku. 30cm"]
[5713,"AFM USB-A-Bu./USB-A-Ku. 30cm",29.137500000000003,"USB-A-Ku. 30cm"]
[5714,"AFM 3p.XLR-Bu./3p.XLR-WSt. 30cm",39.028500000000001,"3p.XLR-Winkel-St. 30cm"]
[5715,"AFM RJ45-EtherCon schneid-klemm Neutrik",29.578500000000002,"schneid-klemm"]
[5716,"AFM PowerCon grau/löt",16.275000000000002,"lötbar"]
[5717,"AFM PowerCon blau/löt",16.275000000000002,"lötbar"]
[5718,"AFM HDMI-Bu./Bu.",32.4345,"HDMI-Bu.steck."]
[5719,"AFM VGA-Bu.+Klinke/5xBNC-Ku. 30cm+Kl.-löt",92.683499999999995,"5xBNC-Ku. 30cm+Kl. lötbar"]
[5720,"AFM VGA-Bu.+Klinke 5xS+K 30cm",97.345500000000001,"5xBNC-St.+Kl.-St. 30cm"]
[5721,"AFM  Durchführung Mittelstück Lu/Ro",7.5810000000000004,"Durchf. Mitte Lu/Ro"]
[5722,"AFM  Durchführung Mittelstück Lo/Ru",7.5810000000000004,"Durchf. Mitte Lo/Ru"]
[5723,"AFM  Durchführung Endstück Lu",7.5810000000000004,"Durchf. Ende Lu"]
[5724,"AFM  Durchführung Endstück Ru",7.5810000000000004,"Durchf. Ende Ru"]
[5725,"AFM VGA-Bu.+Klinke VGA-K+K 30cm",81.185999999999993,"VGA-Ku.+Kl.-Ku. 30cm"]
[5726,"AFM  Netzkabel 3m, Schuko-Stecker",17.9025,"Netzkabel 3m, Schuko-Stecker"]
[5727,"AFM 3xCinch-Bu.ge-sw-rt/löt",36.939,"3x lötbar"]
[5728,"AFM 5xBNC-Bu./BNC-Bu.",88.494,"5x BNC-Bu. steckbar"]
[5729,"AFM 15p.Sub-D-Bu./15p.Sub-D-Bu.",20.201999999999998,"15p.Sub-D-Bu. steckbar"]
[5730,"AFM 3xCinch-Bu.ge-sw-rt/3xCinch-Ku. 30cm",69.257999999999996,"3xCinch-Ku. 30cm"]
[5731,"AFM DVI-I-Bu.+Klinke DVI-D-S+Kl-St 30cm",93.114000000000004,"DVI-D-St.+Kl.-St. 30cm"]
[5732,"AFM USB-B-Bu./USB-B-St. 30cm",29.137500000000003,"USB-B-St. 30cm"]
[5733,"AFM 5xBNC-Bu./BNC-Ku. 30cm",134.673,"5x BNC-Ku. 30cm"]
[5734,"AFM USB-B-Bu./USB-A-St. 30cm",29.137500000000003,"USB-A-St. 30cm"]
[5735,"AFM DVI-Bu.+Klinke auf DVI-St+Kl-löt",82.96050000000001,"DVI-D-St.30cm+Kl. lötbar"]
[5736,"AFM DVI-24+5-Bu.+Klinke DVI-24+5-St+Kl-St 30cm",106.96350000000001,"DVI-I-St.+Kl.-St. 30cm"]
[5737,"AFM 12p.-Minicon-Bu./Lötanschluss",60.921000000000006,"lötbar"]
[5738,"AFM VGA-Bu./offen 30cm",37.716000000000001,"offen 30cm"]
[5739,"AFM 3,5-Klinkenbu./offen 30cm",16.716000000000001,"offen 30cm"]
[5740,"AFM VGA-Bu.+Klinke offen 30cm",54.442500000000003,"offen 30cm"]
[5741,"AFM VGA-Bu.+Klinke-Bu. lötbar",25.242000000000001,"lötbar"]
[5742,"AFM HDMI-Bu./Ku. 4TE 30cm",52.332000000000008,"HDMI-Ku. 30cm"]
[5743,"AFM DisplayPort Bu./St. 1m",52.332000000000008,"DPort-St. 1m"]
[5744,"AFM Taster/LED, 2xSchließer, rot, lötbar",23.772000000000002,"lötbar"]
[5745,"AFM Taster/LED, 2xSchließer, grün, lötbar",23.772000000000002,"lötbar"]
[5746,"AFM Taster/LED, 2xSchließer, rot, 30cm, offen",29.116500000000002,"offen 30cm"]
[5747,"AFM Taster/LED, 2xSchließer, grün, 30cm, offen",29.116500000000002,"offen 30cm"]
[5748,"AFM Schalter/ LED, 2xSchließer, rot, lötbar",23.772000000000002,"lötbar"]
[5749,"AFM Schalter/LED, 2xSchließer, grün, lötbar",23.772000000000002,"lötbar"]
[5750,"AFM Schalter/LED, 2xSchließer, rot, 30cm, offen",29.116500000000002,"offen 30cm"]
[5751,"AFM Schalter/LED, 2xSchließer, grün, 30cm, offen",29.116500000000002,"offen 30cm"]
[5752,"AFM DisplayPort Bu./Bu.",47.533500000000004,"DP-Bu. Steck"]
[5753,"AFM 15p.Sub-D-St./löt",16.863,"lötbar"]
[5754,"AFM USB-B-Bu./USB-A-Ku. 30cm",29.137500000000003,"USB-A-Ku. 30cm"]
[5755,"AFM 7p.XLR-Bu./löt",37.149000000000001,"lötbar"]
[5756,"AFM 6p.XLR-Bu./Lüsterkl. 30cm",49.843499999999999,"Lüsterkl. 30cm"]
[5757,"AFM DVI-Bu./DVI-Ku. 20cm 24+5",81.732000000000014,"DVI-I-Ku.24+5 20cm"]
[5758,"AFM VGA-St./löt",13.471500000000001,"lötbar"]
[5759,"AFM DVI-Bu.+Klinke-Bu. auf DVI-Bu.+Klinken-Bu.",40.782000000000004,"DVI-I+Kl.-Bu.steckbar"]
[5760,"AFM VGA-Stecker/5xBNC-Stecker 30cm",75.411000000000001,"5xBNC-St. 30cm"]
[5761,"AFM 4p.-MD-Buchse steckbar",32.4345,"MD-Bu. steckbar"]
[5762,"AFM USB-B-Bu./löt",23.089500000000001,"lötbar"]
[5763,"AFM USB-B-Bu./USB-B-Bu.",21.9345,"USB-B-Bu."]
[5764,"AFM USB-A-Bu./USB-B-Bu.",21.9345,"USB-B-Bu."]
[5765,"AFM Taster, 1xUmschalter, vernickelt, lötbar",30.450000000000003,"lötbar"]
[5766,"AFM Taster, 1xUmschalter, vernickelt, 30cm",35.983500000000006,"offen 30cm"]
[5767,"AFM Antenneneinbaustecker, Lötanschluss",19.95,"lötbar"]
[5768,"AFM Antenneneinbaubuchse, Lötanschluss",19.95,"lötbar"]
[5769,"AFM Antennen-F, Durchgangsverbinder",19.95,"steckbar"]
[5770,"AFM Antennen-F, Lötanschluss",19.95,"lötbar"]
[5771,"AFM VGA-Stecker offenes Kabelende 30cm",37.716000000000001,"offen 30cm"]
[5772,"AFM 3xCinch-Bu.ge-sw-rt/3xCinch-St. 30cm",69.257999999999996,"3xCinch-St. 30cm"]
[5773,"AFM USB-B-Bu./USB-A-Bu.",21.9345,"USB-A-Bu."]
[5774,"AFM HDMI-Bu./Bu. 360° drehbar",47.176500000000004,"HDMI-Bu./Bu. 360° drehbar"]
[5775,"AFM 3xCinch-Buchse-Durchführung, gelb/schwarz/rot",55.408500000000004,"3xCinch-Bu. Durchführung"]
[5776,"AFM Blindabdeckung XLR D-Bohrung",8.7360000000000007,"Blindabdeckung XLR D-Bohrung"]
[5777,"AFM DVI-24+5-Bu.+Klinke DVI-24+5-Kupl.+Kl-Kup 30cm",106.96350000000001,"DVI-24+5-Bu.+Klinke DVI-24+5-Kupl.+Kl-Kup 30cm"]
[5778,"AFM DVI-I-Bu.+Klinke DVI-D-Ku+Kl-Ku 30cm",93.114000000000004,"DVI-I-Bu.+Klinke DVI-D-Ku+Kl-Ku 30cm"]
[5779,"AFM 7p.XLR-Bu./Lüsterkl. 30cm",56.374499999999998,"7p.XLR-Bu./Lüsterkl. 30cm"]
[5780,"AFM 4p.XLR-Bu. 4p.XLR-St. 30cm",42.609000000000002,"4p.XLR-Bu. 4p.XLR-St. 30cm"]
[5781,"AFM Option XLR-Modul farbliche Kennzeichnung",4.2315000000000005,"Option XLR-Modul farbliche Kennzeichnung"]
[5782,"AFM Taster, 1xEIN, 18x18mm, beschriftbar, lötbar",42.546000000000006,"lötbar"]
[5783,"AFM Taster, 1xEIN, 18x18mm, beschriftbar, 30cm",52.374000000000002,"offen 30cm"]
[5784,"AFM Taster, 1xEIN, 24x18mm, beschriftbar, lötbar",43.827000000000005,"lötbar"]
[5785,"AFM Taster, 1xEIN, 24x18mm, beschriftbar, 30cm",53.665500000000002,"offen 30cm"]
[5786,"AFM 3,5-Klinkenbuchse 4pol/löt",22.386000000000003,"lötbar"]
[5787,"AFM HDMI-Bu./St. 8TE 30cm AWG24",90.320999999999998,"HDMI-St.30cm"]
[5788,"AFM USB-A-3.0-Bu./USB-A-3.0-Bu.",32.487000000000002,"USB-A-St.3.0"]
[5789,"AFM HDMI-Bu./St. 4TE 30cm AWG24",90.320999999999998,"HDMI-St.30cm"]
[5790,"AFM RJ45-EtherCon Neutrik, 30cm Kabel auf RJ45-Ku.",42.178500000000007,"RJ45-Ku.30cm"]
[5791,"AFM HDMI-Bu./ offenes Ende 8TE AWG24 30cm",57.036000000000001,"offen 30cm"]
[5792,"AFM HDMI-Bu./ offenes Ende 4TE AWG24 30cm",57.036000000000001,"offen 30cm"]
[5793,"AFM  Netzkabel 3m, Wieland-Stecker",21.514499999999998,"Netzkabel 3m, Wieland-Stecker"]
[5794,"AFM Taster, 1xUm, Edelstahl, LED, blau, lötbar",38.860500000000002,"lötbar"]
[5795,"AFM Taster, 1xUm, Edelstahl, LED, blau, 30cm",45.622500000000002,"offen 30cm"]
[5796,"AFM RJ69-Bu./RJ69-St. 30cm",30.0825,"RJ69-St. 30cm"]
[5797,"AFM SC-Simplex-Bu./Bu. Multimode",21.157499999999999,"Buchse Simplex"]
[5798,"AFM VGA-Bu.+Klinke/5xBNC-Ku. 30cm+Kl.-löt+6pol-XLR",122.703,"5xBNC-Ku. 30cm+Kl.-löt+6pol-XLR"]
[5799,"AFM 3,5-Klinkenbu.-4p. mit 30cm Kabel auf 4p.Kup.",49.864500000000007,"3,5Kl.-4p Ku.30cm"]
[5802,"AFM 12pin-miniCON-Bu., mit 30cm Kabel auf RJ45 St.",86.047500000000014,"RJ45-St. 30cm"]
[5804,"AFM DisplayPort Bu./St. 8TE 30cm",76.061999999999998,"DP-Stecker 30cm"]
[5805,"AFM DisplayPort Bu./St. 4TE 30cm",76.061999999999998,"DP-Stecker 30cm"]
[5806,"AFM DisplayPort Bu./Ku. 8TE 30cm",76.061999999999998,"DP-Kuppl. 30cm"]
[5807,"AFM DisplayPort Bu./Ku. 4TE 30cm",76.061999999999998,"DP-Kuppl. 30cm"]
[5808,"AFM RJ45-EtherCon, steckbar Neutrik",31.857000000000003,"RJ45 steckbar"]
[5812,"AFM USB-A-Ladeteil 230V 5V/1A",102.69,"Netzkabel 30cm"]
[5813,"AFM RJ45-EtherCon Cat.6, Neutrik, RJ45-Ku. 30cm",56.385000000000005,"Neutrik, Cat.6-Ku. 30cm"]
[5814,"AFM HDMI-Bu.-Keystone/Ku.30cm",52.332000000000008,"Keyst.-Ku.-Winkel 30cm"]
[5815,"AFM DisplayPort Bu./Ku. 8TE 30cm, aktiv",171.51750000000001,"DP-Ku.aktiv 30cm"]
[5818,"AFM DisplayPort Bu./Ku. 4TE, Peitsche, 30cm",53.791499999999999,"DP-Ku.Peitsche 30cm"]
[5819,"AFM DisplayPort Bu./Bu. 4TE",53.791499999999999,"DP-Bu. Steck"]
[5824,"AFM RJ45-EtherCon Cat.6A, Neutr. steckbar",37.716000000000001,"Neutrik, Cat.6A, steckbar"]
[5825,"AFM RJ45-EtherCon Cat.6A, Neutr. RJ45-Ku. 30cm",70.024500000000003,"Neutrik, Cat.6A, Ku. 30cm"]
[6005,"Videokabel 0,6/3,7",2.9295,"Videokabel 0,6/3,7"]
[6006,"Mikrofonkabel NF1147 2x0,22 6,4mm sw",1.3650000000000002,"Mikrofonkabel NF1147 2x0,22 6,4mm sw"]
[6007,"Mikrofonkabel NF1147 2x0,22 rt",1.3650000000000002,"Mikrofonkabel NF1147 2x0,22 rt"]
[6008,"Mikrofonkabel NF1147 2x0,22 bl",1.3650000000000002,"Mikrofonkabel NF1147 2x0,22 bl"]
[6011,"RGB-Minkabel 3x75Ohm schwarz",3.6120000000000001,"RGB-Minkabel 3x75Ohm schwarz"]
[6013,"Lautsprecherkabel 4x1,5mm² rund schwarz",2.1945000000000001,"Lautsprecherkabel 4x1,5mm² rund schwarz"]
[6014,"Lautsprecherkabel 2x2,5mm² rund schwarz",3.2340000000000004,"Lautsprecherkabel 2x2,5mm² rund schwarz"]
[6015,"Lautsprecherkabel 4x2,5mm² rund schwarz",3.5595000000000003,"Lautsprecherkabel 4x2,5mm² rund schwarz"]
[6017,"Lautsprecherkabel 2x0,75 oval transp. flexibel",0.77700000000000002,"Lautsprecherkabel 2x0,75 oval transp. flexibel"]
[6018,"Lautsprecherkabel 2x1,5 oval flexibel",1.3440000000000001,"Lautsprecherkabel 2x1,5 oval flexibel"]
[6019,"Lautsprecherkabel 2x2,5 oval transp. flexibel",1.974,"Lautsprecherkabel 2x2,5 oval transp. flexibel"]
[6020,"Lautsprecherkabel 2x4,0 oval transp. flexibel",2.9819999999999998,"Lautsprecherkabel 2x4,0 oval transp. flexibel"]
[6021,"Lautsprecherkabel 2x6,0 oval transp. flexibel",3.9585000000000004,"Lautsprecherkabel 2x6,0 oval transp. flexibel"]
[6022,"Lautsprecherkabel 2x1,5 oval transp. super-flex",2.1420000000000003,"Lautsprecherkabel 2x1,5 oval transp. super-flex"]
[6023,"Lautsprecherkabel 2x2,5 oval transp. super-flex",3.0555000000000003,"Lautsprecherkabel 2x2,5 oval transp. super-flex"]
[6024,"Lautsprecherkabel 2x4,0 oval transp. super-flex",4.6935000000000002,"Lautsprecherkabel 2x4,0 oval transp. super-flex"]
[6025,"Lautsprecherkabel 2x6,0 oval transp. super-flex",6.4785000000000004,"Lautsprecherkabel 2x6,0 oval transp. super-flex"]
[6026,null,1.1025]
[6027,null,1.6590000000000003]
[6028,null,1.7849999999999999]
[6029,"Audiokabel 2x0,20 rund 3mm Typ C",0.88200000000000001,"Audiokabel 2x0,20 rund 3mm Typ C"]
[6030,"Audiokabel Quads. 1x4x0,20 rund",2.0790000000000002,"Audiokabel Quads. 1x4x0,20 rund"]
[6042,"Digitales Videokabel 0,8/3,7",2.1945000000000001,"Digitales Videokabel 0,8/3,7"]
[6043,"Digitales Audiokabel 2x0,22",0.90300000000000002,"Digitales Audiokabel 2x0,22"]
[6049,"Digitales Videokabel 0,6/2,8HFg",1.5435000000000001,"Digitales Videokabel 0,6/2,8HFg"]
[6050,"Digitales Videokabel 0,6/2,8HFs",1.5435000000000001,"Digitales Videokabel 0,6/2,8HFs"]
[6051,"RGBHV Monitorkabel 5x0,6/2,8sw",9.261000000000001,"RGBHV Monitorkabel 5x0,6/2,8sw"]
[6052,"Steuerleitung geschirmt,  8x0,14, Ø 5mm",1.5015000000000001,"Steuerleitung geschirmt,  8x0,14, Ø 5mm"]
[6053,"Geflechtschlauch 8-21mm",2.4359999999999999,"Geflechtschlauch 8-21mm"]
[6054,"Geflechtschlauch 18-34mm",4.6305000000000005,"Geflechtschlauch 18-34mm"]
[6058,"Geflechtschlauch 3-10mm",1.1864999999999999,"Geflechtschlauch 3-10mm"]
[6060,"Multikabel VA52Cat.5 5x0,6/2,8",14.07,"Multikabel VA52Cat.5 5x0,6/2,8"]
[6061,"S-VHS-Kabel doppelt geschirmt HH",3.0765000000000002,"S-VHS-Kabel doppelt geschirmt HH"]
[6062,"Cat.6-Installationskabel",2.1840000000000002,"Cat.6-Installationskabel"]
[6063,"Cat.7-Installationskabel",2.2364999999999999,"Cat.7-Installationskabel"]
[6064,"Cat.5e-Patchkabel",1.7849999999999999,"Cat.5e-Patchkabel"]
[6065,"Cat.5e-Installationskabel",1.7849999999999999,"Cat.5e-Installationskabel"]
[6066,"Geflechtschlauch 22-58mm",5.4809999999999999,"Geflechtschlauch 22-58mm"]
[6069,"S-Videokabel 2x0,36/1,7 ungesch",2.5619999999999998,"S-Videokabel 2x0,36/1,7 ungesch"]
[6070,"Steuerleitung geschirmt, 14x0,14, Ø 6,5mm",2.3205,"Steuerleitung geschirmt, 14x0,14, Ø 6,5mm"]
[6071,"Geflechtschlauch selbsteinrollend",6.6254999999999997,"Geflechtschlauch selbsteinrollend"]
[6072,"Multikabel VAPS7348",16.579499999999999,"Multikabel VAPS7348"]
[6073,"Steuerleitung geschirmt,  4x0,14 Ø4mm",1.0605,"Steuerleitung geschirmt,  4x0,14 Ø4mm"]
[6074,"Steuerleitung geschirmt, 25x0,14, Ø 11,0mm",6.4050000000000002,"Steuerleitung geschirmt, 25x0,14, Ø 11,0mm"]
[6075,"Multikabel VA52 superflex",7.3185000000000002,"Multikabel VA52 superflex"]
[6076,"Multikabel VA86 8x0,36/1,7",17.408999999999999,"Multikabel VA86 8x0,36/1,7"]
[6078,"Lautsprecherkabel 2x2,5 oval weiß",2.3205,"Lautsprecherkabel 2x2,5 oval weiß"]
[6079,"Lautsprecherkabel 2x2,5 oval schwarz",2.3205,"Lautsprecherkabel 2x2,5 oval schwarz"]
[6080,"Lautsprecherkabel 2x1,5 oval schwarz",1.3860000000000001,"Lautsprecherkabel 2x1,5 oval schwarz"]
[6081,"Lautsprecherkabel 2x1,5 oval weiß",1.3860000000000001,"Lautsprecherkabel 2x1,5 oval weiß"]
[6082,"Audiokabel 2x0,14 oval TR",1.6590000000000003,"Audiokabel 2x0,14 oval TR"]
[6084,"S-VHS-Audio-Kabel",4.83,"S-VHS-Audio-Kabel"]
[6085,"S-Videokabel 2x0,4/1,7 Superfl",2.5619999999999998,"S-Videokabel 2x0,4/1,7 Superfl"]
[6086,"Video-Minikabel 0,4/1,7 grün SS",0.89249999999999996,"Video-Minikabel 0,4/1,7 grün SS"]
[6087,null,0.88200000000000001]
[6088,"Audiokabel 2x0,08 oval",1.6905000000000001,"Audiokabel 2x0,08 oval"]
[6089,"Netzkabel 3x1,5 Gummi sw",2.2785000000000002,"Netzkabel 3x1,5 Gummi sw"]
[6090,"Lautsprecherkabel 2x4,0 oval schwarz",2.9819999999999998,"Lautsprecherkabel 2x4,0 oval schwarz"]
[6091,"Audiokabel 2x0,20 rund 3mm Typ S",0.88200000000000001,"Audiokabel 2x0,20 rund 3mm Typ S"]
[6092,"Kabel HDMI AWG 24 Meterware",9.6705000000000005,"XXXXX"]
[6093,"Mikrofonkabel  2x0,50 FRNC 5,5mm sw",3.0765000000000002,"Mikrofonkabel  2x0,50 FRNC 5,5mm sw"]
[6094,"RG58",1.218,"RG58"]
[6095,"Digitales Videokabel 1,0/4,8HF",4.7459999999999996,"Digitales Videokabel 1,0/4,8HF"]
[6096,"Netzkabel 2x0,75 PVC sw",1.3860000000000001,"Netzkabel 2x0,75 PVC sw"]
[6097,"Multikabel VA52 FRNC (Halogenfrei)",9.5025000000000013,"Multikabel VA52 FRNC (Halogenfrei)"]
[6098,"Digitales Videokabel 0,8L/3,7Dz PVC Schwarz",4.5885000000000007,"Digitales Videokabel 0,8L/3,7Dz PVC Schwarz"]
[6099,"Kabel HDMI Halogenfrei Meterware",13.608000000000002,"Kabel HDMI Halogenfrei Meterware"]
[6100,"Geflechtschlauch mit Klettband, 20mm",9.1980000000000004,"Geflechtschlauch mit Klettband, 20mm"]
[6101,"Lautsprecherkabel 2x0,75 oval schwarz",0.77700000000000002,"Lautsprecherkabel 2x0,75 oval schwarz"]
[6102,"Kabel-Kobra, vertikal, schwarz, Höhe 825mm",46.977000000000004,"Kabel-Kobra, vertikal, schwarz, Höhe 825mm"]
[6103,"Kabel-Kobra, vertikal, schwarz, Höhe 1070mm",59.566499999999998,"Kabel-Kobra, vertikal, schwarz, Höhe 1070mm"]
[6104,"Kabel-Kobra, vertikal, schwarz, Höhe 1270mm",71.557500000000005,"Kabel-Kobra, vertikal, schwarz, Höhe 1270mm"]
[6105,"Kabel-Kobra, vertikal, schwarz, Einzelelement",2.3939999999999997,"Kabel-Kobra, vertikal, schwarz, Einzelelement"]
[6106,"Kabel-Kobra, vertikal, silber, Höhe 825mm",46.977000000000004,"Kabel-Kobra, vertikal, silber, Höhe 825mm"]
[6107,"Kabel-Kobra, vertikal, silber, Höhe 1070mm",59.566499999999998,"Kabel-Kobra, vertikal, silber, Höhe 1070mm"]
[6108,"Kabel-Kobra, vertikal, silber, Höhe 1270mm",71.557500000000005,"Kabel-Kobra, vertikal, silber, Höhe 1270mm"]
[6109,"Kabel-Kobra, vertikal, silber, Einzelelement",2.3939999999999997,"Kabel-Kobra, vertikal, silber, Einzelelement"]
[6110,"Kabel-Kobra, vertikal, schwarz, Einzelelement",46.977000000000004,"Kabel-Kobra, vertikal, schwarz, Einzelelement"]
[6111,"Kabel-Kobra, vertikal, silber, Einzelelement",46.977000000000004,"Kabel-Kobra, vertikal, silber, Einzelelement"]
[6114,"Cat.6-Patchkabel",1.7849999999999999,"Cat.6-Patchkabel"]
[6115,"Geflechtschlauch offen selbsteinrollend 25mm schwa",12.201000000000001,"Geflechtschlauch offen selbsteinrollend 25mm schwa"]
[6116,"Geflechtschlauch offen selbsteinrollend 29mm schwa",13.1355,"Geflechtschlauch offen selbsteinrollend 29mm schwa"]
[6117,"Flachbandkabel 4pol RM1,27 farbig",1.1760000000000002,"Flachbandkabel 4pol RM1,27 farbig"]
[8001,"AF4T 12p.Neutrik/Cat.5+AE 0,3m",82.036500000000004,"AF4T 12p.Neutrik/Cat.5+AE 0,3m"]
[8002,"AF7T 12p.Neutrik/Cat.5+AEH 0,3m",81.795000000000016,"AF7T 12p.Neutrik/Cat.5+AEH 0,3m"]
[8003,"Kabel 12p.Neutrik/Cat.5+2xAE 2m",71.620499999999993,"Kabel 12p.Neutrik/Cat.5+2xAE 2m"]
[8004,"Kabel 12p.Neutrik/Cat.5+2xAE 1m",62.978999999999999,"Kabel 12p.Neutrik/Cat.5+2xAE 1m"]
[8005,"AF7T VGA-Bu/5xBNC-Ku 0,3m",81.868499999999997,"AF7T VGA-Bu/5xBNC-Ku 0,3m"]
[8006,"AF7T VGA-Bu/5xBNC-St 0,3m",71.788500000000013,"AF7T VGA-Bu/5xBNC-St 0,3m"]
[8007,"AF7T VGA-Bu/VGA-Ku 0,3m",68.355000000000004,"AF7T VGA-Bu/VGA-Ku 0,3m"]
[8008,"AF7T VGA-Bu/VGA-St 0,3m",68.355000000000004,"AF7T VGA-Bu/VGA-St 0,3m"]
[8009,"AF7T 3.5-Bu/3.5-Ku 0,3m",40.277999999999999,"AF7T 3.5-Bu/3.5-Ku 0,3m"]
[8010,"AF7T 3.5-Bu/3.5-St 0,3m",40.277999999999999,"AF7T 3.5-Bu/3.5-St 0,3m"]
[8011,"AF7T 3.5-Bu/2xCi-Ku 0,3m",42.514500000000005,"AF7T 3.5-Bu/2xCi-Ku 0,3m"]
[8012,"AF7T 3.5-Bu/2xCi-St 0,3m",42.514500000000005,"AF7T 3.5-Bu/2xCi-St 0,3m"]
[8013,"AF7T BNC-Bu/BNC-Bu",35.553000000000004,"AF7T BNC-Bu/BNC-Bu"]
[8014,"AF7T BNC-Bu/BNC-Ku 0,3m",42.588000000000001,"AF7T BNC-Bu/BNC-Ku 0,3m"]
[8015,"AF7T BNC-Bu/BNC-St 0,3m",40.939500000000002,"AF7T BNC-Bu/BNC-St 0,3m"]
[8016,"AF7T 4p-MD-Bu/2xBNC-Ku 0,3m",50.946000000000005,"AF7T 4p-MD-Bu/2xBNC-Ku 0,3m"]
[8017,"AF7T 4p-MD-Bu/2xBNC-St 0,3m",50.179500000000004,"AF7T 4p-MD-Bu/2xBNC-St 0,3m"]
[8018,"AF7T 4p-MD-Bu/4p-MD-Ku 0,3m",50.946000000000005,"AF7T 4p-MD-Bu/4p-MD-Ku 0,3m"]
[8019,"AF7T 4p-MD-Bu/4p-MD-St 0,3m",50.946000000000005,"AF7T 4p-MD-Bu/4p-MD-St 0,3m"]
[8020,"AF7T RJ45-Bu/RJ45-St 0,3m",66.328500000000005,"AF7T RJ45-Bu/RJ45-St 0,3m"]
[8021,"AF7T 2x6p-MD-Bu/6p-MD-St 0,3m",87.066000000000003,"AF7T 2x6p-MD-Bu/6p-MD-St 0,3m"]
[8022,"AF4T 12p.Neutrik/Cat.5+AE 0,5m",82.036500000000004,"AF4T 12p.Neutrik/Cat.5+AE 0,5m"]
[8023,"Kabel 12p.Neutrik/Cat.5+2xAE 4m",88.903500000000008,"Kabel 12p.Neutrik/Cat.5+2xAE 4m"]
[8024,"Kabel 12p.Neutrik/Cat.5+2xAE 3m",80.262,"Kabel 12p.Neutrik/Cat.5+2xAE 3m"]
[8025,"Kabel 12p.Neutrik/Cat.5+2xA 2,5",75.9465,"Kabel 12p.Neutrik/Cat.5+2xA 2,5"]
[8026,"AF7T 2xVGA-Bu/VGA-St 0,3m",112.14,"AF7T 2xVGA-Bu/VGA-St 0,3m"]
[8027,"AF7T 2xRJ45-Bu/RJ45-St 0,3m",82.603500000000011,"AF7T 2xRJ45-Bu/RJ45-St 0,3m"]
[8028,"AF7T USB-A--Bu/USB-A-St 0,3m",44.625,"AF7T USB-A--Bu/USB-A-St 0,3m"]
[8029,"AF7T 2xUSB-A-Bu/USB-A-St 0,3m",64.659000000000006,"AF7T 2xUSB-A-Bu/USB-A-St 0,3m"]
[8030,"AF14TE 2xSchukosteckdose 30cm",72.166500000000013,"AF14TE 2xSchukosteckdose 30cm"]
[8031,"AF7T 3p-XLR-Bu./XLR-St. St 0,3m",53.791499999999999,"AF7T 3p-XLR-Bu./XLR-St. St 0,3m"]
[8032,"AF7T 12p.Neutrik/12p.-St. 0,3m",124.152,"AF7T 12p.Neutrik/12p.-St. 0,3m"]
[8034,"Kabel 12p.Neutrik/Cat.5+2xAE 5m",97.545000000000016,"Kabel 12p.Neutrik/Cat.5+2xAE 5m"]
[8045,"AF7T HDMI-Buchse auf HDMI-Stecker 0,3m",114.6915,"AF7T HDMI-Buchse auf HDMI-Stecker 0,3m"]
[8046,"Kabel 12p.Neutrik/Cat.5 Stecker 2,5m",62.464500000000008,"Kabel 12p.Neutrik/Cat.5 Stecker 2,5m"]